{"text_format":"1","workbook":"xlsx","n_sheets":6,"sheets":["FULL Time Card Report","Previous Week Bonus Slip","Previous Week Flat Rate Bonus","Previous Week Time","Employees Over 40 Hours","Hours by JOB"],"not_rendered":{"charts":0,"images":0,"macros":1,"external_links":0,"defined_names":6,"comments":0,"pivot_tables":2},"unopened":[],"bounds":{"document_bytes":16777216,"sheet_cells":100000,"rows_first":2000,"rows_last":500,"rows_between":2000,"halvings":0,"cell_chars":16384,"cell_head_chars":4096},"cells_cut":0,"cells_raw":0,"read":"whole","date_system":"1900"}

{"sheet":"FULL Time Card Report","index":0,"n_rows":3516,"n_cols":35,"rows_kept":2250,"cut":true,"hidden":false,"merged":[[0,0,1,13],[0,14,1,22],[0,24,1,29]],"bounds":{"rows_first":1000,"rows_last":250,"rows_between":1000,"halvings":1}}
["From MITC",null,null,null,null,null,null,null,null,null,null,null,null,null,"Timecard Adjustments",null,null,null,null,null,null,null,null,null,"Bonuses"]
[null,null,null,null,null,null,null,null,null,null,null,null,null,null,null,null,null,null,null,null,null,null,null,"*Don't forget if on OT, to adjust current payrate and bonus rate to OT rates",null,null,null,null,null,null,null,"For Payroll Use only, do not touch"]
["Employee #","Column1","Column2","Column3","Name","Hire Date","Column4","Location","Work Date","In","Out","Hours","Pay Type","Pay Rate","Comment","ADD HOURS","Total Hours (Formula \"=N2+S2\")","Transfer Hours","Transfer TO JOB #","Special Billing #","Assign OT *Note # OT of hours to assign to job","PTO","HOLIDAY PAY HOURS","Wage differential Bonus                            - NotePay Rate you are bonusing to","Bonus Rate","Total Wage Diff bonus","Flat Rate Bonus","Bank Bonus","Reason for Bonus","Director Approval/Notes",null,"Employee #","Bonus Code","Amount","Job Code"]
[158930,null,null,null,"BAKER, ASHLEY","2022-10-24",1443,"1443 - Portage Leadership","2023-12-11",null,null,-0.5,"R",19,null,null,{"$f":"L4+P4","v":-0.5},null,null,null,null,null,null,null,{"$f":"IF(Table1[[#This Row],[Wage differential Bonus                            - NotePay Rate you are bonusing to]]>0, Table1[[#This Row],[Wage differential Bonus                            - NotePay Rate you are bonusing to]]-Table1[[#This Row],[Pay Rate]], \"\")","v":""},{"$f":"IF(Table1[[#This Row],[Wage differential Bonus                            - NotePay Rate you are bonusing to]]>0,Table1[[#This Row],[Bonus Rate]]*Table1[[#This Row],[Hours]],\"\")","v":""},null,null,null,null,null,{"$f":"IF(OR(AH4>0.001,AH4<-0.001),Table1[[#This Row],[Employee '#]],\" \")","v":" "},{"$f":"IF(AA4>0, \"28\", IF(AB4>0,\"53\",IF(X4>0,\"20\")))","v":false},{"$f":"SUMIF(Table1[[#This Row],[Total Wage Diff bonus]:[Bank Bonus]],\"<> \")","v":0},{"$f":"IF(AA4>0, Table1[[#This Row],[Column4]], IF(AB4>0,Table1[[#This Row],[Column4]],IF(X4>0,\"1000\")))","v":false}]
[158930,null,null,null,"BAKER, ASHLEY","2022-10-24",1443,"1443 - Portage Leadership","2023-12-11","8:26AM","4:14PM",7.8,"R",19,null,null,7.8,null,null,null,null,null,null,null,{"$f":"IF(Table1[[#This Row],[Wage differential Bonus                            - NotePay Rate you are bonusing to]]>0, Table1[[#This Row],[Wage differential Bonus                            - NotePay Rate you are bonusing to]]-Table1[[#This Row],[Pay Rate]], \"\")","v":""},{"$f":"IF(Table1[[#This Row],[Wage differential Bonus                            - NotePay Rate you are bonusing to]]>0,Table1[[#This Row],[Bonus Rate]]*Table1[[#This Row],[Hours]],\"\")","v":""},null,null,null,null,null,{"$f":"IF(OR(AH5>0.001,AH5<-0.001),Table1[[#This Row],[Employee '#]],\" \")","v":" "},{"$f":"IF(AA5>0, \"28\", IF(AB5>0,\"53\",IF(X5>0,\"20\")))","v":false},{"$f":"SUMIF(Table1[[#This Row],[Total Wage Diff bonus]:[Bank Bonus]],\"<> \")","v":0},{"$f":"IF(AA5>0, Table1[[#This Row],[Column4]], IF(AB5>0,Table1[[#This Row],[Column4]],IF(X5>0,\"1000\")))","v":false}]
[158930,null,null,null,"BAKER, ASHLEY","2022-10-24",1443,"1443 - Portage Leadership","2023-12-12",null,null,-0.5,"R",19,null,null,-0.5,null,null,null,null,null,null,null,{"$f":"IF(Table1[[#This Row],[Wage differential Bonus                            - NotePay Rate you are bonusing to]]>0, Table1[[#This Row],[Wage differential Bonus                            - NotePay Rate you are bonusing to]]-Table1[[#This Row],[Pay Rate]], \"\")","v":""},{"$f":"IF(Table1[[#This Row],[Wage differential Bonus                            - NotePay Rate you are bonusing to]]>0,Table1[[#This Row],[Bonus Rate]]*Table1[[#This Row],[Hours]],\"\")","v":""},null,null,null,null,null,{"$f":"IF(OR(AH6>0.001,AH6<-0.001),Table1[[#This Row],[Employee '#]],\" \")","v":" "},false,{"$f":"SUMIF(Table1[[#This Row],[Total Wage Diff bonus]:[Bank Bonus]],\"<> \")","v":0},{"$f":"IF(AA6>0, Table1[[#This Row],[Column4]], IF(AB6>0,Table1[[#This Row],[Column4]],IF(X6>0,\"1000\")))","v":false}]
[158930,null,null,null,"BAKER, ASHLEY","2022-10-24",1443,"1443 - Portage Leadership","2023-12-12","8:20AM","3:09PM",6.82,"R",19,null,null,6.82,null,null,null,null,null,null,null,{"$f":"IF(Table1[[#This Row],[Wage differential Bonus                            - NotePay Rate you are bonusing to]]>0, Table1[[#This Row],[Wage differential Bonus                            - NotePay Rate you are bonusing to]]-Table1[[#This Row],[Pay Rate]], \"\")","v":""},{"$f":"IF(Table1[[#This Row],[Wage differential Bonus                            - NotePay Rate you are bonusing to]]>0,Table1[[#This Row],[Bonus Rate]]*Table1[[#This Row],[Hours]],\"\")","v":""},null,null,null,null,null,{"$f":"IF(OR(AH7>0.001,AH7<-0.001),Table1[[#This Row],[Employee '#]],\" \")","v":" "},false,{"$f":"SUMIF(Table1[[#This Row],[Total Wage Diff bonus]:[Bank Bonus]],\"<> \")","v":0},{"$f":"IF(AA7>0, Table1[[#This Row],[Column4]], IF(AB7>0,Table1[[#This Row],[Column4]],IF(X7>0,\"1000\")))","v":false}]
[158930,null,null,null,"BAKER, ASHLEY","2022-10-24",6124,"6124 - Vicksburg Leadership","2023-12-13",null,null,-0.5,"R",19,null,null,-0.5,null,null,null,null,null,null,null,{"$f":"IF(Table1[[#This Row],[Wage differential Bonus                            - NotePay Rate you are bonusing to]]>0, Table1[[#This Row],[Wage differential Bonus                            - NotePay Rate you are bonusing to]]-Table1[[#This Row],[Pay Rate]], \"\")","v":""},{"$f":"IF(Table1[[#This Row],[Wage differential Bonus                            - NotePay Rate you are bonusing to]]>0,Table1[[#This Row],[Bonus Rate]]*Table1[[#This Row],[Hours]],\"\")","v":""},null,null,null,null,null,{"$f":"IF(OR(AH8>0.001,AH8<-0.001),Table1[[#This Row],[Employee '#]],\" \")","v":" "},false,{"$f":"SUMIF(Table1[[#This Row],[Total Wage Diff bonus]:[Bank Bonus]],\"<> \")","v":0},{"$f":"IF(AA8>0, Table1[[#This Row],[Column4]], IF(AB8>0,Table1[[#This Row],[Column4]],IF(X8>0,\"1000\")))","v":false}]
[158930,null,null,null,"BAKER, ASHLEY","2022-10-24",6124,"6124 - Vicksburg Leadership","2023-12-13","8:08AM","4:35PM",8.4499999999999993,"R",19,null,null,8.4499999999999993,null,null,null,null,null,null,null,{"$f":"IF(Table1[[#This Row],[Wage differential Bonus                            - NotePay Rate you are bonusing to]]>0, Table1[[#This Row],[Wage differential Bonus                            - NotePay Rate you are bonusing to]]-Table1[[#This Row],[Pay Rate]], \"\")","v":""},{"$f":"IF(Table1[[#This Row],[Wage differential Bonus                            - NotePay Rate you are bonusing to]]>0,Table1[[#This Row],[Bonus Rate]]*Table1[[#This Row],[Hours]],\"\")","v":""},null,null,null,null,null,{"$f":"IF(OR(AH9>0.001,AH9<-0.001),Table1[[#This Row],[Employee '#]],\" \")","v":" "},false,{"$f":"SUMIF(Table1[[#This Row],[Total Wage Diff bonus]:[Bank Bonus]],\"<> \")","v":0},{"$f":"IF(AA9>0, Table1[[#This Row],[Column4]], IF(AB9>0,Table1[[#This Row],[Column4]],IF(X9>0,\"1000\")))","v":false}]
[158930,null,null,null,"BAKER, ASHLEY","2022-10-24",1168,"1168 - Vicksburg Indian Lake","2023-12-14",null,null,-0.5,"R",19,null,null,-0.5,null,null,null,null,null,null,null,{"$f":"IF(Table1[[#This Row],[Wage differential Bonus                            - NotePay Rate you are bonusing to]]>0, Table1[[#This Row],[Wage differential Bonus                            - NotePay Rate you are bonusing to]]-Table1[[#This Row],[Pay Rate]], \"\")","v":""},{"$f":"IF(Table1[[#This Row],[Wage differential Bonus                            - NotePay Rate you are bonusing to]]>0,Table1[[#This Row],[Bonus Rate]]*Table1[[#This Row],[Hours]],\"\")","v":""},null,null,null,null,null,{"$f":"IF(OR(AH10>0.001,AH10<-0.001),Table1[[#This Row],[Employee '#]],\" \")","v":" "},false,{"$f":"SUMIF(Table1[[#This Row],[Total Wage Diff bonus]:[Bank Bonus]],\"<> \")","v":0},{"$f":"IF(AA10>0, Table1[[#This Row],[Column4]], IF(AB10>0,Table1[[#This Row],[Column4]],IF(X10>0,\"1000\")))","v":false}]
[158930,null,null,null,"BAKER, ASHLEY","2022-10-24",1168,"1168 - Vicksburg Indian Lake","2023-12-14","6:52AM","2:57PM",8.08,"R",19,null,null,8.08,null,null,null,null,null,null,null,{"$f":"IF(Table1[[#This Row],[Wage differential Bonus                            - NotePay Rate you are bonusing to]]>0, Table1[[#This Row],[Wage differential Bonus                            - NotePay Rate you are bonusing to]]-Table1[[#This Row],[Pay Rate]], \"\")","v":""},{"$f":"IF(Table1[[#This Row],[Wage differential Bonus                            - NotePay Rate you are bonusing to]]>0,Table1[[#This Row],[Bonus Rate]]*Table1[[#This Row],[Hours]],\"\")","v":""},null,null,null,null,null,{"$f":"IF(OR(AH11>0.001,AH11<-0.001),Table1[[#This Row],[Employee '#]],\" \")","v":" "},false,{"$f":"SUMIF(Table1[[#This Row],[Total Wage Diff bonus]:[Bank Bonus]],\"<> \")","v":0},{"$f":"IF(AA11>0, Table1[[#This Row],[Column4]], IF(AB11>0,Table1[[#This Row],[Column4]],IF(X11>0,\"1000\")))","v":false}]
[158930,null,null,null,"BAKER, ASHLEY","2022-10-24",1443,"1443 - Portage Leadership","2023-12-15",null,null,-0.5,"R",19,null,null,-0.5,null,null,null,null,null,null,null,{"$f":"IF(Table1[[#This Row],[Wage differential Bonus                            - NotePay Rate you are bonusing to]]>0, Table1[[#This Row],[Wage differential Bonus                            - NotePay Rate you are bonusing to]]-Table1[[#This Row],[Pay Rate]], \"\")","v":""},{"$f":"IF(Table1[[#This Row],[Wage differential Bonus                            - NotePay Rate you are bonusing to]]>0,Table1[[#This Row],[Bonus Rate]]*Table1[[#This Row],[Hours]],\"\")","v":""},null,null,null,null,null,{"$f":"IF(OR(AH12>0.001,AH12<-0.001),Table1[[#This Row],[Employee '#]],\" \")","v":" "},false,{"$f":"SUMIF(Table1[[#This Row],[Total Wage Diff bonus]:[Bank Bonus]],\"<> \")","v":0},{"$f":"IF(AA12>0, Table1[[#This Row],[Column4]], IF(AB12>0,Table1[[#This Row],[Column4]],IF(X12>0,\"1000\")))","v":false}]
[158930,null,null,null,"BAKER, ASHLEY","2022-10-24",1443,"1443 - Portage Leadership","2023-12-15","8:00AM","4:05PM",8.08,"R",19,null,null,8.08,null,null,null,null,null,null,null,{"$f":"IF(Table1[[#This Row],[Wage differential Bonus                            - NotePay Rate you are bonusing to]]>0, Table1[[#This Row],[Wage differential Bonus                            - NotePay Rate you are bonusing to]]-Table1[[#This Row],[Pay Rate]], \"\")","v":""},{"$f":"IF(Table1[[#This Row],[Wage differential Bonus                            - NotePay Rate you are bonusing to]]>0,Table1[[#This Row],[Bonus Rate]]*Table1[[#This Row],[Hours]],\"\")","v":""},null,null,null,null,null,{"$f":"IF(OR(AH13>0.001,AH13<-0.001),Table1[[#This Row],[Employee '#]],\" \")","v":" "},false,{"$f":"SUMIF(Table1[[#This Row],[Total Wage Diff bonus]:[Bank Bonus]],\"<> \")","v":0},{"$f":"IF(AA13>0, Table1[[#This Row],[Column4]], IF(AB13>0,Table1[[#This Row],[Column4]],IF(X13>0,\"1000\")))","v":false}]
[158930,null,null,null,"BAKER, ASHLEY","2022-10-24",1440,"1440 - PORTAGE WEST MIDDLE","2023-12-16",null,null,-0.5,"R",19,null,null,-0.5,null,null,null,null,null,null,null,{"$f":"IF(Table1[[#This Row],[Wage differential Bonus                            - NotePay Rate you are bonusing to]]>0, Table1[[#This Row],[Wage differential Bonus                            - NotePay Rate you are bonusing to]]-Table1[[#This Row],[Pay Rate]], \"\")","v":""},{"$f":"IF(Table1[[#This Row],[Wage differential Bonus                            - NotePay Rate you are bonusing to]]>0,Table1[[#This Row],[Bonus Rate]]*Table1[[#This Row],[Hours]],\"\")","v":""},null,null,null,null,null,{"$f":"IF(OR(AH14>0.001,AH14<-0.001),Table1[[#This Row],[Employee '#]],\" \")","v":" "},false,{"$f":"SUMIF(Table1[[#This Row],[Total Wage Diff bonus]:[Bank Bonus]],\"<> \")","v":0},{"$f":"IF(AA14>0, Table1[[#This Row],[Column4]], IF(AB14>0,Table1[[#This Row],[Column4]],IF(X14>0,\"1000\")))","v":false}]
[158930,null,null,null,"BAKER, ASHLEY","2022-10-24",1440,"1440 - PORTAGE WEST MIDDLE","2023-12-16","5:05AM","12:07PM",7.03,"R",19,null,null,7.03,null,null,null,null,null,null,null,{"$f":"IF(Table1[[#This Row],[Wage differential Bonus                            - NotePay Rate you are bonusing to]]>0, Table1[[#This Row],[Wage differential Bonus                            - NotePay Rate you are bonusing to]]-Table1[[#This Row],[Pay Rate]], \"\")","v":""},{"$f":"IF(Table1[[#This Row],[Wage differential Bonus                            - NotePay Rate you are bonusing to]]>0,Table1[[#This Row],[Bonus Rate]]*Table1[[#This Row],[Hours]],\"\")","v":""},null,null,null,null,null,{"$f":"IF(OR(AH15>0.001,AH15<-0.001),Table1[[#This Row],[Employee '#]],\" \")","v":" "},false,{"$f":"SUMIF(Table1[[#This Row],[Total Wage Diff bonus]:[Bank Bonus]],\"<> \")","v":0},{"$f":"IF(AA15>0, Table1[[#This Row],[Column4]], IF(AB15>0,Table1[[#This Row],[Column4]],IF(X15>0,\"1000\")))","v":false}]
[null,null,null,null,null,null,null,null,null,null,null,null,null,"Total Hours = 43.26 ",null,null,0,null,null,null,null,null,null,null,{"$f":"IF(Table1[[#This Row],[Wage differential Bonus                            - NotePay Rate you are bonusing to]]>0, Table1[[#This Row],[Wage differential Bonus                            - NotePay Rate you are bonusing to]]-Table1[[#This Row],[Pay Rate]], \"\")","v":""},{"$f":"IF(Table1[[#This Row],[Wage differential Bonus                            - NotePay Rate you are bonusing to]]>0,Table1[[#This Row],[Bonus Rate]]*Table1[[#This Row],[Hours]],\"\")","v":""},null,null,null,null,null,{"$f":"IF(OR(AH16>0.001,AH16<-0.001),Table1[[#This Row],[Employee '#]],\" \")","v":" "},false,{"$f":"SUMIF(Table1[[#This Row],[Total Wage Diff bonus]:[Bank Bonus]],\"<> \")","v":0},{"$f":"IF(AA16>0, Table1[[#This Row],[Column4]], IF(AB16>0,Table1[[#This Row],[Column4]],IF(X16>0,\"1000\")))","v":false}]
[159916,null,null,null,"DANTZLER, DANA","2023-02-21",1092,"1092 - Garden City Memorial","2023-12-11","2:41PM","3:43PM",1.03,"R",19,null,null,1.03,null,null,null,null,null,null,null,{"$f":"IF(Table1[[#This Row],[Wage differential Bonus                            - NotePay Rate you are bonusing to]]>0, Table1[[#This Row],[Wage differential Bonus                            - NotePay Rate you are bonusing to]]-Table1[[#This Row],[Pay Rate]], \"\")","v":""},{"$f":"IF(Table1[[#This Row],[Wage differential Bonus                            - NotePay Rate you are bonusing to]]>0,Table1[[#This Row],[Bonus Rate]]*Table1[[#This Row],[Hours]],\"\")","v":""},null,null,null,null,null,{"$f":"IF(OR(AH17>0.001,AH17<-0.001),Table1[[#This Row],[Employee '#]],\" \")","v":" "},false,{"$f":"SUMIF(Table1[[#This Row],[Total Wage Diff bonus]:[Bank Bonus]],\"<> \")","v":0},{"$f":"IF(AA17>0, Table1[[#This Row],[Column4]], IF(AB17>0,Table1[[#This Row],[Column4]],IF(X17>0,\"1000\")))","v":false}]
[159916,null,null,null,"DANTZLER, DANA","2023-02-21",1089,"1089 - Garden City Cambridge","2023-12-11","3:43PM","4:50PM",1.1200000000000001,"R",19,null,null,1.1200000000000001,null,null,null,null,null,null,null,{"$f":"IF(Table1[[#This Row],[Wage differential Bonus                            - NotePay Rate you are bonusing to]]>0, Table1[[#This Row],[Wage differential Bonus                            - NotePay Rate you are bonusing to]]-Table1[[#This Row],[Pay Rate]], \"\")","v":""},{"$f":"IF(Table1[[#This Row],[Wage differential Bonus                            - NotePay Rate you are bonusing to]]>0,Table1[[#This Row],[Bonus Rate]]*Table1[[#This Row],[Hours]],\"\")","v":""},null,null,null,null,null,{"$f":"IF(OR(AH18>0.001,AH18<-0.001),Table1[[#This Row],[Employee '#]],\" \")","v":" "},false,{"$f":"SUMIF(Table1[[#This Row],[Total Wage Diff bonus]:[Bank Bonus]],\"<> \")","v":0},{"$f":"IF(AA18>0, Table1[[#This Row],[Column4]], IF(AB18>0,Table1[[#This Row],[Column4]],IF(X18>0,\"1000\")))","v":false}]
[159916,null,null,null,"DANTZLER, DANA","2023-02-21",1094,"1094 - Garden City Douglas","2023-12-11","4:50PM","7:41PM",2.85,"R",19,null,null,2.85,null,null,null,null,null,null,null,{"$f":"IF(Table1[[#This Row],[Wage differential Bonus                            - NotePay Rate you are bonusing to]]>0, Table1[[#This Row],[Wage differential Bonus                            - NotePay Rate you are bonusing to]]-Table1[[#This Row],[Pay Rate]], \"\")","v":""},{"$f":"IF(Table1[[#This Row],[Wage differential Bonus                            - NotePay Rate you are bonusing to]]>0,Table1[[#This Row],[Bonus Rate]]*Table1[[#This Row],[Hours]],\"\")","v":""},null,null,null,null,null,{"$f":"IF(OR(AH19>0.001,AH19<-0.001),Table1[[#This Row],[Employee '#]],\" \")","v":" "},false,{"$f":"SUMIF(Table1[[#This Row],[Total Wage Diff bonus]:[Bank Bonus]],\"<> \")","v":0},{"$f":"IF(AA19>0, Table1[[#This Row],[Column4]], IF(AB19>0,Table1[[#This Row],[Column4]],IF(X19>0,\"1000\")))","v":false}]
[159916,null,null,null,"DANTZLER, DANA","2023-02-21",1094,"1094 - Garden City Douglas","2023-12-11","8:11PM","10:46PM",2.58,"R",19,null,null,2.58,null,null,null,null,null,null,null,{"$f":"IF(Table1[[#This Row],[Wage differential Bonus                            - NotePay Rate you are bonusing to]]>0, Table1[[#This Row],[Wage differential Bonus                            - NotePay Rate you are bonusing to]]-Table1[[#This Row],[Pay Rate]], \"\")","v":""},{"$f":"IF(Table1[[#This Row],[Wage differential Bonus                            - NotePay Rate you are bonusing to]]>0,Table1[[#This Row],[Bonus Rate]]*Table1[[#This Row],[Hours]],\"\")","v":""},null,null,null,null,null,{"$f":"IF(OR(AH20>0.001,AH20<-0.001),Table1[[#This Row],[Employee '#]],\" \")","v":" "},false,{"$f":"SUMIF(Table1[[#This Row],[Total Wage Diff bonus]:[Bank Bonus]],\"<> \")","v":0},{"$f":"IF(AA20>0, Table1[[#This Row],[Column4]], IF(AB20>0,Table1[[#This Row],[Column4]],IF(X20>0,\"1000\")))","v":false}]
[159916,null,null,null,"DANTZLER, DANA","2023-02-21",1086,"1086 - Garden City High School","2023-12-11","10:46PM","11:29PM",0.72,"R",19,null,null,0.72,null,null,null,null,null,null,null,{"$f":"IF(Table1[[#This Row],[Wage differential Bonus                            - NotePay Rate you are bonusing to]]>0, Table1[[#This Row],[Wage differential Bonus                            - NotePay Rate you are bonusing to]]-Table1[[#This Row],[Pay Rate]], \"\")","v":""},{"$f":"IF(Table1[[#This Row],[Wage differential Bonus                            - NotePay Rate you are bonusing to]]>0,Table1[[#This Row],[Bonus Rate]]*Table1[[#This Row],[Hours]],\"\")","v":""},null,null,null,null,null,{"$f":"IF(OR(AH21>0.001,AH21<-0.001),Table1[[#This Row],[Employee '#]],\" \")","v":" "},false,{"$f":"SUMIF(Table1[[#This Row],[Total Wage Diff bonus]:[Bank Bonus]],\"<> \")","v":0},{"$f":"IF(AA21>0, Table1[[#This Row],[Column4]], IF(AB21>0,Table1[[#This Row],[Column4]],IF(X21>0,\"1000\")))","v":false}]
[159916,null,null,null,"DANTZLER, DANA","2023-02-21",1093,"1093 - Garden City BTC","2023-12-12","2:36PM","4:45PM",2.15,"R",19,null,null,2.15,null,null,null,null,null,null,null,{"$f":"IF(Table1[[#This Row],[Wage differential Bonus                            - NotePay Rate you are bonusing to]]>0, Table1[[#This Row],[Wage differential Bonus                            - NotePay Rate you are bonusing to]]-Table1[[#This Row],[Pay Rate]], \"\")","v":""},{"$f":"IF(Table1[[#This Row],[Wage differential Bonus                            - NotePay Rate you are bonusing to]]>0,Table1[[#This Row],[Bonus Rate]]*Table1[[#This Row],[Hours]],\"\")","v":""},null,null,null,null,null,{"$f":"IF(OR(AH22>0.001,AH22<-0.001),Table1[[#This Row],[Employee '#]],\" \")","v":" "},false,{"$f":"SUMIF(Table1[[#This Row],[Total Wage Diff bonus]:[Bank Bonus]],\"<> \")","v":0},{"$f":"IF(AA22>0, Table1[[#This Row],[Column4]], IF(AB22>0,Table1[[#This Row],[Column4]],IF(X22>0,\"1000\")))","v":false}]
[159916,null,null,null,"DANTZLER, DANA","2023-02-21",1094,"1094 - Garden City Douglas","2023-12-12","4:45PM","8:25PM",3.67,"R",19,null,null,3.67,null,null,null,null,null,null,null,{"$f":"IF(Table1[[#This Row],[Wage differential Bonus                            - NotePay Rate you are bonusing to]]>0, Table1[[#This Row],[Wage differential Bonus                            - NotePay Rate you are bonusing to]]-Table1[[#This Row],[Pay Rate]], \"\")","v":""},{"$f":"IF(Table1[[#This Row],[Wage differential Bonus                            - NotePay Rate you are bonusing to]]>0,Table1[[#This Row],[Bonus Rate]]*Table1[[#This Row],[Hours]],\"\")","v":""},null,null,null,null,null,{"$f":"IF(OR(AH23>0.001,AH23<-0.001),Table1[[#This Row],[Employee '#]],\" \")","v":" "},false,{"$f":"SUMIF(Table1[[#This Row],[Total Wage Diff bonus]:[Bank Bonus]],\"<> \")","v":0},{"$f":"IF(AA23>0, Table1[[#This Row],[Column4]], IF(AB23>0,Table1[[#This Row],[Column4]],IF(X23>0,\"1000\")))","v":false}]
[159916,null,null,null,"DANTZLER, DANA","2023-02-21",1092,"1092 - Garden City Memorial","2023-12-12","8:54PM","11:43PM",2.82,"R",19,null,null,2.82,null,null,null,null,null,null,null,{"$f":"IF(Table1[[#This Row],[Wage differential Bonus                            - NotePay Rate you are bonusing to]]>0, Table1[[#This Row],[Wage differential Bonus                            - NotePay Rate you are bonusing to]]-Table1[[#This Row],[Pay Rate]], \"\")","v":""},{"$f":"IF(Table1[[#This Row],[Wage differential Bonus                            - NotePay Rate you are bonusing to]]>0,Table1[[#This Row],[Bonus Rate]]*Table1[[#This Row],[Hours]],\"\")","v":""},null,null,null,null,null,{"$f":"IF(OR(AH24>0.001,AH24<-0.001),Table1[[#This Row],[Employee '#]],\" \")","v":" "},false,{"$f":"SUMIF(Table1[[#This Row],[Total Wage Diff bonus]:[Bank Bonus]],\"<> \")","v":0},{"$f":"IF(AA24>0, Table1[[#This Row],[Column4]], IF(AB24>0,Table1[[#This Row],[Column4]],IF(X24>0,\"1000\")))","v":false}]
[159916,null,null,null,"DANTZLER, DANA","2023-02-21",1090,"1090 - Garden City Lathers","2023-12-14",null,null,-0.5,"R",19,null,null,-0.5,null,null,null,null,null,null,null,{"$f":"IF(Table1[[#This Row],[Wage differential Bonus                            - NotePay Rate you are bonusing to]]>0, Table1[[#This Row],[Wage differential Bonus                            - NotePay Rate you are bonusing to]]-Table1[[#This Row],[Pay Rate]], \"\")","v":""},{"$f":"IF(Table1[[#This Row],[Wage differential Bonus                            - NotePay Rate you are bonusing to]]>0,Table1[[#This Row],[Bonus Rate]]*Table1[[#This Row],[Hours]],\"\")","v":""},null,null,null,null,null,{"$f":"IF(OR(AH25>0.001,AH25<-0.001),Table1[[#This Row],[Employee '#]],\" \")","v":" "},false,{"$f":"SUMIF(Table1[[#This Row],[Total Wage Diff bonus]:[Bank Bonus]],\"<> \")","v":0},{"$f":"IF(AA25>0, Table1[[#This Row],[Column4]], IF(AB25>0,Table1[[#This Row],[Column4]],IF(X25>0,\"1000\")))","v":false}]
[159916,null,null,null,"DANTZLER, DANA","2023-02-21",1090,"1090 - Garden City Lathers","2023-12-14","2:02PM","6:51PM",4.82,"R",19,null,null,4.82,null,null,null,null,null,null,null,{"$f":"IF(Table1[[#This Row],[Wage differential Bonus                            - NotePay Rate you are bonusing to]]>0, Table1[[#This Row],[Wage differential Bonus                            - NotePay Rate you are bonusing to]]-Table1[[#This Row],[Pay Rate]], \"\")","v":""},{"$f":"IF(Table1[[#This Row],[Wage differential Bonus                            - NotePay Rate you are bonusing to]]>0,Table1[[#This Row],[Bonus Rate]]*Table1[[#This Row],[Hours]],\"\")","v":""},null,null,null,null,null,{"$f":"IF(OR(AH26>0.001,AH26<-0.001),Table1[[#This Row],[Employee '#]],\" \")","v":" "},false,{"$f":"SUMIF(Table1[[#This Row],[Total Wage Diff bonus]:[Bank Bonus]],\"<> \")","v":0},{"$f":"IF(AA26>0, Table1[[#This Row],[Column4]], IF(AB26>0,Table1[[#This Row],[Column4]],IF(X26>0,\"1000\")))","v":false}]
[159916,null,null,null,"DANTZLER, DANA","2023-02-21",1939,"1939 - Bay City McAlear Sawden Elem","2023-12-14","6:51PM","12:35AM",5.73,"R",19,null,null,5.73,null,null,null,null,null,null,20,{"$f":"IF(Table1[[#This Row],[Wage differential Bonus                            - NotePay Rate you are bonusing to]]>0, Table1[[#This Row],[Wage differential Bonus                            - NotePay Rate you are bonusing to]]-Table1[[#This Row],[Pay Rate]], \"\")","v":1},{"$f":"IF(Table1[[#This Row],[Wage differential Bonus                            - NotePay Rate you are bonusing to]]>0,Table1[[#This Row],[Bonus Rate]]*Table1[[#This Row],[Hours]],\"\")","v":5.73},null,null,"Travel Bonus",null,null,{"$f":"IF(OR(AH27>0.001,AH27<-0.001),Table1[[#This Row],[Employee '#]],\" \")","v":159916},"20",{"$f":"SUMIF(Table1[[#This Row],[Total Wage Diff bonus]:[Bank Bonus]],\"<> \")","v":5.73},{"$f":"IF(AA27>0, Table1[[#This Row],[Column4]], IF(AB27>0,Table1[[#This Row],[Column4]],IF(X27>0,\"1000\")))","v":"1000"}]
[159916,null,null,null,"DANTZLER, DANA","2023-02-21",1090,"1090 - Garden City Lathers","2023-12-15","2:16PM","2:53PM",0.62,"R",19,null,null,0.62,null,null,null,null,null,null,null,{"$f":"IF(Table1[[#This Row],[Wage differential Bonus                            - NotePay Rate you are bonusing to]]>0, Table1[[#This Row],[Wage differential Bonus                            - NotePay Rate you are bonusing to]]-Table1[[#This Row],[Pay Rate]], \"\")","v":""},{"$f":"IF(Table1[[#This Row],[Wage differential Bonus                            - NotePay Rate you are bonusing to]]>0,Table1[[#This Row],[Bonus Rate]]*Table1[[#This Row],[Hours]],\"\")","v":""},null,null,null,null,null,{"$f":"IF(OR(AH28>0.001,AH28<-0.001),Table1[[#This Row],[Employee '#]],\" \")","v":" "},false,{"$f":"SUMIF(Table1[[#This Row],[Total Wage Diff bonus]:[Bank Bonus]],\"<> \")","v":0},{"$f":"IF(AA28>0, Table1[[#This Row],[Column4]], IF(AB28>0,Table1[[#This Row],[Column4]],IF(X28>0,\"1000\")))","v":false}]
[159916,null,null,null,"DANTZLER, DANA","2023-02-21",1092,"1092 - Garden City Memorial","2023-12-15","2:53PM","5:32PM",2.65,"R",19,null,null,2.65,null,null,null,null,null,null,null,{"$f":"IF(Table1[[#This Row],[Wage differential Bonus                            - NotePay Rate you are bonusing to]]>0, Table1[[#This Row],[Wage differential Bonus                            - NotePay Rate you are bonusing to]]-Table1[[#This Row],[Pay Rate]], \"\")","v":""},{"$f":"IF(Table1[[#This Row],[Wage differential Bonus                            - NotePay Rate you are bonusing to]]>0,Table1[[#This Row],[Bonus Rate]]*Table1[[#This Row],[Hours]],\"\")","v":""},null,null,null,null,null,{"$f":"IF(OR(AH29>0.001,AH29<-0.001),Table1[[#This Row],[Employee '#]],\" \")","v":" "},false,{"$f":"SUMIF(Table1[[#This Row],[Total Wage Diff bonus]:[Bank Bonus]],\"<> \")","v":0},{"$f":"IF(AA29>0, Table1[[#This Row],[Column4]], IF(AB29>0,Table1[[#This Row],[Column4]],IF(X29>0,\"1000\")))","v":false}]
[159916,null,null,null,"DANTZLER, DANA","2023-02-21",1094,"1094 - Garden City Douglas","2023-12-15","5:32PM","8:19PM",2.78,"R",19,null,null,2.78,null,null,null,null,null,null,null,{"$f":"IF(Table1[[#This Row],[Wage differential Bonus                            - NotePay Rate you are bonusing to]]>0, Table1[[#This Row],[Wage differential Bonus                            - NotePay Rate you are bonusing to]]-Table1[[#This Row],[Pay Rate]], \"\")","v":""},{"$f":"IF(Table1[[#This Row],[Wage differential Bonus                            - NotePay Rate you are bonusing to]]>0,Table1[[#This Row],[Bonus Rate]]*Table1[[#This Row],[Hours]],\"\")","v":""},null,null,null,null,null,{"$f":"IF(OR(AH30>0.001,AH30<-0.001),Table1[[#This Row],[Employee '#]],\" \")","v":" "},false,{"$f":"SUMIF(Table1[[#This Row],[Total Wage Diff bonus]:[Bank Bonus]],\"<> \")","v":0},{"$f":"IF(AA30>0, Table1[[#This Row],[Column4]], IF(AB30>0,Table1[[#This Row],[Column4]],IF(X30>0,\"1000\")))","v":false}]
[159916,null,null,null,"DANTZLER, DANA","2023-02-21",1090,"1090 - Garden City Lathers","2023-12-15","8:49PM","11:55PM",3.1,"R",19,null,null,3.1,null,null,null,null,null,null,null,{"$f":"IF(Table1[[#This Row],[Wage differential Bonus                            - NotePay Rate you are bonusing to]]>0, Table1[[#This Row],[Wage differential Bonus                            - NotePay Rate you are bonusing to]]-Table1[[#This Row],[Pay Rate]], \"\")","v":""},{"$f":"IF(Table1[[#This Row],[Wage differential Bonus                            - NotePay Rate you are bonusing to]]>0,Table1[[#This Row],[Bonus Rate]]*Table1[[#This Row],[Hours]],\"\")","v":""},null,null,null,null,null,{"$f":"IF(OR(AH31>0.001,AH31<-0.001),Table1[[#This Row],[Employee '#]],\" \")","v":" "},false,{"$f":"SUMIF(Table1[[#This Row],[Total Wage Diff bonus]:[Bank Bonus]],\"<> \")","v":0},{"$f":"IF(AA31>0, Table1[[#This Row],[Column4]], IF(AB31>0,Table1[[#This Row],[Column4]],IF(X31>0,\"1000\")))","v":false}]
[null,null,null,null,null,null,null,null,null,null,null,null,null,"Total Hours = 36.14 ",null,null,0,null,null,null,null,null,null,null,{"$f":"IF(Table1[[#This Row],[Wage differential Bonus                            - NotePay Rate you are bonusing to]]>0, Table1[[#This Row],[Wage differential Bonus                            - NotePay Rate you are bonusing to]]-Table1[[#This Row],[Pay Rate]], \"\")","v":""},{"$f":"IF(Table1[[#This Row],[Wage differential Bonus                            - NotePay Rate you are bonusing to]]>0,Table1[[#This Row],[Bonus Rate]]*Table1[[#This Row],[Hours]],\"\")","v":""},null,null,null,null,null,{"$f":"IF(OR(AH32>0.001,AH32<-0.001),Table1[[#This Row],[Employee '#]],\" \")","v":" "},false,{"$f":"SUMIF(Table1[[#This Row],[Total Wage Diff bonus]:[Bank Bonus]],\"<> \")","v":0},{"$f":"IF(AA32>0, Table1[[#This Row],[Column4]], IF(AB32>0,Table1[[#This Row],[Column4]],IF(X32>0,\"1000\")))","v":false}]
[140591,null,null,null,"DOLEZAL, MARY","2015-05-04",6154,"6154 - Dewitt Leadership","2023-12-11",null,null,-0.5,"R",19.649999999999999,null,null,-0.5,null,null,null,null,null,null,null,{"$f":"IF(Table1[[#This Row],[Wage differential Bonus                            - NotePay Rate you are bonusing to]]>0, Table1[[#This Row],[Wage differential Bonus                            - NotePay Rate you are bonusing to]]-Table1[[#This Row],[Pay Rate]], \"\")","v":""},{"$f":"IF(Table1[[#This Row],[Wage differential Bonus                            - NotePay Rate you are bonusing to]]>0,Table1[[#This Row],[Bonus Rate]]*Table1[[#This Row],[Hours]],\"\")","v":""},null,null,null,null,null,{"$f":"IF(OR(AH33>0.001,AH33<-0.001),Table1[[#This Row],[Employee '#]],\" \")","v":" "},false,{"$f":"SUMIF(Table1[[#This Row],[Total Wage Diff bonus]:[Bank Bonus]],\"<> \")","v":0},{"$f":"IF(AA33>0, Table1[[#This Row],[Column4]], IF(AB33>0,Table1[[#This Row],[Column4]],IF(X33>0,\"1000\")))","v":false}]
[140591,null,null,null,"DOLEZAL, MARY","2015-05-04",6154,"6154 - Dewitt Leadership","2023-12-11","2:25PM","8:10PM",5.75,"R",19.649999999999999,null,null,5.75,null,null,null,null,null,null,null,{"$f":"IF(Table1[[#This Row],[Wage differential Bonus                            - NotePay Rate you are bonusing to]]>0, Table1[[#This Row],[Wage differential Bonus                            - NotePay Rate you are bonusing to]]-Table1[[#This Row],[Pay Rate]], \"\")","v":""},{"$f":"IF(Table1[[#This Row],[Wage differential Bonus                            - NotePay Rate you are bonusing to]]>0,Table1[[#This Row],[Bonus Rate]]*Table1[[#This Row],[Hours]],\"\")","v":""},null,null,null,null,null,{"$f":"IF(OR(AH34>0.001,AH34<-0.001),Table1[[#This Row],[Employee '#]],\" \")","v":" "},false,{"$f":"SUMIF(Table1[[#This Row],[Total Wage Diff bonus]:[Bank Bonus]],\"<> \")","v":0},{"$f":"IF(AA34>0, Table1[[#This Row],[Column4]], IF(AB34>0,Table1[[#This Row],[Column4]],IF(X34>0,\"1000\")))","v":false}]
[140591,null,null,null,"DOLEZAL, MARY","2015-05-04",1820,"1820 - Okemos High School","2023-12-11","8:10PM","1:16AM",5.0999999999999996,"R",19.649999999999999,null,null,5.0999999999999996,null,null,null,null,null,null,null,{"$f":"IF(Table1[[#This Row],[Wage differential Bonus                            - NotePay Rate you are bonusing to]]>0, Table1[[#This Row],[Wage differential Bonus                            - NotePay Rate you are bonusing to]]-Table1[[#This Row],[Pay Rate]], \"\")","v":""},{"$f":"IF(Table1[[#This Row],[Wage differential Bonus                            - NotePay Rate you are bonusing to]]>0,Table1[[#This Row],[Bonus Rate]]*Table1[[#This Row],[Hours]],\"\")","v":""},null,null,null,null,null,{"$f":"IF(OR(AH35>0.001,AH35<-0.001),Table1[[#This Row],[Employee '#]],\" \")","v":" "},false,{"$f":"SUMIF(Table1[[#This Row],[Total Wage Diff bonus]:[Bank Bonus]],\"<> \")","v":0},{"$f":"IF(AA35>0, Table1[[#This Row],[Column4]], IF(AB35>0,Table1[[#This Row],[Column4]],IF(X35>0,\"1000\")))","v":false}]
[140591,null,null,null,"DOLEZAL, MARY","2015-05-04",1155,"1155 - DeWitt Middle School","2023-12-12",null,null,-0.5,"R",19.649999999999999,null,null,-0.5,null,null,null,null,null,null,null,{"$f":"IF(Table1[[#This Row],[Wage differential Bonus                            - NotePay Rate you are bonusing to]]>0, Table1[[#This Row],[Wage differential Bonus                            - NotePay Rate you are bonusing to]]-Table1[[#This Row],[Pay Rate]], \"\")","v":""},{"$f":"IF(Table1[[#This Row],[Wage differential Bonus                            - NotePay Rate you are bonusing to]]>0,Table1[[#This Row],[Bonus Rate]]*Table1[[#This Row],[Hours]],\"\")","v":""},null,null,null,null,null,{"$f":"IF(OR(AH36>0.001,AH36<-0.001),Table1[[#This Row],[Employee '#]],\" \")","v":" "},false,{"$f":"SUMIF(Table1[[#This Row],[Total Wage Diff bonus]:[Bank Bonus]],\"<> \")","v":0},{"$f":"IF(AA36>0, Table1[[#This Row],[Column4]], IF(AB36>0,Table1[[#This Row],[Column4]],IF(X36>0,\"1000\")))","v":false}]
[140591,null,null,null,"DOLEZAL, MARY","2015-05-04",1155,"1155 - DeWitt Middle School","2023-12-12","2:25PM","10:47PM",8.3699999999999992,"R",19.649999999999999,null,null,8.3699999999999992,null,null,null,null,null,null,null,{"$f":"IF(Table1[[#This Row],[Wage differential Bonus                            - NotePay Rate you are bonusing to]]>0, Table1[[#This Row],[Wage differential Bonus                            - NotePay Rate you are bonusing to]]-Table1[[#This Row],[Pay Rate]], \"\")","v":""},{"$f":"IF(Table1[[#This Row],[Wage differential Bonus                            - NotePay Rate you are bonusing to]]>0,Table1[[#This Row],[Bonus Rate]]*Table1[[#This Row],[Hours]],\"\")","v":""},null,null,null,null,null,{"$f":"IF(OR(AH37>0.001,AH37<-0.001),Table1[[#This Row],[Employee '#]],\" \")","v":" "},false,{"$f":"SUMIF(Table1[[#This Row],[Total Wage Diff bonus]:[Bank Bonus]],\"<> \")","v":0},{"$f":"IF(AA37>0, Table1[[#This Row],[Column4]], IF(AB37>0,Table1[[#This Row],[Column4]],IF(X37>0,\"1000\")))","v":false}]
[140591,null,null,null,"DOLEZAL, MARY","2015-05-04",1823,"1823 - Okemos Kinawa Upper Ele","2023-12-12","10:47PM","1:30AM",2.72,"R",19.649999999999999,null,null,2.72,null,null,null,null,null,null,null,{"$f":"IF(Table1[[#This Row],[Wage differential Bonus                            - NotePay Rate you are bonusing to]]>0, Table1[[#This Row],[Wage differential Bonus                            - NotePay Rate you are bonusing to]]-Table1[[#This Row],[Pay Rate]], \"\")","v":""},{"$f":"IF(Table1[[#This Row],[Wage differential Bonus                            - NotePay Rate you are bonusing to]]>0,Table1[[#This Row],[Bonus Rate]]*Table1[[#This Row],[Hours]],\"\")","v":""},null,null,null,null,null,{"$f":"IF(OR(AH38>0.001,AH38<-0.001),Table1[[#This Row],[Employee '#]],\" \")","v":" "},false,{"$f":"SUMIF(Table1[[#This Row],[Total Wage Diff bonus]:[Bank Bonus]],\"<> \")","v":0},{"$f":"IF(AA38>0, Table1[[#This Row],[Column4]], IF(AB38>0,Table1[[#This Row],[Column4]],IF(X38>0,\"1000\")))","v":false}]
[140591,null,null,null,"DOLEZAL, MARY","2015-05-04",6154,"6154 - Dewitt Leadership","2023-12-13",null,null,-0.5,"R",19.649999999999999,null,null,-0.5,null,null,null,null,null,null,null,{"$f":"IF(Table1[[#This Row],[Wage differential Bonus                            - NotePay Rate you are bonusing to]]>0, Table1[[#This Row],[Wage differential Bonus                            - NotePay Rate you are bonusing to]]-Table1[[#This Row],[Pay Rate]], \"\")","v":""},{"$f":"IF(Table1[[#This Row],[Wage differential Bonus                            - NotePay Rate you are bonusing to]]>0,Table1[[#This Row],[Bonus Rate]]*Table1[[#This Row],[Hours]],\"\")","v":""},null,null,null,null,null,{"$f":"IF(OR(AH39>0.001,AH39<-0.001),Table1[[#This Row],[Employee '#]],\" \")","v":" "},false,{"$f":"SUMIF(Table1[[#This Row],[Total Wage Diff bonus]:[Bank Bonus]],\"<> \")","v":0},{"$f":"IF(AA39>0, Table1[[#This Row],[Column4]], IF(AB39>0,Table1[[#This Row],[Column4]],IF(X39>0,\"1000\")))","v":false}]
[140591,null,null,null,"DOLEZAL, MARY","2015-05-04",6154,"6154 - Dewitt Leadership","2023-12-13","2:30PM","10:28PM",7.97,"R",19.649999999999999,null,null,7.97,null,null,null,null,null,null,null,{"$f":"IF(Table1[[#This Row],[Wage differential Bonus                            - NotePay Rate you are bonusing to]]>0, Table1[[#This Row],[Wage differential Bonus                            - NotePay Rate you are bonusing to]]-Table1[[#This Row],[Pay Rate]], \"\")","v":""},{"$f":"IF(Table1[[#This Row],[Wage differential Bonus                            - NotePay Rate you are bonusing to]]>0,Table1[[#This Row],[Bonus Rate]]*Table1[[#This Row],[Hours]],\"\")","v":""},null,null,null,null,null,{"$f":"IF(OR(AH40>0.001,AH40<-0.001),Table1[[#This Row],[Employee '#]],\" \")","v":" "},false,{"$f":"SUMIF(Table1[[#This Row],[Total Wage Diff bonus]:[Bank Bonus]],\"<> \")","v":0},{"$f":"IF(AA40>0, Table1[[#This Row],[Column4]], IF(AB40>0,Table1[[#This Row],[Column4]],IF(X40>0,\"1000\")))","v":false}]
[140591,null,null,null,"DOLEZAL, MARY","2015-05-04",1823,"1823 - Okemos Kinawa Upper Ele","2023-12-13","10:29PM","1:22AM",2.88,"R",19.649999999999999,null,null,2.88,null,null,null,null,null,null,null,{"$f":"IF(Table1[[#This Row],[Wage differential Bonus                            - NotePay Rate you are bonusing to]]>0, Table1[[#This Row],[Wage differential Bonus                            - NotePay Rate you are bonusing to]]-Table1[[#This Row],[Pay Rate]], \"\")","v":""},{"$f":"IF(Table1[[#This Row],[Wage differential Bonus                            - NotePay Rate you are bonusing to]]>0,Table1[[#This Row],[Bonus Rate]]*Table1[[#This Row],[Hours]],\"\")","v":""},null,null,null,null,null,{"$f":"IF(OR(AH41>0.001,AH41<-0.001),Table1[[#This Row],[Employee '#]],\" \")","v":" "},false,{"$f":"SUMIF(Table1[[#This Row],[Total Wage Diff bonus]:[Bank Bonus]],\"<> \")","v":0},{"$f":"IF(AA41>0, Table1[[#This Row],[Column4]], IF(AB41>0,Table1[[#This Row],[Column4]],IF(X41>0,\"1000\")))","v":false}]
[140591,null,null,null,"DOLEZAL, MARY","2015-05-04",1155,"1155 - DeWitt Middle School","2023-12-14",null,null,-0.5,"R",19.649999999999999,null,null,-0.5,null,null,null,null,null,null,null,{"$f":"IF(Table1[[#This Row],[Wage differential Bonus                            - NotePay Rate you are bonusing to]]>0, Table1[[#This Row],[Wage differential Bonus                            - NotePay Rate you are bonusing to]]-Table1[[#This Row],[Pay Rate]], \"\")","v":""},{"$f":"IF(Table1[[#This Row],[Wage differential Bonus                            - NotePay Rate you are bonusing to]]>0,Table1[[#This Row],[Bonus Rate]]*Table1[[#This Row],[Hours]],\"\")","v":""},null,null,null,null,null,{"$f":"IF(OR(AH42>0.001,AH42<-0.001),Table1[[#This Row],[Employee '#]],\" \")","v":" "},false,{"$f":"SUMIF(Table1[[#This Row],[Total Wage Diff bonus]:[Bank Bonus]],\"<> \")","v":0},{"$f":"IF(AA42>0, Table1[[#This Row],[Column4]], IF(AB42>0,Table1[[#This Row],[Column4]],IF(X42>0,\"1000\")))","v":false}]
[140591,null,null,null,"DOLEZAL, MARY","2015-05-04",1155,"1155 - DeWitt Middle School","2023-12-14","2:15PM","2:12AM",11.95,"R",19.649999999999999,null,null,11.95,null,null,null,null,null,null,null,{"$f":"IF(Table1[[#This Row],[Wage differential Bonus                            - NotePay Rate you are bonusing to]]>0, Table1[[#This Row],[Wage differential Bonus                            - NotePay Rate you are bonusing to]]-Table1[[#This Row],[Pay Rate]], \"\")","v":""},{"$f":"IF(Table1[[#This Row],[Wage differential Bonus                            - NotePay Rate you are bonusing to]]>0,Table1[[#This Row],[Bonus Rate]]*Table1[[#This Row],[Hours]],\"\")","v":""},null,null,null,null,null,{"$f":"IF(OR(AH43>0.001,AH43<-0.001),Table1[[#This Row],[Employee '#]],\" \")","v":" "},false,{"$f":"SUMIF(Table1[[#This Row],[Total Wage Diff bonus]:[Bank Bonus]],\"<> \")","v":0},{"$f":"IF(AA43>0, Table1[[#This Row],[Column4]], IF(AB43>0,Table1[[#This Row],[Column4]],IF(X43>0,\"1000\")))","v":false}]
[140591,null,null,null,"DOLEZAL, MARY","2015-05-04",6154,"6154 - Dewitt Leadership","2023-12-15",null,null,-0.5,"R",19.649999999999999,null,null,-0.5,null,null,null,null,null,null,null,{"$f":"IF(Table1[[#This Row],[Wage differential Bonus                            - NotePay Rate you are bonusing to]]>0, Table1[[#This Row],[Wage differential Bonus                            - NotePay Rate you are bonusing to]]-Table1[[#This Row],[Pay Rate]], \"\")","v":""},{"$f":"IF(Table1[[#This Row],[Wage differential Bonus                            - NotePay Rate you are bonusing to]]>0,Table1[[#This Row],[Bonus Rate]]*Table1[[#This Row],[Hours]],\"\")","v":""},null,null,null,null,null,{"$f":"IF(OR(AH44>0.001,AH44<-0.001),Table1[[#This Row],[Employee '#]],\" \")","v":" "},false,{"$f":"SUMIF(Table1[[#This Row],[Total Wage Diff bonus]:[Bank Bonus]],\"<> \")","v":0},{"$f":"IF(AA44>0, Table1[[#This Row],[Column4]], IF(AB44>0,Table1[[#This Row],[Column4]],IF(X44>0,\"1000\")))","v":false}]
[140591,null,null,null,"DOLEZAL, MARY","2015-05-04",6154,"6154 - Dewitt Leadership","2023-12-15","2:16PM","1:45AM",11.48,"R",19.649999999999999,null,null,11.48,null,null,null,null,null,null,null,{"$f":"IF(Table1[[#This Row],[Wage differential Bonus                            - NotePay Rate you are bonusing to]]>0, Table1[[#This Row],[Wage differential Bonus                            - NotePay Rate you are bonusing to]]-Table1[[#This Row],[Pay Rate]], \"\")","v":""},{"$f":"IF(Table1[[#This Row],[Wage differential Bonus                            - NotePay Rate you are bonusing to]]>0,Table1[[#This Row],[Bonus Rate]]*Table1[[#This Row],[Hours]],\"\")","v":""},null,null,null,null,null,{"$f":"IF(OR(AH45>0.001,AH45<-0.001),Table1[[#This Row],[Employee '#]],\" \")","v":" "},false,{"$f":"SUMIF(Table1[[#This Row],[Total Wage Diff bonus]:[Bank Bonus]],\"<> \")","v":0},{"$f":"IF(AA45>0, Table1[[#This Row],[Column4]], IF(AB45>0,Table1[[#This Row],[Column4]],IF(X45>0,\"1000\")))","v":false}]
[null,null,null,null,null,null,null,null,null,null,null,null,null,"Total Hours = 53.72 ",null,null,0,null,null,null,null,null,null,null,{"$f":"IF(Table1[[#This Row],[Wage differential Bonus                            - NotePay Rate you are bonusing to]]>0, Table1[[#This Row],[Wage differential Bonus                            - NotePay Rate you are bonusing to]]-Table1[[#This Row],[Pay Rate]], \"\")","v":""},{"$f":"IF(Table1[[#This Row],[Wage differential Bonus                            - NotePay Rate you are bonusing to]]>0,Table1[[#This Row],[Bonus Rate]]*Table1[[#This Row],[Hours]],\"\")","v":""},null,null,null,null,null,{"$f":"IF(OR(AH46>0.001,AH46<-0.001),Table1[[#This Row],[Employee '#]],\" \")","v":" "},false,{"$f":"SUMIF(Table1[[#This Row],[Total Wage Diff bonus]:[Bank Bonus]],\"<> \")","v":0},{"$f":"IF(AA46>0, Table1[[#This Row],[Column4]], IF(AB46>0,Table1[[#This Row],[Column4]],IF(X46>0,\"1000\")))","v":false}]
[null,null,null,null,null,null,null,null,null,null,null,null,null,null,null,null,0,null,null,null,null,null,null,null,{"$f":"IF(Table1[[#This Row],[Wage differential Bonus                            - NotePay Rate you are bonusing to]]>0, Table1[[#This Row],[Wage differential Bonus                            - NotePay Rate you are bonusing to]]-Table1[[#This Row],[Pay Rate]], \"\")","v":""},{"$f":"IF(Table1[[#This Row],[Wage differential Bonus                            - NotePay Rate you are bonusing to]]>0,Table1[[#This Row],[Bonus Rate]]*Table1[[#This Row],[Hours]],\"\")","v":""},null,null,null,null,null,{"$f":"IF(OR(AH47>0.001,AH47<-0.001),Table1[[#This Row],[Employee '#]],\" \")","v":" "},false,{"$f":"SUMIF(Table1[[#This Row],[Total Wage Diff bonus]:[Bank Bonus]],\"<> \")","v":0},{"$f":"IF(AA47>0, Table1[[#This Row],[Column4]], IF(AB47>0,Table1[[#This Row],[Column4]],IF(X47>0,\"1000\")))","v":false}]
[null,null,null,null,null,null,null,null,null,null,null,null,null,null,null,null,0,null,null,null,null,null,null,null,{"$f":"IF(Table1[[#This Row],[Wage differential Bonus                            - NotePay Rate you are bonusing to]]>0, Table1[[#This Row],[Wage differential Bonus                            - NotePay Rate you are bonusing to]]-Table1[[#This Row],[Pay Rate]], \"\")","v":""},{"$f":"IF(Table1[[#This Row],[Wage differential Bonus                            - NotePay Rate you are bonusing to]]>0,Table1[[#This Row],[Bonus Rate]]*Table1[[#This Row],[Hours]],\"\")","v":""},null,null,null,null,null,{"$f":"IF(OR(AH48>0.001,AH48<-0.001),Table1[[#This Row],[Employee '#]],\" \")","v":" "},false,{"$f":"SUMIF(Table1[[#This Row],[Total Wage Diff bonus]:[Bank Bonus]],\"<> \")","v":0},{"$f":"IF(AA48>0, Table1[[#This Row],[Column4]], IF(AB48>0,Table1[[#This Row],[Column4]],IF(X48>0,\"1000\")))","v":false}]
[null,null,null,null,null,null,null,null,null,null,null,null,null,null,null,null,0,null,null,null,null,null,null,null,{"$f":"IF(Table1[[#This Row],[Wage differential Bonus                            - NotePay Rate you are bonusing to]]>0, Table1[[#This Row],[Wage differential Bonus                            - NotePay Rate you are bonusing to]]-Table1[[#This Row],[Pay Rate]], \"\")","v":""},{"$f":"IF(Table1[[#This Row],[Wage differential Bonus                            - NotePay Rate you are bonusing to]]>0,Table1[[#This Row],[Bonus Rate]]*Table1[[#This Row],[Hours]],\"\")","v":""},null,null,null,null,null,{"$f":"IF(OR(AH49>0.001,AH49<-0.001),Table1[[#This Row],[Employee '#]],\" \")","v":" "},false,{"$f":"SUMIF(Table1[[#This Row],[Total Wage Diff bonus]:[Bank Bonus]],\"<> \")","v":0},{"$f":"IF(AA49>0, Table1[[#This Row],[Column4]], IF(AB49>0,Table1[[#This Row],[Column4]],IF(X49>0,\"1000\")))","v":false}]
[null,null,null,null,null,null,null,null,null,null,null,null,null,null,null,null,0,null,null,null,null,null,null,null,{"$f":"IF(Table1[[#This Row],[Wage differential Bonus                            - NotePay Rate you are bonusing to]]>0, Table1[[#This Row],[Wage differential Bonus                            - NotePay Rate you are bonusing to]]-Table1[[#This Row],[Pay Rate]], \"\")","v":""},{"$f":"IF(Table1[[#This Row],[Wage differential Bonus                            - NotePay Rate you are bonusing to]]>0,Table1[[#This Row],[Bonus Rate]]*Table1[[#This Row],[Hours]],\"\")","v":""},null,null,null,null,null,{"$f":"IF(OR(AH50>0.001,AH50<-0.001),Table1[[#This Row],[Employee '#]],\" \")","v":" "},false,{"$f":"SUMIF(Table1[[#This Row],[Total Wage Diff bonus]:[Bank Bonus]],\"<> \")","v":0},{"$f":"IF(AA50>0, Table1[[#This Row],[Column4]], IF(AB50>0,Table1[[#This Row],[Column4]],IF(X50>0,\"1000\")))","v":false}]
[null,null,null,null,null,null,null,null,null,null,null,null,null,null,null,null,0,null,null,null,null,null,null,null,{"$f":"IF(Table1[[#This Row],[Wage differential Bonus                            - NotePay Rate you are bonusing to]]>0, Table1[[#This Row],[Wage differential Bonus                            - NotePay Rate you are bonusing to]]-Table1[[#This Row],[Pay Rate]], \"\")","v":""},{"$f":"IF(Table1[[#This Row],[Wage differential Bonus                            - NotePay Rate you are bonusing to]]>0,Table1[[#This Row],[Bonus Rate]]*Table1[[#This Row],[Hours]],\"\")","v":""},null,null,null,null,null,{"$f":"IF(OR(AH51>0.001,AH51<-0.001),Table1[[#This Row],[Employee '#]],\" \")","v":" "},false,{"$f":"SUMIF(Table1[[#This Row],[Total Wage Diff bonus]:[Bank Bonus]],\"<> \")","v":0},{"$f":"IF(AA51>0, Table1[[#This Row],[Column4]], IF(AB51>0,Table1[[#This Row],[Column4]],IF(X51>0,\"1000\")))","v":false}]
[null,null,null,null,null,null,null,null,null,null,null,null,null,null,null,null,0,null,null,null,null,null,null,null,{"$f":"IF(Table1[[#This Row],[Wage differential Bonus                            - NotePay Rate you are bonusing to]]>0, Table1[[#This Row],[Wage differential Bonus                            - NotePay Rate you are bonusing to]]-Table1[[#This Row],[Pay Rate]], \"\")","v":""},{"$f":"IF(Table1[[#This Row],[Wage differential Bonus                            - NotePay Rate you are bonusing to]]>0,Table1[[#This Row],[Bonus Rate]]*Table1[[#This Row],[Hours]],\"\")","v":""},null,null,null,null,null,{"$f":"IF(OR(AH52>0.001,AH52<-0.001),Table1[[#This Row],[Employee '#]],\" \")","v":" "},false,{"$f":"SUMIF(Table1[[#This Row],[Total Wage Diff bonus]:[Bank Bonus]],\"<> \")","v":0},{"$f":"IF(AA52>0, Table1[[#This Row],[Column4]], IF(AB52>0,Table1[[#This Row],[Column4]],IF(X52>0,\"1000\")))","v":false}]
[null,null,null,null,null,null,null,null,null,null,null,null,null,null,null,null,0,null,null,null,null,null,null,null,{"$f":"IF(Table1[[#This Row],[Wage differential Bonus                            - NotePay Rate you are bonusing to]]>0, Table1[[#This Row],[Wage differential Bonus                            - NotePay Rate you are bonusing to]]-Table1[[#This Row],[Pay Rate]], \"\")","v":""},{"$f":"IF(Table1[[#This Row],[Wage differential Bonus                            - NotePay Rate you are bonusing to]]>0,Table1[[#This Row],[Bonus Rate]]*Table1[[#This Row],[Hours]],\"\")","v":""},null,null,null,null,null,{"$f":"IF(OR(AH53>0.001,AH53<-0.001),Table1[[#This Row],[Employee '#]],\" \")","v":" "},false,{"$f":"SUMIF(Table1[[#This Row],[Total Wage Diff bonus]:[Bank Bonus]],\"<> \")","v":0},{"$f":"IF(AA53>0, Table1[[#This Row],[Column4]], IF(AB53>0,Table1[[#This Row],[Column4]],IF(X53>0,\"1000\")))","v":false}]
[null,null,null,null,null,null,null,null,null,null,null,null,null,null,null,null,0,null,null,null,null,null,null,null,{"$f":"IF(Table1[[#This Row],[Wage differential Bonus                            - NotePay Rate you are bonusing to]]>0, Table1[[#This Row],[Wage differential Bonus                            - NotePay Rate you are bonusing to]]-Table1[[#This Row],[Pay Rate]], \"\")","v":""},{"$f":"IF(Table1[[#This Row],[Wage differential Bonus                            - NotePay Rate you are bonusing to]]>0,Table1[[#This Row],[Bonus Rate]]*Table1[[#This Row],[Hours]],\"\")","v":""},null,null,null,null,null,{"$f":"IF(OR(AH54>0.001,AH54<-0.001),Table1[[#This Row],[Employee '#]],\" \")","v":" "},false,{"$f":"SUMIF(Table1[[#This Row],[Total Wage Diff bonus]:[Bank Bonus]],\"<> \")","v":0},{"$f":"IF(AA54>0, Table1[[#This Row],[Column4]], IF(AB54>0,Table1[[#This Row],[Column4]],IF(X54>0,\"1000\")))","v":false}]
[null,null,null,null,null,null,null,null,null,null,null,null,null,null,null,null,0,null,null,null,null,null,null,null,{"$f":"IF(Table1[[#This Row],[Wage differential Bonus                            - NotePay Rate you are bonusing to]]>0, Table1[[#This Row],[Wage differential Bonus                            - NotePay Rate you are bonusing to]]-Table1[[#This Row],[Pay Rate]], \"\")","v":""},{"$f":"IF(Table1[[#This Row],[Wage differential Bonus                            - NotePay Rate you are bonusing to]]>0,Table1[[#This Row],[Bonus Rate]]*Table1[[#This Row],[Hours]],\"\")","v":""},null,null,null,null,null,{"$f":"IF(OR(AH55>0.001,AH55<-0.001),Table1[[#This Row],[Employee '#]],\" \")","v":" "},false,{"$f":"SUMIF(Table1[[#This Row],[Total Wage Diff bonus]:[Bank Bonus]],\"<> \")","v":0},{"$f":"IF(AA55>0, Table1[[#This Row],[Column4]], IF(AB55>0,Table1[[#This Row],[Column4]],IF(X55>0,\"1000\")))","v":false}]
[null,null,null,null,null,null,null,null,null,null,null,null,null,null,null,null,0,null,null,null,null,null,null,null,{"$f":"IF(Table1[[#This Row],[Wage differential Bonus                            - NotePay Rate you are bonusing to]]>0, Table1[[#This Row],[Wage differential Bonus                            - NotePay Rate you are bonusing to]]-Table1[[#This Row],[Pay Rate]], \"\")","v":""},{"$f":"IF(Table1[[#This Row],[Wage differential Bonus                            - NotePay Rate you are bonusing to]]>0,Table1[[#This Row],[Bonus Rate]]*Table1[[#This Row],[Hours]],\"\")","v":""},null,null,null,null,null,{"$f":"IF(OR(AH56>0.001,AH56<-0.001),Table1[[#This Row],[Employee '#]],\" \")","v":" "},false,{"$f":"SUMIF(Table1[[#This Row],[Total Wage Diff bonus]:[Bank Bonus]],\"<> \")","v":0},{"$f":"IF(AA56>0, Table1[[#This Row],[Column4]], IF(AB56>0,Table1[[#This Row],[Column4]],IF(X56>0,\"1000\")))","v":false}]
[null,null,null,null,null,null,null,null,null,null,null,null,null,null,null,null,0,null,null,null,null,null,null,null,{"$f":"IF(Table1[[#This Row],[Wage differential Bonus                            - NotePay Rate you are bonusing to]]>0, Table1[[#This Row],[Wage differential Bonus                            - NotePay Rate you are bonusing to]]-Table1[[#This Row],[Pay Rate]], \"\")","v":""},{"$f":"IF(Table1[[#This Row],[Wage differential Bonus                            - NotePay Rate you are bonusing to]]>0,Table1[[#This Row],[Bonus Rate]]*Table1[[#This Row],[Hours]],\"\")","v":""},null,null,null,null,null,{"$f":"IF(OR(AH57>0.001,AH57<-0.001),Table1[[#This Row],[Employee '#]],\" \")","v":" "},false,{"$f":"SUMIF(Table1[[#This Row],[Total Wage Diff bonus]:[Bank Bonus]],\"<> \")","v":0},{"$f":"IF(AA57>0, Table1[[#This Row],[Column4]], IF(AB57>0,Table1[[#This Row],[Column4]],IF(X57>0,\"1000\")))","v":false}]
[null,null,null,null,null,null,null,null,null,null,null,null,null,null,null,null,0,null,null,null,null,null,null,null,{"$f":"IF(Table1[[#This Row],[Wage differential Bonus                            - NotePay Rate you are bonusing to]]>0, Table1[[#This Row],[Wage differential Bonus                            - NotePay Rate you are bonusing to]]-Table1[[#This Row],[Pay Rate]], \"\")","v":""},{"$f":"IF(Table1[[#This Row],[Wage differential Bonus                            - NotePay Rate you are bonusing to]]>0,Table1[[#This Row],[Bonus Rate]]*Table1[[#This Row],[Hours]],\"\")","v":""},null,null,null,null,null,{"$f":"IF(OR(AH58>0.001,AH58<-0.001),Table1[[#This Row],[Employee '#]],\" \")","v":" "},false,{"$f":"SUMIF(Table1[[#This Row],[Total Wage Diff bonus]:[Bank Bonus]],\"<> \")","v":0},{"$f":"IF(AA58>0, Table1[[#This Row],[Column4]], IF(AB58>0,Table1[[#This Row],[Column4]],IF(X58>0,\"1000\")))","v":false}]
[null,null,null,null,null,null,null,null,null,null,null,null,null,null,null,null,0,null,null,null,null,null,null,null,{"$f":"IF(Table1[[#This Row],[Wage differential Bonus                            - NotePay Rate you are bonusing to]]>0, Table1[[#This Row],[Wage differential Bonus                            - NotePay Rate you are bonusing to]]-Table1[[#This Row],[Pay Rate]], \"\")","v":""},{"$f":"IF(Table1[[#This Row],[Wage differential Bonus                            - NotePay Rate you are bonusing to]]>0,Table1[[#This Row],[Bonus Rate]]*Table1[[#This Row],[Hours]],\"\")","v":""},null,null,null,null,null,{"$f":"IF(OR(AH59>0.001,AH59<-0.001),Table1[[#This Row],[Employee '#]],\" \")","v":" "},false,{"$f":"SUMIF(Table1[[#This Row],[Total Wage Diff bonus]:[Bank Bonus]],\"<> \")","v":0},{"$f":"IF(AA59>0, Table1[[#This Row],[Column4]], IF(AB59>0,Table1[[#This Row],[Column4]],IF(X59>0,\"1000\")))","v":false}]
[null,null,null,null,null,null,null,null,null,null,null,null,null,null,null,null,0,null,null,null,null,null,null,null,{"$f":"IF(Table1[[#This Row],[Wage differential Bonus                            - NotePay Rate you are bonusing to]]>0, Table1[[#This Row],[Wage differential Bonus                            - NotePay Rate you are bonusing to]]-Table1[[#This Row],[Pay Rate]], \"\")","v":""},{"$f":"IF(Table1[[#This Row],[Wage differential Bonus                            - NotePay Rate you are bonusing to]]>0,Table1[[#This Row],[Bonus Rate]]*Table1[[#This Row],[Hours]],\"\")","v":""},null,null,null,null,null,{"$f":"IF(OR(AH60>0.001,AH60<-0.001),Table1[[#This Row],[Employee '#]],\" \")","v":" "},false,{"$f":"SUMIF(Table1[[#This Row],[Total Wage Diff bonus]:[Bank Bonus]],\"<> \")","v":0},{"$f":"IF(AA60>0, Table1[[#This Row],[Column4]], IF(AB60>0,Table1[[#This Row],[Column4]],IF(X60>0,\"1000\")))","v":false}]
[null,null,null,null,null,null,null,null,null,null,null,null,null,null,null,null,0,null,null,null,null,null,null,null,{"$f":"IF(Table1[[#This Row],[Wage differential Bonus                            - NotePay Rate you are bonusing to]]>0, Table1[[#This Row],[Wage differential Bonus                            - NotePay Rate you are bonusing to]]-Table1[[#This Row],[Pay Rate]], \"\")","v":""},{"$f":"IF(Table1[[#This Row],[Wage differential Bonus                            - NotePay Rate you are bonusing to]]>0,Table1[[#This Row],[Bonus Rate]]*Table1[[#This Row],[Hours]],\"\")","v":""},null,null,null,null,null,{"$f":"IF(OR(AH61>0.001,AH61<-0.001),Table1[[#This Row],[Employee '#]],\" \")","v":" "},false,{"$f":"SUMIF(Table1[[#This Row],[Total Wage Diff bonus]:[Bank Bonus]],\"<> \")","v":0},{"$f":"IF(AA61>0, Table1[[#This Row],[Column4]], IF(AB61>0,Table1[[#This Row],[Column4]],IF(X61>0,\"1000\")))","v":false}]
[null,null,null,null,null,null,null,null,null,null,null,null,null,null,null,null,0,null,null,null,null,null,null,null,{"$f":"IF(Table1[[#This Row],[Wage differential Bonus                            - NotePay Rate you are bonusing to]]>0, Table1[[#This Row],[Wage differential Bonus                            - NotePay Rate you are bonusing to]]-Table1[[#This Row],[Pay Rate]], \"\")","v":""},{"$f":"IF(Table1[[#This Row],[Wage differential Bonus                            - NotePay Rate you are bonusing to]]>0,Table1[[#This Row],[Bonus Rate]]*Table1[[#This Row],[Hours]],\"\")","v":""},null,null,null,null,null,{"$f":"IF(OR(AH62>0.001,AH62<-0.001),Table1[[#This Row],[Employee '#]],\" \")","v":" "},false,{"$f":"SUMIF(Table1[[#This Row],[Total Wage Diff bonus]:[Bank Bonus]],\"<> \")","v":0},{"$f":"IF(AA62>0, Table1[[#This Row],[Column4]], IF(AB62>0,Table1[[#This Row],[Column4]],IF(X62>0,\"1000\")))","v":false}]
[null,null,null,null,null,null,null,null,null,null,null,null,null,null,null,null,0,null,null,null,null,null,null,null,{"$f":"IF(Table1[[#This Row],[Wage differential Bonus                            - NotePay Rate you are bonusing to]]>0, Table1[[#This Row],[Wage differential Bonus                            - NotePay Rate you are bonusing to]]-Table1[[#This Row],[Pay Rate]], \"\")","v":""},{"$f":"IF(Table1[[#This Row],[Wage differential Bonus                            - NotePay Rate you are bonusing to]]>0,Table1[[#This Row],[Bonus Rate]]*Table1[[#This Row],[Hours]],\"\")","v":""},null,null,null,null,null,{"$f":"IF(OR(AH63>0.001,AH63<-0.001),Table1[[#This Row],[Employee '#]],\" \")","v":" "},false,{"$f":"SUMIF(Table1[[#This Row],[Total Wage Diff bonus]:[Bank Bonus]],\"<> \")","v":0},{"$f":"IF(AA63>0, Table1[[#This Row],[Column4]], IF(AB63>0,Table1[[#This Row],[Column4]],IF(X63>0,\"1000\")))","v":false}]
[null,null,null,null,null,null,null,null,null,null,null,null,null,null,null,null,0,null,null,null,null,null,null,null,{"$f":"IF(Table1[[#This Row],[Wage differential Bonus                            - NotePay Rate you are bonusing to]]>0, Table1[[#This Row],[Wage differential Bonus                            - NotePay Rate you are bonusing to]]-Table1[[#This Row],[Pay Rate]], \"\")","v":""},{"$f":"IF(Table1[[#This Row],[Wage differential Bonus                            - NotePay Rate you are bonusing to]]>0,Table1[[#This Row],[Bonus Rate]]*Table1[[#This Row],[Hours]],\"\")","v":""},null,null,null,null,null,{"$f":"IF(OR(AH64>0.001,AH64<-0.001),Table1[[#This Row],[Employee '#]],\" \")","v":" "},false,{"$f":"SUMIF(Table1[[#This Row],[Total Wage Diff bonus]:[Bank Bonus]],\"<> \")","v":0},{"$f":"IF(AA64>0, Table1[[#This Row],[Column4]], IF(AB64>0,Table1[[#This Row],[Column4]],IF(X64>0,\"1000\")))","v":false}]
[null,null,null,null,null,null,null,null,null,null,null,null,null,null,null,null,0,null,null,null,null,null,null,null,{"$f":"IF(Table1[[#This Row],[Wage differential Bonus                            - NotePay Rate you are bonusing to]]>0, Table1[[#This Row],[Wage differential Bonus                            - NotePay Rate you are bonusing to]]-Table1[[#This Row],[Pay Rate]], \"\")","v":""},{"$f":"IF(Table1[[#This Row],[Wage differential Bonus                            - NotePay Rate you are bonusing to]]>0,Table1[[#This Row],[Bonus Rate]]*Table1[[#This Row],[Hours]],\"\")","v":""},null,null,null,null,null,{"$f":"IF(OR(AH65>0.001,AH65<-0.001),Table1[[#This Row],[Employee '#]],\" \")","v":" "},false,{"$f":"SUMIF(Table1[[#This Row],[Total Wage Diff bonus]:[Bank Bonus]],\"<> \")","v":0},{"$f":"IF(AA65>0, Table1[[#This Row],[Column4]], IF(AB65>0,Table1[[#This Row],[Column4]],IF(X65>0,\"1000\")))","v":false}]
[null,null,null,null,null,null,null,null,null,null,null,null,null,null,null,null,0,null,null,null,null,null,null,null,{"$f":"IF(Table1[[#This Row],[Wage differential Bonus                            - NotePay Rate you are bonusing to]]>0, Table1[[#This Row],[Wage differential Bonus                            - NotePay Rate you are bonusing to]]-Table1[[#This Row],[Pay Rate]], \"\")","v":""},{"$f":"IF(Table1[[#This Row],[Wage differential Bonus                            - NotePay Rate you are bonusing to]]>0,Table1[[#This Row],[Bonus Rate]]*Table1[[#This Row],[Hours]],\"\")","v":""},null,null,null,null,null,{"$f":"IF(OR(AH66>0.001,AH66<-0.001),Table1[[#This Row],[Employee '#]],\" \")","v":" "},false,{"$f":"SUMIF(Table1[[#This Row],[Total Wage Diff bonus]:[Bank Bonus]],\"<> \")","v":0},{"$f":"IF(AA66>0, Table1[[#This Row],[Column4]], IF(AB66>0,Table1[[#This Row],[Column4]],IF(X66>0,\"1000\")))","v":false}]
[null,null,null,null,null,null,null,null,null,null,null,null,null,null,null,null,0,null,null,null,null,null,null,null,{"$f":"IF(Table1[[#This Row],[Wage differential Bonus                            - NotePay Rate you are bonusing to]]>0, Table1[[#This Row],[Wage differential Bonus                            - NotePay Rate you are bonusing to]]-Table1[[#This Row],[Pay Rate]], \"\")","v":""},{"$f":"IF(Table1[[#This Row],[Wage differential Bonus                            - NotePay Rate you are bonusing to]]>0,Table1[[#This Row],[Bonus Rate]]*Table1[[#This Row],[Hours]],\"\")","v":""},null,null,null,null,null,{"$f":"IF(OR(AH67>0.001,AH67<-0.001),Table1[[#This Row],[Employee '#]],\" \")","v":" "},false,{"$f":"SUMIF(Table1[[#This Row],[Total Wage Diff bonus]:[Bank Bonus]],\"<> \")","v":0},{"$f":"IF(AA67>0, Table1[[#This Row],[Column4]], IF(AB67>0,Table1[[#This Row],[Column4]],IF(X67>0,\"1000\")))","v":false}]
[null,null,null,null,null,null,null,null,null,null,null,null,null,null,null,null,{"$f":"L68+P68","v":0},null,null,null,null,null,null,null,{"$f":"IF(Table1[[#This Row],[Wage differential Bonus                            - NotePay Rate you are bonusing to]]>0, Table1[[#This Row],[Wage differential Bonus                            - NotePay Rate you are bonusing to]]-Table1[[#This Row],[Pay Rate]], \"\")","v":""},{"$f":"IF(Table1[[#This Row],[Wage differential Bonus                            - NotePay Rate you are bonusing to]]>0,Table1[[#This Row],[Bonus Rate]]*Table1[[#This Row],[Hours]],\"\")","v":""},null,null,null,null,null,{"$f":"IF(OR(AH68>0.001,AH68<-0.001),Table1[[#This Row],[Employee '#]],\" \")","v":" "},false,{"$f":"SUMIF(Table1[[#This Row],[Total Wage Diff bonus]:[Bank Bonus]],\"<> \")","v":0},{"$f":"IF(AA68>0, Table1[[#This Row],[Column4]], IF(AB68>0,Table1[[#This Row],[Column4]],IF(X68>0,\"1000\")))","v":false}]
[null,null,null,null,null,null,null,null,null,null,null,null,null,null,null,null,0,null,null,null,null,null,null,null,{"$f":"IF(Table1[[#This Row],[Wage differential Bonus                            - NotePay Rate you are bonusing to]]>0, Table1[[#This Row],[Wage differential Bonus                            - NotePay Rate you are bonusing to]]-Table1[[#This Row],[Pay Rate]], \"\")","v":""},{"$f":"IF(Table1[[#This Row],[Wage differential Bonus                            - NotePay Rate you are bonusing to]]>0,Table1[[#This Row],[Bonus Rate]]*Table1[[#This Row],[Hours]],\"\")","v":""},null,null,null,null,null,{"$f":"IF(OR(AH69>0.001,AH69<-0.001),Table1[[#This Row],[Employee '#]],\" \")","v":" "},{"$f":"IF(AA69>0, \"28\", IF(AB69>0,\"53\",IF(X69>0,\"20\")))","v":false},{"$f":"SUMIF(Table1[[#This Row],[Total Wage Diff bonus]:[Bank Bonus]],\"<> \")","v":0},{"$f":"IF(AA69>0, Table1[[#This Row],[Column4]], IF(AB69>0,Table1[[#This Row],[Column4]],IF(X69>0,\"1000\")))","v":false}]
[null,null,null,null,null,null,null,null,null,null,null,null,null,null,null,null,0,null,null,null,null,null,null,null,{"$f":"IF(Table1[[#This Row],[Wage differential Bonus                            - NotePay Rate you are bonusing to]]>0, Table1[[#This Row],[Wage differential Bonus                            - NotePay Rate you are bonusing to]]-Table1[[#This Row],[Pay Rate]], \"\")","v":""},{"$f":"IF(Table1[[#This Row],[Wage differential Bonus                            - NotePay Rate you are bonusing to]]>0,Table1[[#This Row],[Bonus Rate]]*Table1[[#This Row],[Hours]],\"\")","v":""},null,null,null,null,null,{"$f":"IF(OR(AH70>0.001,AH70<-0.001),Table1[[#This Row],[Employee '#]],\" \")","v":" "},false,{"$f":"SUMIF(Table1[[#This Row],[Total Wage Diff bonus]:[Bank Bonus]],\"<> \")","v":0},{"$f":"IF(AA70>0, Table1[[#This Row],[Column4]], IF(AB70>0,Table1[[#This Row],[Column4]],IF(X70>0,\"1000\")))","v":false}]
[null,null,null,null,null,null,null,null,null,null,null,null,null,null,null,null,0,null,null,null,null,null,null,null,{"$f":"IF(Table1[[#This Row],[Wage differential Bonus                            - NotePay Rate you are bonusing to]]>0, Table1[[#This Row],[Wage differential Bonus                            - NotePay Rate you are bonusing to]]-Table1[[#This Row],[Pay Rate]], \"\")","v":""},{"$f":"IF(Table1[[#This Row],[Wage differential Bonus                            - NotePay Rate you are bonusing to]]>0,Table1[[#This Row],[Bonus Rate]]*Table1[[#This Row],[Hours]],\"\")","v":""},null,null,null,null,null,{"$f":"IF(OR(AH71>0.001,AH71<-0.001),Table1[[#This Row],[Employee '#]],\" \")","v":" "},false,{"$f":"SUMIF(Table1[[#This Row],[Total Wage Diff bonus]:[Bank Bonus]],\"<> \")","v":0},{"$f":"IF(AA71>0, Table1[[#This Row],[Column4]], IF(AB71>0,Table1[[#This Row],[Column4]],IF(X71>0,\"1000\")))","v":false}]
[null,null,null,null,null,null,null,null,null,null,null,null,null,null,null,null,0,null,null,null,null,null,null,null,{"$f":"IF(Table1[[#This Row],[Wage differential Bonus                            - NotePay Rate you are bonusing to]]>0, Table1[[#This Row],[Wage differential Bonus                            - NotePay Rate you are bonusing to]]-Table1[[#This Row],[Pay Rate]], \"\")","v":""},{"$f":"IF(Table1[[#This Row],[Wage differential Bonus                            - NotePay Rate you are bonusing to]]>0,Table1[[#This Row],[Bonus Rate]]*Table1[[#This Row],[Hours]],\"\")","v":""},null,null,null,null,null,{"$f":"IF(OR(AH72>0.001,AH72<-0.001),Table1[[#This Row],[Employee '#]],\" \")","v":" "},false,{"$f":"SUMIF(Table1[[#This Row],[Total Wage Diff bonus]:[Bank Bonus]],\"<> \")","v":0},{"$f":"IF(AA72>0, Table1[[#This Row],[Column4]], IF(AB72>0,Table1[[#This Row],[Column4]],IF(X72>0,\"1000\")))","v":false}]
[null,null,null,null,null,null,null,null,null,null,null,null,null,null,null,null,0,null,null,null,null,null,null,null,{"$f":"IF(Table1[[#This Row],[Wage differential Bonus                            - NotePay Rate you are bonusing to]]>0, Table1[[#This Row],[Wage differential Bonus                            - NotePay Rate you are bonusing to]]-Table1[[#This Row],[Pay Rate]], \"\")","v":""},{"$f":"IF(Table1[[#This Row],[Wage differential Bonus                            - NotePay Rate you are bonusing to]]>0,Table1[[#This Row],[Bonus Rate]]*Table1[[#This Row],[Hours]],\"\")","v":""},null,null,null,null,null,{"$f":"IF(OR(AH73>0.001,AH73<-0.001),Table1[[#This Row],[Employee '#]],\" \")","v":" "},false,{"$f":"SUMIF(Table1[[#This Row],[Total Wage Diff bonus]:[Bank Bonus]],\"<> \")","v":0},{"$f":"IF(AA73>0, Table1[[#This Row],[Column4]], IF(AB73>0,Table1[[#This Row],[Column4]],IF(X73>0,\"1000\")))","v":false}]
[null,null,null,null,null,null,null,null,null,null,null,null,null,null,null,null,0,null,null,null,null,null,null,null,{"$f":"IF(Table1[[#This Row],[Wage differential Bonus                            - NotePay Rate you are bonusing to]]>0, Table1[[#This Row],[Wage differential Bonus                            - NotePay Rate you are bonusing to]]-Table1[[#This Row],[Pay Rate]], \"\")","v":""},{"$f":"IF(Table1[[#This Row],[Wage differential Bonus                            - NotePay Rate you are bonusing to]]>0,Table1[[#This Row],[Bonus Rate]]*Table1[[#This Row],[Hours]],\"\")","v":""},null,null,null,null,null,{"$f":"IF(OR(AH74>0.001,AH74<-0.001),Table1[[#This Row],[Employee '#]],\" \")","v":" "},false,{"$f":"SUMIF(Table1[[#This Row],[Total Wage Diff bonus]:[Bank Bonus]],\"<> \")","v":0},{"$f":"IF(AA74>0, Table1[[#This Row],[Column4]], IF(AB74>0,Table1[[#This Row],[Column4]],IF(X74>0,\"1000\")))","v":false}]
[null,null,null,null,null,null,null,null,null,null,null,null,null,null,null,null,0,null,null,null,null,null,null,null,{"$f":"IF(Table1[[#This Row],[Wage differential Bonus                            - NotePay Rate you are bonusing to]]>0, Table1[[#This Row],[Wage differential Bonus                            - NotePay Rate you are bonusing to]]-Table1[[#This Row],[Pay Rate]], \"\")","v":""},{"$f":"IF(Table1[[#This Row],[Wage differential Bonus                            - NotePay Rate you are bonusing to]]>0,Table1[[#This Row],[Bonus Rate]]*Table1[[#This Row],[Hours]],\"\")","v":""},null,null,null,null,null,{"$f":"IF(OR(AH75>0.001,AH75<-0.001),Table1[[#This Row],[Employee '#]],\" \")","v":" "},false,{"$f":"SUMIF(Table1[[#This Row],[Total Wage Diff bonus]:[Bank Bonus]],\"<> \")","v":0},{"$f":"IF(AA75>0, Table1[[#This Row],[Column4]], IF(AB75>0,Table1[[#This Row],[Column4]],IF(X75>0,\"1000\")))","v":false}]
[null,null,null,null,null,null,null,null,null,null,null,null,null,null,null,null,0,null,null,null,null,null,null,null,{"$f":"IF(Table1[[#This Row],[Wage differential Bonus                            - NotePay Rate you are bonusing to]]>0, Table1[[#This Row],[Wage differential Bonus                            - NotePay Rate you are bonusing to]]-Table1[[#This Row],[Pay Rate]], \"\")","v":""},{"$f":"IF(Table1[[#This Row],[Wage differential Bonus                            - NotePay Rate you are bonusing to]]>0,Table1[[#This Row],[Bonus Rate]]*Table1[[#This Row],[Hours]],\"\")","v":""},null,null,null,null,null,{"$f":"IF(OR(AH76>0.001,AH76<-0.001),Table1[[#This Row],[Employee '#]],\" \")","v":" "},false,{"$f":"SUMIF(Table1[[#This Row],[Total Wage Diff bonus]:[Bank Bonus]],\"<> \")","v":0},{"$f":"IF(AA76>0, Table1[[#This Row],[Column4]], IF(AB76>0,Table1[[#This Row],[Column4]],IF(X76>0,\"1000\")))","v":false}]
[null,null,null,null,null,null,null,null,null,null,null,null,null,null,null,null,0,null,null,null,null,null,null,null,{"$f":"IF(Table1[[#This Row],[Wage differential Bonus                            - NotePay Rate you are bonusing to]]>0, Table1[[#This Row],[Wage differential Bonus                            - NotePay Rate you are bonusing to]]-Table1[[#This Row],[Pay Rate]], \"\")","v":""},{"$f":"IF(Table1[[#This Row],[Wage differential Bonus                            - NotePay Rate you are bonusing to]]>0,Table1[[#This Row],[Bonus Rate]]*Table1[[#This Row],[Hours]],\"\")","v":""},null,null,null,null,null,{"$f":"IF(OR(AH77>0.001,AH77<-0.001),Table1[[#This Row],[Employee '#]],\" \")","v":" "},false,{"$f":"SUMIF(Table1[[#This Row],[Total Wage Diff bonus]:[Bank Bonus]],\"<> \")","v":0},{"$f":"IF(AA77>0, Table1[[#This Row],[Column4]], IF(AB77>0,Table1[[#This Row],[Column4]],IF(X77>0,\"1000\")))","v":false}]
[null,null,null,null,null,null,null,null,null,null,null,null,null,null,null,null,0,null,null,null,null,null,null,null,{"$f":"IF(Table1[[#This Row],[Wage differential Bonus                            - NotePay Rate you are bonusing to]]>0, Table1[[#This Row],[Wage differential Bonus                            - NotePay Rate you are bonusing to]]-Table1[[#This Row],[Pay Rate]], \"\")","v":""},{"$f":"IF(Table1[[#This Row],[Wage differential Bonus                            - NotePay Rate you are bonusing to]]>0,Table1[[#This Row],[Bonus Rate]]*Table1[[#This Row],[Hours]],\"\")","v":""},null,null,null,null,null,{"$f":"IF(OR(AH78>0.001,AH78<-0.001),Table1[[#This Row],[Employee '#]],\" \")","v":" "},false,{"$f":"SUMIF(Table1[[#This Row],[Total Wage Diff bonus]:[Bank Bonus]],\"<> \")","v":0},{"$f":"IF(AA78>0, Table1[[#This Row],[Column4]], IF(AB78>0,Table1[[#This Row],[Column4]],IF(X78>0,\"1000\")))","v":false}]
[null,null,null,null,null,null,null,null,null,null,null,null,null,null,null,null,0,null,null,null,null,null,null,null,{"$f":"IF(Table1[[#This Row],[Wage differential Bonus                            - NotePay Rate you are bonusing to]]>0, Table1[[#This Row],[Wage differential Bonus                            - NotePay Rate you are bonusing to]]-Table1[[#This Row],[Pay Rate]], \"\")","v":""},{"$f":"IF(Table1[[#This Row],[Wage differential Bonus                            - NotePay Rate you are bonusing to]]>0,Table1[[#This Row],[Bonus Rate]]*Table1[[#This Row],[Hours]],\"\")","v":""},null,null,null,null,null,{"$f":"IF(OR(AH79>0.001,AH79<-0.001),Table1[[#This Row],[Employee '#]],\" \")","v":" "},false,{"$f":"SUMIF(Table1[[#This Row],[Total Wage Diff bonus]:[Bank Bonus]],\"<> \")","v":0},{"$f":"IF(AA79>0, Table1[[#This Row],[Column4]], IF(AB79>0,Table1[[#This Row],[Column4]],IF(X79>0,\"1000\")))","v":false}]
[null,null,null,null,null,null,null,null,null,null,null,null,null,null,null,null,0,null,null,null,null,null,null,null,{"$f":"IF(Table1[[#This Row],[Wage differential Bonus                            - NotePay Rate you are bonusing to]]>0, Table1[[#This Row],[Wage differential Bonus                            - NotePay Rate you are bonusing to]]-Table1[[#This Row],[Pay Rate]], \"\")","v":""},{"$f":"IF(Table1[[#This Row],[Wage differential Bonus                            - NotePay Rate you are bonusing to]]>0,Table1[[#This Row],[Bonus Rate]]*Table1[[#This Row],[Hours]],\"\")","v":""},null,null,null,null,null,{"$f":"IF(OR(AH80>0.001,AH80<-0.001),Table1[[#This Row],[Employee '#]],\" \")","v":" "},false,{"$f":"SUMIF(Table1[[#This Row],[Total Wage Diff bonus]:[Bank Bonus]],\"<> \")","v":0},{"$f":"IF(AA80>0, Table1[[#This Row],[Column4]], IF(AB80>0,Table1[[#This Row],[Column4]],IF(X80>0,\"1000\")))","v":false}]
[null,null,null,null,null,null,null,null,null,null,null,null,null,null,null,null,0,null,null,null,null,null,null,null,{"$f":"IF(Table1[[#This Row],[Wage differential Bonus                            - NotePay Rate you are bonusing to]]>0, Table1[[#This Row],[Wage differential Bonus                            - NotePay Rate you are bonusing to]]-Table1[[#This Row],[Pay Rate]], \"\")","v":""},{"$f":"IF(Table1[[#This Row],[Wage differential Bonus                            - NotePay Rate you are bonusing to]]>0,Table1[[#This Row],[Bonus Rate]]*Table1[[#This Row],[Hours]],\"\")","v":""},null,null,null,null,null,{"$f":"IF(OR(AH81>0.001,AH81<-0.001),Table1[[#This Row],[Employee '#]],\" \")","v":" "},false,{"$f":"SUMIF(Table1[[#This Row],[Total Wage Diff bonus]:[Bank Bonus]],\"<> \")","v":0},{"$f":"IF(AA81>0, Table1[[#This Row],[Column4]], IF(AB81>0,Table1[[#This Row],[Column4]],IF(X81>0,\"1000\")))","v":false}]
[null,null,null,null,null,null,null,null,null,null,null,null,null,null,null,null,0,null,null,null,null,null,null,null,{"$f":"IF(Table1[[#This Row],[Wage differential Bonus                            - NotePay Rate you are bonusing to]]>0, Table1[[#This Row],[Wage differential Bonus                            - NotePay Rate you are bonusing to]]-Table1[[#This Row],[Pay Rate]], \"\")","v":""},{"$f":"IF(Table1[[#This Row],[Wage differential Bonus                            - NotePay Rate you are bonusing to]]>0,Table1[[#This Row],[Bonus Rate]]*Table1[[#This Row],[Hours]],\"\")","v":""},null,null,null,null,null,{"$f":"IF(OR(AH82>0.001,AH82<-0.001),Table1[[#This Row],[Employee '#]],\" \")","v":" "},false,{"$f":"SUMIF(Table1[[#This Row],[Total Wage Diff bonus]:[Bank Bonus]],\"<> \")","v":0},{"$f":"IF(AA82>0, Table1[[#This Row],[Column4]], IF(AB82>0,Table1[[#This Row],[Column4]],IF(X82>0,\"1000\")))","v":false}]
[null,null,null,null,null,null,null,null,null,null,null,null,null,null,null,null,0,null,null,null,null,null,null,null,{"$f":"IF(Table1[[#This Row],[Wage differential Bonus                            - NotePay Rate you are bonusing to]]>0, Table1[[#This Row],[Wage differential Bonus                            - NotePay Rate you are bonusing to]]-Table1[[#This Row],[Pay Rate]], \"\")","v":""},{"$f":"IF(Table1[[#This Row],[Wage differential Bonus                            - NotePay Rate you are bonusing to]]>0,Table1[[#This Row],[Bonus Rate]]*Table1[[#This Row],[Hours]],\"\")","v":""},null,null,null,null,null,{"$f":"IF(OR(AH83>0.001,AH83<-0.001),Table1[[#This Row],[Employee '#]],\" \")","v":" "},false,{"$f":"SUMIF(Table1[[#This Row],[Total Wage Diff bonus]:[Bank Bonus]],\"<> \")","v":0},{"$f":"IF(AA83>0, Table1[[#This Row],[Column4]], IF(AB83>0,Table1[[#This Row],[Column4]],IF(X83>0,\"1000\")))","v":false}]
[null,null,null,null,null,null,null,null,null,null,null,null,null,null,null,null,0,null,null,null,null,null,null,null,{"$f":"IF(Table1[[#This Row],[Wage differential Bonus                            - NotePay Rate you are bonusing to]]>0, Table1[[#This Row],[Wage differential Bonus                            - NotePay Rate you are bonusing to]]-Table1[[#This Row],[Pay Rate]], \"\")","v":""},{"$f":"IF(Table1[[#This Row],[Wage differential Bonus                            - NotePay Rate you are bonusing to]]>0,Table1[[#This Row],[Bonus Rate]]*Table1[[#This Row],[Hours]],\"\")","v":""},null,null,null,null,null,{"$f":"IF(OR(AH84>0.001,AH84<-0.001),Table1[[#This Row],[Employee '#]],\" \")","v":" "},false,{"$f":"SUMIF(Table1[[#This Row],[Total Wage Diff bonus]:[Bank Bonus]],\"<> \")","v":0},{"$f":"IF(AA84>0, Table1[[#This Row],[Column4]], IF(AB84>0,Table1[[#This Row],[Column4]],IF(X84>0,\"1000\")))","v":false}]
[null,null,null,null,null,null,null,null,null,null,null,null,null,null,null,null,0,null,null,null,null,null,null,null,{"$f":"IF(Table1[[#This Row],[Wage differential Bonus                            - NotePay Rate you are bonusing to]]>0, Table1[[#This Row],[Wage differential Bonus                            - NotePay Rate you are bonusing to]]-Table1[[#This Row],[Pay Rate]], \"\")","v":""},{"$f":"IF(Table1[[#This Row],[Wage differential Bonus                            - NotePay Rate you are bonusing to]]>0,Table1[[#This Row],[Bonus Rate]]*Table1[[#This Row],[Hours]],\"\")","v":""},null,null,null,null,null,{"$f":"IF(OR(AH85>0.001,AH85<-0.001),Table1[[#This Row],[Employee '#]],\" \")","v":" "},false,{"$f":"SUMIF(Table1[[#This Row],[Total Wage Diff bonus]:[Bank Bonus]],\"<> \")","v":0},{"$f":"IF(AA85>0, Table1[[#This Row],[Column4]], IF(AB85>0,Table1[[#This Row],[Column4]],IF(X85>0,\"1000\")))","v":false}]
[null,null,null,null,null,null,null,null,null,null,null,null,null,null,null,null,0,null,null,null,null,null,null,null,{"$f":"IF(Table1[[#This Row],[Wage differential Bonus                            - NotePay Rate you are bonusing to]]>0, Table1[[#This Row],[Wage differential Bonus                            - NotePay Rate you are bonusing to]]-Table1[[#This Row],[Pay Rate]], \"\")","v":""},{"$f":"IF(Table1[[#This Row],[Wage differential Bonus                            - NotePay Rate you are bonusing to]]>0,Table1[[#This Row],[Bonus Rate]]*Table1[[#This Row],[Hours]],\"\")","v":""},null,null,null,null,null,{"$f":"IF(OR(AH86>0.001,AH86<-0.001),Table1[[#This Row],[Employee '#]],\" \")","v":" "},false,{"$f":"SUMIF(Table1[[#This Row],[Total Wage Diff bonus]:[Bank Bonus]],\"<> \")","v":0},{"$f":"IF(AA86>0, Table1[[#This Row],[Column4]], IF(AB86>0,Table1[[#This Row],[Column4]],IF(X86>0,\"1000\")))","v":false}]
[null,null,null,null,null,null,null,null,null,null,null,null,null,null,null,null,0,null,null,null,null,null,null,null,{"$f":"IF(Table1[[#This Row],[Wage differential Bonus                            - NotePay Rate you are bonusing to]]>0, Table1[[#This Row],[Wage differential Bonus                            - NotePay Rate you are bonusing to]]-Table1[[#This Row],[Pay Rate]], \"\")","v":""},{"$f":"IF(Table1[[#This Row],[Wage differential Bonus                            - NotePay Rate you are bonusing to]]>0,Table1[[#This Row],[Bonus Rate]]*Table1[[#This Row],[Hours]],\"\")","v":""},null,null,null,null,null,{"$f":"IF(OR(AH87>0.001,AH87<-0.001),Table1[[#This Row],[Employee '#]],\" \")","v":" "},false,{"$f":"SUMIF(Table1[[#This Row],[Total Wage Diff bonus]:[Bank Bonus]],\"<> \")","v":0},{"$f":"IF(AA87>0, Table1[[#This Row],[Column4]], IF(AB87>0,Table1[[#This Row],[Column4]],IF(X87>0,\"1000\")))","v":false}]
[null,null,null,null,null,null,null,null,null,null,null,null,null,null,null,null,0,null,null,null,null,null,null,null,{"$f":"IF(Table1[[#This Row],[Wage differential Bonus                            - NotePay Rate you are bonusing to]]>0, Table1[[#This Row],[Wage differential Bonus                            - NotePay Rate you are bonusing to]]-Table1[[#This Row],[Pay Rate]], \"\")","v":""},{"$f":"IF(Table1[[#This Row],[Wage differential Bonus                            - NotePay Rate you are bonusing to]]>0,Table1[[#This Row],[Bonus Rate]]*Table1[[#This Row],[Hours]],\"\")","v":""},null,null,null,null,null,{"$f":"IF(OR(AH88>0.001,AH88<-0.001),Table1[[#This Row],[Employee '#]],\" \")","v":" "},false,{"$f":"SUMIF(Table1[[#This Row],[Total Wage Diff bonus]:[Bank Bonus]],\"<> \")","v":0},{"$f":"IF(AA88>0, Table1[[#This Row],[Column4]], IF(AB88>0,Table1[[#This Row],[Column4]],IF(X88>0,\"1000\")))","v":false}]
[null,null,null,null,null,null,null,null,null,null,null,null,null,null,null,null,0,null,null,null,null,null,null,null,{"$f":"IF(Table1[[#This Row],[Wage differential Bonus                            - NotePay Rate you are bonusing to]]>0, Table1[[#This Row],[Wage differential Bonus                            - NotePay Rate you are bonusing to]]-Table1[[#This Row],[Pay Rate]], \"\")","v":""},{"$f":"IF(Table1[[#This Row],[Wage differential Bonus                            - NotePay Rate you are bonusing to]]>0,Table1[[#This Row],[Bonus Rate]]*Table1[[#This Row],[Hours]],\"\")","v":""},null,null,null,null,null,{"$f":"IF(OR(AH89>0.001,AH89<-0.001),Table1[[#This Row],[Employee '#]],\" \")","v":" "},false,{"$f":"SUMIF(Table1[[#This Row],[Total Wage Diff bonus]:[Bank Bonus]],\"<> \")","v":0},{"$f":"IF(AA89>0, Table1[[#This Row],[Column4]], IF(AB89>0,Table1[[#This Row],[Column4]],IF(X89>0,\"1000\")))","v":false}]
[null,null,null,null,null,null,null,null,null,null,null,null,null,null,null,null,0,null,null,null,null,null,null,null,{"$f":"IF(Table1[[#This Row],[Wage differential Bonus                            - NotePay Rate you are bonusing to]]>0, Table1[[#This Row],[Wage differential Bonus                            - NotePay Rate you are bonusing to]]-Table1[[#This Row],[Pay Rate]], \"\")","v":""},{"$f":"IF(Table1[[#This Row],[Wage differential Bonus                            - NotePay Rate you are bonusing to]]>0,Table1[[#This Row],[Bonus Rate]]*Table1[[#This Row],[Hours]],\"\")","v":""},null,null,null,null,null,{"$f":"IF(OR(AH90>0.001,AH90<-0.001),Table1[[#This Row],[Employee '#]],\" \")","v":" "},false,{"$f":"SUMIF(Table1[[#This Row],[Total Wage Diff bonus]:[Bank Bonus]],\"<> \")","v":0},{"$f":"IF(AA90>0, Table1[[#This Row],[Column4]], IF(AB90>0,Table1[[#This Row],[Column4]],IF(X90>0,\"1000\")))","v":false}]
[null,null,null,null,null,null,null,null,null,null,null,null,null,null,null,null,0,null,null,null,null,null,null,null,{"$f":"IF(Table1[[#This Row],[Wage differential Bonus                            - NotePay Rate you are bonusing to]]>0, Table1[[#This Row],[Wage differential Bonus                            - NotePay Rate you are bonusing to]]-Table1[[#This Row],[Pay Rate]], \"\")","v":""},{"$f":"IF(Table1[[#This Row],[Wage differential Bonus                            - NotePay Rate you are bonusing to]]>0,Table1[[#This Row],[Bonus Rate]]*Table1[[#This Row],[Hours]],\"\")","v":""},null,null,null,null,null,{"$f":"IF(OR(AH91>0.001,AH91<-0.001),Table1[[#This Row],[Employee '#]],\" \")","v":" "},false,{"$f":"SUMIF(Table1[[#This Row],[Total Wage Diff bonus]:[Bank Bonus]],\"<> \")","v":0},{"$f":"IF(AA91>0, Table1[[#This Row],[Column4]], IF(AB91>0,Table1[[#This Row],[Column4]],IF(X91>0,\"1000\")))","v":false}]
[null,null,null,null,null,null,null,null,null,null,null,null,null,null,null,null,0,null,null,null,null,null,null,null,{"$f":"IF(Table1[[#This Row],[Wage differential Bonus                            - NotePay Rate you are bonusing to]]>0, Table1[[#This Row],[Wage differential Bonus                            - NotePay Rate you are bonusing to]]-Table1[[#This Row],[Pay Rate]], \"\")","v":""},{"$f":"IF(Table1[[#This Row],[Wage differential Bonus                            - NotePay Rate you are bonusing to]]>0,Table1[[#This Row],[Bonus Rate]]*Table1[[#This Row],[Hours]],\"\")","v":""},null,null,null,null,null,{"$f":"IF(OR(AH92>0.001,AH92<-0.001),Table1[[#This Row],[Employee '#]],\" \")","v":" "},false,{"$f":"SUMIF(Table1[[#This Row],[Total Wage Diff bonus]:[Bank Bonus]],\"<> \")","v":0},{"$f":"IF(AA92>0, Table1[[#This Row],[Column4]], IF(AB92>0,Table1[[#This Row],[Column4]],IF(X92>0,\"1000\")))","v":false}]
[null,null,null,null,null,null,null,null,null,null,null,null,null,null,null,null,0,null,null,null,null,null,null,null,{"$f":"IF(Table1[[#This Row],[Wage differential Bonus                            - NotePay Rate you are bonusing to]]>0, Table1[[#This Row],[Wage differential Bonus                            - NotePay Rate you are bonusing to]]-Table1[[#This Row],[Pay Rate]], \"\")","v":""},{"$f":"IF(Table1[[#This Row],[Wage differential Bonus                            - NotePay Rate you are bonusing to]]>0,Table1[[#This Row],[Bonus Rate]]*Table1[[#This Row],[Hours]],\"\")","v":""},null,null,null,null,null,{"$f":"IF(OR(AH93>0.001,AH93<-0.001),Table1[[#This Row],[Employee '#]],\" \")","v":" "},false,{"$f":"SUMIF(Table1[[#This Row],[Total Wage Diff bonus]:[Bank Bonus]],\"<> \")","v":0},{"$f":"IF(AA93>0, Table1[[#This Row],[Column4]], IF(AB93>0,Table1[[#This Row],[Column4]],IF(X93>0,\"1000\")))","v":false}]
[null,null,null,null,null,null,null,null,null,null,null,null,null,null,null,null,0,null,null,null,null,null,null,null,{"$f":"IF(Table1[[#This Row],[Wage differential Bonus                            - NotePay Rate you are bonusing to]]>0, Table1[[#This Row],[Wage differential Bonus                            - NotePay Rate you are bonusing to]]-Table1[[#This Row],[Pay Rate]], \"\")","v":""},{"$f":"IF(Table1[[#This Row],[Wage differential Bonus                            - NotePay Rate you are bonusing to]]>0,Table1[[#This Row],[Bonus Rate]]*Table1[[#This Row],[Hours]],\"\")","v":""},null,null,null,null,null,{"$f":"IF(OR(AH94>0.001,AH94<-0.001),Table1[[#This Row],[Employee '#]],\" \")","v":" "},false,{"$f":"SUMIF(Table1[[#This Row],[Total Wage Diff bonus]:[Bank Bonus]],\"<> \")","v":0},{"$f":"IF(AA94>0, Table1[[#This Row],[Column4]], IF(AB94>0,Table1[[#This Row],[Column4]],IF(X94>0,\"1000\")))","v":false}]
[null,null,null,null,null,null,null,null,null,null,null,null,null,null,null,null,0,null,null,null,null,null,null,null,{"$f":"IF(Table1[[#This Row],[Wage differential Bonus                            - NotePay Rate you are bonusing to]]>0, Table1[[#This Row],[Wage differential Bonus                            - NotePay Rate you are bonusing to]]-Table1[[#This Row],[Pay Rate]], \"\")","v":""},{"$f":"IF(Table1[[#This Row],[Wage differential Bonus                            - NotePay Rate you are bonusing to]]>0,Table1[[#This Row],[Bonus Rate]]*Table1[[#This Row],[Hours]],\"\")","v":""},null,null,null,null,null,{"$f":"IF(OR(AH95>0.001,AH95<-0.001),Table1[[#This Row],[Employee '#]],\" \")","v":" "},false,{"$f":"SUMIF(Table1[[#This Row],[Total Wage Diff bonus]:[Bank Bonus]],\"<> \")","v":0},{"$f":"IF(AA95>0, Table1[[#This Row],[Column4]], IF(AB95>0,Table1[[#This Row],[Column4]],IF(X95>0,\"1000\")))","v":false}]
[null,null,null,null,null,null,null,null,null,null,null,null,null,null,null,null,0,null,null,null,null,null,null,null,{"$f":"IF(Table1[[#This Row],[Wage differential Bonus                            - NotePay Rate you are bonusing to]]>0, Table1[[#This Row],[Wage differential Bonus                            - NotePay Rate you are bonusing to]]-Table1[[#This Row],[Pay Rate]], \"\")","v":""},{"$f":"IF(Table1[[#This Row],[Wage differential Bonus                            - NotePay Rate you are bonusing to]]>0,Table1[[#This Row],[Bonus Rate]]*Table1[[#This Row],[Hours]],\"\")","v":""},null,null,null,null,null,{"$f":"IF(OR(AH96>0.001,AH96<-0.001),Table1[[#This Row],[Employee '#]],\" \")","v":" "},false,{"$f":"SUMIF(Table1[[#This Row],[Total Wage Diff bonus]:[Bank Bonus]],\"<> \")","v":0},{"$f":"IF(AA96>0, Table1[[#This Row],[Column4]], IF(AB96>0,Table1[[#This Row],[Column4]],IF(X96>0,\"1000\")))","v":false}]
[null,null,null,null,null,null,null,null,null,null,null,null,null,null,null,null,0,null,null,null,null,null,null,null,{"$f":"IF(Table1[[#This Row],[Wage differential Bonus                            - NotePay Rate you are bonusing to]]>0, Table1[[#This Row],[Wage differential Bonus                            - NotePay Rate you are bonusing to]]-Table1[[#This Row],[Pay Rate]], \"\")","v":""},{"$f":"IF(Table1[[#This Row],[Wage differential Bonus                            - NotePay Rate you are bonusing to]]>0,Table1[[#This Row],[Bonus Rate]]*Table1[[#This Row],[Hours]],\"\")","v":""},null,null,null,null,null,{"$f":"IF(OR(AH97>0.001,AH97<-0.001),Table1[[#This Row],[Employee '#]],\" \")","v":" "},false,{"$f":"SUMIF(Table1[[#This Row],[Total Wage Diff bonus]:[Bank Bonus]],\"<> \")","v":0},{"$f":"IF(AA97>0, Table1[[#This Row],[Column4]], IF(AB97>0,Table1[[#This Row],[Column4]],IF(X97>0,\"1000\")))","v":false}]
[null,null,null,null,null,null,null,null,null,null,null,null,null,null,null,null,0,null,null,null,null,null,null,null,{"$f":"IF(Table1[[#This Row],[Wage differential Bonus                            - NotePay Rate you are bonusing to]]>0, Table1[[#This Row],[Wage differential Bonus                            - NotePay Rate you are bonusing to]]-Table1[[#This Row],[Pay Rate]], \"\")","v":""},{"$f":"IF(Table1[[#This Row],[Wage differential Bonus                            - NotePay Rate you are bonusing to]]>0,Table1[[#This Row],[Bonus Rate]]*Table1[[#This Row],[Hours]],\"\")","v":""},null,null,null,null,null,{"$f":"IF(OR(AH98>0.001,AH98<-0.001),Table1[[#This Row],[Employee '#]],\" \")","v":" "},false,{"$f":"SUMIF(Table1[[#This Row],[Total Wage Diff bonus]:[Bank Bonus]],\"<> \")","v":0},{"$f":"IF(AA98>0, Table1[[#This Row],[Column4]], IF(AB98>0,Table1[[#This Row],[Column4]],IF(X98>0,\"1000\")))","v":false}]
[null,null,null,null,null,null,null,null,null,null,null,null,null,null,null,null,0,null,null,null,null,null,null,null,{"$f":"IF(Table1[[#This Row],[Wage differential Bonus                            - NotePay Rate you are bonusing to]]>0, Table1[[#This Row],[Wage differential Bonus                            - NotePay Rate you are bonusing to]]-Table1[[#This Row],[Pay Rate]], \"\")","v":""},{"$f":"IF(Table1[[#This Row],[Wage differential Bonus                            - NotePay Rate you are bonusing to]]>0,Table1[[#This Row],[Bonus Rate]]*Table1[[#This Row],[Hours]],\"\")","v":""},null,null,null,null,null,{"$f":"IF(OR(AH99>0.001,AH99<-0.001),Table1[[#This Row],[Employee '#]],\" \")","v":" "},false,{"$f":"SUMIF(Table1[[#This Row],[Total Wage Diff bonus]:[Bank Bonus]],\"<> \")","v":0},{"$f":"IF(AA99>0, Table1[[#This Row],[Column4]], IF(AB99>0,Table1[[#This Row],[Column4]],IF(X99>0,\"1000\")))","v":false}]
[null,null,null,null,null,null,null,null,null,null,null,null,null,null,null,null,0,null,null,null,null,null,null,null,{"$f":"IF(Table1[[#This Row],[Wage differential Bonus                            - NotePay Rate you are bonusing to]]>0, Table1[[#This Row],[Wage differential Bonus                            - NotePay Rate you are bonusing to]]-Table1[[#This Row],[Pay Rate]], \"\")","v":""},{"$f":"IF(Table1[[#This Row],[Wage differential Bonus                            - NotePay Rate you are bonusing to]]>0,Table1[[#This Row],[Bonus Rate]]*Table1[[#This Row],[Hours]],\"\")","v":""},null,null,null,null,null,{"$f":"IF(OR(AH100>0.001,AH100<-0.001),Table1[[#This Row],[Employee '#]],\" \")","v":" "},false,{"$f":"SUMIF(Table1[[#This Row],[Total Wage Diff bonus]:[Bank Bonus]],\"<> \")","v":0},{"$f":"IF(AA100>0, Table1[[#This Row],[Column4]], IF(AB100>0,Table1[[#This Row],[Column4]],IF(X100>0,\"1000\")))","v":false}]
[null,null,null,null,null,null,null,null,null,null,null,null,null,null,null,null,0,null,null,null,null,null,null,null,{"$f":"IF(Table1[[#This Row],[Wage differential Bonus                            - NotePay Rate you are bonusing to]]>0, Table1[[#This Row],[Wage differential Bonus                            - NotePay Rate you are bonusing to]]-Table1[[#This Row],[Pay Rate]], \"\")","v":""},{"$f":"IF(Table1[[#This Row],[Wage differential Bonus                            - NotePay Rate you are bonusing to]]>0,Table1[[#This Row],[Bonus Rate]]*Table1[[#This Row],[Hours]],\"\")","v":""},null,null,null,null,null,{"$f":"IF(OR(AH101>0.001,AH101<-0.001),Table1[[#This Row],[Employee '#]],\" \")","v":" "},false,{"$f":"SUMIF(Table1[[#This Row],[Total Wage Diff bonus]:[Bank Bonus]],\"<> \")","v":0},{"$f":"IF(AA101>0, Table1[[#This Row],[Column4]], IF(AB101>0,Table1[[#This Row],[Column4]],IF(X101>0,\"1000\")))","v":false}]
[null,null,null,null,null,null,null,null,null,null,null,null,null,null,null,null,0,null,null,null,null,null,null,null,{"$f":"IF(Table1[[#This Row],[Wage differential Bonus                            - NotePay Rate you are bonusing to]]>0, Table1[[#This Row],[Wage differential Bonus                            - NotePay Rate you are bonusing to]]-Table1[[#This Row],[Pay Rate]], \"\")","v":""},{"$f":"IF(Table1[[#This Row],[Wage differential Bonus                            - NotePay Rate you are bonusing to]]>0,Table1[[#This Row],[Bonus Rate]]*Table1[[#This Row],[Hours]],\"\")","v":""},null,null,null,null,null,{"$f":"IF(OR(AH102>0.001,AH102<-0.001),Table1[[#This Row],[Employee '#]],\" \")","v":" "},false,{"$f":"SUMIF(Table1[[#This Row],[Total Wage Diff bonus]:[Bank Bonus]],\"<> \")","v":0},{"$f":"IF(AA102>0, Table1[[#This Row],[Column4]], IF(AB102>0,Table1[[#This Row],[Column4]],IF(X102>0,\"1000\")))","v":false}]
[null,null,null,null,null,null,null,null,null,null,null,null,null,null,null,null,0,null,null,null,null,null,null,null,{"$f":"IF(Table1[[#This Row],[Wage differential Bonus                            - NotePay Rate you are bonusing to]]>0, Table1[[#This Row],[Wage differential Bonus                            - NotePay Rate you are bonusing to]]-Table1[[#This Row],[Pay Rate]], \"\")","v":""},{"$f":"IF(Table1[[#This Row],[Wage differential Bonus                            - NotePay Rate you are bonusing to]]>0,Table1[[#This Row],[Bonus Rate]]*Table1[[#This Row],[Hours]],\"\")","v":""},null,null,null,null,null,{"$f":"IF(OR(AH103>0.001,AH103<-0.001),Table1[[#This Row],[Employee '#]],\" \")","v":" "},false,{"$f":"SUMIF(Table1[[#This Row],[Total Wage Diff bonus]:[Bank Bonus]],\"<> \")","v":0},{"$f":"IF(AA103>0, Table1[[#This Row],[Column4]], IF(AB103>0,Table1[[#This Row],[Column4]],IF(X103>0,\"1000\")))","v":false}]
[null,null,null,null,null,null,null,null,null,null,null,null,null,null,null,null,0,null,null,null,null,null,null,null,{"$f":"IF(Table1[[#This Row],[Wage differential Bonus                            - NotePay Rate you are bonusing to]]>0, Table1[[#This Row],[Wage differential Bonus                            - NotePay Rate you are bonusing to]]-Table1[[#This Row],[Pay Rate]], \"\")","v":""},{"$f":"IF(Table1[[#This Row],[Wage differential Bonus                            - NotePay Rate you are bonusing to]]>0,Table1[[#This Row],[Bonus Rate]]*Table1[[#This Row],[Hours]],\"\")","v":""},null,null,null,null,null,{"$f":"IF(OR(AH104>0.001,AH104<-0.001),Table1[[#This Row],[Employee '#]],\" \")","v":" "},false,{"$f":"SUMIF(Table1[[#This Row],[Total Wage Diff bonus]:[Bank Bonus]],\"<> \")","v":0},{"$f":"IF(AA104>0, Table1[[#This Row],[Column4]], IF(AB104>0,Table1[[#This Row],[Column4]],IF(X104>0,\"1000\")))","v":false}]
[null,null,null,null,null,null,null,null,null,null,null,null,null,null,null,null,0,null,null,null,null,null,null,null,{"$f":"IF(Table1[[#This Row],[Wage differential Bonus                            - NotePay Rate you are bonusing to]]>0, Table1[[#This Row],[Wage differential Bonus                            - NotePay Rate you are bonusing to]]-Table1[[#This Row],[Pay Rate]], \"\")","v":""},{"$f":"IF(Table1[[#This Row],[Wage differential Bonus                            - NotePay Rate you are bonusing to]]>0,Table1[[#This Row],[Bonus Rate]]*Table1[[#This Row],[Hours]],\"\")","v":""},null,null,null,null,null,{"$f":"IF(OR(AH105>0.001,AH105<-0.001),Table1[[#This Row],[Employee '#]],\" \")","v":" "},false,{"$f":"SUMIF(Table1[[#This Row],[Total Wage Diff bonus]:[Bank Bonus]],\"<> \")","v":0},{"$f":"IF(AA105>0, Table1[[#This Row],[Column4]], IF(AB105>0,Table1[[#This Row],[Column4]],IF(X105>0,\"1000\")))","v":false}]
[null,null,null,null,null,null,null,null,null,null,null,null,null,null,null,null,0,null,null,null,null,null,null,null,{"$f":"IF(Table1[[#This Row],[Wage differential Bonus                            - NotePay Rate you are bonusing to]]>0, Table1[[#This Row],[Wage differential Bonus                            - NotePay Rate you are bonusing to]]-Table1[[#This Row],[Pay Rate]], \"\")","v":""},{"$f":"IF(Table1[[#This Row],[Wage differential Bonus                            - NotePay Rate you are bonusing to]]>0,Table1[[#This Row],[Bonus Rate]]*Table1[[#This Row],[Hours]],\"\")","v":""},null,null,null,null,null,{"$f":"IF(OR(AH106>0.001,AH106<-0.001),Table1[[#This Row],[Employee '#]],\" \")","v":" "},false,{"$f":"SUMIF(Table1[[#This Row],[Total Wage Diff bonus]:[Bank Bonus]],\"<> \")","v":0},{"$f":"IF(AA106>0, Table1[[#This Row],[Column4]], IF(AB106>0,Table1[[#This Row],[Column4]],IF(X106>0,\"1000\")))","v":false}]
[null,null,null,null,null,null,null,null,null,null,null,null,null,null,null,null,0,null,null,null,null,null,null,null,{"$f":"IF(Table1[[#This Row],[Wage differential Bonus                            - NotePay Rate you are bonusing to]]>0, Table1[[#This Row],[Wage differential Bonus                            - NotePay Rate you are bonusing to]]-Table1[[#This Row],[Pay Rate]], \"\")","v":""},{"$f":"IF(Table1[[#This Row],[Wage differential Bonus                            - NotePay Rate you are bonusing to]]>0,Table1[[#This Row],[Bonus Rate]]*Table1[[#This Row],[Hours]],\"\")","v":""},null,null,null,null,null,{"$f":"IF(OR(AH107>0.001,AH107<-0.001),Table1[[#This Row],[Employee '#]],\" \")","v":" "},false,{"$f":"SUMIF(Table1[[#This Row],[Total Wage Diff bonus]:[Bank Bonus]],\"<> \")","v":0},{"$f":"IF(AA107>0, Table1[[#This Row],[Column4]], IF(AB107>0,Table1[[#This Row],[Column4]],IF(X107>0,\"1000\")))","v":false}]
[null,null,null,null,null,null,null,null,null,null,null,null,null,null,null,null,0,null,null,null,null,null,null,null,{"$f":"IF(Table1[[#This Row],[Wage differential Bonus                            - NotePay Rate you are bonusing to]]>0, Table1[[#This Row],[Wage differential Bonus                            - NotePay Rate you are bonusing to]]-Table1[[#This Row],[Pay Rate]], \"\")","v":""},{"$f":"IF(Table1[[#This Row],[Wage differential Bonus                            - NotePay Rate you are bonusing to]]>0,Table1[[#This Row],[Bonus Rate]]*Table1[[#This Row],[Hours]],\"\")","v":""},null,null,null,null,null,{"$f":"IF(OR(AH108>0.001,AH108<-0.001),Table1[[#This Row],[Employee '#]],\" \")","v":" "},false,{"$f":"SUMIF(Table1[[#This Row],[Total Wage Diff bonus]:[Bank Bonus]],\"<> \")","v":0},{"$f":"IF(AA108>0, Table1[[#This Row],[Column4]], IF(AB108>0,Table1[[#This Row],[Column4]],IF(X108>0,\"1000\")))","v":false}]
[null,null,null,null,null,null,null,null,null,null,null,null,null,null,null,null,0,null,null,null,null,null,null,null,{"$f":"IF(Table1[[#This Row],[Wage differential Bonus                            - NotePay Rate you are bonusing to]]>0, Table1[[#This Row],[Wage differential Bonus                            - NotePay Rate you are bonusing to]]-Table1[[#This Row],[Pay Rate]], \"\")","v":""},{"$f":"IF(Table1[[#This Row],[Wage differential Bonus                            - NotePay Rate you are bonusing to]]>0,Table1[[#This Row],[Bonus Rate]]*Table1[[#This Row],[Hours]],\"\")","v":""},null,null,null,null,null,{"$f":"IF(OR(AH109>0.001,AH109<-0.001),Table1[[#This Row],[Employee '#]],\" \")","v":" "},false,{"$f":"SUMIF(Table1[[#This Row],[Total Wage Diff bonus]:[Bank Bonus]],\"<> \")","v":0},{"$f":"IF(AA109>0, Table1[[#This Row],[Column4]], IF(AB109>0,Table1[[#This Row],[Column4]],IF(X109>0,\"1000\")))","v":false}]
[null,null,null,null,null,null,null,null,null,null,null,null,null,null,null,null,0,null,null,null,null,null,null,null,{"$f":"IF(Table1[[#This Row],[Wage differential Bonus                            - NotePay Rate you are bonusing to]]>0, Table1[[#This Row],[Wage differential Bonus                            - NotePay Rate you are bonusing to]]-Table1[[#This Row],[Pay Rate]], \"\")","v":""},{"$f":"IF(Table1[[#This Row],[Wage differential Bonus                            - NotePay Rate you are bonusing to]]>0,Table1[[#This Row],[Bonus Rate]]*Table1[[#This Row],[Hours]],\"\")","v":""},null,null,null,null,null,{"$f":"IF(OR(AH110>0.001,AH110<-0.001),Table1[[#This Row],[Employee '#]],\" \")","v":" "},false,{"$f":"SUMIF(Table1[[#This Row],[Total Wage Diff bonus]:[Bank Bonus]],\"<> \")","v":0},{"$f":"IF(AA110>0, Table1[[#This Row],[Column4]], IF(AB110>0,Table1[[#This Row],[Column4]],IF(X110>0,\"1000\")))","v":false}]
[null,null,null,null,null,null,null,null,null,null,null,null,null,null,null,null,0,null,null,null,null,null,null,null,{"$f":"IF(Table1[[#This Row],[Wage differential Bonus                            - NotePay Rate you are bonusing to]]>0, Table1[[#This Row],[Wage differential Bonus                            - NotePay Rate you are bonusing to]]-Table1[[#This Row],[Pay Rate]], \"\")","v":""},{"$f":"IF(Table1[[#This Row],[Wage differential Bonus                            - NotePay Rate you are bonusing to]]>0,Table1[[#This Row],[Bonus Rate]]*Table1[[#This Row],[Hours]],\"\")","v":""},null,null,null,null,null,{"$f":"IF(OR(AH111>0.001,AH111<-0.001),Table1[[#This Row],[Employee '#]],\" \")","v":" "},false,{"$f":"SUMIF(Table1[[#This Row],[Total Wage Diff bonus]:[Bank Bonus]],\"<> \")","v":0},{"$f":"IF(AA111>0, Table1[[#This Row],[Column4]], IF(AB111>0,Table1[[#This Row],[Column4]],IF(X111>0,\"1000\")))","v":false}]
[null,null,null,null,null,null,null,null,null,null,null,null,null,null,null,null,0,null,null,null,null,null,null,null,{"$f":"IF(Table1[[#This Row],[Wage differential Bonus                            - NotePay Rate you are bonusing to]]>0, Table1[[#This Row],[Wage differential Bonus                            - NotePay Rate you are bonusing to]]-Table1[[#This Row],[Pay Rate]], \"\")","v":""},{"$f":"IF(Table1[[#This Row],[Wage differential Bonus                            - NotePay Rate you are bonusing to]]>0,Table1[[#This Row],[Bonus Rate]]*Table1[[#This Row],[Hours]],\"\")","v":""},null,null,null,null,null,{"$f":"IF(OR(AH112>0.001,AH112<-0.001),Table1[[#This Row],[Employee '#]],\" \")","v":" "},false,{"$f":"SUMIF(Table1[[#This Row],[Total Wage Diff bonus]:[Bank Bonus]],\"<> \")","v":0},{"$f":"IF(AA112>0, Table1[[#This Row],[Column4]], IF(AB112>0,Table1[[#This Row],[Column4]],IF(X112>0,\"1000\")))","v":false}]
[null,null,null,null,null,null,null,null,null,null,null,null,null,null,null,null,0,null,null,null,null,null,null,null,{"$f":"IF(Table1[[#This Row],[Wage differential Bonus                            - NotePay Rate you are bonusing to]]>0, Table1[[#This Row],[Wage differential Bonus                            - NotePay Rate you are bonusing to]]-Table1[[#This Row],[Pay Rate]], \"\")","v":""},{"$f":"IF(Table1[[#This Row],[Wage differential Bonus                            - NotePay Rate you are bonusing to]]>0,Table1[[#This Row],[Bonus Rate]]*Table1[[#This Row],[Hours]],\"\")","v":""},null,null,null,null,null,{"$f":"IF(OR(AH113>0.001,AH113<-0.001),Table1[[#This Row],[Employee '#]],\" \")","v":" "},false,{"$f":"SUMIF(Table1[[#This Row],[Total Wage Diff bonus]:[Bank Bonus]],\"<> \")","v":0},{"$f":"IF(AA113>0, Table1[[#This Row],[Column4]], IF(AB113>0,Table1[[#This Row],[Column4]],IF(X113>0,\"1000\")))","v":false}]
[null,null,null,null,null,null,null,null,null,null,null,null,null,null,null,null,0,null,null,null,null,null,null,null,{"$f":"IF(Table1[[#This Row],[Wage differential Bonus                            - NotePay Rate you are bonusing to]]>0, Table1[[#This Row],[Wage differential Bonus                            - NotePay Rate you are bonusing to]]-Table1[[#This Row],[Pay Rate]], \"\")","v":""},{"$f":"IF(Table1[[#This Row],[Wage differential Bonus                            - NotePay Rate you are bonusing to]]>0,Table1[[#This Row],[Bonus Rate]]*Table1[[#This Row],[Hours]],\"\")","v":""},null,null,null,null,null,{"$f":"IF(OR(AH114>0.001,AH114<-0.001),Table1[[#This Row],[Employee '#]],\" \")","v":" "},false,{"$f":"SUMIF(Table1[[#This Row],[Total Wage Diff bonus]:[Bank Bonus]],\"<> \")","v":0},{"$f":"IF(AA114>0, Table1[[#This Row],[Column4]], IF(AB114>0,Table1[[#This Row],[Column4]],IF(X114>0,\"1000\")))","v":false}]
[null,null,null,null,null,null,null,null,null,null,null,null,null,null,null,null,0,null,null,null,null,null,null,null,{"$f":"IF(Table1[[#This Row],[Wage differential Bonus                            - NotePay Rate you are bonusing to]]>0, Table1[[#This Row],[Wage differential Bonus                            - NotePay Rate you are bonusing to]]-Table1[[#This Row],[Pay Rate]], \"\")","v":""},{"$f":"IF(Table1[[#This Row],[Wage differential Bonus                            - NotePay Rate you are bonusing to]]>0,Table1[[#This Row],[Bonus Rate]]*Table1[[#This Row],[Hours]],\"\")","v":""},null,null,null,null,null,{"$f":"IF(OR(AH115>0.001,AH115<-0.001),Table1[[#This Row],[Employee '#]],\" \")","v":" "},false,{"$f":"SUMIF(Table1[[#This Row],[Total Wage Diff bonus]:[Bank Bonus]],\"<> \")","v":0},{"$f":"IF(AA115>0, Table1[[#This Row],[Column4]], IF(AB115>0,Table1[[#This Row],[Column4]],IF(X115>0,\"1000\")))","v":false}]
[null,null,null,null,null,null,null,null,null,null,null,null,null,null,null,null,0,null,null,null,null,null,null,null,{"$f":"IF(Table1[[#This Row],[Wage differential Bonus                            - NotePay Rate you are bonusing to]]>0, Table1[[#This Row],[Wage differential Bonus                            - NotePay Rate you are bonusing to]]-Table1[[#This Row],[Pay Rate]], \"\")","v":""},{"$f":"IF(Table1[[#This Row],[Wage differential Bonus                            - NotePay Rate you are bonusing to]]>0,Table1[[#This Row],[Bonus Rate]]*Table1[[#This Row],[Hours]],\"\")","v":""},null,null,null,null,null,{"$f":"IF(OR(AH116>0.001,AH116<-0.001),Table1[[#This Row],[Employee '#]],\" \")","v":" "},false,{"$f":"SUMIF(Table1[[#This Row],[Total Wage Diff bonus]:[Bank Bonus]],\"<> \")","v":0},{"$f":"IF(AA116>0, Table1[[#This Row],[Column4]], IF(AB116>0,Table1[[#This Row],[Column4]],IF(X116>0,\"1000\")))","v":false}]
[null,null,null,null,null,null,null,null,null,null,null,null,null,null,null,null,0,null,null,null,null,null,null,null,{"$f":"IF(Table1[[#This Row],[Wage differential Bonus                            - NotePay Rate you are bonusing to]]>0, Table1[[#This Row],[Wage differential Bonus                            - NotePay Rate you are bonusing to]]-Table1[[#This Row],[Pay Rate]], \"\")","v":""},{"$f":"IF(Table1[[#This Row],[Wage differential Bonus                            - NotePay Rate you are bonusing to]]>0,Table1[[#This Row],[Bonus Rate]]*Table1[[#This Row],[Hours]],\"\")","v":""},null,null,null,null,null,{"$f":"IF(OR(AH117>0.001,AH117<-0.001),Table1[[#This Row],[Employee '#]],\" \")","v":" "},false,{"$f":"SUMIF(Table1[[#This Row],[Total Wage Diff bonus]:[Bank Bonus]],\"<> \")","v":0},{"$f":"IF(AA117>0, Table1[[#This Row],[Column4]], IF(AB117>0,Table1[[#This Row],[Column4]],IF(X117>0,\"1000\")))","v":false}]
[null,null,null,null,null,null,null,null,null,null,null,null,null,null,null,null,0,null,null,null,null,null,null,null,{"$f":"IF(Table1[[#This Row],[Wage differential Bonus                            - NotePay Rate you are bonusing to]]>0, Table1[[#This Row],[Wage differential Bonus                            - NotePay Rate you are bonusing to]]-Table1[[#This Row],[Pay Rate]], \"\")","v":""},{"$f":"IF(Table1[[#This Row],[Wage differential Bonus                            - NotePay Rate you are bonusing to]]>0,Table1[[#This Row],[Bonus Rate]]*Table1[[#This Row],[Hours]],\"\")","v":""},null,null,null,null,null,{"$f":"IF(OR(AH118>0.001,AH118<-0.001),Table1[[#This Row],[Employee '#]],\" \")","v":" "},false,{"$f":"SUMIF(Table1[[#This Row],[Total Wage Diff bonus]:[Bank Bonus]],\"<> \")","v":0},{"$f":"IF(AA118>0, Table1[[#This Row],[Column4]], IF(AB118>0,Table1[[#This Row],[Column4]],IF(X118>0,\"1000\")))","v":false}]
[null,null,null,null,null,null,null,null,null,null,null,null,null,null,null,null,0,null,null,null,null,null,null,null,{"$f":"IF(Table1[[#This Row],[Wage differential Bonus                            - NotePay Rate you are bonusing to]]>0, Table1[[#This Row],[Wage differential Bonus                            - NotePay Rate you are bonusing to]]-Table1[[#This Row],[Pay Rate]], \"\")","v":""},{"$f":"IF(Table1[[#This Row],[Wage differential Bonus                            - NotePay Rate you are bonusing to]]>0,Table1[[#This Row],[Bonus Rate]]*Table1[[#This Row],[Hours]],\"\")","v":""},null,null,null,null,null,{"$f":"IF(OR(AH119>0.001,AH119<-0.001),Table1[[#This Row],[Employee '#]],\" \")","v":" "},false,{"$f":"SUMIF(Table1[[#This Row],[Total Wage Diff bonus]:[Bank Bonus]],\"<> \")","v":0},{"$f":"IF(AA119>0, Table1[[#This Row],[Column4]], IF(AB119>0,Table1[[#This Row],[Column4]],IF(X119>0,\"1000\")))","v":false}]
[null,null,null,null,null,null,null,null,null,null,null,null,null,null,null,null,0,null,null,null,null,null,null,null,{"$f":"IF(Table1[[#This Row],[Wage differential Bonus                            - NotePay Rate you are bonusing to]]>0, Table1[[#This Row],[Wage differential Bonus                            - NotePay Rate you are bonusing to]]-Table1[[#This Row],[Pay Rate]], \"\")","v":""},{"$f":"IF(Table1[[#This Row],[Wage differential Bonus                            - NotePay Rate you are bonusing to]]>0,Table1[[#This Row],[Bonus Rate]]*Table1[[#This Row],[Hours]],\"\")","v":""},null,null,null,null,null,{"$f":"IF(OR(AH120>0.001,AH120<-0.001),Table1[[#This Row],[Employee '#]],\" \")","v":" "},false,{"$f":"SUMIF(Table1[[#This Row],[Total Wage Diff bonus]:[Bank Bonus]],\"<> \")","v":0},{"$f":"IF(AA120>0, Table1[[#This Row],[Column4]], IF(AB120>0,Table1[[#This Row],[Column4]],IF(X120>0,\"1000\")))","v":false}]
[null,null,null,null,null,null,null,null,null,null,null,null,null,null,null,null,0,null,null,null,null,null,null,null,{"$f":"IF(Table1[[#This Row],[Wage differential Bonus                            - NotePay Rate you are bonusing to]]>0, Table1[[#This Row],[Wage differential Bonus                            - NotePay Rate you are bonusing to]]-Table1[[#This Row],[Pay Rate]], \"\")","v":""},{"$f":"IF(Table1[[#This Row],[Wage differential Bonus                            - NotePay Rate you are bonusing to]]>0,Table1[[#This Row],[Bonus Rate]]*Table1[[#This Row],[Hours]],\"\")","v":""},null,null,null,null,null,{"$f":"IF(OR(AH121>0.001,AH121<-0.001),Table1[[#This Row],[Employee '#]],\" \")","v":" "},false,{"$f":"SUMIF(Table1[[#This Row],[Total Wage Diff bonus]:[Bank Bonus]],\"<> \")","v":0},{"$f":"IF(AA121>0, Table1[[#This Row],[Column4]], IF(AB121>0,Table1[[#This Row],[Column4]],IF(X121>0,\"1000\")))","v":false}]
[null,null,null,null,null,null,null,null,null,null,null,null,null,null,null,null,0,null,null,null,null,null,null,null,{"$f":"IF(Table1[[#This Row],[Wage differential Bonus                            - NotePay Rate you are bonusing to]]>0, Table1[[#This Row],[Wage differential Bonus                            - NotePay Rate you are bonusing to]]-Table1[[#This Row],[Pay Rate]], \"\")","v":""},{"$f":"IF(Table1[[#This Row],[Wage differential Bonus                            - NotePay Rate you are bonusing to]]>0,Table1[[#This Row],[Bonus Rate]]*Table1[[#This Row],[Hours]],\"\")","v":""},null,null,null,null,null,{"$f":"IF(OR(AH122>0.001,AH122<-0.001),Table1[[#This Row],[Employee '#]],\" \")","v":" "},false,{"$f":"SUMIF(Table1[[#This Row],[Total Wage Diff bonus]:[Bank Bonus]],\"<> \")","v":0},{"$f":"IF(AA122>0, Table1[[#This Row],[Column4]], IF(AB122>0,Table1[[#This Row],[Column4]],IF(X122>0,\"1000\")))","v":false}]
[null,null,null,null,null,null,null,null,null,null,null,null,null,null,null,null,0,null,null,null,null,null,null,null,{"$f":"IF(Table1[[#This Row],[Wage differential Bonus                            - NotePay Rate you are bonusing to]]>0, Table1[[#This Row],[Wage differential Bonus                            - NotePay Rate you are bonusing to]]-Table1[[#This Row],[Pay Rate]], \"\")","v":""},{"$f":"IF(Table1[[#This Row],[Wage differential Bonus                            - NotePay Rate you are bonusing to]]>0,Table1[[#This Row],[Bonus Rate]]*Table1[[#This Row],[Hours]],\"\")","v":""},null,null,null,null,null,{"$f":"IF(OR(AH123>0.001,AH123<-0.001),Table1[[#This Row],[Employee '#]],\" \")","v":" "},false,{"$f":"SUMIF(Table1[[#This Row],[Total Wage Diff bonus]:[Bank Bonus]],\"<> \")","v":0},{"$f":"IF(AA123>0, Table1[[#This Row],[Column4]], IF(AB123>0,Table1[[#This Row],[Column4]],IF(X123>0,\"1000\")))","v":false}]
[null,null,null,null,null,null,null,null,null,null,null,null,null,null,null,null,0,null,null,null,null,null,null,null,{"$f":"IF(Table1[[#This Row],[Wage differential Bonus                            - NotePay Rate you are bonusing to]]>0, Table1[[#This Row],[Wage differential Bonus                            - NotePay Rate you are bonusing to]]-Table1[[#This Row],[Pay Rate]], \"\")","v":""},{"$f":"IF(Table1[[#This Row],[Wage differential Bonus                            - NotePay Rate you are bonusing to]]>0,Table1[[#This Row],[Bonus Rate]]*Table1[[#This Row],[Hours]],\"\")","v":""},null,null,null,null,null,{"$f":"IF(OR(AH124>0.001,AH124<-0.001),Table1[[#This Row],[Employee '#]],\" \")","v":" "},false,{"$f":"SUMIF(Table1[[#This Row],[Total Wage Diff bonus]:[Bank Bonus]],\"<> \")","v":0},{"$f":"IF(AA124>0, Table1[[#This Row],[Column4]], IF(AB124>0,Table1[[#This Row],[Column4]],IF(X124>0,\"1000\")))","v":false}]
[null,null,null,null,null,null,null,null,null,null,null,null,null,null,null,null,0,null,null,null,null,null,null,null,{"$f":"IF(Table1[[#This Row],[Wage differential Bonus                            - NotePay Rate you are bonusing to]]>0, Table1[[#This Row],[Wage differential Bonus                            - NotePay Rate you are bonusing to]]-Table1[[#This Row],[Pay Rate]], \"\")","v":""},{"$f":"IF(Table1[[#This Row],[Wage differential Bonus                            - NotePay Rate you are bonusing to]]>0,Table1[[#This Row],[Bonus Rate]]*Table1[[#This Row],[Hours]],\"\")","v":""},null,null,null,null,null,{"$f":"IF(OR(AH125>0.001,AH125<-0.001),Table1[[#This Row],[Employee '#]],\" \")","v":" "},false,{"$f":"SUMIF(Table1[[#This Row],[Total Wage Diff bonus]:[Bank Bonus]],\"<> \")","v":0},{"$f":"IF(AA125>0, Table1[[#This Row],[Column4]], IF(AB125>0,Table1[[#This Row],[Column4]],IF(X125>0,\"1000\")))","v":false}]
[null,null,null,null,null,null,null,null,null,null,null,null,null,null,null,null,0,null,null,null,null,null,null,null,{"$f":"IF(Table1[[#This Row],[Wage differential Bonus                            - NotePay Rate you are bonusing to]]>0, Table1[[#This Row],[Wage differential Bonus                            - NotePay Rate you are bonusing to]]-Table1[[#This Row],[Pay Rate]], \"\")","v":""},{"$f":"IF(Table1[[#This Row],[Wage differential Bonus                            - NotePay Rate you are bonusing to]]>0,Table1[[#This Row],[Bonus Rate]]*Table1[[#This Row],[Hours]],\"\")","v":""},null,null,null,null,null,{"$f":"IF(OR(AH126>0.001,AH126<-0.001),Table1[[#This Row],[Employee '#]],\" \")","v":" "},false,{"$f":"SUMIF(Table1[[#This Row],[Total Wage Diff bonus]:[Bank Bonus]],\"<> \")","v":0},{"$f":"IF(AA126>0, Table1[[#This Row],[Column4]], IF(AB126>0,Table1[[#This Row],[Column4]],IF(X126>0,\"1000\")))","v":false}]
[null,null,null,null,null,null,null,null,null,null,null,null,null,null,null,null,0,null,null,null,null,null,null,null,{"$f":"IF(Table1[[#This Row],[Wage differential Bonus                            - NotePay Rate you are bonusing to]]>0, Table1[[#This Row],[Wage differential Bonus                            - NotePay Rate you are bonusing to]]-Table1[[#This Row],[Pay Rate]], \"\")","v":""},{"$f":"IF(Table1[[#This Row],[Wage differential Bonus                            - NotePay Rate you are bonusing to]]>0,Table1[[#This Row],[Bonus Rate]]*Table1[[#This Row],[Hours]],\"\")","v":""},null,null,null,null,null,{"$f":"IF(OR(AH127>0.001,AH127<-0.001),Table1[[#This Row],[Employee '#]],\" \")","v":" "},false,{"$f":"SUMIF(Table1[[#This Row],[Total Wage Diff bonus]:[Bank Bonus]],\"<> \")","v":0},{"$f":"IF(AA127>0, Table1[[#This Row],[Column4]], IF(AB127>0,Table1[[#This Row],[Column4]],IF(X127>0,\"1000\")))","v":false}]
[null,null,null,null,null,null,null,null,null,null,null,null,null,null,null,null,0,null,null,null,null,null,null,null,{"$f":"IF(Table1[[#This Row],[Wage differential Bonus                            - NotePay Rate you are bonusing to]]>0, Table1[[#This Row],[Wage differential Bonus                            - NotePay Rate you are bonusing to]]-Table1[[#This Row],[Pay Rate]], \"\")","v":""},{"$f":"IF(Table1[[#This Row],[Wage differential Bonus                            - NotePay Rate you are bonusing to]]>0,Table1[[#This Row],[Bonus Rate]]*Table1[[#This Row],[Hours]],\"\")","v":""},null,null,null,null,null,{"$f":"IF(OR(AH128>0.001,AH128<-0.001),Table1[[#This Row],[Employee '#]],\" \")","v":" "},false,{"$f":"SUMIF(Table1[[#This Row],[Total Wage Diff bonus]:[Bank Bonus]],\"<> \")","v":0},{"$f":"IF(AA128>0, Table1[[#This Row],[Column4]], IF(AB128>0,Table1[[#This Row],[Column4]],IF(X128>0,\"1000\")))","v":false}]
[null,null,null,null,null,null,null,null,null,null,null,null,null,null,null,null,0,null,null,null,null,null,null,null,{"$f":"IF(Table1[[#This Row],[Wage differential Bonus                            - NotePay Rate you are bonusing to]]>0, Table1[[#This Row],[Wage differential Bonus                            - NotePay Rate you are bonusing to]]-Table1[[#This Row],[Pay Rate]], \"\")","v":""},{"$f":"IF(Table1[[#This Row],[Wage differential Bonus                            - NotePay Rate you are bonusing to]]>0,Table1[[#This Row],[Bonus Rate]]*Table1[[#This Row],[Hours]],\"\")","v":""},null,null,null,null,null,{"$f":"IF(OR(AH129>0.001,AH129<-0.001),Table1[[#This Row],[Employee '#]],\" \")","v":" "},false,{"$f":"SUMIF(Table1[[#This Row],[Total Wage Diff bonus]:[Bank Bonus]],\"<> \")","v":0},{"$f":"IF(AA129>0, Table1[[#This Row],[Column4]], IF(AB129>0,Table1[[#This Row],[Column4]],IF(X129>0,\"1000\")))","v":false}]
[null,null,null,null,null,null,null,null,null,null,null,null,null,null,null,null,0,null,null,null,null,null,null,null,{"$f":"IF(Table1[[#This Row],[Wage differential Bonus                            - NotePay Rate you are bonusing to]]>0, Table1[[#This Row],[Wage differential Bonus                            - NotePay Rate you are bonusing to]]-Table1[[#This Row],[Pay Rate]], \"\")","v":""},{"$f":"IF(Table1[[#This Row],[Wage differential Bonus                            - NotePay Rate you are bonusing to]]>0,Table1[[#This Row],[Bonus Rate]]*Table1[[#This Row],[Hours]],\"\")","v":""},null,null,null,null,null,{"$f":"IF(OR(AH130>0.001,AH130<-0.001),Table1[[#This Row],[Employee '#]],\" \")","v":" "},false,{"$f":"SUMIF(Table1[[#This Row],[Total Wage Diff bonus]:[Bank Bonus]],\"<> \")","v":0},{"$f":"IF(AA130>0, Table1[[#This Row],[Column4]], IF(AB130>0,Table1[[#This Row],[Column4]],IF(X130>0,\"1000\")))","v":false}]
[null,null,null,null,null,null,null,null,null,null,null,null,null,null,null,null,0,null,null,null,null,null,null,null,{"$f":"IF(Table1[[#This Row],[Wage differential Bonus                            - NotePay Rate you are bonusing to]]>0, Table1[[#This Row],[Wage differential Bonus                            - NotePay Rate you are bonusing to]]-Table1[[#This Row],[Pay Rate]], \"\")","v":""},{"$f":"IF(Table1[[#This Row],[Wage differential Bonus                            - NotePay Rate you are bonusing to]]>0,Table1[[#This Row],[Bonus Rate]]*Table1[[#This Row],[Hours]],\"\")","v":""},null,null,null,null,null,{"$f":"IF(OR(AH131>0.001,AH131<-0.001),Table1[[#This Row],[Employee '#]],\" \")","v":" "},false,{"$f":"SUMIF(Table1[[#This Row],[Total Wage Diff bonus]:[Bank Bonus]],\"<> \")","v":0},{"$f":"IF(AA131>0, Table1[[#This Row],[Column4]], IF(AB131>0,Table1[[#This Row],[Column4]],IF(X131>0,\"1000\")))","v":false}]
[null,null,null,null,null,null,null,null,null,null,null,null,null,null,null,null,{"$f":"L132+P132","v":0},null,null,null,null,null,null,null,{"$f":"IF(Table1[[#This Row],[Wage differential Bonus                            - NotePay Rate you are bonusing to]]>0, Table1[[#This Row],[Wage differential Bonus                            - NotePay Rate you are bonusing to]]-Table1[[#This Row],[Pay Rate]], \"\")","v":""},{"$f":"IF(Table1[[#This Row],[Wage differential Bonus                            - NotePay Rate you are bonusing to]]>0,Table1[[#This Row],[Bonus Rate]]*Table1[[#This Row],[Hours]],\"\")","v":""},null,null,null,null,null,{"$f":"IF(OR(AH132>0.001,AH132<-0.001),Table1[[#This Row],[Employee '#]],\" \")","v":" "},{"$f":"IF(AA132>0, \"28\", IF(AB132>0,\"53\",IF(X132>0,\"20\")))","v":false},{"$f":"SUMIF(Table1[[#This Row],[Total Wage Diff bonus]:[Bank Bonus]],\"<> \")","v":0},{"$f":"IF(AA132>0, Table1[[#This Row],[Column4]], IF(AB132>0,Table1[[#This Row],[Column4]],IF(X132>0,\"1000\")))","v":false}]
[null,null,null,null,null,null,null,null,null,null,null,null,null,null,null,null,0,null,null,null,null,null,null,null,{"$f":"IF(Table1[[#This Row],[Wage differential Bonus                            - NotePay Rate you are bonusing to]]>0, Table1[[#This Row],[Wage differential Bonus                            - NotePay Rate you are bonusing to]]-Table1[[#This Row],[Pay Rate]], \"\")","v":""},{"$f":"IF(Table1[[#This Row],[Wage differential Bonus                            - NotePay Rate you are bonusing to]]>0,Table1[[#This Row],[Bonus Rate]]*Table1[[#This Row],[Hours]],\"\")","v":""},null,null,null,null,null,{"$f":"IF(OR(AH133>0.001,AH133<-0.001),Table1[[#This Row],[Employee '#]],\" \")","v":" "},false,{"$f":"SUMIF(Table1[[#This Row],[Total Wage Diff bonus]:[Bank Bonus]],\"<> \")","v":0},{"$f":"IF(AA133>0, Table1[[#This Row],[Column4]], IF(AB133>0,Table1[[#This Row],[Column4]],IF(X133>0,\"1000\")))","v":false}]
[null,null,null,null,null,null,null,null,null,null,null,null,null,null,null,null,0,null,null,null,null,null,null,null,{"$f":"IF(Table1[[#This Row],[Wage differential Bonus                            - NotePay Rate you are bonusing to]]>0, Table1[[#This Row],[Wage differential Bonus                            - NotePay Rate you are bonusing to]]-Table1[[#This Row],[Pay Rate]], \"\")","v":""},{"$f":"IF(Table1[[#This Row],[Wage differential Bonus                            - NotePay Rate you are bonusing to]]>0,Table1[[#This Row],[Bonus Rate]]*Table1[[#This Row],[Hours]],\"\")","v":""},null,null,null,null,null,{"$f":"IF(OR(AH134>0.001,AH134<-0.001),Table1[[#This Row],[Employee '#]],\" \")","v":" "},false,{"$f":"SUMIF(Table1[[#This Row],[Total Wage Diff bonus]:[Bank Bonus]],\"<> \")","v":0},{"$f":"IF(AA134>0, Table1[[#This Row],[Column4]], IF(AB134>0,Table1[[#This Row],[Column4]],IF(X134>0,\"1000\")))","v":false}]
[null,null,null,null,null,null,null,null,null,null,null,null,null,null,null,null,0,null,null,null,null,null,null,null,{"$f":"IF(Table1[[#This Row],[Wage differential Bonus                            - NotePay Rate you are bonusing to]]>0, Table1[[#This Row],[Wage differential Bonus                            - NotePay Rate you are bonusing to]]-Table1[[#This Row],[Pay Rate]], \"\")","v":""},{"$f":"IF(Table1[[#This Row],[Wage differential Bonus                            - NotePay Rate you are bonusing to]]>0,Table1[[#This Row],[Bonus Rate]]*Table1[[#This Row],[Hours]],\"\")","v":""},null,null,null,null,null,{"$f":"IF(OR(AH135>0.001,AH135<-0.001),Table1[[#This Row],[Employee '#]],\" \")","v":" "},false,{"$f":"SUMIF(Table1[[#This Row],[Total Wage Diff bonus]:[Bank Bonus]],\"<> \")","v":0},{"$f":"IF(AA135>0, Table1[[#This Row],[Column4]], IF(AB135>0,Table1[[#This Row],[Column4]],IF(X135>0,\"1000\")))","v":false}]
[null,null,null,null,null,null,null,null,null,null,null,null,null,null,null,null,0,null,null,null,null,null,null,null,{"$f":"IF(Table1[[#This Row],[Wage differential Bonus                            - NotePay Rate you are bonusing to]]>0, Table1[[#This Row],[Wage differential Bonus                            - NotePay Rate you are bonusing to]]-Table1[[#This Row],[Pay Rate]], \"\")","v":""},{"$f":"IF(Table1[[#This Row],[Wage differential Bonus                            - NotePay Rate you are bonusing to]]>0,Table1[[#This Row],[Bonus Rate]]*Table1[[#This Row],[Hours]],\"\")","v":""},null,null,null,null,null,{"$f":"IF(OR(AH136>0.001,AH136<-0.001),Table1[[#This Row],[Employee '#]],\" \")","v":" "},false,{"$f":"SUMIF(Table1[[#This Row],[Total Wage Diff bonus]:[Bank Bonus]],\"<> \")","v":0},{"$f":"IF(AA136>0, Table1[[#This Row],[Column4]], IF(AB136>0,Table1[[#This Row],[Column4]],IF(X136>0,\"1000\")))","v":false}]
[null,null,null,null,null,null,null,null,null,null,null,null,null,null,null,null,0,null,null,null,null,null,null,null,{"$f":"IF(Table1[[#This Row],[Wage differential Bonus                            - NotePay Rate you are bonusing to]]>0, Table1[[#This Row],[Wage differential Bonus                            - NotePay Rate you are bonusing to]]-Table1[[#This Row],[Pay Rate]], \"\")","v":""},{"$f":"IF(Table1[[#This Row],[Wage differential Bonus                            - NotePay Rate you are bonusing to]]>0,Table1[[#This Row],[Bonus Rate]]*Table1[[#This Row],[Hours]],\"\")","v":""},null,null,null,null,null,{"$f":"IF(OR(AH137>0.001,AH137<-0.001),Table1[[#This Row],[Employee '#]],\" \")","v":" "},false,{"$f":"SUMIF(Table1[[#This Row],[Total Wage Diff bonus]:[Bank Bonus]],\"<> \")","v":0},{"$f":"IF(AA137>0, Table1[[#This Row],[Column4]], IF(AB137>0,Table1[[#This Row],[Column4]],IF(X137>0,\"1000\")))","v":false}]
[null,null,null,null,null,null,null,null,null,null,null,null,null,null,null,null,0,null,null,null,null,null,null,null,{"$f":"IF(Table1[[#This Row],[Wage differential Bonus                            - NotePay Rate you are bonusing to]]>0, Table1[[#This Row],[Wage differential Bonus                            - NotePay Rate you are bonusing to]]-Table1[[#This Row],[Pay Rate]], \"\")","v":""},{"$f":"IF(Table1[[#This Row],[Wage differential Bonus                            - NotePay Rate you are bonusing to]]>0,Table1[[#This Row],[Bonus Rate]]*Table1[[#This Row],[Hours]],\"\")","v":""},null,null,null,null,null,{"$f":"IF(OR(AH138>0.001,AH138<-0.001),Table1[[#This Row],[Employee '#]],\" \")","v":" "},false,{"$f":"SUMIF(Table1[[#This Row],[Total Wage Diff bonus]:[Bank Bonus]],\"<> \")","v":0},{"$f":"IF(AA138>0, Table1[[#This Row],[Column4]], IF(AB138>0,Table1[[#This Row],[Column4]],IF(X138>0,\"1000\")))","v":false}]
[null,null,null,null,null,null,null,null,null,null,null,null,null,null,null,null,0,null,null,null,null,null,null,null,{"$f":"IF(Table1[[#This Row],[Wage differential Bonus                            - NotePay Rate you are bonusing to]]>0, Table1[[#This Row],[Wage differential Bonus                            - NotePay Rate you are bonusing to]]-Table1[[#This Row],[Pay Rate]], \"\")","v":""},{"$f":"IF(Table1[[#This Row],[Wage differential Bonus                            - NotePay Rate you are bonusing to]]>0,Table1[[#This Row],[Bonus Rate]]*Table1[[#This Row],[Hours]],\"\")","v":""},null,null,null,null,null,{"$f":"IF(OR(AH139>0.001,AH139<-0.001),Table1[[#This Row],[Employee '#]],\" \")","v":" "},false,{"$f":"SUMIF(Table1[[#This Row],[Total Wage Diff bonus]:[Bank Bonus]],\"<> \")","v":0},{"$f":"IF(AA139>0, Table1[[#This Row],[Column4]], IF(AB139>0,Table1[[#This Row],[Column4]],IF(X139>0,\"1000\")))","v":false}]
[null,null,null,null,null,null,null,null,null,null,null,null,null,null,null,null,0,null,null,null,null,null,null,null,{"$f":"IF(Table1[[#This Row],[Wage differential Bonus                            - NotePay Rate you are bonusing to]]>0, Table1[[#This Row],[Wage differential Bonus                            - NotePay Rate you are bonusing to]]-Table1[[#This Row],[Pay Rate]], \"\")","v":""},{"$f":"IF(Table1[[#This Row],[Wage differential Bonus                            - NotePay Rate you are bonusing to]]>0,Table1[[#This Row],[Bonus Rate]]*Table1[[#This Row],[Hours]],\"\")","v":""},null,null,null,null,null,{"$f":"IF(OR(AH140>0.001,AH140<-0.001),Table1[[#This Row],[Employee '#]],\" \")","v":" "},false,{"$f":"SUMIF(Table1[[#This Row],[Total Wage Diff bonus]:[Bank Bonus]],\"<> \")","v":0},{"$f":"IF(AA140>0, Table1[[#This Row],[Column4]], IF(AB140>0,Table1[[#This Row],[Column4]],IF(X140>0,\"1000\")))","v":false}]
[null,null,null,null,null,null,null,null,null,null,null,null,null,null,null,null,0,null,null,null,null,null,null,null,{"$f":"IF(Table1[[#This Row],[Wage differential Bonus                            - NotePay Rate you are bonusing to]]>0, Table1[[#This Row],[Wage differential Bonus                            - NotePay Rate you are bonusing to]]-Table1[[#This Row],[Pay Rate]], \"\")","v":""},{"$f":"IF(Table1[[#This Row],[Wage differential Bonus                            - NotePay Rate you are bonusing to]]>0,Table1[[#This Row],[Bonus Rate]]*Table1[[#This Row],[Hours]],\"\")","v":""},null,null,null,null,null,{"$f":"IF(OR(AH141>0.001,AH141<-0.001),Table1[[#This Row],[Employee '#]],\" \")","v":" "},false,{"$f":"SUMIF(Table1[[#This Row],[Total Wage Diff bonus]:[Bank Bonus]],\"<> \")","v":0},{"$f":"IF(AA141>0, Table1[[#This Row],[Column4]], IF(AB141>0,Table1[[#This Row],[Column4]],IF(X141>0,\"1000\")))","v":false}]
[null,null,null,null,null,null,null,null,null,null,null,null,null,null,null,null,0,null,null,null,null,null,null,null,{"$f":"IF(Table1[[#This Row],[Wage differential Bonus                            - NotePay Rate you are bonusing to]]>0, Table1[[#This Row],[Wage differential Bonus                            - NotePay Rate you are bonusing to]]-Table1[[#This Row],[Pay Rate]], \"\")","v":""},{"$f":"IF(Table1[[#This Row],[Wage differential Bonus                            - NotePay Rate you are bonusing to]]>0,Table1[[#This Row],[Bonus Rate]]*Table1[[#This Row],[Hours]],\"\")","v":""},null,null,null,null,null,{"$f":"IF(OR(AH142>0.001,AH142<-0.001),Table1[[#This Row],[Employee '#]],\" \")","v":" "},false,{"$f":"SUMIF(Table1[[#This Row],[Total Wage Diff bonus]:[Bank Bonus]],\"<> \")","v":0},{"$f":"IF(AA142>0, Table1[[#This Row],[Column4]], IF(AB142>0,Table1[[#This Row],[Column4]],IF(X142>0,\"1000\")))","v":false}]
[null,null,null,null,null,null,null,null,null,null,null,null,null,null,null,null,0,null,null,null,null,null,null,null,{"$f":"IF(Table1[[#This Row],[Wage differential Bonus                            - NotePay Rate you are bonusing to]]>0, Table1[[#This Row],[Wage differential Bonus                            - NotePay Rate you are bonusing to]]-Table1[[#This Row],[Pay Rate]], \"\")","v":""},{"$f":"IF(Table1[[#This Row],[Wage differential Bonus                            - NotePay Rate you are bonusing to]]>0,Table1[[#This Row],[Bonus Rate]]*Table1[[#This Row],[Hours]],\"\")","v":""},null,null,null,null,null,{"$f":"IF(OR(AH143>0.001,AH143<-0.001),Table1[[#This Row],[Employee '#]],\" \")","v":" "},false,{"$f":"SUMIF(Table1[[#This Row],[Total Wage Diff bonus]:[Bank Bonus]],\"<> \")","v":0},{"$f":"IF(AA143>0, Table1[[#This Row],[Column4]], IF(AB143>0,Table1[[#This Row],[Column4]],IF(X143>0,\"1000\")))","v":false}]
[null,null,null,null,null,null,null,null,null,null,null,null,null,null,null,null,0,null,null,null,null,null,null,null,{"$f":"IF(Table1[[#This Row],[Wage differential Bonus                            - NotePay Rate you are bonusing to]]>0, Table1[[#This Row],[Wage differential Bonus                            - NotePay Rate you are bonusing to]]-Table1[[#This Row],[Pay Rate]], \"\")","v":""},{"$f":"IF(Table1[[#This Row],[Wage differential Bonus                            - NotePay Rate you are bonusing to]]>0,Table1[[#This Row],[Bonus Rate]]*Table1[[#This Row],[Hours]],\"\")","v":""},null,null,null,null,null,{"$f":"IF(OR(AH144>0.001,AH144<-0.001),Table1[[#This Row],[Employee '#]],\" \")","v":" "},false,{"$f":"SUMIF(Table1[[#This Row],[Total Wage Diff bonus]:[Bank Bonus]],\"<> \")","v":0},{"$f":"IF(AA144>0, Table1[[#This Row],[Column4]], IF(AB144>0,Table1[[#This Row],[Column4]],IF(X144>0,\"1000\")))","v":false}]
[null,null,null,null,null,null,null,null,null,null,null,null,null,null,null,null,0,null,null,null,null,null,null,null,{"$f":"IF(Table1[[#This Row],[Wage differential Bonus                            - NotePay Rate you are bonusing to]]>0, Table1[[#This Row],[Wage differential Bonus                            - NotePay Rate you are bonusing to]]-Table1[[#This Row],[Pay Rate]], \"\")","v":""},{"$f":"IF(Table1[[#This Row],[Wage differential Bonus                            - NotePay Rate you are bonusing to]]>0,Table1[[#This Row],[Bonus Rate]]*Table1[[#This Row],[Hours]],\"\")","v":""},null,null,null,null,null,{"$f":"IF(OR(AH145>0.001,AH145<-0.001),Table1[[#This Row],[Employee '#]],\" \")","v":" "},false,{"$f":"SUMIF(Table1[[#This Row],[Total Wage Diff bonus]:[Bank Bonus]],\"<> \")","v":0},{"$f":"IF(AA145>0, Table1[[#This Row],[Column4]], IF(AB145>0,Table1[[#This Row],[Column4]],IF(X145>0,\"1000\")))","v":false}]
[null,null,null,null,null,null,null,null,null,null,null,null,null,null,null,null,0,null,null,null,null,null,null,null,{"$f":"IF(Table1[[#This Row],[Wage differential Bonus                            - NotePay Rate you are bonusing to]]>0, Table1[[#This Row],[Wage differential Bonus                            - NotePay Rate you are bonusing to]]-Table1[[#This Row],[Pay Rate]], \"\")","v":""},{"$f":"IF(Table1[[#This Row],[Wage differential Bonus                            - NotePay Rate you are bonusing to]]>0,Table1[[#This Row],[Bonus Rate]]*Table1[[#This Row],[Hours]],\"\")","v":""},null,null,null,null,null,{"$f":"IF(OR(AH146>0.001,AH146<-0.001),Table1[[#This Row],[Employee '#]],\" \")","v":" "},false,{"$f":"SUMIF(Table1[[#This Row],[Total Wage Diff bonus]:[Bank Bonus]],\"<> \")","v":0},{"$f":"IF(AA146>0, Table1[[#This Row],[Column4]], IF(AB146>0,Table1[[#This Row],[Column4]],IF(X146>0,\"1000\")))","v":false}]
[null,null,null,null,null,null,null,null,null,null,null,null,null,null,null,null,0,null,null,null,null,null,null,null,{"$f":"IF(Table1[[#This Row],[Wage differential Bonus                            - NotePay Rate you are bonusing to]]>0, Table1[[#This Row],[Wage differential Bonus                            - NotePay Rate you are bonusing to]]-Table1[[#This Row],[Pay Rate]], \"\")","v":""},{"$f":"IF(Table1[[#This Row],[Wage differential Bonus                            - NotePay Rate you are bonusing to]]>0,Table1[[#This Row],[Bonus Rate]]*Table1[[#This Row],[Hours]],\"\")","v":""},null,null,null,null,null,{"$f":"IF(OR(AH147>0.001,AH147<-0.001),Table1[[#This Row],[Employee '#]],\" \")","v":" "},false,{"$f":"SUMIF(Table1[[#This Row],[Total Wage Diff bonus]:[Bank Bonus]],\"<> \")","v":0},{"$f":"IF(AA147>0, Table1[[#This Row],[Column4]], IF(AB147>0,Table1[[#This Row],[Column4]],IF(X147>0,\"1000\")))","v":false}]
[null,null,null,null,null,null,null,null,null,null,null,null,null,null,null,null,0,null,null,null,null,null,null,null,{"$f":"IF(Table1[[#This Row],[Wage differential Bonus                            - NotePay Rate you are bonusing to]]>0, Table1[[#This Row],[Wage differential Bonus                            - NotePay Rate you are bonusing to]]-Table1[[#This Row],[Pay Rate]], \"\")","v":""},{"$f":"IF(Table1[[#This Row],[Wage differential Bonus                            - NotePay Rate you are bonusing to]]>0,Table1[[#This Row],[Bonus Rate]]*Table1[[#This Row],[Hours]],\"\")","v":""},null,null,null,null,null,{"$f":"IF(OR(AH148>0.001,AH148<-0.001),Table1[[#This Row],[Employee '#]],\" \")","v":" "},false,{"$f":"SUMIF(Table1[[#This Row],[Total Wage Diff bonus]:[Bank Bonus]],\"<> \")","v":0},{"$f":"IF(AA148>0, Table1[[#This Row],[Column4]], IF(AB148>0,Table1[[#This Row],[Column4]],IF(X148>0,\"1000\")))","v":false}]
[null,null,null,null,null,null,null,null,null,null,null,null,null,null,null,null,0,null,null,null,null,null,null,null,{"$f":"IF(Table1[[#This Row],[Wage differential Bonus                            - NotePay Rate you are bonusing to]]>0, Table1[[#This Row],[Wage differential Bonus                            - NotePay Rate you are bonusing to]]-Table1[[#This Row],[Pay Rate]], \"\")","v":""},{"$f":"IF(Table1[[#This Row],[Wage differential Bonus                            - NotePay Rate you are bonusing to]]>0,Table1[[#This Row],[Bonus Rate]]*Table1[[#This Row],[Hours]],\"\")","v":""},null,null,null,null,null,{"$f":"IF(OR(AH149>0.001,AH149<-0.001),Table1[[#This Row],[Employee '#]],\" \")","v":" "},false,{"$f":"SUMIF(Table1[[#This Row],[Total Wage Diff bonus]:[Bank Bonus]],\"<> \")","v":0},{"$f":"IF(AA149>0, Table1[[#This Row],[Column4]], IF(AB149>0,Table1[[#This Row],[Column4]],IF(X149>0,\"1000\")))","v":false}]
[null,null,null,null,null,null,null,null,null,null,null,null,null,null,null,null,0,null,null,null,null,null,null,null,{"$f":"IF(Table1[[#This Row],[Wage differential Bonus                            - NotePay Rate you are bonusing to]]>0, Table1[[#This Row],[Wage differential Bonus                            - NotePay Rate you are bonusing to]]-Table1[[#This Row],[Pay Rate]], \"\")","v":""},{"$f":"IF(Table1[[#This Row],[Wage differential Bonus                            - NotePay Rate you are bonusing to]]>0,Table1[[#This Row],[Bonus Rate]]*Table1[[#This Row],[Hours]],\"\")","v":""},null,null,null,null,null,{"$f":"IF(OR(AH150>0.001,AH150<-0.001),Table1[[#This Row],[Employee '#]],\" \")","v":" "},false,{"$f":"SUMIF(Table1[[#This Row],[Total Wage Diff bonus]:[Bank Bonus]],\"<> \")","v":0},{"$f":"IF(AA150>0, Table1[[#This Row],[Column4]], IF(AB150>0,Table1[[#This Row],[Column4]],IF(X150>0,\"1000\")))","v":false}]
[null,null,null,null,null,null,null,null,null,null,null,null,null,null,null,null,0,null,null,null,null,null,null,null,{"$f":"IF(Table1[[#This Row],[Wage differential Bonus                            - NotePay Rate you are bonusing to]]>0, Table1[[#This Row],[Wage differential Bonus                            - NotePay Rate you are bonusing to]]-Table1[[#This Row],[Pay Rate]], \"\")","v":""},{"$f":"IF(Table1[[#This Row],[Wage differential Bonus                            - NotePay Rate you are bonusing to]]>0,Table1[[#This Row],[Bonus Rate]]*Table1[[#This Row],[Hours]],\"\")","v":""},null,null,null,null,null,{"$f":"IF(OR(AH151>0.001,AH151<-0.001),Table1[[#This Row],[Employee '#]],\" \")","v":" "},false,{"$f":"SUMIF(Table1[[#This Row],[Total Wage Diff bonus]:[Bank Bonus]],\"<> \")","v":0},{"$f":"IF(AA151>0, Table1[[#This Row],[Column4]], IF(AB151>0,Table1[[#This Row],[Column4]],IF(X151>0,\"1000\")))","v":false}]
[null,null,null,null,null,null,null,null,null,null,null,null,null,null,null,null,0,null,null,null,null,null,null,null,{"$f":"IF(Table1[[#This Row],[Wage differential Bonus                            - NotePay Rate you are bonusing to]]>0, Table1[[#This Row],[Wage differential Bonus                            - NotePay Rate you are bonusing to]]-Table1[[#This Row],[Pay Rate]], \"\")","v":""},{"$f":"IF(Table1[[#This Row],[Wage differential Bonus                            - NotePay Rate you are bonusing to]]>0,Table1[[#This Row],[Bonus Rate]]*Table1[[#This Row],[Hours]],\"\")","v":""},null,null,null,null,null,{"$f":"IF(OR(AH152>0.001,AH152<-0.001),Table1[[#This Row],[Employee '#]],\" \")","v":" "},false,{"$f":"SUMIF(Table1[[#This Row],[Total Wage Diff bonus]:[Bank Bonus]],\"<> \")","v":0},{"$f":"IF(AA152>0, Table1[[#This Row],[Column4]], IF(AB152>0,Table1[[#This Row],[Column4]],IF(X152>0,\"1000\")))","v":false}]
[null,null,null,null,null,null,null,null,null,null,null,null,null,null,null,null,0,null,null,null,null,null,null,null,{"$f":"IF(Table1[[#This Row],[Wage differential Bonus                            - NotePay Rate you are bonusing to]]>0, Table1[[#This Row],[Wage differential Bonus                            - NotePay Rate you are bonusing to]]-Table1[[#This Row],[Pay Rate]], \"\")","v":""},{"$f":"IF(Table1[[#This Row],[Wage differential Bonus                            - NotePay Rate you are bonusing to]]>0,Table1[[#This Row],[Bonus Rate]]*Table1[[#This Row],[Hours]],\"\")","v":""},null,null,null,null,null,{"$f":"IF(OR(AH153>0.001,AH153<-0.001),Table1[[#This Row],[Employee '#]],\" \")","v":" "},false,{"$f":"SUMIF(Table1[[#This Row],[Total Wage Diff bonus]:[Bank Bonus]],\"<> \")","v":0},{"$f":"IF(AA153>0, Table1[[#This Row],[Column4]], IF(AB153>0,Table1[[#This Row],[Column4]],IF(X153>0,\"1000\")))","v":false}]
[null,null,null,null,null,null,null,null,null,null,null,null,null,null,null,null,0,null,null,null,null,null,null,null,{"$f":"IF(Table1[[#This Row],[Wage differential Bonus                            - NotePay Rate you are bonusing to]]>0, Table1[[#This Row],[Wage differential Bonus                            - NotePay Rate you are bonusing to]]-Table1[[#This Row],[Pay Rate]], \"\")","v":""},{"$f":"IF(Table1[[#This Row],[Wage differential Bonus                            - NotePay Rate you are bonusing to]]>0,Table1[[#This Row],[Bonus Rate]]*Table1[[#This Row],[Hours]],\"\")","v":""},null,null,null,null,null,{"$f":"IF(OR(AH154>0.001,AH154<-0.001),Table1[[#This Row],[Employee '#]],\" \")","v":" "},false,{"$f":"SUMIF(Table1[[#This Row],[Total Wage Diff bonus]:[Bank Bonus]],\"<> \")","v":0},{"$f":"IF(AA154>0, Table1[[#This Row],[Column4]], IF(AB154>0,Table1[[#This Row],[Column4]],IF(X154>0,\"1000\")))","v":false}]
[null,null,null,null,null,null,null,null,null,null,null,null,null,null,null,null,0,null,null,null,null,null,null,null,{"$f":"IF(Table1[[#This Row],[Wage differential Bonus                            - NotePay Rate you are bonusing to]]>0, Table1[[#This Row],[Wage differential Bonus                            - NotePay Rate you are bonusing to]]-Table1[[#This Row],[Pay Rate]], \"\")","v":""},{"$f":"IF(Table1[[#This Row],[Wage differential Bonus                            - NotePay Rate you are bonusing to]]>0,Table1[[#This Row],[Bonus Rate]]*Table1[[#This Row],[Hours]],\"\")","v":""},null,null,null,null,null,{"$f":"IF(OR(AH155>0.001,AH155<-0.001),Table1[[#This Row],[Employee '#]],\" \")","v":" "},false,{"$f":"SUMIF(Table1[[#This Row],[Total Wage Diff bonus]:[Bank Bonus]],\"<> \")","v":0},{"$f":"IF(AA155>0, Table1[[#This Row],[Column4]], IF(AB155>0,Table1[[#This Row],[Column4]],IF(X155>0,\"1000\")))","v":false}]
[null,null,null,null,null,null,null,null,null,null,null,null,null,null,null,null,0,null,null,null,null,null,null,null,{"$f":"IF(Table1[[#This Row],[Wage differential Bonus                            - NotePay Rate you are bonusing to]]>0, Table1[[#This Row],[Wage differential Bonus                            - NotePay Rate you are bonusing to]]-Table1[[#This Row],[Pay Rate]], \"\")","v":""},{"$f":"IF(Table1[[#This Row],[Wage differential Bonus                            - NotePay Rate you are bonusing to]]>0,Table1[[#This Row],[Bonus Rate]]*Table1[[#This Row],[Hours]],\"\")","v":""},null,null,null,null,null,{"$f":"IF(OR(AH156>0.001,AH156<-0.001),Table1[[#This Row],[Employee '#]],\" \")","v":" "},false,{"$f":"SUMIF(Table1[[#This Row],[Total Wage Diff bonus]:[Bank Bonus]],\"<> \")","v":0},{"$f":"IF(AA156>0, Table1[[#This Row],[Column4]], IF(AB156>0,Table1[[#This Row],[Column4]],IF(X156>0,\"1000\")))","v":false}]
[null,null,null,null,null,null,null,null,null,null,null,null,null,null,null,null,0,null,null,null,null,null,null,null,{"$f":"IF(Table1[[#This Row],[Wage differential Bonus                            - NotePay Rate you are bonusing to]]>0, Table1[[#This Row],[Wage differential Bonus                            - NotePay Rate you are bonusing to]]-Table1[[#This Row],[Pay Rate]], \"\")","v":""},{"$f":"IF(Table1[[#This Row],[Wage differential Bonus                            - NotePay Rate you are bonusing to]]>0,Table1[[#This Row],[Bonus Rate]]*Table1[[#This Row],[Hours]],\"\")","v":""},null,null,null,null,null,{"$f":"IF(OR(AH157>0.001,AH157<-0.001),Table1[[#This Row],[Employee '#]],\" \")","v":" "},false,{"$f":"SUMIF(Table1[[#This Row],[Total Wage Diff bonus]:[Bank Bonus]],\"<> \")","v":0},{"$f":"IF(AA157>0, Table1[[#This Row],[Column4]], IF(AB157>0,Table1[[#This Row],[Column4]],IF(X157>0,\"1000\")))","v":false}]
[null,null,null,null,null,null,null,null,null,null,null,null,null,null,null,null,0,null,null,null,null,null,null,null,{"$f":"IF(Table1[[#This Row],[Wage differential Bonus                            - NotePay Rate you are bonusing to]]>0, Table1[[#This Row],[Wage differential Bonus                            - NotePay Rate you are bonusing to]]-Table1[[#This Row],[Pay Rate]], \"\")","v":""},{"$f":"IF(Table1[[#This Row],[Wage differential Bonus                            - NotePay Rate you are bonusing to]]>0,Table1[[#This Row],[Bonus Rate]]*Table1[[#This Row],[Hours]],\"\")","v":""},null,null,null,null,null,{"$f":"IF(OR(AH158>0.001,AH158<-0.001),Table1[[#This Row],[Employee '#]],\" \")","v":" "},false,{"$f":"SUMIF(Table1[[#This Row],[Total Wage Diff bonus]:[Bank Bonus]],\"<> \")","v":0},{"$f":"IF(AA158>0, Table1[[#This Row],[Column4]], IF(AB158>0,Table1[[#This Row],[Column4]],IF(X158>0,\"1000\")))","v":false}]
[null,null,null,null,null,null,null,null,null,null,null,null,null,null,null,null,0,null,null,null,null,null,null,null,{"$f":"IF(Table1[[#This Row],[Wage differential Bonus                            - NotePay Rate you are bonusing to]]>0, Table1[[#This Row],[Wage differential Bonus                            - NotePay Rate you are bonusing to]]-Table1[[#This Row],[Pay Rate]], \"\")","v":""},{"$f":"IF(Table1[[#This Row],[Wage differential Bonus                            - NotePay Rate you are bonusing to]]>0,Table1[[#This Row],[Bonus Rate]]*Table1[[#This Row],[Hours]],\"\")","v":""},null,null,null,null,null,{"$f":"IF(OR(AH159>0.001,AH159<-0.001),Table1[[#This Row],[Employee '#]],\" \")","v":" "},false,{"$f":"SUMIF(Table1[[#This Row],[Total Wage Diff bonus]:[Bank Bonus]],\"<> \")","v":0},{"$f":"IF(AA159>0, Table1[[#This Row],[Column4]], IF(AB159>0,Table1[[#This Row],[Column4]],IF(X159>0,\"1000\")))","v":false}]
[null,null,null,null,null,null,null,null,null,null,null,null,null,null,null,null,0,null,null,null,null,null,null,null,{"$f":"IF(Table1[[#This Row],[Wage differential Bonus                            - NotePay Rate you are bonusing to]]>0, Table1[[#This Row],[Wage differential Bonus                            - NotePay Rate you are bonusing to]]-Table1[[#This Row],[Pay Rate]], \"\")","v":""},{"$f":"IF(Table1[[#This Row],[Wage differential Bonus                            - NotePay Rate you are bonusing to]]>0,Table1[[#This Row],[Bonus Rate]]*Table1[[#This Row],[Hours]],\"\")","v":""},null,null,null,null,null,{"$f":"IF(OR(AH160>0.001,AH160<-0.001),Table1[[#This Row],[Employee '#]],\" \")","v":" "},false,{"$f":"SUMIF(Table1[[#This Row],[Total Wage Diff bonus]:[Bank Bonus]],\"<> \")","v":0},{"$f":"IF(AA160>0, Table1[[#This Row],[Column4]], IF(AB160>0,Table1[[#This Row],[Column4]],IF(X160>0,\"1000\")))","v":false}]
[null,null,null,null,null,null,null,null,null,null,null,null,null,null,null,null,0,null,null,null,null,null,null,null,{"$f":"IF(Table1[[#This Row],[Wage differential Bonus                            - NotePay Rate you are bonusing to]]>0, Table1[[#This Row],[Wage differential Bonus                            - NotePay Rate you are bonusing to]]-Table1[[#This Row],[Pay Rate]], \"\")","v":""},{"$f":"IF(Table1[[#This Row],[Wage differential Bonus                            - NotePay Rate you are bonusing to]]>0,Table1[[#This Row],[Bonus Rate]]*Table1[[#This Row],[Hours]],\"\")","v":""},null,null,null,null,null,{"$f":"IF(OR(AH161>0.001,AH161<-0.001),Table1[[#This Row],[Employee '#]],\" \")","v":" "},false,{"$f":"SUMIF(Table1[[#This Row],[Total Wage Diff bonus]:[Bank Bonus]],\"<> \")","v":0},{"$f":"IF(AA161>0, Table1[[#This Row],[Column4]], IF(AB161>0,Table1[[#This Row],[Column4]],IF(X161>0,\"1000\")))","v":false}]
[null,null,null,null,null,null,null,null,null,null,null,null,null,null,null,null,0,null,null,null,null,null,null,null,{"$f":"IF(Table1[[#This Row],[Wage differential Bonus                            - NotePay Rate you are bonusing to]]>0, Table1[[#This Row],[Wage differential Bonus                            - NotePay Rate you are bonusing to]]-Table1[[#This Row],[Pay Rate]], \"\")","v":""},{"$f":"IF(Table1[[#This Row],[Wage differential Bonus                            - NotePay Rate you are bonusing to]]>0,Table1[[#This Row],[Bonus Rate]]*Table1[[#This Row],[Hours]],\"\")","v":""},null,null,null,null,null,{"$f":"IF(OR(AH162>0.001,AH162<-0.001),Table1[[#This Row],[Employee '#]],\" \")","v":" "},false,{"$f":"SUMIF(Table1[[#This Row],[Total Wage Diff bonus]:[Bank Bonus]],\"<> \")","v":0},{"$f":"IF(AA162>0, Table1[[#This Row],[Column4]], IF(AB162>0,Table1[[#This Row],[Column4]],IF(X162>0,\"1000\")))","v":false}]
[null,null,null,null,null,null,null,null,null,null,null,null,null,null,null,null,0,null,null,null,null,null,null,null,{"$f":"IF(Table1[[#This Row],[Wage differential Bonus                            - NotePay Rate you are bonusing to]]>0, Table1[[#This Row],[Wage differential Bonus                            - NotePay Rate you are bonusing to]]-Table1[[#This Row],[Pay Rate]], \"\")","v":""},{"$f":"IF(Table1[[#This Row],[Wage differential Bonus                            - NotePay Rate you are bonusing to]]>0,Table1[[#This Row],[Bonus Rate]]*Table1[[#This Row],[Hours]],\"\")","v":""},null,null,null,null,null,{"$f":"IF(OR(AH163>0.001,AH163<-0.001),Table1[[#This Row],[Employee '#]],\" \")","v":" "},false,{"$f":"SUMIF(Table1[[#This Row],[Total Wage Diff bonus]:[Bank Bonus]],\"<> \")","v":0},{"$f":"IF(AA163>0, Table1[[#This Row],[Column4]], IF(AB163>0,Table1[[#This Row],[Column4]],IF(X163>0,\"1000\")))","v":false}]
[null,null,null,null,null,null,null,null,null,null,null,null,null,null,null,null,0,null,null,null,null,null,null,null,{"$f":"IF(Table1[[#This Row],[Wage differential Bonus                            - NotePay Rate you are bonusing to]]>0, Table1[[#This Row],[Wage differential Bonus                            - NotePay Rate you are bonusing to]]-Table1[[#This Row],[Pay Rate]], \"\")","v":""},{"$f":"IF(Table1[[#This Row],[Wage differential Bonus                            - NotePay Rate you are bonusing to]]>0,Table1[[#This Row],[Bonus Rate]]*Table1[[#This Row],[Hours]],\"\")","v":""},null,null,null,null,null,{"$f":"IF(OR(AH164>0.001,AH164<-0.001),Table1[[#This Row],[Employee '#]],\" \")","v":" "},false,{"$f":"SUMIF(Table1[[#This Row],[Total Wage Diff bonus]:[Bank Bonus]],\"<> \")","v":0},{"$f":"IF(AA164>0, Table1[[#This Row],[Column4]], IF(AB164>0,Table1[[#This Row],[Column4]],IF(X164>0,\"1000\")))","v":false}]
[null,null,null,null,null,null,null,null,null,null,null,null,null,null,null,null,0,null,null,null,null,null,null,null,{"$f":"IF(Table1[[#This Row],[Wage differential Bonus                            - NotePay Rate you are bonusing to]]>0, Table1[[#This Row],[Wage differential Bonus                            - NotePay Rate you are bonusing to]]-Table1[[#This Row],[Pay Rate]], \"\")","v":""},{"$f":"IF(Table1[[#This Row],[Wage differential Bonus                            - NotePay Rate you are bonusing to]]>0,Table1[[#This Row],[Bonus Rate]]*Table1[[#This Row],[Hours]],\"\")","v":""},null,null,null,null,null,{"$f":"IF(OR(AH165>0.001,AH165<-0.001),Table1[[#This Row],[Employee '#]],\" \")","v":" "},false,{"$f":"SUMIF(Table1[[#This Row],[Total Wage Diff bonus]:[Bank Bonus]],\"<> \")","v":0},{"$f":"IF(AA165>0, Table1[[#This Row],[Column4]], IF(AB165>0,Table1[[#This Row],[Column4]],IF(X165>0,\"1000\")))","v":false}]
[null,null,null,null,null,null,null,null,null,null,null,null,null,null,null,null,0,null,null,null,null,null,null,null,{"$f":"IF(Table1[[#This Row],[Wage differential Bonus                            - NotePay Rate you are bonusing to]]>0, Table1[[#This Row],[Wage differential Bonus                            - NotePay Rate you are bonusing to]]-Table1[[#This Row],[Pay Rate]], \"\")","v":""},{"$f":"IF(Table1[[#This Row],[Wage differential Bonus                            - NotePay Rate you are bonusing to]]>0,Table1[[#This Row],[Bonus Rate]]*Table1[[#This Row],[Hours]],\"\")","v":""},null,null,null,null,null,{"$f":"IF(OR(AH166>0.001,AH166<-0.001),Table1[[#This Row],[Employee '#]],\" \")","v":" "},false,{"$f":"SUMIF(Table1[[#This Row],[Total Wage Diff bonus]:[Bank Bonus]],\"<> \")","v":0},{"$f":"IF(AA166>0, Table1[[#This Row],[Column4]], IF(AB166>0,Table1[[#This Row],[Column4]],IF(X166>0,\"1000\")))","v":false}]
[null,null,null,null,null,null,null,null,null,null,null,null,null,null,null,null,0,null,null,null,null,null,null,null,{"$f":"IF(Table1[[#This Row],[Wage differential Bonus                            - NotePay Rate you are bonusing to]]>0, Table1[[#This Row],[Wage differential Bonus                            - NotePay Rate you are bonusing to]]-Table1[[#This Row],[Pay Rate]], \"\")","v":""},{"$f":"IF(Table1[[#This Row],[Wage differential Bonus                            - NotePay Rate you are bonusing to]]>0,Table1[[#This Row],[Bonus Rate]]*Table1[[#This Row],[Hours]],\"\")","v":""},null,null,null,null,null,{"$f":"IF(OR(AH167>0.001,AH167<-0.001),Table1[[#This Row],[Employee '#]],\" \")","v":" "},false,{"$f":"SUMIF(Table1[[#This Row],[Total Wage Diff bonus]:[Bank Bonus]],\"<> \")","v":0},{"$f":"IF(AA167>0, Table1[[#This Row],[Column4]], IF(AB167>0,Table1[[#This Row],[Column4]],IF(X167>0,\"1000\")))","v":false}]
[null,null,null,null,null,null,null,null,null,null,null,null,null,null,null,null,0,null,null,null,null,null,null,null,{"$f":"IF(Table1[[#This Row],[Wage differential Bonus                            - NotePay Rate you are bonusing to]]>0, Table1[[#This Row],[Wage differential Bonus                            - NotePay Rate you are bonusing to]]-Table1[[#This Row],[Pay Rate]], \"\")","v":""},{"$f":"IF(Table1[[#This Row],[Wage differential Bonus                            - NotePay Rate you are bonusing to]]>0,Table1[[#This Row],[Bonus Rate]]*Table1[[#This Row],[Hours]],\"\")","v":""},null,null,null,null,null,{"$f":"IF(OR(AH168>0.001,AH168<-0.001),Table1[[#This Row],[Employee '#]],\" \")","v":" "},false,{"$f":"SUMIF(Table1[[#This Row],[Total Wage Diff bonus]:[Bank Bonus]],\"<> \")","v":0},{"$f":"IF(AA168>0, Table1[[#This Row],[Column4]], IF(AB168>0,Table1[[#This Row],[Column4]],IF(X168>0,\"1000\")))","v":false}]
[null,null,null,null,null,null,null,null,null,null,null,null,null,null,null,null,0,null,null,null,null,null,null,null,{"$f":"IF(Table1[[#This Row],[Wage differential Bonus                            - NotePay Rate you are bonusing to]]>0, Table1[[#This Row],[Wage differential Bonus                            - NotePay Rate you are bonusing to]]-Table1[[#This Row],[Pay Rate]], \"\")","v":""},{"$f":"IF(Table1[[#This Row],[Wage differential Bonus                            - NotePay Rate you are bonusing to]]>0,Table1[[#This Row],[Bonus Rate]]*Table1[[#This Row],[Hours]],\"\")","v":""},null,null,null,null,null,{"$f":"IF(OR(AH169>0.001,AH169<-0.001),Table1[[#This Row],[Employee '#]],\" \")","v":" "},false,{"$f":"SUMIF(Table1[[#This Row],[Total Wage Diff bonus]:[Bank Bonus]],\"<> \")","v":0},{"$f":"IF(AA169>0, Table1[[#This Row],[Column4]], IF(AB169>0,Table1[[#This Row],[Column4]],IF(X169>0,\"1000\")))","v":false}]
[null,null,null,null,null,null,null,null,null,null,null,null,null,null,null,null,0,null,null,null,null,null,null,null,{"$f":"IF(Table1[[#This Row],[Wage differential Bonus                            - NotePay Rate you are bonusing to]]>0, Table1[[#This Row],[Wage differential Bonus                            - NotePay Rate you are bonusing to]]-Table1[[#This Row],[Pay Rate]], \"\")","v":""},{"$f":"IF(Table1[[#This Row],[Wage differential Bonus                            - NotePay Rate you are bonusing to]]>0,Table1[[#This Row],[Bonus Rate]]*Table1[[#This Row],[Hours]],\"\")","v":""},null,null,null,null,null,{"$f":"IF(OR(AH170>0.001,AH170<-0.001),Table1[[#This Row],[Employee '#]],\" \")","v":" "},false,{"$f":"SUMIF(Table1[[#This Row],[Total Wage Diff bonus]:[Bank Bonus]],\"<> \")","v":0},{"$f":"IF(AA170>0, Table1[[#This Row],[Column4]], IF(AB170>0,Table1[[#This Row],[Column4]],IF(X170>0,\"1000\")))","v":false}]
[null,null,null,null,null,null,null,null,null,null,null,null,null,null,null,null,0,null,null,null,null,null,null,null,{"$f":"IF(Table1[[#This Row],[Wage differential Bonus                            - NotePay Rate you are bonusing to]]>0, Table1[[#This Row],[Wage differential Bonus                            - NotePay Rate you are bonusing to]]-Table1[[#This Row],[Pay Rate]], \"\")","v":""},{"$f":"IF(Table1[[#This Row],[Wage differential Bonus                            - NotePay Rate you are bonusing to]]>0,Table1[[#This Row],[Bonus Rate]]*Table1[[#This Row],[Hours]],\"\")","v":""},null,null,null,null,null,{"$f":"IF(OR(AH171>0.001,AH171<-0.001),Table1[[#This Row],[Employee '#]],\" \")","v":" "},false,{"$f":"SUMIF(Table1[[#This Row],[Total Wage Diff bonus]:[Bank Bonus]],\"<> \")","v":0},{"$f":"IF(AA171>0, Table1[[#This Row],[Column4]], IF(AB171>0,Table1[[#This Row],[Column4]],IF(X171>0,\"1000\")))","v":false}]
[null,null,null,null,null,null,null,null,null,null,null,null,null,null,null,null,0,null,null,null,null,null,null,null,{"$f":"IF(Table1[[#This Row],[Wage differential Bonus                            - NotePay Rate you are bonusing to]]>0, Table1[[#This Row],[Wage differential Bonus                            - NotePay Rate you are bonusing to]]-Table1[[#This Row],[Pay Rate]], \"\")","v":""},{"$f":"IF(Table1[[#This Row],[Wage differential Bonus                            - NotePay Rate you are bonusing to]]>0,Table1[[#This Row],[Bonus Rate]]*Table1[[#This Row],[Hours]],\"\")","v":""},null,null,null,null,null,{"$f":"IF(OR(AH172>0.001,AH172<-0.001),Table1[[#This Row],[Employee '#]],\" \")","v":" "},false,{"$f":"SUMIF(Table1[[#This Row],[Total Wage Diff bonus]:[Bank Bonus]],\"<> \")","v":0},{"$f":"IF(AA172>0, Table1[[#This Row],[Column4]], IF(AB172>0,Table1[[#This Row],[Column4]],IF(X172>0,\"1000\")))","v":false}]
[null,null,null,null,null,null,null,null,null,null,null,null,null,null,null,null,0,null,null,null,null,null,null,null,{"$f":"IF(Table1[[#This Row],[Wage differential Bonus                            - NotePay Rate you are bonusing to]]>0, Table1[[#This Row],[Wage differential Bonus                            - NotePay Rate you are bonusing to]]-Table1[[#This Row],[Pay Rate]], \"\")","v":""},{"$f":"IF(Table1[[#This Row],[Wage differential Bonus                            - NotePay Rate you are bonusing to]]>0,Table1[[#This Row],[Bonus Rate]]*Table1[[#This Row],[Hours]],\"\")","v":""},null,null,null,null,null,{"$f":"IF(OR(AH173>0.001,AH173<-0.001),Table1[[#This Row],[Employee '#]],\" \")","v":" "},false,{"$f":"SUMIF(Table1[[#This Row],[Total Wage Diff bonus]:[Bank Bonus]],\"<> \")","v":0},{"$f":"IF(AA173>0, Table1[[#This Row],[Column4]], IF(AB173>0,Table1[[#This Row],[Column4]],IF(X173>0,\"1000\")))","v":false}]
[null,null,null,null,null,null,null,null,null,null,null,null,null,null,null,null,0,null,null,null,null,null,null,null,{"$f":"IF(Table1[[#This Row],[Wage differential Bonus                            - NotePay Rate you are bonusing to]]>0, Table1[[#This Row],[Wage differential Bonus                            - NotePay Rate you are bonusing to]]-Table1[[#This Row],[Pay Rate]], \"\")","v":""},{"$f":"IF(Table1[[#This Row],[Wage differential Bonus                            - NotePay Rate you are bonusing to]]>0,Table1[[#This Row],[Bonus Rate]]*Table1[[#This Row],[Hours]],\"\")","v":""},null,null,null,null,null,{"$f":"IF(OR(AH174>0.001,AH174<-0.001),Table1[[#This Row],[Employee '#]],\" \")","v":" "},false,{"$f":"SUMIF(Table1[[#This Row],[Total Wage Diff bonus]:[Bank Bonus]],\"<> \")","v":0},{"$f":"IF(AA174>0, Table1[[#This Row],[Column4]], IF(AB174>0,Table1[[#This Row],[Column4]],IF(X174>0,\"1000\")))","v":false}]
[null,null,null,null,null,null,null,null,null,null,null,null,null,null,null,null,0,null,null,null,null,null,null,null,{"$f":"IF(Table1[[#This Row],[Wage differential Bonus                            - NotePay Rate you are bonusing to]]>0, Table1[[#This Row],[Wage differential Bonus                            - NotePay Rate you are bonusing to]]-Table1[[#This Row],[Pay Rate]], \"\")","v":""},{"$f":"IF(Table1[[#This Row],[Wage differential Bonus                            - NotePay Rate you are bonusing to]]>0,Table1[[#This Row],[Bonus Rate]]*Table1[[#This Row],[Hours]],\"\")","v":""},null,null,null,null,null,{"$f":"IF(OR(AH175>0.001,AH175<-0.001),Table1[[#This Row],[Employee '#]],\" \")","v":" "},false,{"$f":"SUMIF(Table1[[#This Row],[Total Wage Diff bonus]:[Bank Bonus]],\"<> \")","v":0},{"$f":"IF(AA175>0, Table1[[#This Row],[Column4]], IF(AB175>0,Table1[[#This Row],[Column4]],IF(X175>0,\"1000\")))","v":false}]
[null,null,null,null,null,null,null,null,null,null,null,null,null,null,null,null,0,null,null,null,null,null,null,null,{"$f":"IF(Table1[[#This Row],[Wage differential Bonus                            - NotePay Rate you are bonusing to]]>0, Table1[[#This Row],[Wage differential Bonus                            - NotePay Rate you are bonusing to]]-Table1[[#This Row],[Pay Rate]], \"\")","v":""},{"$f":"IF(Table1[[#This Row],[Wage differential Bonus                            - NotePay Rate you are bonusing to]]>0,Table1[[#This Row],[Bonus Rate]]*Table1[[#This Row],[Hours]],\"\")","v":""},null,null,null,null,null,{"$f":"IF(OR(AH176>0.001,AH176<-0.001),Table1[[#This Row],[Employee '#]],\" \")","v":" "},false,{"$f":"SUMIF(Table1[[#This Row],[Total Wage Diff bonus]:[Bank Bonus]],\"<> \")","v":0},{"$f":"IF(AA176>0, Table1[[#This Row],[Column4]], IF(AB176>0,Table1[[#This Row],[Column4]],IF(X176>0,\"1000\")))","v":false}]
[null,null,null,null,null,null,null,null,null,null,null,null,null,null,null,null,0,null,null,null,null,null,null,null,{"$f":"IF(Table1[[#This Row],[Wage differential Bonus                            - NotePay Rate you are bonusing to]]>0, Table1[[#This Row],[Wage differential Bonus                            - NotePay Rate you are bonusing to]]-Table1[[#This Row],[Pay Rate]], \"\")","v":""},{"$f":"IF(Table1[[#This Row],[Wage differential Bonus                            - NotePay Rate you are bonusing to]]>0,Table1[[#This Row],[Bonus Rate]]*Table1[[#This Row],[Hours]],\"\")","v":""},null,null,null,null,null,{"$f":"IF(OR(AH177>0.001,AH177<-0.001),Table1[[#This Row],[Employee '#]],\" \")","v":" "},false,{"$f":"SUMIF(Table1[[#This Row],[Total Wage Diff bonus]:[Bank Bonus]],\"<> \")","v":0},{"$f":"IF(AA177>0, Table1[[#This Row],[Column4]], IF(AB177>0,Table1[[#This Row],[Column4]],IF(X177>0,\"1000\")))","v":false}]
[null,null,null,null,null,null,null,null,null,null,null,null,null,null,null,null,0,null,null,null,null,null,null,null,{"$f":"IF(Table1[[#This Row],[Wage differential Bonus                            - NotePay Rate you are bonusing to]]>0, Table1[[#This Row],[Wage differential Bonus                            - NotePay Rate you are bonusing to]]-Table1[[#This Row],[Pay Rate]], \"\")","v":""},{"$f":"IF(Table1[[#This Row],[Wage differential Bonus                            - NotePay Rate you are bonusing to]]>0,Table1[[#This Row],[Bonus Rate]]*Table1[[#This Row],[Hours]],\"\")","v":""},null,null,null,null,null,{"$f":"IF(OR(AH178>0.001,AH178<-0.001),Table1[[#This Row],[Employee '#]],\" \")","v":" "},false,{"$f":"SUMIF(Table1[[#This Row],[Total Wage Diff bonus]:[Bank Bonus]],\"<> \")","v":0},{"$f":"IF(AA178>0, Table1[[#This Row],[Column4]], IF(AB178>0,Table1[[#This Row],[Column4]],IF(X178>0,\"1000\")))","v":false}]
[null,null,null,null,null,null,null,null,null,null,null,null,null,null,null,null,0,null,null,null,null,null,null,null,{"$f":"IF(Table1[[#This Row],[Wage differential Bonus                            - NotePay Rate you are bonusing to]]>0, Table1[[#This Row],[Wage differential Bonus                            - NotePay Rate you are bonusing to]]-Table1[[#This Row],[Pay Rate]], \"\")","v":""},{"$f":"IF(Table1[[#This Row],[Wage differential Bonus                            - NotePay Rate you are bonusing to]]>0,Table1[[#This Row],[Bonus Rate]]*Table1[[#This Row],[Hours]],\"\")","v":""},null,null,null,null,null,{"$f":"IF(OR(AH179>0.001,AH179<-0.001),Table1[[#This Row],[Employee '#]],\" \")","v":" "},false,{"$f":"SUMIF(Table1[[#This Row],[Total Wage Diff bonus]:[Bank Bonus]],\"<> \")","v":0},{"$f":"IF(AA179>0, Table1[[#This Row],[Column4]], IF(AB179>0,Table1[[#This Row],[Column4]],IF(X179>0,\"1000\")))","v":false}]
[null,null,null,null,null,null,null,null,null,null,null,null,null,null,null,null,0,null,null,null,null,null,null,null,{"$f":"IF(Table1[[#This Row],[Wage differential Bonus                            - NotePay Rate you are bonusing to]]>0, Table1[[#This Row],[Wage differential Bonus                            - NotePay Rate you are bonusing to]]-Table1[[#This Row],[Pay Rate]], \"\")","v":""},{"$f":"IF(Table1[[#This Row],[Wage differential Bonus                            - NotePay Rate you are bonusing to]]>0,Table1[[#This Row],[Bonus Rate]]*Table1[[#This Row],[Hours]],\"\")","v":""},null,null,null,null,null,{"$f":"IF(OR(AH180>0.001,AH180<-0.001),Table1[[#This Row],[Employee '#]],\" \")","v":" "},false,{"$f":"SUMIF(Table1[[#This Row],[Total Wage Diff bonus]:[Bank Bonus]],\"<> \")","v":0},{"$f":"IF(AA180>0, Table1[[#This Row],[Column4]], IF(AB180>0,Table1[[#This Row],[Column4]],IF(X180>0,\"1000\")))","v":false}]
[null,null,null,null,null,null,null,null,null,null,null,null,null,null,null,null,0,null,null,null,null,null,null,null,{"$f":"IF(Table1[[#This Row],[Wage differential Bonus                            - NotePay Rate you are bonusing to]]>0, Table1[[#This Row],[Wage differential Bonus                            - NotePay Rate you are bonusing to]]-Table1[[#This Row],[Pay Rate]], \"\")","v":""},{"$f":"IF(Table1[[#This Row],[Wage differential Bonus                            - NotePay Rate you are bonusing to]]>0,Table1[[#This Row],[Bonus Rate]]*Table1[[#This Row],[Hours]],\"\")","v":""},null,null,null,null,null,{"$f":"IF(OR(AH181>0.001,AH181<-0.001),Table1[[#This Row],[Employee '#]],\" \")","v":" "},false,{"$f":"SUMIF(Table1[[#This Row],[Total Wage Diff bonus]:[Bank Bonus]],\"<> \")","v":0},{"$f":"IF(AA181>0, Table1[[#This Row],[Column4]], IF(AB181>0,Table1[[#This Row],[Column4]],IF(X181>0,\"1000\")))","v":false}]
[null,null,null,null,null,null,null,null,null,null,null,null,null,null,null,null,0,null,null,null,null,null,null,null,{"$f":"IF(Table1[[#This Row],[Wage differential Bonus                            - NotePay Rate you are bonusing to]]>0, Table1[[#This Row],[Wage differential Bonus                            - NotePay Rate you are bonusing to]]-Table1[[#This Row],[Pay Rate]], \"\")","v":""},{"$f":"IF(Table1[[#This Row],[Wage differential Bonus                            - NotePay Rate you are bonusing to]]>0,Table1[[#This Row],[Bonus Rate]]*Table1[[#This Row],[Hours]],\"\")","v":""},null,null,null,null,null,{"$f":"IF(OR(AH182>0.001,AH182<-0.001),Table1[[#This Row],[Employee '#]],\" \")","v":" "},false,{"$f":"SUMIF(Table1[[#This Row],[Total Wage Diff bonus]:[Bank Bonus]],\"<> \")","v":0},{"$f":"IF(AA182>0, Table1[[#This Row],[Column4]], IF(AB182>0,Table1[[#This Row],[Column4]],IF(X182>0,\"1000\")))","v":false}]
[null,null,null,null,null,null,null,null,null,null,null,null,null,null,null,null,0,null,null,null,null,null,null,null,{"$f":"IF(Table1[[#This Row],[Wage differential Bonus                            - NotePay Rate you are bonusing to]]>0, Table1[[#This Row],[Wage differential Bonus                            - NotePay Rate you are bonusing to]]-Table1[[#This Row],[Pay Rate]], \"\")","v":""},{"$f":"IF(Table1[[#This Row],[Wage differential Bonus                            - NotePay Rate you are bonusing to]]>0,Table1[[#This Row],[Bonus Rate]]*Table1[[#This Row],[Hours]],\"\")","v":""},null,null,null,null,null,{"$f":"IF(OR(AH183>0.001,AH183<-0.001),Table1[[#This Row],[Employee '#]],\" \")","v":" "},false,{"$f":"SUMIF(Table1[[#This Row],[Total Wage Diff bonus]:[Bank Bonus]],\"<> \")","v":0},{"$f":"IF(AA183>0, Table1[[#This Row],[Column4]], IF(AB183>0,Table1[[#This Row],[Column4]],IF(X183>0,\"1000\")))","v":false}]
[null,null,null,null,null,null,null,null,null,null,null,null,null,null,null,null,0,null,null,null,null,null,null,null,{"$f":"IF(Table1[[#This Row],[Wage differential Bonus                            - NotePay Rate you are bonusing to]]>0, Table1[[#This Row],[Wage differential Bonus                            - NotePay Rate you are bonusing to]]-Table1[[#This Row],[Pay Rate]], \"\")","v":""},{"$f":"IF(Table1[[#This Row],[Wage differential Bonus                            - NotePay Rate you are bonusing to]]>0,Table1[[#This Row],[Bonus Rate]]*Table1[[#This Row],[Hours]],\"\")","v":""},null,null,null,null,null,{"$f":"IF(OR(AH184>0.001,AH184<-0.001),Table1[[#This Row],[Employee '#]],\" \")","v":" "},false,{"$f":"SUMIF(Table1[[#This Row],[Total Wage Diff bonus]:[Bank Bonus]],\"<> \")","v":0},{"$f":"IF(AA184>0, Table1[[#This Row],[Column4]], IF(AB184>0,Table1[[#This Row],[Column4]],IF(X184>0,\"1000\")))","v":false}]
[null,null,null,null,null,null,null,null,null,null,null,null,null,null,null,null,0,null,null,null,null,null,null,null,{"$f":"IF(Table1[[#This Row],[Wage differential Bonus                            - NotePay Rate you are bonusing to]]>0, Table1[[#This Row],[Wage differential Bonus                            - NotePay Rate you are bonusing to]]-Table1[[#This Row],[Pay Rate]], \"\")","v":""},{"$f":"IF(Table1[[#This Row],[Wage differential Bonus                            - NotePay Rate you are bonusing to]]>0,Table1[[#This Row],[Bonus Rate]]*Table1[[#This Row],[Hours]],\"\")","v":""},null,null,null,null,null,{"$f":"IF(OR(AH185>0.001,AH185<-0.001),Table1[[#This Row],[Employee '#]],\" \")","v":" "},false,{"$f":"SUMIF(Table1[[#This Row],[Total Wage Diff bonus]:[Bank Bonus]],\"<> \")","v":0},{"$f":"IF(AA185>0, Table1[[#This Row],[Column4]], IF(AB185>0,Table1[[#This Row],[Column4]],IF(X185>0,\"1000\")))","v":false}]
[null,null,null,null,null,null,null,null,null,null,null,null,null,null,null,null,0,null,null,null,null,null,null,null,{"$f":"IF(Table1[[#This Row],[Wage differential Bonus                            - NotePay Rate you are bonusing to]]>0, Table1[[#This Row],[Wage differential Bonus                            - NotePay Rate you are bonusing to]]-Table1[[#This Row],[Pay Rate]], \"\")","v":""},{"$f":"IF(Table1[[#This Row],[Wage differential Bonus                            - NotePay Rate you are bonusing to]]>0,Table1[[#This Row],[Bonus Rate]]*Table1[[#This Row],[Hours]],\"\")","v":""},null,null,null,null,null,{"$f":"IF(OR(AH186>0.001,AH186<-0.001),Table1[[#This Row],[Employee '#]],\" \")","v":" "},false,{"$f":"SUMIF(Table1[[#This Row],[Total Wage Diff bonus]:[Bank Bonus]],\"<> \")","v":0},{"$f":"IF(AA186>0, Table1[[#This Row],[Column4]], IF(AB186>0,Table1[[#This Row],[Column4]],IF(X186>0,\"1000\")))","v":false}]
[null,null,null,null,null,null,null,null,null,null,null,null,null,null,null,null,0,null,null,null,null,null,null,null,{"$f":"IF(Table1[[#This Row],[Wage differential Bonus                            - NotePay Rate you are bonusing to]]>0, Table1[[#This Row],[Wage differential Bonus                            - NotePay Rate you are bonusing to]]-Table1[[#This Row],[Pay Rate]], \"\")","v":""},{"$f":"IF(Table1[[#This Row],[Wage differential Bonus                            - NotePay Rate you are bonusing to]]>0,Table1[[#This Row],[Bonus Rate]]*Table1[[#This Row],[Hours]],\"\")","v":""},null,null,null,null,null,{"$f":"IF(OR(AH187>0.001,AH187<-0.001),Table1[[#This Row],[Employee '#]],\" \")","v":" "},false,{"$f":"SUMIF(Table1[[#This Row],[Total Wage Diff bonus]:[Bank Bonus]],\"<> \")","v":0},{"$f":"IF(AA187>0, Table1[[#This Row],[Column4]], IF(AB187>0,Table1[[#This Row],[Column4]],IF(X187>0,\"1000\")))","v":false}]
[null,null,null,null,null,null,null,null,null,null,null,null,null,null,null,null,0,null,null,null,null,null,null,null,{"$f":"IF(Table1[[#This Row],[Wage differential Bonus                            - NotePay Rate you are bonusing to]]>0, Table1[[#This Row],[Wage differential Bonus                            - NotePay Rate you are bonusing to]]-Table1[[#This Row],[Pay Rate]], \"\")","v":""},{"$f":"IF(Table1[[#This Row],[Wage differential Bonus                            - NotePay Rate you are bonusing to]]>0,Table1[[#This Row],[Bonus Rate]]*Table1[[#This Row],[Hours]],\"\")","v":""},null,null,null,null,null,{"$f":"IF(OR(AH188>0.001,AH188<-0.001),Table1[[#This Row],[Employee '#]],\" \")","v":" "},false,{"$f":"SUMIF(Table1[[#This Row],[Total Wage Diff bonus]:[Bank Bonus]],\"<> \")","v":0},{"$f":"IF(AA188>0, Table1[[#This Row],[Column4]], IF(AB188>0,Table1[[#This Row],[Column4]],IF(X188>0,\"1000\")))","v":false}]
[null,null,null,null,null,null,null,null,null,null,null,null,null,null,null,null,0,null,null,null,null,null,null,null,{"$f":"IF(Table1[[#This Row],[Wage differential Bonus                            - NotePay Rate you are bonusing to]]>0, Table1[[#This Row],[Wage differential Bonus                            - NotePay Rate you are bonusing to]]-Table1[[#This Row],[Pay Rate]], \"\")","v":""},{"$f":"IF(Table1[[#This Row],[Wage differential Bonus                            - NotePay Rate you are bonusing to]]>0,Table1[[#This Row],[Bonus Rate]]*Table1[[#This Row],[Hours]],\"\")","v":""},null,null,null,null,null,{"$f":"IF(OR(AH189>0.001,AH189<-0.001),Table1[[#This Row],[Employee '#]],\" \")","v":" "},false,{"$f":"SUMIF(Table1[[#This Row],[Total Wage Diff bonus]:[Bank Bonus]],\"<> \")","v":0},{"$f":"IF(AA189>0, Table1[[#This Row],[Column4]], IF(AB189>0,Table1[[#This Row],[Column4]],IF(X189>0,\"1000\")))","v":false}]
[null,null,null,null,null,null,null,null,null,null,null,null,null,null,null,null,0,null,null,null,null,null,null,null,{"$f":"IF(Table1[[#This Row],[Wage differential Bonus                            - NotePay Rate you are bonusing to]]>0, Table1[[#This Row],[Wage differential Bonus                            - NotePay Rate you are bonusing to]]-Table1[[#This Row],[Pay Rate]], \"\")","v":""},{"$f":"IF(Table1[[#This Row],[Wage differential Bonus                            - NotePay Rate you are bonusing to]]>0,Table1[[#This Row],[Bonus Rate]]*Table1[[#This Row],[Hours]],\"\")","v":""},null,null,null,null,null,{"$f":"IF(OR(AH190>0.001,AH190<-0.001),Table1[[#This Row],[Employee '#]],\" \")","v":" "},false,{"$f":"SUMIF(Table1[[#This Row],[Total Wage Diff bonus]:[Bank Bonus]],\"<> \")","v":0},{"$f":"IF(AA190>0, Table1[[#This Row],[Column4]], IF(AB190>0,Table1[[#This Row],[Column4]],IF(X190>0,\"1000\")))","v":false}]
[null,null,null,null,null,null,null,null,null,null,null,null,null,null,null,null,0,null,null,null,null,null,null,null,{"$f":"IF(Table1[[#This Row],[Wage differential Bonus                            - NotePay Rate you are bonusing to]]>0, Table1[[#This Row],[Wage differential Bonus                            - NotePay Rate you are bonusing to]]-Table1[[#This Row],[Pay Rate]], \"\")","v":""},{"$f":"IF(Table1[[#This Row],[Wage differential Bonus                            - NotePay Rate you are bonusing to]]>0,Table1[[#This Row],[Bonus Rate]]*Table1[[#This Row],[Hours]],\"\")","v":""},null,null,null,null,null,{"$f":"IF(OR(AH191>0.001,AH191<-0.001),Table1[[#This Row],[Employee '#]],\" \")","v":" "},false,{"$f":"SUMIF(Table1[[#This Row],[Total Wage Diff bonus]:[Bank Bonus]],\"<> \")","v":0},{"$f":"IF(AA191>0, Table1[[#This Row],[Column4]], IF(AB191>0,Table1[[#This Row],[Column4]],IF(X191>0,\"1000\")))","v":false}]
[null,null,null,null,null,null,null,null,null,null,null,null,null,null,null,null,0,null,null,null,null,null,null,null,{"$f":"IF(Table1[[#This Row],[Wage differential Bonus                            - NotePay Rate you are bonusing to]]>0, Table1[[#This Row],[Wage differential Bonus                            - NotePay Rate you are bonusing to]]-Table1[[#This Row],[Pay Rate]], \"\")","v":""},{"$f":"IF(Table1[[#This Row],[Wage differential Bonus                            - NotePay Rate you are bonusing to]]>0,Table1[[#This Row],[Bonus Rate]]*Table1[[#This Row],[Hours]],\"\")","v":""},null,null,null,null,null,{"$f":"IF(OR(AH192>0.001,AH192<-0.001),Table1[[#This Row],[Employee '#]],\" \")","v":" "},false,{"$f":"SUMIF(Table1[[#This Row],[Total Wage Diff bonus]:[Bank Bonus]],\"<> \")","v":0},{"$f":"IF(AA192>0, Table1[[#This Row],[Column4]], IF(AB192>0,Table1[[#This Row],[Column4]],IF(X192>0,\"1000\")))","v":false}]
[null,null,null,null,null,null,null,null,null,null,null,null,null,null,null,null,0,null,null,null,null,null,null,null,{"$f":"IF(Table1[[#This Row],[Wage differential Bonus                            - NotePay Rate you are bonusing to]]>0, Table1[[#This Row],[Wage differential Bonus                            - NotePay Rate you are bonusing to]]-Table1[[#This Row],[Pay Rate]], \"\")","v":""},{"$f":"IF(Table1[[#This Row],[Wage differential Bonus                            - NotePay Rate you are bonusing to]]>0,Table1[[#This Row],[Bonus Rate]]*Table1[[#This Row],[Hours]],\"\")","v":""},null,null,null,null,null,{"$f":"IF(OR(AH193>0.001,AH193<-0.001),Table1[[#This Row],[Employee '#]],\" \")","v":" "},false,{"$f":"SUMIF(Table1[[#This Row],[Total Wage Diff bonus]:[Bank Bonus]],\"<> \")","v":0},{"$f":"IF(AA193>0, Table1[[#This Row],[Column4]], IF(AB193>0,Table1[[#This Row],[Column4]],IF(X193>0,\"1000\")))","v":false}]
[null,null,null,null,null,null,null,null,null,null,null,null,null,null,null,null,0,null,null,null,null,null,null,null,{"$f":"IF(Table1[[#This Row],[Wage differential Bonus                            - NotePay Rate you are bonusing to]]>0, Table1[[#This Row],[Wage differential Bonus                            - NotePay Rate you are bonusing to]]-Table1[[#This Row],[Pay Rate]], \"\")","v":""},{"$f":"IF(Table1[[#This Row],[Wage differential Bonus                            - NotePay Rate you are bonusing to]]>0,Table1[[#This Row],[Bonus Rate]]*Table1[[#This Row],[Hours]],\"\")","v":""},null,null,null,null,null,{"$f":"IF(OR(AH194>0.001,AH194<-0.001),Table1[[#This Row],[Employee '#]],\" \")","v":" "},false,{"$f":"SUMIF(Table1[[#This Row],[Total Wage Diff bonus]:[Bank Bonus]],\"<> \")","v":0},{"$f":"IF(AA194>0, Table1[[#This Row],[Column4]], IF(AB194>0,Table1[[#This Row],[Column4]],IF(X194>0,\"1000\")))","v":false}]
[null,null,null,null,null,null,null,null,null,null,null,null,null,null,null,null,0,null,null,null,null,null,null,null,{"$f":"IF(Table1[[#This Row],[Wage differential Bonus                            - NotePay Rate you are bonusing to]]>0, Table1[[#This Row],[Wage differential Bonus                            - NotePay Rate you are bonusing to]]-Table1[[#This Row],[Pay Rate]], \"\")","v":""},{"$f":"IF(Table1[[#This Row],[Wage differential Bonus                            - NotePay Rate you are bonusing to]]>0,Table1[[#This Row],[Bonus Rate]]*Table1[[#This Row],[Hours]],\"\")","v":""},null,null,null,null,null,{"$f":"IF(OR(AH195>0.001,AH195<-0.001),Table1[[#This Row],[Employee '#]],\" \")","v":" "},false,{"$f":"SUMIF(Table1[[#This Row],[Total Wage Diff bonus]:[Bank Bonus]],\"<> \")","v":0},{"$f":"IF(AA195>0, Table1[[#This Row],[Column4]], IF(AB195>0,Table1[[#This Row],[Column4]],IF(X195>0,\"1000\")))","v":false}]
[null,null,null,null,null,null,null,null,null,null,null,null,null,null,null,null,{"$f":"L196+P196","v":0},null,null,null,null,null,null,null,{"$f":"IF(Table1[[#This Row],[Wage differential Bonus                            - NotePay Rate you are bonusing to]]>0, Table1[[#This Row],[Wage differential Bonus                            - NotePay Rate you are bonusing to]]-Table1[[#This Row],[Pay Rate]], \"\")","v":""},{"$f":"IF(Table1[[#This Row],[Wage differential Bonus                            - NotePay Rate you are bonusing to]]>0,Table1[[#This Row],[Bonus Rate]]*Table1[[#This Row],[Hours]],\"\")","v":""},null,null,null,null,null,{"$f":"IF(OR(AH196>0.001,AH196<-0.001),Table1[[#This Row],[Employee '#]],\" \")","v":" "},{"$f":"IF(AA196>0, \"28\", IF(AB196>0,\"53\",IF(X196>0,\"20\")))","v":false},{"$f":"SUMIF(Table1[[#This Row],[Total Wage Diff bonus]:[Bank Bonus]],\"<> \")","v":0},{"$f":"IF(AA196>0, Table1[[#This Row],[Column4]], IF(AB196>0,Table1[[#This Row],[Column4]],IF(X196>0,\"1000\")))","v":false}]
[null,null,null,null,null,null,null,null,null,null,null,null,null,null,null,null,0,null,null,null,null,null,null,null,{"$f":"IF(Table1[[#This Row],[Wage differential Bonus                            - NotePay Rate you are bonusing to]]>0, Table1[[#This Row],[Wage differential Bonus                            - NotePay Rate you are bonusing to]]-Table1[[#This Row],[Pay Rate]], \"\")","v":""},{"$f":"IF(Table1[[#This Row],[Wage differential Bonus                            - NotePay Rate you are bonusing to]]>0,Table1[[#This Row],[Bonus Rate]]*Table1[[#This Row],[Hours]],\"\")","v":""},null,null,null,null,null,{"$f":"IF(OR(AH197>0.001,AH197<-0.001),Table1[[#This Row],[Employee '#]],\" \")","v":" "},false,{"$f":"SUMIF(Table1[[#This Row],[Total Wage Diff bonus]:[Bank Bonus]],\"<> \")","v":0},{"$f":"IF(AA197>0, Table1[[#This Row],[Column4]], IF(AB197>0,Table1[[#This Row],[Column4]],IF(X197>0,\"1000\")))","v":false}]
[null,null,null,null,null,null,null,null,null,null,null,null,null,null,null,null,0,null,null,null,null,null,null,null,{"$f":"IF(Table1[[#This Row],[Wage differential Bonus                            - NotePay Rate you are bonusing to]]>0, Table1[[#This Row],[Wage differential Bonus                            - NotePay Rate you are bonusing to]]-Table1[[#This Row],[Pay Rate]], \"\")","v":""},{"$f":"IF(Table1[[#This Row],[Wage differential Bonus                            - NotePay Rate you are bonusing to]]>0,Table1[[#This Row],[Bonus Rate]]*Table1[[#This Row],[Hours]],\"\")","v":""},null,null,null,null,null,{"$f":"IF(OR(AH198>0.001,AH198<-0.001),Table1[[#This Row],[Employee '#]],\" \")","v":" "},false,{"$f":"SUMIF(Table1[[#This Row],[Total Wage Diff bonus]:[Bank Bonus]],\"<> \")","v":0},{"$f":"IF(AA198>0, Table1[[#This Row],[Column4]], IF(AB198>0,Table1[[#This Row],[Column4]],IF(X198>0,\"1000\")))","v":false}]
[null,null,null,null,null,null,null,null,null,null,null,null,null,null,null,null,0,null,null,null,null,null,null,null,{"$f":"IF(Table1[[#This Row],[Wage differential Bonus                            - NotePay Rate you are bonusing to]]>0, Table1[[#This Row],[Wage differential Bonus                            - NotePay Rate you are bonusing to]]-Table1[[#This Row],[Pay Rate]], \"\")","v":""},{"$f":"IF(Table1[[#This Row],[Wage differential Bonus                            - NotePay Rate you are bonusing to]]>0,Table1[[#This Row],[Bonus Rate]]*Table1[[#This Row],[Hours]],\"\")","v":""},null,null,null,null,null,{"$f":"IF(OR(AH199>0.001,AH199<-0.001),Table1[[#This Row],[Employee '#]],\" \")","v":" "},false,{"$f":"SUMIF(Table1[[#This Row],[Total Wage Diff bonus]:[Bank Bonus]],\"<> \")","v":0},{"$f":"IF(AA199>0, Table1[[#This Row],[Column4]], IF(AB199>0,Table1[[#This Row],[Column4]],IF(X199>0,\"1000\")))","v":false}]
[null,null,null,null,null,null,null,null,null,null,null,null,null,null,null,null,0,null,null,null,null,null,null,null,{"$f":"IF(Table1[[#This Row],[Wage differential Bonus                            - NotePay Rate you are bonusing to]]>0, Table1[[#This Row],[Wage differential Bonus                            - NotePay Rate you are bonusing to]]-Table1[[#This Row],[Pay Rate]], \"\")","v":""},{"$f":"IF(Table1[[#This Row],[Wage differential Bonus                            - NotePay Rate you are bonusing to]]>0,Table1[[#This Row],[Bonus Rate]]*Table1[[#This Row],[Hours]],\"\")","v":""},null,null,null,null,null,{"$f":"IF(OR(AH200>0.001,AH200<-0.001),Table1[[#This Row],[Employee '#]],\" \")","v":" "},false,{"$f":"SUMIF(Table1[[#This Row],[Total Wage Diff bonus]:[Bank Bonus]],\"<> \")","v":0},{"$f":"IF(AA200>0, Table1[[#This Row],[Column4]], IF(AB200>0,Table1[[#This Row],[Column4]],IF(X200>0,\"1000\")))","v":false}]
[null,null,null,null,null,null,null,null,null,null,null,null,null,null,null,null,0,null,null,null,null,null,null,null,{"$f":"IF(Table1[[#This Row],[Wage differential Bonus                            - NotePay Rate you are bonusing to]]>0, Table1[[#This Row],[Wage differential Bonus                            - NotePay Rate you are bonusing to]]-Table1[[#This Row],[Pay Rate]], \"\")","v":""},{"$f":"IF(Table1[[#This Row],[Wage differential Bonus                            - NotePay Rate you are bonusing to]]>0,Table1[[#This Row],[Bonus Rate]]*Table1[[#This Row],[Hours]],\"\")","v":""},null,null,null,null,null,{"$f":"IF(OR(AH201>0.001,AH201<-0.001),Table1[[#This Row],[Employee '#]],\" \")","v":" "},false,{"$f":"SUMIF(Table1[[#This Row],[Total Wage Diff bonus]:[Bank Bonus]],\"<> \")","v":0},{"$f":"IF(AA201>0, Table1[[#This Row],[Column4]], IF(AB201>0,Table1[[#This Row],[Column4]],IF(X201>0,\"1000\")))","v":false}]
[null,null,null,null,null,null,null,null,null,null,null,null,null,null,null,null,0,null,null,null,null,null,null,null,{"$f":"IF(Table1[[#This Row],[Wage differential Bonus                            - NotePay Rate you are bonusing to]]>0, Table1[[#This Row],[Wage differential Bonus                            - NotePay Rate you are bonusing to]]-Table1[[#This Row],[Pay Rate]], \"\")","v":""},{"$f":"IF(Table1[[#This Row],[Wage differential Bonus                            - NotePay Rate you are bonusing to]]>0,Table1[[#This Row],[Bonus Rate]]*Table1[[#This Row],[Hours]],\"\")","v":""},null,null,null,null,null,{"$f":"IF(OR(AH202>0.001,AH202<-0.001),Table1[[#This Row],[Employee '#]],\" \")","v":" "},false,{"$f":"SUMIF(Table1[[#This Row],[Total Wage Diff bonus]:[Bank Bonus]],\"<> \")","v":0},{"$f":"IF(AA202>0, Table1[[#This Row],[Column4]], IF(AB202>0,Table1[[#This Row],[Column4]],IF(X202>0,\"1000\")))","v":false}]
[null,null,null,null,null,null,null,null,null,null,null,null,null,null,null,null,0,null,null,null,null,null,null,null,{"$f":"IF(Table1[[#This Row],[Wage differential Bonus                            - NotePay Rate you are bonusing to]]>0, Table1[[#This Row],[Wage differential Bonus                            - NotePay Rate you are bonusing to]]-Table1[[#This Row],[Pay Rate]], \"\")","v":""},{"$f":"IF(Table1[[#This Row],[Wage differential Bonus                            - NotePay Rate you are bonusing to]]>0,Table1[[#This Row],[Bonus Rate]]*Table1[[#This Row],[Hours]],\"\")","v":""},null,null,null,null,null,{"$f":"IF(OR(AH203>0.001,AH203<-0.001),Table1[[#This Row],[Employee '#]],\" \")","v":" "},false,{"$f":"SUMIF(Table1[[#This Row],[Total Wage Diff bonus]:[Bank Bonus]],\"<> \")","v":0},{"$f":"IF(AA203>0, Table1[[#This Row],[Column4]], IF(AB203>0,Table1[[#This Row],[Column4]],IF(X203>0,\"1000\")))","v":false}]
[null,null,null,null,null,null,null,null,null,null,null,null,null,null,null,null,0,null,null,null,null,null,null,null,{"$f":"IF(Table1[[#This Row],[Wage differential Bonus                            - NotePay Rate you are bonusing to]]>0, Table1[[#This Row],[Wage differential Bonus                            - NotePay Rate you are bonusing to]]-Table1[[#This Row],[Pay Rate]], \"\")","v":""},{"$f":"IF(Table1[[#This Row],[Wage differential Bonus                            - NotePay Rate you are bonusing to]]>0,Table1[[#This Row],[Bonus Rate]]*Table1[[#This Row],[Hours]],\"\")","v":""},null,null,null,null,null,{"$f":"IF(OR(AH204>0.001,AH204<-0.001),Table1[[#This Row],[Employee '#]],\" \")","v":" "},false,{"$f":"SUMIF(Table1[[#This Row],[Total Wage Diff bonus]:[Bank Bonus]],\"<> \")","v":0},{"$f":"IF(AA204>0, Table1[[#This Row],[Column4]], IF(AB204>0,Table1[[#This Row],[Column4]],IF(X204>0,\"1000\")))","v":false}]
[null,null,null,null,null,null,null,null,null,null,null,null,null,null,null,null,0,null,null,null,null,null,null,null,{"$f":"IF(Table1[[#This Row],[Wage differential Bonus                            - NotePay Rate you are bonusing to]]>0, Table1[[#This Row],[Wage differential Bonus                            - NotePay Rate you are bonusing to]]-Table1[[#This Row],[Pay Rate]], \"\")","v":""},{"$f":"IF(Table1[[#This Row],[Wage differential Bonus                            - NotePay Rate you are bonusing to]]>0,Table1[[#This Row],[Bonus Rate]]*Table1[[#This Row],[Hours]],\"\")","v":""},null,null,null,null,null,{"$f":"IF(OR(AH205>0.001,AH205<-0.001),Table1[[#This Row],[Employee '#]],\" \")","v":" "},false,{"$f":"SUMIF(Table1[[#This Row],[Total Wage Diff bonus]:[Bank Bonus]],\"<> \")","v":0},{"$f":"IF(AA205>0, Table1[[#This Row],[Column4]], IF(AB205>0,Table1[[#This Row],[Column4]],IF(X205>0,\"1000\")))","v":false}]
[null,null,null,null,null,null,null,null,null,null,null,null,null,null,null,null,0,null,null,null,null,null,null,null,{"$f":"IF(Table1[[#This Row],[Wage differential Bonus                            - NotePay Rate you are bonusing to]]>0, Table1[[#This Row],[Wage differential Bonus                            - NotePay Rate you are bonusing to]]-Table1[[#This Row],[Pay Rate]], \"\")","v":""},{"$f":"IF(Table1[[#This Row],[Wage differential Bonus                            - NotePay Rate you are bonusing to]]>0,Table1[[#This Row],[Bonus Rate]]*Table1[[#This Row],[Hours]],\"\")","v":""},null,null,null,null,null,{"$f":"IF(OR(AH206>0.001,AH206<-0.001),Table1[[#This Row],[Employee '#]],\" \")","v":" "},false,{"$f":"SUMIF(Table1[[#This Row],[Total Wage Diff bonus]:[Bank Bonus]],\"<> \")","v":0},{"$f":"IF(AA206>0, Table1[[#This Row],[Column4]], IF(AB206>0,Table1[[#This Row],[Column4]],IF(X206>0,\"1000\")))","v":false}]
[null,null,null,null,null,null,null,null,null,null,null,null,null,null,null,null,0,null,null,null,null,null,null,null,{"$f":"IF(Table1[[#This Row],[Wage differential Bonus                            - NotePay Rate you are bonusing to]]>0, Table1[[#This Row],[Wage differential Bonus                            - NotePay Rate you are bonusing to]]-Table1[[#This Row],[Pay Rate]], \"\")","v":""},{"$f":"IF(Table1[[#This Row],[Wage differential Bonus                            - NotePay Rate you are bonusing to]]>0,Table1[[#This Row],[Bonus Rate]]*Table1[[#This Row],[Hours]],\"\")","v":""},null,null,null,null,null,{"$f":"IF(OR(AH207>0.001,AH207<-0.001),Table1[[#This Row],[Employee '#]],\" \")","v":" "},false,{"$f":"SUMIF(Table1[[#This Row],[Total Wage Diff bonus]:[Bank Bonus]],\"<> \")","v":0},{"$f":"IF(AA207>0, Table1[[#This Row],[Column4]], IF(AB207>0,Table1[[#This Row],[Column4]],IF(X207>0,\"1000\")))","v":false}]
[null,null,null,null,null,null,null,null,null,null,null,null,null,null,null,null,0,null,null,null,null,null,null,null,{"$f":"IF(Table1[[#This Row],[Wage differential Bonus                            - NotePay Rate you are bonusing to]]>0, Table1[[#This Row],[Wage differential Bonus                            - NotePay Rate you are bonusing to]]-Table1[[#This Row],[Pay Rate]], \"\")","v":""},{"$f":"IF(Table1[[#This Row],[Wage differential Bonus                            - NotePay Rate you are bonusing to]]>0,Table1[[#This Row],[Bonus Rate]]*Table1[[#This Row],[Hours]],\"\")","v":""},null,null,null,null,null,{"$f":"IF(OR(AH208>0.001,AH208<-0.001),Table1[[#This Row],[Employee '#]],\" \")","v":" "},false,{"$f":"SUMIF(Table1[[#This Row],[Total Wage Diff bonus]:[Bank Bonus]],\"<> \")","v":0},{"$f":"IF(AA208>0, Table1[[#This Row],[Column4]], IF(AB208>0,Table1[[#This Row],[Column4]],IF(X208>0,\"1000\")))","v":false}]
[null,null,null,null,null,null,null,null,null,null,null,null,null,null,null,null,0,null,null,null,null,null,null,null,{"$f":"IF(Table1[[#This Row],[Wage differential Bonus                            - NotePay Rate you are bonusing to]]>0, Table1[[#This Row],[Wage differential Bonus                            - NotePay Rate you are bonusing to]]-Table1[[#This Row],[Pay Rate]], \"\")","v":""},{"$f":"IF(Table1[[#This Row],[Wage differential Bonus                            - NotePay Rate you are bonusing to]]>0,Table1[[#This Row],[Bonus Rate]]*Table1[[#This Row],[Hours]],\"\")","v":""},null,null,null,null,null,{"$f":"IF(OR(AH209>0.001,AH209<-0.001),Table1[[#This Row],[Employee '#]],\" \")","v":" "},false,{"$f":"SUMIF(Table1[[#This Row],[Total Wage Diff bonus]:[Bank Bonus]],\"<> \")","v":0},{"$f":"IF(AA209>0, Table1[[#This Row],[Column4]], IF(AB209>0,Table1[[#This Row],[Column4]],IF(X209>0,\"1000\")))","v":false}]
[null,null,null,null,null,null,null,null,null,null,null,null,null,null,null,null,0,null,null,null,null,null,null,null,{"$f":"IF(Table1[[#This Row],[Wage differential Bonus                            - NotePay Rate you are bonusing to]]>0, Table1[[#This Row],[Wage differential Bonus                            - NotePay Rate you are bonusing to]]-Table1[[#This Row],[Pay Rate]], \"\")","v":""},{"$f":"IF(Table1[[#This Row],[Wage differential Bonus                            - NotePay Rate you are bonusing to]]>0,Table1[[#This Row],[Bonus Rate]]*Table1[[#This Row],[Hours]],\"\")","v":""},null,null,null,null,null,{"$f":"IF(OR(AH210>0.001,AH210<-0.001),Table1[[#This Row],[Employee '#]],\" \")","v":" "},false,{"$f":"SUMIF(Table1[[#This Row],[Total Wage Diff bonus]:[Bank Bonus]],\"<> \")","v":0},{"$f":"IF(AA210>0, Table1[[#This Row],[Column4]], IF(AB210>0,Table1[[#This Row],[Column4]],IF(X210>0,\"1000\")))","v":false}]
[null,null,null,null,null,null,null,null,null,null,null,null,null,null,null,null,0,null,null,null,null,null,null,null,{"$f":"IF(Table1[[#This Row],[Wage differential Bonus                            - NotePay Rate you are bonusing to]]>0, Table1[[#This Row],[Wage differential Bonus                            - NotePay Rate you are bonusing to]]-Table1[[#This Row],[Pay Rate]], \"\")","v":""},{"$f":"IF(Table1[[#This Row],[Wage differential Bonus                            - NotePay Rate you are bonusing to]]>0,Table1[[#This Row],[Bonus Rate]]*Table1[[#This Row],[Hours]],\"\")","v":""},null,null,null,null,null,{"$f":"IF(OR(AH211>0.001,AH211<-0.001),Table1[[#This Row],[Employee '#]],\" \")","v":" "},false,{"$f":"SUMIF(Table1[[#This Row],[Total Wage Diff bonus]:[Bank Bonus]],\"<> \")","v":0},{"$f":"IF(AA211>0, Table1[[#This Row],[Column4]], IF(AB211>0,Table1[[#This Row],[Column4]],IF(X211>0,\"1000\")))","v":false}]
[null,null,null,null,null,null,null,null,null,null,null,null,null,null,null,null,0,null,null,null,null,null,null,null,{"$f":"IF(Table1[[#This Row],[Wage differential Bonus                            - NotePay Rate you are bonusing to]]>0, Table1[[#This Row],[Wage differential Bonus                            - NotePay Rate you are bonusing to]]-Table1[[#This Row],[Pay Rate]], \"\")","v":""},{"$f":"IF(Table1[[#This Row],[Wage differential Bonus                            - NotePay Rate you are bonusing to]]>0,Table1[[#This Row],[Bonus Rate]]*Table1[[#This Row],[Hours]],\"\")","v":""},null,null,null,null,null,{"$f":"IF(OR(AH212>0.001,AH212<-0.001),Table1[[#This Row],[Employee '#]],\" \")","v":" "},false,{"$f":"SUMIF(Table1[[#This Row],[Total Wage Diff bonus]:[Bank Bonus]],\"<> \")","v":0},{"$f":"IF(AA212>0, Table1[[#This Row],[Column4]], IF(AB212>0,Table1[[#This Row],[Column4]],IF(X212>0,\"1000\")))","v":false}]
[null,null,null,null,null,null,null,null,null,null,null,null,null,null,null,null,0,null,null,null,null,null,null,null,{"$f":"IF(Table1[[#This Row],[Wage differential Bonus                            - NotePay Rate you are bonusing to]]>0, Table1[[#This Row],[Wage differential Bonus                            - NotePay Rate you are bonusing to]]-Table1[[#This Row],[Pay Rate]], \"\")","v":""},{"$f":"IF(Table1[[#This Row],[Wage differential Bonus                            - NotePay Rate you are bonusing to]]>0,Table1[[#This Row],[Bonus Rate]]*Table1[[#This Row],[Hours]],\"\")","v":""},null,null,null,null,null,{"$f":"IF(OR(AH213>0.001,AH213<-0.001),Table1[[#This Row],[Employee '#]],\" \")","v":" "},false,{"$f":"SUMIF(Table1[[#This Row],[Total Wage Diff bonus]:[Bank Bonus]],\"<> \")","v":0},{"$f":"IF(AA213>0, Table1[[#This Row],[Column4]], IF(AB213>0,Table1[[#This Row],[Column4]],IF(X213>0,\"1000\")))","v":false}]
[null,null,null,null,null,null,null,null,null,null,null,null,null,null,null,null,0,null,null,null,null,null,null,null,{"$f":"IF(Table1[[#This Row],[Wage differential Bonus                            - NotePay Rate you are bonusing to]]>0, Table1[[#This Row],[Wage differential Bonus                            - NotePay Rate you are bonusing to]]-Table1[[#This Row],[Pay Rate]], \"\")","v":""},{"$f":"IF(Table1[[#This Row],[Wage differential Bonus                            - NotePay Rate you are bonusing to]]>0,Table1[[#This Row],[Bonus Rate]]*Table1[[#This Row],[Hours]],\"\")","v":""},null,null,null,null,null,{"$f":"IF(OR(AH214>0.001,AH214<-0.001),Table1[[#This Row],[Employee '#]],\" \")","v":" "},false,{"$f":"SUMIF(Table1[[#This Row],[Total Wage Diff bonus]:[Bank Bonus]],\"<> \")","v":0},{"$f":"IF(AA214>0, Table1[[#This Row],[Column4]], IF(AB214>0,Table1[[#This Row],[Column4]],IF(X214>0,\"1000\")))","v":false}]
[null,null,null,null,null,null,null,null,null,null,null,null,null,null,null,null,0,null,null,null,null,null,null,null,{"$f":"IF(Table1[[#This Row],[Wage differential Bonus                            - NotePay Rate you are bonusing to]]>0, Table1[[#This Row],[Wage differential Bonus                            - NotePay Rate you are bonusing to]]-Table1[[#This Row],[Pay Rate]], \"\")","v":""},{"$f":"IF(Table1[[#This Row],[Wage differential Bonus                            - NotePay Rate you are bonusing to]]>0,Table1[[#This Row],[Bonus Rate]]*Table1[[#This Row],[Hours]],\"\")","v":""},null,null,null,null,null,{"$f":"IF(OR(AH215>0.001,AH215<-0.001),Table1[[#This Row],[Employee '#]],\" \")","v":" "},false,{"$f":"SUMIF(Table1[[#This Row],[Total Wage Diff bonus]:[Bank Bonus]],\"<> \")","v":0},{"$f":"IF(AA215>0, Table1[[#This Row],[Column4]], IF(AB215>0,Table1[[#This Row],[Column4]],IF(X215>0,\"1000\")))","v":false}]
[null,null,null,null,null,null,null,null,null,null,null,null,null,null,null,null,0,null,null,null,null,null,null,null,{"$f":"IF(Table1[[#This Row],[Wage differential Bonus                            - NotePay Rate you are bonusing to]]>0, Table1[[#This Row],[Wage differential Bonus                            - NotePay Rate you are bonusing to]]-Table1[[#This Row],[Pay Rate]], \"\")","v":""},{"$f":"IF(Table1[[#This Row],[Wage differential Bonus                            - NotePay Rate you are bonusing to]]>0,Table1[[#This Row],[Bonus Rate]]*Table1[[#This Row],[Hours]],\"\")","v":""},null,null,null,null,null,{"$f":"IF(OR(AH216>0.001,AH216<-0.001),Table1[[#This Row],[Employee '#]],\" \")","v":" "},false,{"$f":"SUMIF(Table1[[#This Row],[Total Wage Diff bonus]:[Bank Bonus]],\"<> \")","v":0},{"$f":"IF(AA216>0, Table1[[#This Row],[Column4]], IF(AB216>0,Table1[[#This Row],[Column4]],IF(X216>0,\"1000\")))","v":false}]
[null,null,null,null,null,null,null,null,null,null,null,null,null,null,null,null,0,null,null,null,null,null,null,null,{"$f":"IF(Table1[[#This Row],[Wage differential Bonus                            - NotePay Rate you are bonusing to]]>0, Table1[[#This Row],[Wage differential Bonus                            - NotePay Rate you are bonusing to]]-Table1[[#This Row],[Pay Rate]], \"\")","v":""},{"$f":"IF(Table1[[#This Row],[Wage differential Bonus                            - NotePay Rate you are bonusing to]]>0,Table1[[#This Row],[Bonus Rate]]*Table1[[#This Row],[Hours]],\"\")","v":""},null,null,null,null,null,{"$f":"IF(OR(AH217>0.001,AH217<-0.001),Table1[[#This Row],[Employee '#]],\" \")","v":" "},false,{"$f":"SUMIF(Table1[[#This Row],[Total Wage Diff bonus]:[Bank Bonus]],\"<> \")","v":0},{"$f":"IF(AA217>0, Table1[[#This Row],[Column4]], IF(AB217>0,Table1[[#This Row],[Column4]],IF(X217>0,\"1000\")))","v":false}]
[null,null,null,null,null,null,null,null,null,null,null,null,null,null,null,null,0,null,null,null,null,null,null,null,{"$f":"IF(Table1[[#This Row],[Wage differential Bonus                            - NotePay Rate you are bonusing to]]>0, Table1[[#This Row],[Wage differential Bonus                            - NotePay Rate you are bonusing to]]-Table1[[#This Row],[Pay Rate]], \"\")","v":""},{"$f":"IF(Table1[[#This Row],[Wage differential Bonus                            - NotePay Rate you are bonusing to]]>0,Table1[[#This Row],[Bonus Rate]]*Table1[[#This Row],[Hours]],\"\")","v":""},null,null,null,null,null,{"$f":"IF(OR(AH218>0.001,AH218<-0.001),Table1[[#This Row],[Employee '#]],\" \")","v":" "},false,{"$f":"SUMIF(Table1[[#This Row],[Total Wage Diff bonus]:[Bank Bonus]],\"<> \")","v":0},{"$f":"IF(AA218>0, Table1[[#This Row],[Column4]], IF(AB218>0,Table1[[#This Row],[Column4]],IF(X218>0,\"1000\")))","v":false}]
[null,null,null,null,null,null,null,null,null,null,null,null,null,null,null,null,0,null,null,null,null,null,null,null,{"$f":"IF(Table1[[#This Row],[Wage differential Bonus                            - NotePay Rate you are bonusing to]]>0, Table1[[#This Row],[Wage differential Bonus                            - NotePay Rate you are bonusing to]]-Table1[[#This Row],[Pay Rate]], \"\")","v":""},{"$f":"IF(Table1[[#This Row],[Wage differential Bonus                            - NotePay Rate you are bonusing to]]>0,Table1[[#This Row],[Bonus Rate]]*Table1[[#This Row],[Hours]],\"\")","v":""},null,null,null,null,null,{"$f":"IF(OR(AH219>0.001,AH219<-0.001),Table1[[#This Row],[Employee '#]],\" \")","v":" "},false,{"$f":"SUMIF(Table1[[#This Row],[Total Wage Diff bonus]:[Bank Bonus]],\"<> \")","v":0},{"$f":"IF(AA219>0, Table1[[#This Row],[Column4]], IF(AB219>0,Table1[[#This Row],[Column4]],IF(X219>0,\"1000\")))","v":false}]
[null,null,null,null,null,null,null,null,null,null,null,null,null,null,null,null,0,null,null,null,null,null,null,null,{"$f":"IF(Table1[[#This Row],[Wage differential Bonus                            - NotePay Rate you are bonusing to]]>0, Table1[[#This Row],[Wage differential Bonus                            - NotePay Rate you are bonusing to]]-Table1[[#This Row],[Pay Rate]], \"\")","v":""},{"$f":"IF(Table1[[#This Row],[Wage differential Bonus                            - NotePay Rate you are bonusing to]]>0,Table1[[#This Row],[Bonus Rate]]*Table1[[#This Row],[Hours]],\"\")","v":""},null,null,null,null,null,{"$f":"IF(OR(AH220>0.001,AH220<-0.001),Table1[[#This Row],[Employee '#]],\" \")","v":" "},false,{"$f":"SUMIF(Table1[[#This Row],[Total Wage Diff bonus]:[Bank Bonus]],\"<> \")","v":0},{"$f":"IF(AA220>0, Table1[[#This Row],[Column4]], IF(AB220>0,Table1[[#This Row],[Column4]],IF(X220>0,\"1000\")))","v":false}]
[null,null,null,null,null,null,null,null,null,null,null,null,null,null,null,null,0,null,null,null,null,null,null,null,{"$f":"IF(Table1[[#This Row],[Wage differential Bonus                            - NotePay Rate you are bonusing to]]>0, Table1[[#This Row],[Wage differential Bonus                            - NotePay Rate you are bonusing to]]-Table1[[#This Row],[Pay Rate]], \"\")","v":""},{"$f":"IF(Table1[[#This Row],[Wage differential Bonus                            - NotePay Rate you are bonusing to]]>0,Table1[[#This Row],[Bonus Rate]]*Table1[[#This Row],[Hours]],\"\")","v":""},null,null,null,null,null,{"$f":"IF(OR(AH221>0.001,AH221<-0.001),Table1[[#This Row],[Employee '#]],\" \")","v":" "},false,{"$f":"SUMIF(Table1[[#This Row],[Total Wage Diff bonus]:[Bank Bonus]],\"<> \")","v":0},{"$f":"IF(AA221>0, Table1[[#This Row],[Column4]], IF(AB221>0,Table1[[#This Row],[Column4]],IF(X221>0,\"1000\")))","v":false}]
[null,null,null,null,null,null,null,null,null,null,null,null,null,null,null,null,0,null,null,null,null,null,null,null,{"$f":"IF(Table1[[#This Row],[Wage differential Bonus                            - NotePay Rate you are bonusing to]]>0, Table1[[#This Row],[Wage differential Bonus                            - NotePay Rate you are bonusing to]]-Table1[[#This Row],[Pay Rate]], \"\")","v":""},{"$f":"IF(Table1[[#This Row],[Wage differential Bonus                            - NotePay Rate you are bonusing to]]>0,Table1[[#This Row],[Bonus Rate]]*Table1[[#This Row],[Hours]],\"\")","v":""},null,null,null,null,null,{"$f":"IF(OR(AH222>0.001,AH222<-0.001),Table1[[#This Row],[Employee '#]],\" \")","v":" "},false,{"$f":"SUMIF(Table1[[#This Row],[Total Wage Diff bonus]:[Bank Bonus]],\"<> \")","v":0},{"$f":"IF(AA222>0, Table1[[#This Row],[Column4]], IF(AB222>0,Table1[[#This Row],[Column4]],IF(X222>0,\"1000\")))","v":false}]
[null,null,null,null,null,null,null,null,null,null,null,null,null,null,null,null,0,null,null,null,null,null,null,null,{"$f":"IF(Table1[[#This Row],[Wage differential Bonus                            - NotePay Rate you are bonusing to]]>0, Table1[[#This Row],[Wage differential Bonus                            - NotePay Rate you are bonusing to]]-Table1[[#This Row],[Pay Rate]], \"\")","v":""},{"$f":"IF(Table1[[#This Row],[Wage differential Bonus                            - NotePay Rate you are bonusing to]]>0,Table1[[#This Row],[Bonus Rate]]*Table1[[#This Row],[Hours]],\"\")","v":""},null,null,null,null,null,{"$f":"IF(OR(AH223>0.001,AH223<-0.001),Table1[[#This Row],[Employee '#]],\" \")","v":" "},false,{"$f":"SUMIF(Table1[[#This Row],[Total Wage Diff bonus]:[Bank Bonus]],\"<> \")","v":0},{"$f":"IF(AA223>0, Table1[[#This Row],[Column4]], IF(AB223>0,Table1[[#This Row],[Column4]],IF(X223>0,\"1000\")))","v":false}]
[null,null,null,null,null,null,null,null,null,null,null,null,null,null,null,null,0,null,null,null,null,null,null,null,{"$f":"IF(Table1[[#This Row],[Wage differential Bonus                            - NotePay Rate you are bonusing to]]>0, Table1[[#This Row],[Wage differential Bonus                            - NotePay Rate you are bonusing to]]-Table1[[#This Row],[Pay Rate]], \"\")","v":""},{"$f":"IF(Table1[[#This Row],[Wage differential Bonus                            - NotePay Rate you are bonusing to]]>0,Table1[[#This Row],[Bonus Rate]]*Table1[[#This Row],[Hours]],\"\")","v":""},null,null,null,null,null,{"$f":"IF(OR(AH224>0.001,AH224<-0.001),Table1[[#This Row],[Employee '#]],\" \")","v":" "},false,{"$f":"SUMIF(Table1[[#This Row],[Total Wage Diff bonus]:[Bank Bonus]],\"<> \")","v":0},{"$f":"IF(AA224>0, Table1[[#This Row],[Column4]], IF(AB224>0,Table1[[#This Row],[Column4]],IF(X224>0,\"1000\")))","v":false}]
[null,null,null,null,null,null,null,null,null,null,null,null,null,null,null,null,0,null,null,null,null,null,null,null,{"$f":"IF(Table1[[#This Row],[Wage differential Bonus                            - NotePay Rate you are bonusing to]]>0, Table1[[#This Row],[Wage differential Bonus                            - NotePay Rate you are bonusing to]]-Table1[[#This Row],[Pay Rate]], \"\")","v":""},{"$f":"IF(Table1[[#This Row],[Wage differential Bonus                            - NotePay Rate you are bonusing to]]>0,Table1[[#This Row],[Bonus Rate]]*Table1[[#This Row],[Hours]],\"\")","v":""},null,null,null,null,null,{"$f":"IF(OR(AH225>0.001,AH225<-0.001),Table1[[#This Row],[Employee '#]],\" \")","v":" "},false,{"$f":"SUMIF(Table1[[#This Row],[Total Wage Diff bonus]:[Bank Bonus]],\"<> \")","v":0},{"$f":"IF(AA225>0, Table1[[#This Row],[Column4]], IF(AB225>0,Table1[[#This Row],[Column4]],IF(X225>0,\"1000\")))","v":false}]
[null,null,null,null,null,null,null,null,null,null,null,null,null,null,null,null,0,null,null,null,null,null,null,null,{"$f":"IF(Table1[[#This Row],[Wage differential Bonus                            - NotePay Rate you are bonusing to]]>0, Table1[[#This Row],[Wage differential Bonus                            - NotePay Rate you are bonusing to]]-Table1[[#This Row],[Pay Rate]], \"\")","v":""},{"$f":"IF(Table1[[#This Row],[Wage differential Bonus                            - NotePay Rate you are bonusing to]]>0,Table1[[#This Row],[Bonus Rate]]*Table1[[#This Row],[Hours]],\"\")","v":""},null,null,null,null,null,{"$f":"IF(OR(AH226>0.001,AH226<-0.001),Table1[[#This Row],[Employee '#]],\" \")","v":" "},false,{"$f":"SUMIF(Table1[[#This Row],[Total Wage Diff bonus]:[Bank Bonus]],\"<> \")","v":0},{"$f":"IF(AA226>0, Table1[[#This Row],[Column4]], IF(AB226>0,Table1[[#This Row],[Column4]],IF(X226>0,\"1000\")))","v":false}]
[null,null,null,null,null,null,null,null,null,null,null,null,null,null,null,null,0,null,null,null,null,null,null,null,{"$f":"IF(Table1[[#This Row],[Wage differential Bonus                            - NotePay Rate you are bonusing to]]>0, Table1[[#This Row],[Wage differential Bonus                            - NotePay Rate you are bonusing to]]-Table1[[#This Row],[Pay Rate]], \"\")","v":""},{"$f":"IF(Table1[[#This Row],[Wage differential Bonus                            - NotePay Rate you are bonusing to]]>0,Table1[[#This Row],[Bonus Rate]]*Table1[[#This Row],[Hours]],\"\")","v":""},null,null,null,null,null,{"$f":"IF(OR(AH227>0.001,AH227<-0.001),Table1[[#This Row],[Employee '#]],\" \")","v":" "},false,{"$f":"SUMIF(Table1[[#This Row],[Total Wage Diff bonus]:[Bank Bonus]],\"<> \")","v":0},{"$f":"IF(AA227>0, Table1[[#This Row],[Column4]], IF(AB227>0,Table1[[#This Row],[Column4]],IF(X227>0,\"1000\")))","v":false}]
[null,null,null,null,null,null,null,null,null,null,null,null,null,null,null,null,0,null,null,null,null,null,null,null,{"$f":"IF(Table1[[#This Row],[Wage differential Bonus                            - NotePay Rate you are bonusing to]]>0, Table1[[#This Row],[Wage differential Bonus                            - NotePay Rate you are bonusing to]]-Table1[[#This Row],[Pay Rate]], \"\")","v":""},{"$f":"IF(Table1[[#This Row],[Wage differential Bonus                            - NotePay Rate you are bonusing to]]>0,Table1[[#This Row],[Bonus Rate]]*Table1[[#This Row],[Hours]],\"\")","v":""},null,null,null,null,null,{"$f":"IF(OR(AH228>0.001,AH228<-0.001),Table1[[#This Row],[Employee '#]],\" \")","v":" "},false,{"$f":"SUMIF(Table1[[#This Row],[Total Wage Diff bonus]:[Bank Bonus]],\"<> \")","v":0},{"$f":"IF(AA228>0, Table1[[#This Row],[Column4]], IF(AB228>0,Table1[[#This Row],[Column4]],IF(X228>0,\"1000\")))","v":false}]
[null,null,null,null,null,null,null,null,null,null,null,null,null,null,null,null,0,null,null,null,null,null,null,null,{"$f":"IF(Table1[[#This Row],[Wage differential Bonus                            - NotePay Rate you are bonusing to]]>0, Table1[[#This Row],[Wage differential Bonus                            - NotePay Rate you are bonusing to]]-Table1[[#This Row],[Pay Rate]], \"\")","v":""},{"$f":"IF(Table1[[#This Row],[Wage differential Bonus                            - NotePay Rate you are bonusing to]]>0,Table1[[#This Row],[Bonus Rate]]*Table1[[#This Row],[Hours]],\"\")","v":""},null,null,null,null,null,{"$f":"IF(OR(AH229>0.001,AH229<-0.001),Table1[[#This Row],[Employee '#]],\" \")","v":" "},false,{"$f":"SUMIF(Table1[[#This Row],[Total Wage Diff bonus]:[Bank Bonus]],\"<> \")","v":0},{"$f":"IF(AA229>0, Table1[[#This Row],[Column4]], IF(AB229>0,Table1[[#This Row],[Column4]],IF(X229>0,\"1000\")))","v":false}]
[null,null,null,null,null,null,null,null,null,null,null,null,null,null,null,null,0,null,null,null,null,null,null,null,{"$f":"IF(Table1[[#This Row],[Wage differential Bonus                            - NotePay Rate you are bonusing to]]>0, Table1[[#This Row],[Wage differential Bonus                            - NotePay Rate you are bonusing to]]-Table1[[#This Row],[Pay Rate]], \"\")","v":""},{"$f":"IF(Table1[[#This Row],[Wage differential Bonus                            - NotePay Rate you are bonusing to]]>0,Table1[[#This Row],[Bonus Rate]]*Table1[[#This Row],[Hours]],\"\")","v":""},null,null,null,null,null,{"$f":"IF(OR(AH230>0.001,AH230<-0.001),Table1[[#This Row],[Employee '#]],\" \")","v":" "},false,{"$f":"SUMIF(Table1[[#This Row],[Total Wage Diff bonus]:[Bank Bonus]],\"<> \")","v":0},{"$f":"IF(AA230>0, Table1[[#This Row],[Column4]], IF(AB230>0,Table1[[#This Row],[Column4]],IF(X230>0,\"1000\")))","v":false}]
[null,null,null,null,null,null,null,null,null,null,null,null,null,null,null,null,0,null,null,null,null,null,null,null,{"$f":"IF(Table1[[#This Row],[Wage differential Bonus                            - NotePay Rate you are bonusing to]]>0, Table1[[#This Row],[Wage differential Bonus                            - NotePay Rate you are bonusing to]]-Table1[[#This Row],[Pay Rate]], \"\")","v":""},{"$f":"IF(Table1[[#This Row],[Wage differential Bonus                            - NotePay Rate you are bonusing to]]>0,Table1[[#This Row],[Bonus Rate]]*Table1[[#This Row],[Hours]],\"\")","v":""},null,null,null,null,null,{"$f":"IF(OR(AH231>0.001,AH231<-0.001),Table1[[#This Row],[Employee '#]],\" \")","v":" "},false,{"$f":"SUMIF(Table1[[#This Row],[Total Wage Diff bonus]:[Bank Bonus]],\"<> \")","v":0},{"$f":"IF(AA231>0, Table1[[#This Row],[Column4]], IF(AB231>0,Table1[[#This Row],[Column4]],IF(X231>0,\"1000\")))","v":false}]
[null,null,null,null,null,null,null,null,null,null,null,null,null,null,null,null,0,null,null,null,null,null,null,null,{"$f":"IF(Table1[[#This Row],[Wage differential Bonus                            - NotePay Rate you are bonusing to]]>0, Table1[[#This Row],[Wage differential Bonus                            - NotePay Rate you are bonusing to]]-Table1[[#This Row],[Pay Rate]], \"\")","v":""},{"$f":"IF(Table1[[#This Row],[Wage differential Bonus                            - NotePay Rate you are bonusing to]]>0,Table1[[#This Row],[Bonus Rate]]*Table1[[#This Row],[Hours]],\"\")","v":""},null,null,null,null,null,{"$f":"IF(OR(AH232>0.001,AH232<-0.001),Table1[[#This Row],[Employee '#]],\" \")","v":" "},false,{"$f":"SUMIF(Table1[[#This Row],[Total Wage Diff bonus]:[Bank Bonus]],\"<> \")","v":0},{"$f":"IF(AA232>0, Table1[[#This Row],[Column4]], IF(AB232>0,Table1[[#This Row],[Column4]],IF(X232>0,\"1000\")))","v":false}]
[null,null,null,null,null,null,null,null,null,null,null,null,null,null,null,null,0,null,null,null,null,null,null,null,{"$f":"IF(Table1[[#This Row],[Wage differential Bonus                            - NotePay Rate you are bonusing to]]>0, Table1[[#This Row],[Wage differential Bonus                            - NotePay Rate you are bonusing to]]-Table1[[#This Row],[Pay Rate]], \"\")","v":""},{"$f":"IF(Table1[[#This Row],[Wage differential Bonus                            - NotePay Rate you are bonusing to]]>0,Table1[[#This Row],[Bonus Rate]]*Table1[[#This Row],[Hours]],\"\")","v":""},null,null,null,null,null,{"$f":"IF(OR(AH233>0.001,AH233<-0.001),Table1[[#This Row],[Employee '#]],\" \")","v":" "},false,{"$f":"SUMIF(Table1[[#This Row],[Total Wage Diff bonus]:[Bank Bonus]],\"<> \")","v":0},{"$f":"IF(AA233>0, Table1[[#This Row],[Column4]], IF(AB233>0,Table1[[#This Row],[Column4]],IF(X233>0,\"1000\")))","v":false}]
[null,null,null,null,null,null,null,null,null,null,null,null,null,null,null,null,0,null,null,null,null,null,null,null,{"$f":"IF(Table1[[#This Row],[Wage differential Bonus                            - NotePay Rate you are bonusing to]]>0, Table1[[#This Row],[Wage differential Bonus                            - NotePay Rate you are bonusing to]]-Table1[[#This Row],[Pay Rate]], \"\")","v":""},{"$f":"IF(Table1[[#This Row],[Wage differential Bonus                            - NotePay Rate you are bonusing to]]>0,Table1[[#This Row],[Bonus Rate]]*Table1[[#This Row],[Hours]],\"\")","v":""},null,null,null,null,null,{"$f":"IF(OR(AH234>0.001,AH234<-0.001),Table1[[#This Row],[Employee '#]],\" \")","v":" "},false,{"$f":"SUMIF(Table1[[#This Row],[Total Wage Diff bonus]:[Bank Bonus]],\"<> \")","v":0},{"$f":"IF(AA234>0, Table1[[#This Row],[Column4]], IF(AB234>0,Table1[[#This Row],[Column4]],IF(X234>0,\"1000\")))","v":false}]
[null,null,null,null,null,null,null,null,null,null,null,null,null,null,null,null,0,null,null,null,null,null,null,null,{"$f":"IF(Table1[[#This Row],[Wage differential Bonus                            - NotePay Rate you are bonusing to]]>0, Table1[[#This Row],[Wage differential Bonus                            - NotePay Rate you are bonusing to]]-Table1[[#This Row],[Pay Rate]], \"\")","v":""},{"$f":"IF(Table1[[#This Row],[Wage differential Bonus                            - NotePay Rate you are bonusing to]]>0,Table1[[#This Row],[Bonus Rate]]*Table1[[#This Row],[Hours]],\"\")","v":""},null,null,null,null,null,{"$f":"IF(OR(AH235>0.001,AH235<-0.001),Table1[[#This Row],[Employee '#]],\" \")","v":" "},false,{"$f":"SUMIF(Table1[[#This Row],[Total Wage Diff bonus]:[Bank Bonus]],\"<> \")","v":0},{"$f":"IF(AA235>0, Table1[[#This Row],[Column4]], IF(AB235>0,Table1[[#This Row],[Column4]],IF(X235>0,\"1000\")))","v":false}]
[null,null,null,null,null,null,null,null,null,null,null,null,null,null,null,null,0,null,null,null,null,null,null,null,{"$f":"IF(Table1[[#This Row],[Wage differential Bonus                            - NotePay Rate you are bonusing to]]>0, Table1[[#This Row],[Wage differential Bonus                            - NotePay Rate you are bonusing to]]-Table1[[#This Row],[Pay Rate]], \"\")","v":""},{"$f":"IF(Table1[[#This Row],[Wage differential Bonus                            - NotePay Rate you are bonusing to]]>0,Table1[[#This Row],[Bonus Rate]]*Table1[[#This Row],[Hours]],\"\")","v":""},null,null,null,null,null,{"$f":"IF(OR(AH236>0.001,AH236<-0.001),Table1[[#This Row],[Employee '#]],\" \")","v":" "},false,{"$f":"SUMIF(Table1[[#This Row],[Total Wage Diff bonus]:[Bank Bonus]],\"<> \")","v":0},{"$f":"IF(AA236>0, Table1[[#This Row],[Column4]], IF(AB236>0,Table1[[#This Row],[Column4]],IF(X236>0,\"1000\")))","v":false}]
[null,null,null,null,null,null,null,null,null,null,null,null,null,null,null,null,0,null,null,null,null,null,null,null,{"$f":"IF(Table1[[#This Row],[Wage differential Bonus                            - NotePay Rate you are bonusing to]]>0, Table1[[#This Row],[Wage differential Bonus                            - NotePay Rate you are bonusing to]]-Table1[[#This Row],[Pay Rate]], \"\")","v":""},{"$f":"IF(Table1[[#This Row],[Wage differential Bonus                            - NotePay Rate you are bonusing to]]>0,Table1[[#This Row],[Bonus Rate]]*Table1[[#This Row],[Hours]],\"\")","v":""},null,null,null,null,null,{"$f":"IF(OR(AH237>0.001,AH237<-0.001),Table1[[#This Row],[Employee '#]],\" \")","v":" "},false,{"$f":"SUMIF(Table1[[#This Row],[Total Wage Diff bonus]:[Bank Bonus]],\"<> \")","v":0},{"$f":"IF(AA237>0, Table1[[#This Row],[Column4]], IF(AB237>0,Table1[[#This Row],[Column4]],IF(X237>0,\"1000\")))","v":false}]
[null,null,null,null,null,null,null,null,null,null,null,null,null,null,null,null,0,null,null,null,null,null,null,null,{"$f":"IF(Table1[[#This Row],[Wage differential Bonus                            - NotePay Rate you are bonusing to]]>0, Table1[[#This Row],[Wage differential Bonus                            - NotePay Rate you are bonusing to]]-Table1[[#This Row],[Pay Rate]], \"\")","v":""},{"$f":"IF(Table1[[#This Row],[Wage differential Bonus                            - NotePay Rate you are bonusing to]]>0,Table1[[#This Row],[Bonus Rate]]*Table1[[#This Row],[Hours]],\"\")","v":""},null,null,null,null,null,{"$f":"IF(OR(AH238>0.001,AH238<-0.001),Table1[[#This Row],[Employee '#]],\" \")","v":" "},false,{"$f":"SUMIF(Table1[[#This Row],[Total Wage Diff bonus]:[Bank Bonus]],\"<> \")","v":0},{"$f":"IF(AA238>0, Table1[[#This Row],[Column4]], IF(AB238>0,Table1[[#This Row],[Column4]],IF(X238>0,\"1000\")))","v":false}]
[null,null,null,null,null,null,null,null,null,null,null,null,null,null,null,null,0,null,null,null,null,null,null,null,{"$f":"IF(Table1[[#This Row],[Wage differential Bonus                            - NotePay Rate you are bonusing to]]>0, Table1[[#This Row],[Wage differential Bonus                            - NotePay Rate you are bonusing to]]-Table1[[#This Row],[Pay Rate]], \"\")","v":""},{"$f":"IF(Table1[[#This Row],[Wage differential Bonus                            - NotePay Rate you are bonusing to]]>0,Table1[[#This Row],[Bonus Rate]]*Table1[[#This Row],[Hours]],\"\")","v":""},null,null,null,null,null,{"$f":"IF(OR(AH239>0.001,AH239<-0.001),Table1[[#This Row],[Employee '#]],\" \")","v":" "},false,{"$f":"SUMIF(Table1[[#This Row],[Total Wage Diff bonus]:[Bank Bonus]],\"<> \")","v":0},{"$f":"IF(AA239>0, Table1[[#This Row],[Column4]], IF(AB239>0,Table1[[#This Row],[Column4]],IF(X239>0,\"1000\")))","v":false}]
[null,null,null,null,null,null,null,null,null,null,null,null,null,null,null,null,0,null,null,null,null,null,null,null,{"$f":"IF(Table1[[#This Row],[Wage differential Bonus                            - NotePay Rate you are bonusing to]]>0, Table1[[#This Row],[Wage differential Bonus                            - NotePay Rate you are bonusing to]]-Table1[[#This Row],[Pay Rate]], \"\")","v":""},{"$f":"IF(Table1[[#This Row],[Wage differential Bonus                            - NotePay Rate you are bonusing to]]>0,Table1[[#This Row],[Bonus Rate]]*Table1[[#This Row],[Hours]],\"\")","v":""},null,null,null,null,null,{"$f":"IF(OR(AH240>0.001,AH240<-0.001),Table1[[#This Row],[Employee '#]],\" \")","v":" "},false,{"$f":"SUMIF(Table1[[#This Row],[Total Wage Diff bonus]:[Bank Bonus]],\"<> \")","v":0},{"$f":"IF(AA240>0, Table1[[#This Row],[Column4]], IF(AB240>0,Table1[[#This Row],[Column4]],IF(X240>0,\"1000\")))","v":false}]
[null,null,null,null,null,null,null,null,null,null,null,null,null,null,null,null,0,null,null,null,null,null,null,null,{"$f":"IF(Table1[[#This Row],[Wage differential Bonus                            - NotePay Rate you are bonusing to]]>0, Table1[[#This Row],[Wage differential Bonus                            - NotePay Rate you are bonusing to]]-Table1[[#This Row],[Pay Rate]], \"\")","v":""},{"$f":"IF(Table1[[#This Row],[Wage differential Bonus                            - NotePay Rate you are bonusing to]]>0,Table1[[#This Row],[Bonus Rate]]*Table1[[#This Row],[Hours]],\"\")","v":""},null,null,null,null,null,{"$f":"IF(OR(AH241>0.001,AH241<-0.001),Table1[[#This Row],[Employee '#]],\" \")","v":" "},false,{"$f":"SUMIF(Table1[[#This Row],[Total Wage Diff bonus]:[Bank Bonus]],\"<> \")","v":0},{"$f":"IF(AA241>0, Table1[[#This Row],[Column4]], IF(AB241>0,Table1[[#This Row],[Column4]],IF(X241>0,\"1000\")))","v":false}]
[null,null,null,null,null,null,null,null,null,null,null,null,null,null,null,null,0,null,null,null,null,null,null,null,{"$f":"IF(Table1[[#This Row],[Wage differential Bonus                            - NotePay Rate you are bonusing to]]>0, Table1[[#This Row],[Wage differential Bonus                            - NotePay Rate you are bonusing to]]-Table1[[#This Row],[Pay Rate]], \"\")","v":""},{"$f":"IF(Table1[[#This Row],[Wage differential Bonus                            - NotePay Rate you are bonusing to]]>0,Table1[[#This Row],[Bonus Rate]]*Table1[[#This Row],[Hours]],\"\")","v":""},null,null,null,null,null,{"$f":"IF(OR(AH242>0.001,AH242<-0.001),Table1[[#This Row],[Employee '#]],\" \")","v":" "},false,{"$f":"SUMIF(Table1[[#This Row],[Total Wage Diff bonus]:[Bank Bonus]],\"<> \")","v":0},{"$f":"IF(AA242>0, Table1[[#This Row],[Column4]], IF(AB242>0,Table1[[#This Row],[Column4]],IF(X242>0,\"1000\")))","v":false}]
[null,null,null,null,null,null,null,null,null,null,null,null,null,null,null,null,0,null,null,null,null,null,null,null,{"$f":"IF(Table1[[#This Row],[Wage differential Bonus                            - NotePay Rate you are bonusing to]]>0, Table1[[#This Row],[Wage differential Bonus                            - NotePay Rate you are bonusing to]]-Table1[[#This Row],[Pay Rate]], \"\")","v":""},{"$f":"IF(Table1[[#This Row],[Wage differential Bonus                            - NotePay Rate you are bonusing to]]>0,Table1[[#This Row],[Bonus Rate]]*Table1[[#This Row],[Hours]],\"\")","v":""},null,null,null,null,null,{"$f":"IF(OR(AH243>0.001,AH243<-0.001),Table1[[#This Row],[Employee '#]],\" \")","v":" "},false,{"$f":"SUMIF(Table1[[#This Row],[Total Wage Diff bonus]:[Bank Bonus]],\"<> \")","v":0},{"$f":"IF(AA243>0, Table1[[#This Row],[Column4]], IF(AB243>0,Table1[[#This Row],[Column4]],IF(X243>0,\"1000\")))","v":false}]
[null,null,null,null,null,null,null,null,null,null,null,null,null,null,null,null,0,null,null,null,null,null,null,null,{"$f":"IF(Table1[[#This Row],[Wage differential Bonus                            - NotePay Rate you are bonusing to]]>0, Table1[[#This Row],[Wage differential Bonus                            - NotePay Rate you are bonusing to]]-Table1[[#This Row],[Pay Rate]], \"\")","v":""},{"$f":"IF(Table1[[#This Row],[Wage differential Bonus                            - NotePay Rate you are bonusing to]]>0,Table1[[#This Row],[Bonus Rate]]*Table1[[#This Row],[Hours]],\"\")","v":""},null,null,null,null,null,{"$f":"IF(OR(AH244>0.001,AH244<-0.001),Table1[[#This Row],[Employee '#]],\" \")","v":" "},false,{"$f":"SUMIF(Table1[[#This Row],[Total Wage Diff bonus]:[Bank Bonus]],\"<> \")","v":0},{"$f":"IF(AA244>0, Table1[[#This Row],[Column4]], IF(AB244>0,Table1[[#This Row],[Column4]],IF(X244>0,\"1000\")))","v":false}]
[null,null,null,null,null,null,null,null,null,null,null,null,null,null,null,null,0,null,null,null,null,null,null,null,{"$f":"IF(Table1[[#This Row],[Wage differential Bonus                            - NotePay Rate you are bonusing to]]>0, Table1[[#This Row],[Wage differential Bonus                            - NotePay Rate you are bonusing to]]-Table1[[#This Row],[Pay Rate]], \"\")","v":""},{"$f":"IF(Table1[[#This Row],[Wage differential Bonus                            - NotePay Rate you are bonusing to]]>0,Table1[[#This Row],[Bonus Rate]]*Table1[[#This Row],[Hours]],\"\")","v":""},null,null,null,null,null,{"$f":"IF(OR(AH245>0.001,AH245<-0.001),Table1[[#This Row],[Employee '#]],\" \")","v":" "},false,{"$f":"SUMIF(Table1[[#This Row],[Total Wage Diff bonus]:[Bank Bonus]],\"<> \")","v":0},{"$f":"IF(AA245>0, Table1[[#This Row],[Column4]], IF(AB245>0,Table1[[#This Row],[Column4]],IF(X245>0,\"1000\")))","v":false}]
[null,null,null,null,null,null,null,null,null,null,null,null,null,null,null,null,0,null,null,null,null,null,null,null,{"$f":"IF(Table1[[#This Row],[Wage differential Bonus                            - NotePay Rate you are bonusing to]]>0, Table1[[#This Row],[Wage differential Bonus                            - NotePay Rate you are bonusing to]]-Table1[[#This Row],[Pay Rate]], \"\")","v":""},{"$f":"IF(Table1[[#This Row],[Wage differential Bonus                            - NotePay Rate you are bonusing to]]>0,Table1[[#This Row],[Bonus Rate]]*Table1[[#This Row],[Hours]],\"\")","v":""},null,null,null,null,null,{"$f":"IF(OR(AH246>0.001,AH246<-0.001),Table1[[#This Row],[Employee '#]],\" \")","v":" "},false,{"$f":"SUMIF(Table1[[#This Row],[Total Wage Diff bonus]:[Bank Bonus]],\"<> \")","v":0},{"$f":"IF(AA246>0, Table1[[#This Row],[Column4]], IF(AB246>0,Table1[[#This Row],[Column4]],IF(X246>0,\"1000\")))","v":false}]
[null,null,null,null,null,null,null,null,null,null,null,null,null,null,null,null,0,null,null,null,null,null,null,null,{"$f":"IF(Table1[[#This Row],[Wage differential Bonus                            - NotePay Rate you are bonusing to]]>0, Table1[[#This Row],[Wage differential Bonus                            - NotePay Rate you are bonusing to]]-Table1[[#This Row],[Pay Rate]], \"\")","v":""},{"$f":"IF(Table1[[#This Row],[Wage differential Bonus                            - NotePay Rate you are bonusing to]]>0,Table1[[#This Row],[Bonus Rate]]*Table1[[#This Row],[Hours]],\"\")","v":""},null,null,null,null,null,{"$f":"IF(OR(AH247>0.001,AH247<-0.001),Table1[[#This Row],[Employee '#]],\" \")","v":" "},false,{"$f":"SUMIF(Table1[[#This Row],[Total Wage Diff bonus]:[Bank Bonus]],\"<> \")","v":0},{"$f":"IF(AA247>0, Table1[[#This Row],[Column4]], IF(AB247>0,Table1[[#This Row],[Column4]],IF(X247>0,\"1000\")))","v":false}]
[null,null,null,null,null,null,null,null,null,null,null,null,null,null,null,null,0,null,null,null,null,null,null,null,{"$f":"IF(Table1[[#This Row],[Wage differential Bonus                            - NotePay Rate you are bonusing to]]>0, Table1[[#This Row],[Wage differential Bonus                            - NotePay Rate you are bonusing to]]-Table1[[#This Row],[Pay Rate]], \"\")","v":""},{"$f":"IF(Table1[[#This Row],[Wage differential Bonus                            - NotePay Rate you are bonusing to]]>0,Table1[[#This Row],[Bonus Rate]]*Table1[[#This Row],[Hours]],\"\")","v":""},null,null,null,null,null,{"$f":"IF(OR(AH248>0.001,AH248<-0.001),Table1[[#This Row],[Employee '#]],\" \")","v":" "},false,{"$f":"SUMIF(Table1[[#This Row],[Total Wage Diff bonus]:[Bank Bonus]],\"<> \")","v":0},{"$f":"IF(AA248>0, Table1[[#This Row],[Column4]], IF(AB248>0,Table1[[#This Row],[Column4]],IF(X248>0,\"1000\")))","v":false}]
[null,null,null,null,null,null,null,null,null,null,null,null,null,null,null,null,0,null,null,null,null,null,null,null,{"$f":"IF(Table1[[#This Row],[Wage differential Bonus                            - NotePay Rate you are bonusing to]]>0, Table1[[#This Row],[Wage differential Bonus                            - NotePay Rate you are bonusing to]]-Table1[[#This Row],[Pay Rate]], \"\")","v":""},{"$f":"IF(Table1[[#This Row],[Wage differential Bonus                            - NotePay Rate you are bonusing to]]>0,Table1[[#This Row],[Bonus Rate]]*Table1[[#This Row],[Hours]],\"\")","v":""},null,null,null,null,null,{"$f":"IF(OR(AH249>0.001,AH249<-0.001),Table1[[#This Row],[Employee '#]],\" \")","v":" "},false,{"$f":"SUMIF(Table1[[#This Row],[Total Wage Diff bonus]:[Bank Bonus]],\"<> \")","v":0},{"$f":"IF(AA249>0, Table1[[#This Row],[Column4]], IF(AB249>0,Table1[[#This Row],[Column4]],IF(X249>0,\"1000\")))","v":false}]
[null,null,null,null,null,null,null,null,null,null,null,null,null,null,null,null,0,null,null,null,null,null,null,null,{"$f":"IF(Table1[[#This Row],[Wage differential Bonus                            - NotePay Rate you are bonusing to]]>0, Table1[[#This Row],[Wage differential Bonus                            - NotePay Rate you are bonusing to]]-Table1[[#This Row],[Pay Rate]], \"\")","v":""},{"$f":"IF(Table1[[#This Row],[Wage differential Bonus                            - NotePay Rate you are bonusing to]]>0,Table1[[#This Row],[Bonus Rate]]*Table1[[#This Row],[Hours]],\"\")","v":""},null,null,null,null,null,{"$f":"IF(OR(AH250>0.001,AH250<-0.001),Table1[[#This Row],[Employee '#]],\" \")","v":" "},false,{"$f":"SUMIF(Table1[[#This Row],[Total Wage Diff bonus]:[Bank Bonus]],\"<> \")","v":0},{"$f":"IF(AA250>0, Table1[[#This Row],[Column4]], IF(AB250>0,Table1[[#This Row],[Column4]],IF(X250>0,\"1000\")))","v":false}]
[null,null,null,null,null,null,null,null,null,null,null,null,null,null,null,null,0,null,null,null,null,null,null,null,{"$f":"IF(Table1[[#This Row],[Wage differential Bonus                            - NotePay Rate you are bonusing to]]>0, Table1[[#This Row],[Wage differential Bonus                            - NotePay Rate you are bonusing to]]-Table1[[#This Row],[Pay Rate]], \"\")","v":""},{"$f":"IF(Table1[[#This Row],[Wage differential Bonus                            - NotePay Rate you are bonusing to]]>0,Table1[[#This Row],[Bonus Rate]]*Table1[[#This Row],[Hours]],\"\")","v":""},null,null,null,null,null,{"$f":"IF(OR(AH251>0.001,AH251<-0.001),Table1[[#This Row],[Employee '#]],\" \")","v":" "},false,{"$f":"SUMIF(Table1[[#This Row],[Total Wage Diff bonus]:[Bank Bonus]],\"<> \")","v":0},{"$f":"IF(AA251>0, Table1[[#This Row],[Column4]], IF(AB251>0,Table1[[#This Row],[Column4]],IF(X251>0,\"1000\")))","v":false}]
[null,null,null,null,null,null,null,null,null,null,null,null,null,null,null,null,0,null,null,null,null,null,null,null,{"$f":"IF(Table1[[#This Row],[Wage differential Bonus                            - NotePay Rate you are bonusing to]]>0, Table1[[#This Row],[Wage differential Bonus                            - NotePay Rate you are bonusing to]]-Table1[[#This Row],[Pay Rate]], \"\")","v":""},{"$f":"IF(Table1[[#This Row],[Wage differential Bonus                            - NotePay Rate you are bonusing to]]>0,Table1[[#This Row],[Bonus Rate]]*Table1[[#This Row],[Hours]],\"\")","v":""},null,null,null,null,null,{"$f":"IF(OR(AH252>0.001,AH252<-0.001),Table1[[#This Row],[Employee '#]],\" \")","v":" "},false,{"$f":"SUMIF(Table1[[#This Row],[Total Wage Diff bonus]:[Bank Bonus]],\"<> \")","v":0},{"$f":"IF(AA252>0, Table1[[#This Row],[Column4]], IF(AB252>0,Table1[[#This Row],[Column4]],IF(X252>0,\"1000\")))","v":false}]
[null,null,null,null,null,null,null,null,null,null,null,null,null,null,null,null,0,null,null,null,null,null,null,null,{"$f":"IF(Table1[[#This Row],[Wage differential Bonus                            - NotePay Rate you are bonusing to]]>0, Table1[[#This Row],[Wage differential Bonus                            - NotePay Rate you are bonusing to]]-Table1[[#This Row],[Pay Rate]], \"\")","v":""},{"$f":"IF(Table1[[#This Row],[Wage differential Bonus                            - NotePay Rate you are bonusing to]]>0,Table1[[#This Row],[Bonus Rate]]*Table1[[#This Row],[Hours]],\"\")","v":""},null,null,null,null,null,{"$f":"IF(OR(AH253>0.001,AH253<-0.001),Table1[[#This Row],[Employee '#]],\" \")","v":" "},false,{"$f":"SUMIF(Table1[[#This Row],[Total Wage Diff bonus]:[Bank Bonus]],\"<> \")","v":0},{"$f":"IF(AA253>0, Table1[[#This Row],[Column4]], IF(AB253>0,Table1[[#This Row],[Column4]],IF(X253>0,\"1000\")))","v":false}]
[null,null,null,null,null,null,null,null,null,null,null,null,null,null,null,null,0,null,null,null,null,null,null,null,{"$f":"IF(Table1[[#This Row],[Wage differential Bonus                            - NotePay Rate you are bonusing to]]>0, Table1[[#This Row],[Wage differential Bonus                            - NotePay Rate you are bonusing to]]-Table1[[#This Row],[Pay Rate]], \"\")","v":""},{"$f":"IF(Table1[[#This Row],[Wage differential Bonus                            - NotePay Rate you are bonusing to]]>0,Table1[[#This Row],[Bonus Rate]]*Table1[[#This Row],[Hours]],\"\")","v":""},null,null,null,null,null,{"$f":"IF(OR(AH254>0.001,AH254<-0.001),Table1[[#This Row],[Employee '#]],\" \")","v":" "},false,{"$f":"SUMIF(Table1[[#This Row],[Total Wage Diff bonus]:[Bank Bonus]],\"<> \")","v":0},{"$f":"IF(AA254>0, Table1[[#This Row],[Column4]], IF(AB254>0,Table1[[#This Row],[Column4]],IF(X254>0,\"1000\")))","v":false}]
[null,null,null,null,null,null,null,null,null,null,null,null,null,null,null,null,0,null,null,null,null,null,null,null,{"$f":"IF(Table1[[#This Row],[Wage differential Bonus                            - NotePay Rate you are bonusing to]]>0, Table1[[#This Row],[Wage differential Bonus                            - NotePay Rate you are bonusing to]]-Table1[[#This Row],[Pay Rate]], \"\")","v":""},{"$f":"IF(Table1[[#This Row],[Wage differential Bonus                            - NotePay Rate you are bonusing to]]>0,Table1[[#This Row],[Bonus Rate]]*Table1[[#This Row],[Hours]],\"\")","v":""},null,null,null,null,null,{"$f":"IF(OR(AH255>0.001,AH255<-0.001),Table1[[#This Row],[Employee '#]],\" \")","v":" "},false,{"$f":"SUMIF(Table1[[#This Row],[Total Wage Diff bonus]:[Bank Bonus]],\"<> \")","v":0},{"$f":"IF(AA255>0, Table1[[#This Row],[Column4]], IF(AB255>0,Table1[[#This Row],[Column4]],IF(X255>0,\"1000\")))","v":false}]
[null,null,null,null,null,null,null,null,null,null,null,null,null,null,null,null,0,null,null,null,null,null,null,null,{"$f":"IF(Table1[[#This Row],[Wage differential Bonus                            - NotePay Rate you are bonusing to]]>0, Table1[[#This Row],[Wage differential Bonus                            - NotePay Rate you are bonusing to]]-Table1[[#This Row],[Pay Rate]], \"\")","v":""},{"$f":"IF(Table1[[#This Row],[Wage differential Bonus                            - NotePay Rate you are bonusing to]]>0,Table1[[#This Row],[Bonus Rate]]*Table1[[#This Row],[Hours]],\"\")","v":""},null,null,null,null,null,{"$f":"IF(OR(AH256>0.001,AH256<-0.001),Table1[[#This Row],[Employee '#]],\" \")","v":" "},false,{"$f":"SUMIF(Table1[[#This Row],[Total Wage Diff bonus]:[Bank Bonus]],\"<> \")","v":0},{"$f":"IF(AA256>0, Table1[[#This Row],[Column4]], IF(AB256>0,Table1[[#This Row],[Column4]],IF(X256>0,\"1000\")))","v":false}]
[null,null,null,null,null,null,null,null,null,null,null,null,null,null,null,null,0,null,null,null,null,null,null,null,{"$f":"IF(Table1[[#This Row],[Wage differential Bonus                            - NotePay Rate you are bonusing to]]>0, Table1[[#This Row],[Wage differential Bonus                            - NotePay Rate you are bonusing to]]-Table1[[#This Row],[Pay Rate]], \"\")","v":""},{"$f":"IF(Table1[[#This Row],[Wage differential Bonus                            - NotePay Rate you are bonusing to]]>0,Table1[[#This Row],[Bonus Rate]]*Table1[[#This Row],[Hours]],\"\")","v":""},null,null,null,null,null,{"$f":"IF(OR(AH257>0.001,AH257<-0.001),Table1[[#This Row],[Employee '#]],\" \")","v":" "},false,{"$f":"SUMIF(Table1[[#This Row],[Total Wage Diff bonus]:[Bank Bonus]],\"<> \")","v":0},{"$f":"IF(AA257>0, Table1[[#This Row],[Column4]], IF(AB257>0,Table1[[#This Row],[Column4]],IF(X257>0,\"1000\")))","v":false}]
[null,null,null,null,null,null,null,null,null,null,null,null,null,null,null,null,0,null,null,null,null,null,null,null,{"$f":"IF(Table1[[#This Row],[Wage differential Bonus                            - NotePay Rate you are bonusing to]]>0, Table1[[#This Row],[Wage differential Bonus                            - NotePay Rate you are bonusing to]]-Table1[[#This Row],[Pay Rate]], \"\")","v":""},{"$f":"IF(Table1[[#This Row],[Wage differential Bonus                            - NotePay Rate you are bonusing to]]>0,Table1[[#This Row],[Bonus Rate]]*Table1[[#This Row],[Hours]],\"\")","v":""},null,null,null,null,null,{"$f":"IF(OR(AH258>0.001,AH258<-0.001),Table1[[#This Row],[Employee '#]],\" \")","v":" "},false,{"$f":"SUMIF(Table1[[#This Row],[Total Wage Diff bonus]:[Bank Bonus]],\"<> \")","v":0},{"$f":"IF(AA258>0, Table1[[#This Row],[Column4]], IF(AB258>0,Table1[[#This Row],[Column4]],IF(X258>0,\"1000\")))","v":false}]
[null,null,null,null,null,null,null,null,null,null,null,null,null,null,null,null,0,null,null,null,null,null,null,null,{"$f":"IF(Table1[[#This Row],[Wage differential Bonus                            - NotePay Rate you are bonusing to]]>0, Table1[[#This Row],[Wage differential Bonus                            - NotePay Rate you are bonusing to]]-Table1[[#This Row],[Pay Rate]], \"\")","v":""},{"$f":"IF(Table1[[#This Row],[Wage differential Bonus                            - NotePay Rate you are bonusing to]]>0,Table1[[#This Row],[Bonus Rate]]*Table1[[#This Row],[Hours]],\"\")","v":""},null,null,null,null,null,{"$f":"IF(OR(AH259>0.001,AH259<-0.001),Table1[[#This Row],[Employee '#]],\" \")","v":" "},false,{"$f":"SUMIF(Table1[[#This Row],[Total Wage Diff bonus]:[Bank Bonus]],\"<> \")","v":0},{"$f":"IF(AA259>0, Table1[[#This Row],[Column4]], IF(AB259>0,Table1[[#This Row],[Column4]],IF(X259>0,\"1000\")))","v":false}]
[null,null,null,null,null,null,null,null,null,null,null,null,null,null,null,null,{"$f":"L260+P260","v":0},null,null,null,null,null,null,null,{"$f":"IF(Table1[[#This Row],[Wage differential Bonus                            - NotePay Rate you are bonusing to]]>0, Table1[[#This Row],[Wage differential Bonus                            - NotePay Rate you are bonusing to]]-Table1[[#This Row],[Pay Rate]], \"\")","v":""},{"$f":"IF(Table1[[#This Row],[Wage differential Bonus                            - NotePay Rate you are bonusing to]]>0,Table1[[#This Row],[Bonus Rate]]*Table1[[#This Row],[Hours]],\"\")","v":""},null,null,null,null,null,{"$f":"IF(OR(AH260>0.001,AH260<-0.001),Table1[[#This Row],[Employee '#]],\" \")","v":" "},{"$f":"IF(AA260>0, \"28\", IF(AB260>0,\"53\",IF(X260>0,\"20\")))","v":false},{"$f":"SUMIF(Table1[[#This Row],[Total Wage Diff bonus]:[Bank Bonus]],\"<> \")","v":0},{"$f":"IF(AA260>0, Table1[[#This Row],[Column4]], IF(AB260>0,Table1[[#This Row],[Column4]],IF(X260>0,\"1000\")))","v":false}]
[null,null,null,null,null,null,null,null,null,null,null,null,null,null,null,null,0,null,null,null,null,null,null,null,{"$f":"IF(Table1[[#This Row],[Wage differential Bonus                            - NotePay Rate you are bonusing to]]>0, Table1[[#This Row],[Wage differential Bonus                            - NotePay Rate you are bonusing to]]-Table1[[#This Row],[Pay Rate]], \"\")","v":""},{"$f":"IF(Table1[[#This Row],[Wage differential Bonus                            - NotePay Rate you are bonusing to]]>0,Table1[[#This Row],[Bonus Rate]]*Table1[[#This Row],[Hours]],\"\")","v":""},null,null,null,null,null,{"$f":"IF(OR(AH261>0.001,AH261<-0.001),Table1[[#This Row],[Employee '#]],\" \")","v":" "},false,{"$f":"SUMIF(Table1[[#This Row],[Total Wage Diff bonus]:[Bank Bonus]],\"<> \")","v":0},{"$f":"IF(AA261>0, Table1[[#This Row],[Column4]], IF(AB261>0,Table1[[#This Row],[Column4]],IF(X261>0,\"1000\")))","v":false}]
[null,null,null,null,null,null,null,null,null,null,null,null,null,null,null,null,0,null,null,null,null,null,null,null,{"$f":"IF(Table1[[#This Row],[Wage differential Bonus                            - NotePay Rate you are bonusing to]]>0, Table1[[#This Row],[Wage differential Bonus                            - NotePay Rate you are bonusing to]]-Table1[[#This Row],[Pay Rate]], \"\")","v":""},{"$f":"IF(Table1[[#This Row],[Wage differential Bonus                            - NotePay Rate you are bonusing to]]>0,Table1[[#This Row],[Bonus Rate]]*Table1[[#This Row],[Hours]],\"\")","v":""},null,null,null,null,null,{"$f":"IF(OR(AH262>0.001,AH262<-0.001),Table1[[#This Row],[Employee '#]],\" \")","v":" "},false,{"$f":"SUMIF(Table1[[#This Row],[Total Wage Diff bonus]:[Bank Bonus]],\"<> \")","v":0},{"$f":"IF(AA262>0, Table1[[#This Row],[Column4]], IF(AB262>0,Table1[[#This Row],[Column4]],IF(X262>0,\"1000\")))","v":false}]
[null,null,null,null,null,null,null,null,null,null,null,null,null,null,null,null,0,null,null,null,null,null,null,null,{"$f":"IF(Table1[[#This Row],[Wage differential Bonus                            - NotePay Rate you are bonusing to]]>0, Table1[[#This Row],[Wage differential Bonus                            - NotePay Rate you are bonusing to]]-Table1[[#This Row],[Pay Rate]], \"\")","v":""},{"$f":"IF(Table1[[#This Row],[Wage differential Bonus                            - NotePay Rate you are bonusing to]]>0,Table1[[#This Row],[Bonus Rate]]*Table1[[#This Row],[Hours]],\"\")","v":""},null,null,null,null,null,{"$f":"IF(OR(AH263>0.001,AH263<-0.001),Table1[[#This Row],[Employee '#]],\" \")","v":" "},false,{"$f":"SUMIF(Table1[[#This Row],[Total Wage Diff bonus]:[Bank Bonus]],\"<> \")","v":0},{"$f":"IF(AA263>0, Table1[[#This Row],[Column4]], IF(AB263>0,Table1[[#This Row],[Column4]],IF(X263>0,\"1000\")))","v":false}]
[null,null,null,null,null,null,null,null,null,null,null,null,null,null,null,null,0,null,null,null,null,null,null,null,{"$f":"IF(Table1[[#This Row],[Wage differential Bonus                            - NotePay Rate you are bonusing to]]>0, Table1[[#This Row],[Wage differential Bonus                            - NotePay Rate you are bonusing to]]-Table1[[#This Row],[Pay Rate]], \"\")","v":""},{"$f":"IF(Table1[[#This Row],[Wage differential Bonus                            - NotePay Rate you are bonusing to]]>0,Table1[[#This Row],[Bonus Rate]]*Table1[[#This Row],[Hours]],\"\")","v":""},null,null,null,null,null,{"$f":"IF(OR(AH264>0.001,AH264<-0.001),Table1[[#This Row],[Employee '#]],\" \")","v":" "},false,{"$f":"SUMIF(Table1[[#This Row],[Total Wage Diff bonus]:[Bank Bonus]],\"<> \")","v":0},{"$f":"IF(AA264>0, Table1[[#This Row],[Column4]], IF(AB264>0,Table1[[#This Row],[Column4]],IF(X264>0,\"1000\")))","v":false}]
[null,null,null,null,null,null,null,null,null,null,null,null,null,null,null,null,0,null,null,null,null,null,null,null,{"$f":"IF(Table1[[#This Row],[Wage differential Bonus                            - NotePay Rate you are bonusing to]]>0, Table1[[#This Row],[Wage differential Bonus                            - NotePay Rate you are bonusing to]]-Table1[[#This Row],[Pay Rate]], \"\")","v":""},{"$f":"IF(Table1[[#This Row],[Wage differential Bonus                            - NotePay Rate you are bonusing to]]>0,Table1[[#This Row],[Bonus Rate]]*Table1[[#This Row],[Hours]],\"\")","v":""},null,null,null,null,null,{"$f":"IF(OR(AH265>0.001,AH265<-0.001),Table1[[#This Row],[Employee '#]],\" \")","v":" "},false,{"$f":"SUMIF(Table1[[#This Row],[Total Wage Diff bonus]:[Bank Bonus]],\"<> \")","v":0},{"$f":"IF(AA265>0, Table1[[#This Row],[Column4]], IF(AB265>0,Table1[[#This Row],[Column4]],IF(X265>0,\"1000\")))","v":false}]
[null,null,null,null,null,null,null,null,null,null,null,null,null,null,null,null,0,null,null,null,null,null,null,null,{"$f":"IF(Table1[[#This Row],[Wage differential Bonus                            - NotePay Rate you are bonusing to]]>0, Table1[[#This Row],[Wage differential Bonus                            - NotePay Rate you are bonusing to]]-Table1[[#This Row],[Pay Rate]], \"\")","v":""},{"$f":"IF(Table1[[#This Row],[Wage differential Bonus                            - NotePay Rate you are bonusing to]]>0,Table1[[#This Row],[Bonus Rate]]*Table1[[#This Row],[Hours]],\"\")","v":""},null,null,null,null,null,{"$f":"IF(OR(AH266>0.001,AH266<-0.001),Table1[[#This Row],[Employee '#]],\" \")","v":" "},false,{"$f":"SUMIF(Table1[[#This Row],[Total Wage Diff bonus]:[Bank Bonus]],\"<> \")","v":0},{"$f":"IF(AA266>0, Table1[[#This Row],[Column4]], IF(AB266>0,Table1[[#This Row],[Column4]],IF(X266>0,\"1000\")))","v":false}]
[null,null,null,null,null,null,null,null,null,null,null,null,null,null,null,null,0,null,null,null,null,null,null,null,{"$f":"IF(Table1[[#This Row],[Wage differential Bonus                            - NotePay Rate you are bonusing to]]>0, Table1[[#This Row],[Wage differential Bonus                            - NotePay Rate you are bonusing to]]-Table1[[#This Row],[Pay Rate]], \"\")","v":""},{"$f":"IF(Table1[[#This Row],[Wage differential Bonus                            - NotePay Rate you are bonusing to]]>0,Table1[[#This Row],[Bonus Rate]]*Table1[[#This Row],[Hours]],\"\")","v":""},null,null,null,null,null,{"$f":"IF(OR(AH267>0.001,AH267<-0.001),Table1[[#This Row],[Employee '#]],\" \")","v":" "},false,{"$f":"SUMIF(Table1[[#This Row],[Total Wage Diff bonus]:[Bank Bonus]],\"<> \")","v":0},{"$f":"IF(AA267>0, Table1[[#This Row],[Column4]], IF(AB267>0,Table1[[#This Row],[Column4]],IF(X267>0,\"1000\")))","v":false}]
[null,null,null,null,null,null,null,null,null,null,null,null,null,null,null,null,0,null,null,null,null,null,null,null,{"$f":"IF(Table1[[#This Row],[Wage differential Bonus                            - NotePay Rate you are bonusing to]]>0, Table1[[#This Row],[Wage differential Bonus                            - NotePay Rate you are bonusing to]]-Table1[[#This Row],[Pay Rate]], \"\")","v":""},{"$f":"IF(Table1[[#This Row],[Wage differential Bonus                            - NotePay Rate you are bonusing to]]>0,Table1[[#This Row],[Bonus Rate]]*Table1[[#This Row],[Hours]],\"\")","v":""},null,null,null,null,null,{"$f":"IF(OR(AH268>0.001,AH268<-0.001),Table1[[#This Row],[Employee '#]],\" \")","v":" "},false,{"$f":"SUMIF(Table1[[#This Row],[Total Wage Diff bonus]:[Bank Bonus]],\"<> \")","v":0},{"$f":"IF(AA268>0, Table1[[#This Row],[Column4]], IF(AB268>0,Table1[[#This Row],[Column4]],IF(X268>0,\"1000\")))","v":false}]
[null,null,null,null,null,null,null,null,null,null,null,null,null,null,null,null,0,null,null,null,null,null,null,null,{"$f":"IF(Table1[[#This Row],[Wage differential Bonus                            - NotePay Rate you are bonusing to]]>0, Table1[[#This Row],[Wage differential Bonus                            - NotePay Rate you are bonusing to]]-Table1[[#This Row],[Pay Rate]], \"\")","v":""},{"$f":"IF(Table1[[#This Row],[Wage differential Bonus                            - NotePay Rate you are bonusing to]]>0,Table1[[#This Row],[Bonus Rate]]*Table1[[#This Row],[Hours]],\"\")","v":""},null,null,null,null,null,{"$f":"IF(OR(AH269>0.001,AH269<-0.001),Table1[[#This Row],[Employee '#]],\" \")","v":" "},false,{"$f":"SUMIF(Table1[[#This Row],[Total Wage Diff bonus]:[Bank Bonus]],\"<> \")","v":0},{"$f":"IF(AA269>0, Table1[[#This Row],[Column4]], IF(AB269>0,Table1[[#This Row],[Column4]],IF(X269>0,\"1000\")))","v":false}]
[null,null,null,null,null,null,null,null,null,null,null,null,null,null,null,null,0,null,null,null,null,null,null,null,{"$f":"IF(Table1[[#This Row],[Wage differential Bonus                            - NotePay Rate you are bonusing to]]>0, Table1[[#This Row],[Wage differential Bonus                            - NotePay Rate you are bonusing to]]-Table1[[#This Row],[Pay Rate]], \"\")","v":""},{"$f":"IF(Table1[[#This Row],[Wage differential Bonus                            - NotePay Rate you are bonusing to]]>0,Table1[[#This Row],[Bonus Rate]]*Table1[[#This Row],[Hours]],\"\")","v":""},null,null,null,null,null,{"$f":"IF(OR(AH270>0.001,AH270<-0.001),Table1[[#This Row],[Employee '#]],\" \")","v":" "},false,{"$f":"SUMIF(Table1[[#This Row],[Total Wage Diff bonus]:[Bank Bonus]],\"<> \")","v":0},{"$f":"IF(AA270>0, Table1[[#This Row],[Column4]], IF(AB270>0,Table1[[#This Row],[Column4]],IF(X270>0,\"1000\")))","v":false}]
[null,null,null,null,null,null,null,null,null,null,null,null,null,null,null,null,0,null,null,null,null,null,null,null,{"$f":"IF(Table1[[#This Row],[Wage differential Bonus                            - NotePay Rate you are bonusing to]]>0, Table1[[#This Row],[Wage differential Bonus                            - NotePay Rate you are bonusing to]]-Table1[[#This Row],[Pay Rate]], \"\")","v":""},{"$f":"IF(Table1[[#This Row],[Wage differential Bonus                            - NotePay Rate you are bonusing to]]>0,Table1[[#This Row],[Bonus Rate]]*Table1[[#This Row],[Hours]],\"\")","v":""},null,null,null,null,null,{"$f":"IF(OR(AH271>0.001,AH271<-0.001),Table1[[#This Row],[Employee '#]],\" \")","v":" "},false,{"$f":"SUMIF(Table1[[#This Row],[Total Wage Diff bonus]:[Bank Bonus]],\"<> \")","v":0},{"$f":"IF(AA271>0, Table1[[#This Row],[Column4]], IF(AB271>0,Table1[[#This Row],[Column4]],IF(X271>0,\"1000\")))","v":false}]
[null,null,null,null,null,null,null,null,null,null,null,null,null,null,null,null,0,null,null,null,null,null,null,null,{"$f":"IF(Table1[[#This Row],[Wage differential Bonus                            - NotePay Rate you are bonusing to]]>0, Table1[[#This Row],[Wage differential Bonus                            - NotePay Rate you are bonusing to]]-Table1[[#This Row],[Pay Rate]], \"\")","v":""},{"$f":"IF(Table1[[#This Row],[Wage differential Bonus                            - NotePay Rate you are bonusing to]]>0,Table1[[#This Row],[Bonus Rate]]*Table1[[#This Row],[Hours]],\"\")","v":""},null,null,null,null,null,{"$f":"IF(OR(AH272>0.001,AH272<-0.001),Table1[[#This Row],[Employee '#]],\" \")","v":" "},false,{"$f":"SUMIF(Table1[[#This Row],[Total Wage Diff bonus]:[Bank Bonus]],\"<> \")","v":0},{"$f":"IF(AA272>0, Table1[[#This Row],[Column4]], IF(AB272>0,Table1[[#This Row],[Column4]],IF(X272>0,\"1000\")))","v":false}]
[null,null,null,null,null,null,null,null,null,null,null,null,null,null,null,null,0,null,null,null,null,null,null,null,{"$f":"IF(Table1[[#This Row],[Wage differential Bonus                            - NotePay Rate you are bonusing to]]>0, Table1[[#This Row],[Wage differential Bonus                            - NotePay Rate you are bonusing to]]-Table1[[#This Row],[Pay Rate]], \"\")","v":""},{"$f":"IF(Table1[[#This Row],[Wage differential Bonus                            - NotePay Rate you are bonusing to]]>0,Table1[[#This Row],[Bonus Rate]]*Table1[[#This Row],[Hours]],\"\")","v":""},null,null,null,null,null,{"$f":"IF(OR(AH273>0.001,AH273<-0.001),Table1[[#This Row],[Employee '#]],\" \")","v":" "},false,{"$f":"SUMIF(Table1[[#This Row],[Total Wage Diff bonus]:[Bank Bonus]],\"<> \")","v":0},{"$f":"IF(AA273>0, Table1[[#This Row],[Column4]], IF(AB273>0,Table1[[#This Row],[Column4]],IF(X273>0,\"1000\")))","v":false}]
[null,null,null,null,null,null,null,null,null,null,null,null,null,null,null,null,0,null,null,null,null,null,null,null,{"$f":"IF(Table1[[#This Row],[Wage differential Bonus                            - NotePay Rate you are bonusing to]]>0, Table1[[#This Row],[Wage differential Bonus                            - NotePay Rate you are bonusing to]]-Table1[[#This Row],[Pay Rate]], \"\")","v":""},{"$f":"IF(Table1[[#This Row],[Wage differential Bonus                            - NotePay Rate you are bonusing to]]>0,Table1[[#This Row],[Bonus Rate]]*Table1[[#This Row],[Hours]],\"\")","v":""},null,null,null,null,null,{"$f":"IF(OR(AH274>0.001,AH274<-0.001),Table1[[#This Row],[Employee '#]],\" \")","v":" "},false,{"$f":"SUMIF(Table1[[#This Row],[Total Wage Diff bonus]:[Bank Bonus]],\"<> \")","v":0},{"$f":"IF(AA274>0, Table1[[#This Row],[Column4]], IF(AB274>0,Table1[[#This Row],[Column4]],IF(X274>0,\"1000\")))","v":false}]
[null,null,null,null,null,null,null,null,null,null,null,null,null,null,null,null,0,null,null,null,null,null,null,null,{"$f":"IF(Table1[[#This Row],[Wage differential Bonus                            - NotePay Rate you are bonusing to]]>0, Table1[[#This Row],[Wage differential Bonus                            - NotePay Rate you are bonusing to]]-Table1[[#This Row],[Pay Rate]], \"\")","v":""},{"$f":"IF(Table1[[#This Row],[Wage differential Bonus                            - NotePay Rate you are bonusing to]]>0,Table1[[#This Row],[Bonus Rate]]*Table1[[#This Row],[Hours]],\"\")","v":""},null,null,null,null,null,{"$f":"IF(OR(AH275>0.001,AH275<-0.001),Table1[[#This Row],[Employee '#]],\" \")","v":" "},false,{"$f":"SUMIF(Table1[[#This Row],[Total Wage Diff bonus]:[Bank Bonus]],\"<> \")","v":0},{"$f":"IF(AA275>0, Table1[[#This Row],[Column4]], IF(AB275>0,Table1[[#This Row],[Column4]],IF(X275>0,\"1000\")))","v":false}]
[null,null,null,null,null,null,null,null,null,null,null,null,null,null,null,null,0,null,null,null,null,null,null,null,{"$f":"IF(Table1[[#This Row],[Wage differential Bonus                            - NotePay Rate you are bonusing to]]>0, Table1[[#This Row],[Wage differential Bonus                            - NotePay Rate you are bonusing to]]-Table1[[#This Row],[Pay Rate]], \"\")","v":""},{"$f":"IF(Table1[[#This Row],[Wage differential Bonus                            - NotePay Rate you are bonusing to]]>0,Table1[[#This Row],[Bonus Rate]]*Table1[[#This Row],[Hours]],\"\")","v":""},null,null,null,null,null,{"$f":"IF(OR(AH276>0.001,AH276<-0.001),Table1[[#This Row],[Employee '#]],\" \")","v":" "},false,{"$f":"SUMIF(Table1[[#This Row],[Total Wage Diff bonus]:[Bank Bonus]],\"<> \")","v":0},{"$f":"IF(AA276>0, Table1[[#This Row],[Column4]], IF(AB276>0,Table1[[#This Row],[Column4]],IF(X276>0,\"1000\")))","v":false}]
[null,null,null,null,null,null,null,null,null,null,null,null,null,null,null,null,0,null,null,null,null,null,null,null,{"$f":"IF(Table1[[#This Row],[Wage differential Bonus                            - NotePay Rate you are bonusing to]]>0, Table1[[#This Row],[Wage differential Bonus                            - NotePay Rate you are bonusing to]]-Table1[[#This Row],[Pay Rate]], \"\")","v":""},{"$f":"IF(Table1[[#This Row],[Wage differential Bonus                            - NotePay Rate you are bonusing to]]>0,Table1[[#This Row],[Bonus Rate]]*Table1[[#This Row],[Hours]],\"\")","v":""},null,null,null,null,null,{"$f":"IF(OR(AH277>0.001,AH277<-0.001),Table1[[#This Row],[Employee '#]],\" \")","v":" "},false,{"$f":"SUMIF(Table1[[#This Row],[Total Wage Diff bonus]:[Bank Bonus]],\"<> \")","v":0},{"$f":"IF(AA277>0, Table1[[#This Row],[Column4]], IF(AB277>0,Table1[[#This Row],[Column4]],IF(X277>0,\"1000\")))","v":false}]
[null,null,null,null,null,null,null,null,null,null,null,null,null,null,null,null,0,null,null,null,null,null,null,null,{"$f":"IF(Table1[[#This Row],[Wage differential Bonus                            - NotePay Rate you are bonusing to]]>0, Table1[[#This Row],[Wage differential Bonus                            - NotePay Rate you are bonusing to]]-Table1[[#This Row],[Pay Rate]], \"\")","v":""},{"$f":"IF(Table1[[#This Row],[Wage differential Bonus                            - NotePay Rate you are bonusing to]]>0,Table1[[#This Row],[Bonus Rate]]*Table1[[#This Row],[Hours]],\"\")","v":""},null,null,null,null,null,{"$f":"IF(OR(AH278>0.001,AH278<-0.001),Table1[[#This Row],[Employee '#]],\" \")","v":" "},false,{"$f":"SUMIF(Table1[[#This Row],[Total Wage Diff bonus]:[Bank Bonus]],\"<> \")","v":0},{"$f":"IF(AA278>0, Table1[[#This Row],[Column4]], IF(AB278>0,Table1[[#This Row],[Column4]],IF(X278>0,\"1000\")))","v":false}]
[null,null,null,null,null,null,null,null,null,null,null,null,null,null,null,null,0,null,null,null,null,null,null,null,{"$f":"IF(Table1[[#This Row],[Wage differential Bonus                            - NotePay Rate you are bonusing to]]>0, Table1[[#This Row],[Wage differential Bonus                            - NotePay Rate you are bonusing to]]-Table1[[#This Row],[Pay Rate]], \"\")","v":""},{"$f":"IF(Table1[[#This Row],[Wage differential Bonus                            - NotePay Rate you are bonusing to]]>0,Table1[[#This Row],[Bonus Rate]]*Table1[[#This Row],[Hours]],\"\")","v":""},null,null,null,null,null,{"$f":"IF(OR(AH279>0.001,AH279<-0.001),Table1[[#This Row],[Employee '#]],\" \")","v":" "},false,{"$f":"SUMIF(Table1[[#This Row],[Total Wage Diff bonus]:[Bank Bonus]],\"<> \")","v":0},{"$f":"IF(AA279>0, Table1[[#This Row],[Column4]], IF(AB279>0,Table1[[#This Row],[Column4]],IF(X279>0,\"1000\")))","v":false}]
[null,null,null,null,null,null,null,null,null,null,null,null,null,null,null,null,0,null,null,null,null,null,null,null,{"$f":"IF(Table1[[#This Row],[Wage differential Bonus                            - NotePay Rate you are bonusing to]]>0, Table1[[#This Row],[Wage differential Bonus                            - NotePay Rate you are bonusing to]]-Table1[[#This Row],[Pay Rate]], \"\")","v":""},{"$f":"IF(Table1[[#This Row],[Wage differential Bonus                            - NotePay Rate you are bonusing to]]>0,Table1[[#This Row],[Bonus Rate]]*Table1[[#This Row],[Hours]],\"\")","v":""},null,null,null,null,null,{"$f":"IF(OR(AH280>0.001,AH280<-0.001),Table1[[#This Row],[Employee '#]],\" \")","v":" "},false,{"$f":"SUMIF(Table1[[#This Row],[Total Wage Diff bonus]:[Bank Bonus]],\"<> \")","v":0},{"$f":"IF(AA280>0, Table1[[#This Row],[Column4]], IF(AB280>0,Table1[[#This Row],[Column4]],IF(X280>0,\"1000\")))","v":false}]
[null,null,null,null,null,null,null,null,null,null,null,null,null,null,null,null,0,null,null,null,null,null,null,null,{"$f":"IF(Table1[[#This Row],[Wage differential Bonus                            - NotePay Rate you are bonusing to]]>0, Table1[[#This Row],[Wage differential Bonus                            - NotePay Rate you are bonusing to]]-Table1[[#This Row],[Pay Rate]], \"\")","v":""},{"$f":"IF(Table1[[#This Row],[Wage differential Bonus                            - NotePay Rate you are bonusing to]]>0,Table1[[#This Row],[Bonus Rate]]*Table1[[#This Row],[Hours]],\"\")","v":""},null,null,null,null,null,{"$f":"IF(OR(AH281>0.001,AH281<-0.001),Table1[[#This Row],[Employee '#]],\" \")","v":" "},false,{"$f":"SUMIF(Table1[[#This Row],[Total Wage Diff bonus]:[Bank Bonus]],\"<> \")","v":0},{"$f":"IF(AA281>0, Table1[[#This Row],[Column4]], IF(AB281>0,Table1[[#This Row],[Column4]],IF(X281>0,\"1000\")))","v":false}]
[null,null,null,null,null,null,null,null,null,null,null,null,null,null,null,null,0,null,null,null,null,null,null,null,{"$f":"IF(Table1[[#This Row],[Wage differential Bonus                            - NotePay Rate you are bonusing to]]>0, Table1[[#This Row],[Wage differential Bonus                            - NotePay Rate you are bonusing to]]-Table1[[#This Row],[Pay Rate]], \"\")","v":""},{"$f":"IF(Table1[[#This Row],[Wage differential Bonus                            - NotePay Rate you are bonusing to]]>0,Table1[[#This Row],[Bonus Rate]]*Table1[[#This Row],[Hours]],\"\")","v":""},null,null,null,null,null,{"$f":"IF(OR(AH282>0.001,AH282<-0.001),Table1[[#This Row],[Employee '#]],\" \")","v":" "},false,{"$f":"SUMIF(Table1[[#This Row],[Total Wage Diff bonus]:[Bank Bonus]],\"<> \")","v":0},{"$f":"IF(AA282>0, Table1[[#This Row],[Column4]], IF(AB282>0,Table1[[#This Row],[Column4]],IF(X282>0,\"1000\")))","v":false}]
[null,null,null,null,null,null,null,null,null,null,null,null,null,null,null,null,0,null,null,null,null,null,null,null,{"$f":"IF(Table1[[#This Row],[Wage differential Bonus                            - NotePay Rate you are bonusing to]]>0, Table1[[#This Row],[Wage differential Bonus                            - NotePay Rate you are bonusing to]]-Table1[[#This Row],[Pay Rate]], \"\")","v":""},{"$f":"IF(Table1[[#This Row],[Wage differential Bonus                            - NotePay Rate you are bonusing to]]>0,Table1[[#This Row],[Bonus Rate]]*Table1[[#This Row],[Hours]],\"\")","v":""},null,null,null,null,null,{"$f":"IF(OR(AH283>0.001,AH283<-0.001),Table1[[#This Row],[Employee '#]],\" \")","v":" "},false,{"$f":"SUMIF(Table1[[#This Row],[Total Wage Diff bonus]:[Bank Bonus]],\"<> \")","v":0},{"$f":"IF(AA283>0, Table1[[#This Row],[Column4]], IF(AB283>0,Table1[[#This Row],[Column4]],IF(X283>0,\"1000\")))","v":false}]
[null,null,null,null,null,null,null,null,null,null,null,null,null,null,null,null,0,null,null,null,null,null,null,null,{"$f":"IF(Table1[[#This Row],[Wage differential Bonus                            - NotePay Rate you are bonusing to]]>0, Table1[[#This Row],[Wage differential Bonus                            - NotePay Rate you are bonusing to]]-Table1[[#This Row],[Pay Rate]], \"\")","v":""},{"$f":"IF(Table1[[#This Row],[Wage differential Bonus                            - NotePay Rate you are bonusing to]]>0,Table1[[#This Row],[Bonus Rate]]*Table1[[#This Row],[Hours]],\"\")","v":""},null,null,null,null,null,{"$f":"IF(OR(AH284>0.001,AH284<-0.001),Table1[[#This Row],[Employee '#]],\" \")","v":" "},false,{"$f":"SUMIF(Table1[[#This Row],[Total Wage Diff bonus]:[Bank Bonus]],\"<> \")","v":0},{"$f":"IF(AA284>0, Table1[[#This Row],[Column4]], IF(AB284>0,Table1[[#This Row],[Column4]],IF(X284>0,\"1000\")))","v":false}]
[null,null,null,null,null,null,null,null,null,null,null,null,null,null,null,null,0,null,null,null,null,null,null,null,{"$f":"IF(Table1[[#This Row],[Wage differential Bonus                            - NotePay Rate you are bonusing to]]>0, Table1[[#This Row],[Wage differential Bonus                            - NotePay Rate you are bonusing to]]-Table1[[#This Row],[Pay Rate]], \"\")","v":""},{"$f":"IF(Table1[[#This Row],[Wage differential Bonus                            - NotePay Rate you are bonusing to]]>0,Table1[[#This Row],[Bonus Rate]]*Table1[[#This Row],[Hours]],\"\")","v":""},null,null,null,null,null,{"$f":"IF(OR(AH285>0.001,AH285<-0.001),Table1[[#This Row],[Employee '#]],\" \")","v":" "},false,{"$f":"SUMIF(Table1[[#This Row],[Total Wage Diff bonus]:[Bank Bonus]],\"<> \")","v":0},{"$f":"IF(AA285>0, Table1[[#This Row],[Column4]], IF(AB285>0,Table1[[#This Row],[Column4]],IF(X285>0,\"1000\")))","v":false}]
[null,null,null,null,null,null,null,null,null,null,null,null,null,null,null,null,0,null,null,null,null,null,null,null,{"$f":"IF(Table1[[#This Row],[Wage differential Bonus                            - NotePay Rate you are bonusing to]]>0, Table1[[#This Row],[Wage differential Bonus                            - NotePay Rate you are bonusing to]]-Table1[[#This Row],[Pay Rate]], \"\")","v":""},{"$f":"IF(Table1[[#This Row],[Wage differential Bonus                            - NotePay Rate you are bonusing to]]>0,Table1[[#This Row],[Bonus Rate]]*Table1[[#This Row],[Hours]],\"\")","v":""},null,null,null,null,null,{"$f":"IF(OR(AH286>0.001,AH286<-0.001),Table1[[#This Row],[Employee '#]],\" \")","v":" "},false,{"$f":"SUMIF(Table1[[#This Row],[Total Wage Diff bonus]:[Bank Bonus]],\"<> \")","v":0},{"$f":"IF(AA286>0, Table1[[#This Row],[Column4]], IF(AB286>0,Table1[[#This Row],[Column4]],IF(X286>0,\"1000\")))","v":false}]
[null,null,null,null,null,null,null,null,null,null,null,null,null,null,null,null,0,null,null,null,null,null,null,null,{"$f":"IF(Table1[[#This Row],[Wage differential Bonus                            - NotePay Rate you are bonusing to]]>0, Table1[[#This Row],[Wage differential Bonus                            - NotePay Rate you are bonusing to]]-Table1[[#This Row],[Pay Rate]], \"\")","v":""},{"$f":"IF(Table1[[#This Row],[Wage differential Bonus                            - NotePay Rate you are bonusing to]]>0,Table1[[#This Row],[Bonus Rate]]*Table1[[#This Row],[Hours]],\"\")","v":""},null,null,null,null,null,{"$f":"IF(OR(AH287>0.001,AH287<-0.001),Table1[[#This Row],[Employee '#]],\" \")","v":" "},false,{"$f":"SUMIF(Table1[[#This Row],[Total Wage Diff bonus]:[Bank Bonus]],\"<> \")","v":0},{"$f":"IF(AA287>0, Table1[[#This Row],[Column4]], IF(AB287>0,Table1[[#This Row],[Column4]],IF(X287>0,\"1000\")))","v":false}]
[null,null,null,null,null,null,null,null,null,null,null,null,null,null,null,null,0,null,null,null,null,null,null,null,{"$f":"IF(Table1[[#This Row],[Wage differential Bonus                            - NotePay Rate you are bonusing to]]>0, Table1[[#This Row],[Wage differential Bonus                            - NotePay Rate you are bonusing to]]-Table1[[#This Row],[Pay Rate]], \"\")","v":""},{"$f":"IF(Table1[[#This Row],[Wage differential Bonus                            - NotePay Rate you are bonusing to]]>0,Table1[[#This Row],[Bonus Rate]]*Table1[[#This Row],[Hours]],\"\")","v":""},null,null,null,null,null,{"$f":"IF(OR(AH288>0.001,AH288<-0.001),Table1[[#This Row],[Employee '#]],\" \")","v":" "},false,{"$f":"SUMIF(Table1[[#This Row],[Total Wage Diff bonus]:[Bank Bonus]],\"<> \")","v":0},{"$f":"IF(AA288>0, Table1[[#This Row],[Column4]], IF(AB288>0,Table1[[#This Row],[Column4]],IF(X288>0,\"1000\")))","v":false}]
[null,null,null,null,null,null,null,null,null,null,null,null,null,null,null,null,0,null,null,null,null,null,null,null,{"$f":"IF(Table1[[#This Row],[Wage differential Bonus                            - NotePay Rate you are bonusing to]]>0, Table1[[#This Row],[Wage differential Bonus                            - NotePay Rate you are bonusing to]]-Table1[[#This Row],[Pay Rate]], \"\")","v":""},{"$f":"IF(Table1[[#This Row],[Wage differential Bonus                            - NotePay Rate you are bonusing to]]>0,Table1[[#This Row],[Bonus Rate]]*Table1[[#This Row],[Hours]],\"\")","v":""},null,null,null,null,null,{"$f":"IF(OR(AH289>0.001,AH289<-0.001),Table1[[#This Row],[Employee '#]],\" \")","v":" "},false,{"$f":"SUMIF(Table1[[#This Row],[Total Wage Diff bonus]:[Bank Bonus]],\"<> \")","v":0},{"$f":"IF(AA289>0, Table1[[#This Row],[Column4]], IF(AB289>0,Table1[[#This Row],[Column4]],IF(X289>0,\"1000\")))","v":false}]
[null,null,null,null,null,null,null,null,null,null,null,null,null,null,null,null,0,null,null,null,null,null,null,null,{"$f":"IF(Table1[[#This Row],[Wage differential Bonus                            - NotePay Rate you are bonusing to]]>0, Table1[[#This Row],[Wage differential Bonus                            - NotePay Rate you are bonusing to]]-Table1[[#This Row],[Pay Rate]], \"\")","v":""},{"$f":"IF(Table1[[#This Row],[Wage differential Bonus                            - NotePay Rate you are bonusing to]]>0,Table1[[#This Row],[Bonus Rate]]*Table1[[#This Row],[Hours]],\"\")","v":""},null,null,null,null,null,{"$f":"IF(OR(AH290>0.001,AH290<-0.001),Table1[[#This Row],[Employee '#]],\" \")","v":" "},false,{"$f":"SUMIF(Table1[[#This Row],[Total Wage Diff bonus]:[Bank Bonus]],\"<> \")","v":0},{"$f":"IF(AA290>0, Table1[[#This Row],[Column4]], IF(AB290>0,Table1[[#This Row],[Column4]],IF(X290>0,\"1000\")))","v":false}]
[null,null,null,null,null,null,null,null,null,null,null,null,null,null,null,null,0,null,null,null,null,null,null,null,{"$f":"IF(Table1[[#This Row],[Wage differential Bonus                            - NotePay Rate you are bonusing to]]>0, Table1[[#This Row],[Wage differential Bonus                            - NotePay Rate you are bonusing to]]-Table1[[#This Row],[Pay Rate]], \"\")","v":""},{"$f":"IF(Table1[[#This Row],[Wage differential Bonus                            - NotePay Rate you are bonusing to]]>0,Table1[[#This Row],[Bonus Rate]]*Table1[[#This Row],[Hours]],\"\")","v":""},null,null,null,null,null,{"$f":"IF(OR(AH291>0.001,AH291<-0.001),Table1[[#This Row],[Employee '#]],\" \")","v":" "},false,{"$f":"SUMIF(Table1[[#This Row],[Total Wage Diff bonus]:[Bank Bonus]],\"<> \")","v":0},{"$f":"IF(AA291>0, Table1[[#This Row],[Column4]], IF(AB291>0,Table1[[#This Row],[Column4]],IF(X291>0,\"1000\")))","v":false}]
[null,null,null,null,null,null,null,null,null,null,null,null,null,null,null,null,0,null,null,null,null,null,null,null,{"$f":"IF(Table1[[#This Row],[Wage differential Bonus                            - NotePay Rate you are bonusing to]]>0, Table1[[#This Row],[Wage differential Bonus                            - NotePay Rate you are bonusing to]]-Table1[[#This Row],[Pay Rate]], \"\")","v":""},{"$f":"IF(Table1[[#This Row],[Wage differential Bonus                            - NotePay Rate you are bonusing to]]>0,Table1[[#This Row],[Bonus Rate]]*Table1[[#This Row],[Hours]],\"\")","v":""},null,null,null,null,null,{"$f":"IF(OR(AH292>0.001,AH292<-0.001),Table1[[#This Row],[Employee '#]],\" \")","v":" "},false,{"$f":"SUMIF(Table1[[#This Row],[Total Wage Diff bonus]:[Bank Bonus]],\"<> \")","v":0},{"$f":"IF(AA292>0, Table1[[#This Row],[Column4]], IF(AB292>0,Table1[[#This Row],[Column4]],IF(X292>0,\"1000\")))","v":false}]
[null,null,null,null,null,null,null,null,null,null,null,null,null,null,null,null,0,null,null,null,null,null,null,null,{"$f":"IF(Table1[[#This Row],[Wage differential Bonus                            - NotePay Rate you are bonusing to]]>0, Table1[[#This Row],[Wage differential Bonus                            - NotePay Rate you are bonusing to]]-Table1[[#This Row],[Pay Rate]], \"\")","v":""},{"$f":"IF(Table1[[#This Row],[Wage differential Bonus                            - NotePay Rate you are bonusing to]]>0,Table1[[#This Row],[Bonus Rate]]*Table1[[#This Row],[Hours]],\"\")","v":""},null,null,null,null,null,{"$f":"IF(OR(AH293>0.001,AH293<-0.001),Table1[[#This Row],[Employee '#]],\" \")","v":" "},false,{"$f":"SUMIF(Table1[[#This Row],[Total Wage Diff bonus]:[Bank Bonus]],\"<> \")","v":0},{"$f":"IF(AA293>0, Table1[[#This Row],[Column4]], IF(AB293>0,Table1[[#This Row],[Column4]],IF(X293>0,\"1000\")))","v":false}]
[null,null,null,null,null,null,null,null,null,null,null,null,null,null,null,null,0,null,null,null,null,null,null,null,{"$f":"IF(Table1[[#This Row],[Wage differential Bonus                            - NotePay Rate you are bonusing to]]>0, Table1[[#This Row],[Wage differential Bonus                            - NotePay Rate you are bonusing to]]-Table1[[#This Row],[Pay Rate]], \"\")","v":""},{"$f":"IF(Table1[[#This Row],[Wage differential Bonus                            - NotePay Rate you are bonusing to]]>0,Table1[[#This Row],[Bonus Rate]]*Table1[[#This Row],[Hours]],\"\")","v":""},null,null,null,null,null,{"$f":"IF(OR(AH294>0.001,AH294<-0.001),Table1[[#This Row],[Employee '#]],\" \")","v":" "},false,{"$f":"SUMIF(Table1[[#This Row],[Total Wage Diff bonus]:[Bank Bonus]],\"<> \")","v":0},{"$f":"IF(AA294>0, Table1[[#This Row],[Column4]], IF(AB294>0,Table1[[#This Row],[Column4]],IF(X294>0,\"1000\")))","v":false}]
[null,null,null,null,null,null,null,null,null,null,null,null,null,null,null,null,0,null,null,null,null,null,null,null,{"$f":"IF(Table1[[#This Row],[Wage differential Bonus                            - NotePay Rate you are bonusing to]]>0, Table1[[#This Row],[Wage differential Bonus                            - NotePay Rate you are bonusing to]]-Table1[[#This Row],[Pay Rate]], \"\")","v":""},{"$f":"IF(Table1[[#This Row],[Wage differential Bonus                            - NotePay Rate you are bonusing to]]>0,Table1[[#This Row],[Bonus Rate]]*Table1[[#This Row],[Hours]],\"\")","v":""},null,null,null,null,null,{"$f":"IF(OR(AH295>0.001,AH295<-0.001),Table1[[#This Row],[Employee '#]],\" \")","v":" "},false,{"$f":"SUMIF(Table1[[#This Row],[Total Wage Diff bonus]:[Bank Bonus]],\"<> \")","v":0},{"$f":"IF(AA295>0, Table1[[#This Row],[Column4]], IF(AB295>0,Table1[[#This Row],[Column4]],IF(X295>0,\"1000\")))","v":false}]
[null,null,null,null,null,null,null,null,null,null,null,null,null,null,null,null,0,null,null,null,null,null,null,null,{"$f":"IF(Table1[[#This Row],[Wage differential Bonus                            - NotePay Rate you are bonusing to]]>0, Table1[[#This Row],[Wage differential Bonus                            - NotePay Rate you are bonusing to]]-Table1[[#This Row],[Pay Rate]], \"\")","v":""},{"$f":"IF(Table1[[#This Row],[Wage differential Bonus                            - NotePay Rate you are bonusing to]]>0,Table1[[#This Row],[Bonus Rate]]*Table1[[#This Row],[Hours]],\"\")","v":""},null,null,null,null,null,{"$f":"IF(OR(AH296>0.001,AH296<-0.001),Table1[[#This Row],[Employee '#]],\" \")","v":" "},false,{"$f":"SUMIF(Table1[[#This Row],[Total Wage Diff bonus]:[Bank Bonus]],\"<> \")","v":0},{"$f":"IF(AA296>0, Table1[[#This Row],[Column4]], IF(AB296>0,Table1[[#This Row],[Column4]],IF(X296>0,\"1000\")))","v":false}]
[null,null,null,null,null,null,null,null,null,null,null,null,null,null,null,null,0,null,null,null,null,null,null,null,{"$f":"IF(Table1[[#This Row],[Wage differential Bonus                            - NotePay Rate you are bonusing to]]>0, Table1[[#This Row],[Wage differential Bonus                            - NotePay Rate you are bonusing to]]-Table1[[#This Row],[Pay Rate]], \"\")","v":""},{"$f":"IF(Table1[[#This Row],[Wage differential Bonus                            - NotePay Rate you are bonusing to]]>0,Table1[[#This Row],[Bonus Rate]]*Table1[[#This Row],[Hours]],\"\")","v":""},null,null,null,null,null,{"$f":"IF(OR(AH297>0.001,AH297<-0.001),Table1[[#This Row],[Employee '#]],\" \")","v":" "},false,{"$f":"SUMIF(Table1[[#This Row],[Total Wage Diff bonus]:[Bank Bonus]],\"<> \")","v":0},{"$f":"IF(AA297>0, Table1[[#This Row],[Column4]], IF(AB297>0,Table1[[#This Row],[Column4]],IF(X297>0,\"1000\")))","v":false}]
[null,null,null,null,null,null,null,null,null,null,null,null,null,null,null,null,0,null,null,null,null,null,null,null,{"$f":"IF(Table1[[#This Row],[Wage differential Bonus                            - NotePay Rate you are bonusing to]]>0, Table1[[#This Row],[Wage differential Bonus                            - NotePay Rate you are bonusing to]]-Table1[[#This Row],[Pay Rate]], \"\")","v":""},{"$f":"IF(Table1[[#This Row],[Wage differential Bonus                            - NotePay Rate you are bonusing to]]>0,Table1[[#This Row],[Bonus Rate]]*Table1[[#This Row],[Hours]],\"\")","v":""},null,null,null,null,null,{"$f":"IF(OR(AH298>0.001,AH298<-0.001),Table1[[#This Row],[Employee '#]],\" \")","v":" "},false,{"$f":"SUMIF(Table1[[#This Row],[Total Wage Diff bonus]:[Bank Bonus]],\"<> \")","v":0},{"$f":"IF(AA298>0, Table1[[#This Row],[Column4]], IF(AB298>0,Table1[[#This Row],[Column4]],IF(X298>0,\"1000\")))","v":false}]
[null,null,null,null,null,null,null,null,null,null,null,null,null,null,null,null,0,null,null,null,null,null,null,null,{"$f":"IF(Table1[[#This Row],[Wage differential Bonus                            - NotePay Rate you are bonusing to]]>0, Table1[[#This Row],[Wage differential Bonus                            - NotePay Rate you are bonusing to]]-Table1[[#This Row],[Pay Rate]], \"\")","v":""},{"$f":"IF(Table1[[#This Row],[Wage differential Bonus                            - NotePay Rate you are bonusing to]]>0,Table1[[#This Row],[Bonus Rate]]*Table1[[#This Row],[Hours]],\"\")","v":""},null,null,null,null,null,{"$f":"IF(OR(AH299>0.001,AH299<-0.001),Table1[[#This Row],[Employee '#]],\" \")","v":" "},false,{"$f":"SUMIF(Table1[[#This Row],[Total Wage Diff bonus]:[Bank Bonus]],\"<> \")","v":0},{"$f":"IF(AA299>0, Table1[[#This Row],[Column4]], IF(AB299>0,Table1[[#This Row],[Column4]],IF(X299>0,\"1000\")))","v":false}]
[null,null,null,null,null,null,null,null,null,null,null,null,null,null,null,null,0,null,null,null,null,null,null,null,{"$f":"IF(Table1[[#This Row],[Wage differential Bonus                            - NotePay Rate you are bonusing to]]>0, Table1[[#This Row],[Wage differential Bonus                            - NotePay Rate you are bonusing to]]-Table1[[#This Row],[Pay Rate]], \"\")","v":""},{"$f":"IF(Table1[[#This Row],[Wage differential Bonus                            - NotePay Rate you are bonusing to]]>0,Table1[[#This Row],[Bonus Rate]]*Table1[[#This Row],[Hours]],\"\")","v":""},null,null,null,null,null,{"$f":"IF(OR(AH300>0.001,AH300<-0.001),Table1[[#This Row],[Employee '#]],\" \")","v":" "},false,{"$f":"SUMIF(Table1[[#This Row],[Total Wage Diff bonus]:[Bank Bonus]],\"<> \")","v":0},{"$f":"IF(AA300>0, Table1[[#This Row],[Column4]], IF(AB300>0,Table1[[#This Row],[Column4]],IF(X300>0,\"1000\")))","v":false}]
[null,null,null,null,null,null,null,null,null,null,null,null,null,null,null,null,0,null,null,null,null,null,null,null,{"$f":"IF(Table1[[#This Row],[Wage differential Bonus                            - NotePay Rate you are bonusing to]]>0, Table1[[#This Row],[Wage differential Bonus                            - NotePay Rate you are bonusing to]]-Table1[[#This Row],[Pay Rate]], \"\")","v":""},{"$f":"IF(Table1[[#This Row],[Wage differential Bonus                            - NotePay Rate you are bonusing to]]>0,Table1[[#This Row],[Bonus Rate]]*Table1[[#This Row],[Hours]],\"\")","v":""},null,null,null,null,null,{"$f":"IF(OR(AH301>0.001,AH301<-0.001),Table1[[#This Row],[Employee '#]],\" \")","v":" "},false,{"$f":"SUMIF(Table1[[#This Row],[Total Wage Diff bonus]:[Bank Bonus]],\"<> \")","v":0},{"$f":"IF(AA301>0, Table1[[#This Row],[Column4]], IF(AB301>0,Table1[[#This Row],[Column4]],IF(X301>0,\"1000\")))","v":false}]
[null,null,null,null,null,null,null,null,null,null,null,null,null,null,null,null,0,null,null,null,null,null,null,null,{"$f":"IF(Table1[[#This Row],[Wage differential Bonus                            - NotePay Rate you are bonusing to]]>0, Table1[[#This Row],[Wage differential Bonus                            - NotePay Rate you are bonusing to]]-Table1[[#This Row],[Pay Rate]], \"\")","v":""},{"$f":"IF(Table1[[#This Row],[Wage differential Bonus                            - NotePay Rate you are bonusing to]]>0,Table1[[#This Row],[Bonus Rate]]*Table1[[#This Row],[Hours]],\"\")","v":""},null,null,null,null,null,{"$f":"IF(OR(AH302>0.001,AH302<-0.001),Table1[[#This Row],[Employee '#]],\" \")","v":" "},false,{"$f":"SUMIF(Table1[[#This Row],[Total Wage Diff bonus]:[Bank Bonus]],\"<> \")","v":0},{"$f":"IF(AA302>0, Table1[[#This Row],[Column4]], IF(AB302>0,Table1[[#This Row],[Column4]],IF(X302>0,\"1000\")))","v":false}]
[null,null,null,null,null,null,null,null,null,null,null,null,null,null,null,null,0,null,null,null,null,null,null,null,{"$f":"IF(Table1[[#This Row],[Wage differential Bonus                            - NotePay Rate you are bonusing to]]>0, Table1[[#This Row],[Wage differential Bonus                            - NotePay Rate you are bonusing to]]-Table1[[#This Row],[Pay Rate]], \"\")","v":""},{"$f":"IF(Table1[[#This Row],[Wage differential Bonus                            - NotePay Rate you are bonusing to]]>0,Table1[[#This Row],[Bonus Rate]]*Table1[[#This Row],[Hours]],\"\")","v":""},null,null,null,null,null,{"$f":"IF(OR(AH303>0.001,AH303<-0.001),Table1[[#This Row],[Employee '#]],\" \")","v":" "},false,{"$f":"SUMIF(Table1[[#This Row],[Total Wage Diff bonus]:[Bank Bonus]],\"<> \")","v":0},{"$f":"IF(AA303>0, Table1[[#This Row],[Column4]], IF(AB303>0,Table1[[#This Row],[Column4]],IF(X303>0,\"1000\")))","v":false}]
[null,null,null,null,null,null,null,null,null,null,null,null,null,null,null,null,0,null,null,null,null,null,null,null,{"$f":"IF(Table1[[#This Row],[Wage differential Bonus                            - NotePay Rate you are bonusing to]]>0, Table1[[#This Row],[Wage differential Bonus                            - NotePay Rate you are bonusing to]]-Table1[[#This Row],[Pay Rate]], \"\")","v":""},{"$f":"IF(Table1[[#This Row],[Wage differential Bonus                            - NotePay Rate you are bonusing to]]>0,Table1[[#This Row],[Bonus Rate]]*Table1[[#This Row],[Hours]],\"\")","v":""},null,null,null,null,null,{"$f":"IF(OR(AH304>0.001,AH304<-0.001),Table1[[#This Row],[Employee '#]],\" \")","v":" "},false,{"$f":"SUMIF(Table1[[#This Row],[Total Wage Diff bonus]:[Bank Bonus]],\"<> \")","v":0},{"$f":"IF(AA304>0, Table1[[#This Row],[Column4]], IF(AB304>0,Table1[[#This Row],[Column4]],IF(X304>0,\"1000\")))","v":false}]
[null,null,null,null,null,null,null,null,null,null,null,null,null,null,null,null,0,null,null,null,null,null,null,null,{"$f":"IF(Table1[[#This Row],[Wage differential Bonus                            - NotePay Rate you are bonusing to]]>0, Table1[[#This Row],[Wage differential Bonus                            - NotePay Rate you are bonusing to]]-Table1[[#This Row],[Pay Rate]], \"\")","v":""},{"$f":"IF(Table1[[#This Row],[Wage differential Bonus                            - NotePay Rate you are bonusing to]]>0,Table1[[#This Row],[Bonus Rate]]*Table1[[#This Row],[Hours]],\"\")","v":""},null,null,null,null,null,{"$f":"IF(OR(AH305>0.001,AH305<-0.001),Table1[[#This Row],[Employee '#]],\" \")","v":" "},false,{"$f":"SUMIF(Table1[[#This Row],[Total Wage Diff bonus]:[Bank Bonus]],\"<> \")","v":0},{"$f":"IF(AA305>0, Table1[[#This Row],[Column4]], IF(AB305>0,Table1[[#This Row],[Column4]],IF(X305>0,\"1000\")))","v":false}]
[null,null,null,null,null,null,null,null,null,null,null,null,null,null,null,null,0,null,null,null,null,null,null,null,{"$f":"IF(Table1[[#This Row],[Wage differential Bonus                            - NotePay Rate you are bonusing to]]>0, Table1[[#This Row],[Wage differential Bonus                            - NotePay Rate you are bonusing to]]-Table1[[#This Row],[Pay Rate]], \"\")","v":""},{"$f":"IF(Table1[[#This Row],[Wage differential Bonus                            - NotePay Rate you are bonusing to]]>0,Table1[[#This Row],[Bonus Rate]]*Table1[[#This Row],[Hours]],\"\")","v":""},null,null,null,null,null,{"$f":"IF(OR(AH306>0.001,AH306<-0.001),Table1[[#This Row],[Employee '#]],\" \")","v":" "},false,{"$f":"SUMIF(Table1[[#This Row],[Total Wage Diff bonus]:[Bank Bonus]],\"<> \")","v":0},{"$f":"IF(AA306>0, Table1[[#This Row],[Column4]], IF(AB306>0,Table1[[#This Row],[Column4]],IF(X306>0,\"1000\")))","v":false}]
[null,null,null,null,null,null,null,null,null,null,null,null,null,null,null,null,0,null,null,null,null,null,null,null,{"$f":"IF(Table1[[#This Row],[Wage differential Bonus                            - NotePay Rate you are bonusing to]]>0, Table1[[#This Row],[Wage differential Bonus                            - NotePay Rate you are bonusing to]]-Table1[[#This Row],[Pay Rate]], \"\")","v":""},{"$f":"IF(Table1[[#This Row],[Wage differential Bonus                            - NotePay Rate you are bonusing to]]>0,Table1[[#This Row],[Bonus Rate]]*Table1[[#This Row],[Hours]],\"\")","v":""},null,null,null,null,null,{"$f":"IF(OR(AH307>0.001,AH307<-0.001),Table1[[#This Row],[Employee '#]],\" \")","v":" "},false,{"$f":"SUMIF(Table1[[#This Row],[Total Wage Diff bonus]:[Bank Bonus]],\"<> \")","v":0},{"$f":"IF(AA307>0, Table1[[#This Row],[Column4]], IF(AB307>0,Table1[[#This Row],[Column4]],IF(X307>0,\"1000\")))","v":false}]
[null,null,null,null,null,null,null,null,null,null,null,null,null,null,null,null,0,null,null,null,null,null,null,null,{"$f":"IF(Table1[[#This Row],[Wage differential Bonus                            - NotePay Rate you are bonusing to]]>0, Table1[[#This Row],[Wage differential Bonus                            - NotePay Rate you are bonusing to]]-Table1[[#This Row],[Pay Rate]], \"\")","v":""},{"$f":"IF(Table1[[#This Row],[Wage differential Bonus                            - NotePay Rate you are bonusing to]]>0,Table1[[#This Row],[Bonus Rate]]*Table1[[#This Row],[Hours]],\"\")","v":""},null,null,null,null,null,{"$f":"IF(OR(AH308>0.001,AH308<-0.001),Table1[[#This Row],[Employee '#]],\" \")","v":" "},false,{"$f":"SUMIF(Table1[[#This Row],[Total Wage Diff bonus]:[Bank Bonus]],\"<> \")","v":0},{"$f":"IF(AA308>0, Table1[[#This Row],[Column4]], IF(AB308>0,Table1[[#This Row],[Column4]],IF(X308>0,\"1000\")))","v":false}]
[null,null,null,null,null,null,null,null,null,null,null,null,null,null,null,null,0,null,null,null,null,null,null,null,{"$f":"IF(Table1[[#This Row],[Wage differential Bonus                            - NotePay Rate you are bonusing to]]>0, Table1[[#This Row],[Wage differential Bonus                            - NotePay Rate you are bonusing to]]-Table1[[#This Row],[Pay Rate]], \"\")","v":""},{"$f":"IF(Table1[[#This Row],[Wage differential Bonus                            - NotePay Rate you are bonusing to]]>0,Table1[[#This Row],[Bonus Rate]]*Table1[[#This Row],[Hours]],\"\")","v":""},null,null,null,null,null,{"$f":"IF(OR(AH309>0.001,AH309<-0.001),Table1[[#This Row],[Employee '#]],\" \")","v":" "},false,{"$f":"SUMIF(Table1[[#This Row],[Total Wage Diff bonus]:[Bank Bonus]],\"<> \")","v":0},{"$f":"IF(AA309>0, Table1[[#This Row],[Column4]], IF(AB309>0,Table1[[#This Row],[Column4]],IF(X309>0,\"1000\")))","v":false}]
[null,null,null,null,null,null,null,null,null,null,null,null,null,null,null,null,0,null,null,null,null,null,null,null,{"$f":"IF(Table1[[#This Row],[Wage differential Bonus                            - NotePay Rate you are bonusing to]]>0, Table1[[#This Row],[Wage differential Bonus                            - NotePay Rate you are bonusing to]]-Table1[[#This Row],[Pay Rate]], \"\")","v":""},{"$f":"IF(Table1[[#This Row],[Wage differential Bonus                            - NotePay Rate you are bonusing to]]>0,Table1[[#This Row],[Bonus Rate]]*Table1[[#This Row],[Hours]],\"\")","v":""},null,null,null,null,null,{"$f":"IF(OR(AH310>0.001,AH310<-0.001),Table1[[#This Row],[Employee '#]],\" \")","v":" "},false,{"$f":"SUMIF(Table1[[#This Row],[Total Wage Diff bonus]:[Bank Bonus]],\"<> \")","v":0},{"$f":"IF(AA310>0, Table1[[#This Row],[Column4]], IF(AB310>0,Table1[[#This Row],[Column4]],IF(X310>0,\"1000\")))","v":false}]
[null,null,null,null,null,null,null,null,null,null,null,null,null,null,null,null,0,null,null,null,null,null,null,null,{"$f":"IF(Table1[[#This Row],[Wage differential Bonus                            - NotePay Rate you are bonusing to]]>0, Table1[[#This Row],[Wage differential Bonus                            - NotePay Rate you are bonusing to]]-Table1[[#This Row],[Pay Rate]], \"\")","v":""},{"$f":"IF(Table1[[#This Row],[Wage differential Bonus                            - NotePay Rate you are bonusing to]]>0,Table1[[#This Row],[Bonus Rate]]*Table1[[#This Row],[Hours]],\"\")","v":""},null,null,null,null,null,{"$f":"IF(OR(AH311>0.001,AH311<-0.001),Table1[[#This Row],[Employee '#]],\" \")","v":" "},false,{"$f":"SUMIF(Table1[[#This Row],[Total Wage Diff bonus]:[Bank Bonus]],\"<> \")","v":0},{"$f":"IF(AA311>0, Table1[[#This Row],[Column4]], IF(AB311>0,Table1[[#This Row],[Column4]],IF(X311>0,\"1000\")))","v":false}]
[null,null,null,null,null,null,null,null,null,null,null,null,null,null,null,null,0,null,null,null,null,null,null,null,{"$f":"IF(Table1[[#This Row],[Wage differential Bonus                            - NotePay Rate you are bonusing to]]>0, Table1[[#This Row],[Wage differential Bonus                            - NotePay Rate you are bonusing to]]-Table1[[#This Row],[Pay Rate]], \"\")","v":""},{"$f":"IF(Table1[[#This Row],[Wage differential Bonus                            - NotePay Rate you are bonusing to]]>0,Table1[[#This Row],[Bonus Rate]]*Table1[[#This Row],[Hours]],\"\")","v":""},null,null,null,null,null,{"$f":"IF(OR(AH312>0.001,AH312<-0.001),Table1[[#This Row],[Employee '#]],\" \")","v":" "},false,{"$f":"SUMIF(Table1[[#This Row],[Total Wage Diff bonus]:[Bank Bonus]],\"<> \")","v":0},{"$f":"IF(AA312>0, Table1[[#This Row],[Column4]], IF(AB312>0,Table1[[#This Row],[Column4]],IF(X312>0,\"1000\")))","v":false}]
[null,null,null,null,null,null,null,null,null,null,null,null,null,null,null,null,0,null,null,null,null,null,null,null,{"$f":"IF(Table1[[#This Row],[Wage differential Bonus                            - NotePay Rate you are bonusing to]]>0, Table1[[#This Row],[Wage differential Bonus                            - NotePay Rate you are bonusing to]]-Table1[[#This Row],[Pay Rate]], \"\")","v":""},{"$f":"IF(Table1[[#This Row],[Wage differential Bonus                            - NotePay Rate you are bonusing to]]>0,Table1[[#This Row],[Bonus Rate]]*Table1[[#This Row],[Hours]],\"\")","v":""},null,null,null,null,null,{"$f":"IF(OR(AH313>0.001,AH313<-0.001),Table1[[#This Row],[Employee '#]],\" \")","v":" "},false,{"$f":"SUMIF(Table1[[#This Row],[Total Wage Diff bonus]:[Bank Bonus]],\"<> \")","v":0},{"$f":"IF(AA313>0, Table1[[#This Row],[Column4]], IF(AB313>0,Table1[[#This Row],[Column4]],IF(X313>0,\"1000\")))","v":false}]
[null,null,null,null,null,null,null,null,null,null,null,null,null,null,null,null,0,null,null,null,null,null,null,null,{"$f":"IF(Table1[[#This Row],[Wage differential Bonus                            - NotePay Rate you are bonusing to]]>0, Table1[[#This Row],[Wage differential Bonus                            - NotePay Rate you are bonusing to]]-Table1[[#This Row],[Pay Rate]], \"\")","v":""},{"$f":"IF(Table1[[#This Row],[Wage differential Bonus                            - NotePay Rate you are bonusing to]]>0,Table1[[#This Row],[Bonus Rate]]*Table1[[#This Row],[Hours]],\"\")","v":""},null,null,null,null,null,{"$f":"IF(OR(AH314>0.001,AH314<-0.001),Table1[[#This Row],[Employee '#]],\" \")","v":" "},false,{"$f":"SUMIF(Table1[[#This Row],[Total Wage Diff bonus]:[Bank Bonus]],\"<> \")","v":0},{"$f":"IF(AA314>0, Table1[[#This Row],[Column4]], IF(AB314>0,Table1[[#This Row],[Column4]],IF(X314>0,\"1000\")))","v":false}]
[null,null,null,null,null,null,null,null,null,null,null,null,null,null,null,null,0,null,null,null,null,null,null,null,{"$f":"IF(Table1[[#This Row],[Wage differential Bonus                            - NotePay Rate you are bonusing to]]>0, Table1[[#This Row],[Wage differential Bonus                            - NotePay Rate you are bonusing to]]-Table1[[#This Row],[Pay Rate]], \"\")","v":""},{"$f":"IF(Table1[[#This Row],[Wage differential Bonus                            - NotePay Rate you are bonusing to]]>0,Table1[[#This Row],[Bonus Rate]]*Table1[[#This Row],[Hours]],\"\")","v":""},null,null,null,null,null,{"$f":"IF(OR(AH315>0.001,AH315<-0.001),Table1[[#This Row],[Employee '#]],\" \")","v":" "},false,{"$f":"SUMIF(Table1[[#This Row],[Total Wage Diff bonus]:[Bank Bonus]],\"<> \")","v":0},{"$f":"IF(AA315>0, Table1[[#This Row],[Column4]], IF(AB315>0,Table1[[#This Row],[Column4]],IF(X315>0,\"1000\")))","v":false}]
[null,null,null,null,null,null,null,null,null,null,null,null,null,null,null,null,0,null,null,null,null,null,null,null,{"$f":"IF(Table1[[#This Row],[Wage differential Bonus                            - NotePay Rate you are bonusing to]]>0, Table1[[#This Row],[Wage differential Bonus                            - NotePay Rate you are bonusing to]]-Table1[[#This Row],[Pay Rate]], \"\")","v":""},{"$f":"IF(Table1[[#This Row],[Wage differential Bonus                            - NotePay Rate you are bonusing to]]>0,Table1[[#This Row],[Bonus Rate]]*Table1[[#This Row],[Hours]],\"\")","v":""},null,null,null,null,null,{"$f":"IF(OR(AH316>0.001,AH316<-0.001),Table1[[#This Row],[Employee '#]],\" \")","v":" "},false,{"$f":"SUMIF(Table1[[#This Row],[Total Wage Diff bonus]:[Bank Bonus]],\"<> \")","v":0},{"$f":"IF(AA316>0, Table1[[#This Row],[Column4]], IF(AB316>0,Table1[[#This Row],[Column4]],IF(X316>0,\"1000\")))","v":false}]
[null,null,null,null,null,null,null,null,null,null,null,null,null,null,null,null,0,null,null,null,null,null,null,null,{"$f":"IF(Table1[[#This Row],[Wage differential Bonus                            - NotePay Rate you are bonusing to]]>0, Table1[[#This Row],[Wage differential Bonus                            - NotePay Rate you are bonusing to]]-Table1[[#This Row],[Pay Rate]], \"\")","v":""},{"$f":"IF(Table1[[#This Row],[Wage differential Bonus                            - NotePay Rate you are bonusing to]]>0,Table1[[#This Row],[Bonus Rate]]*Table1[[#This Row],[Hours]],\"\")","v":""},null,null,null,null,null,{"$f":"IF(OR(AH317>0.001,AH317<-0.001),Table1[[#This Row],[Employee '#]],\" \")","v":" "},false,{"$f":"SUMIF(Table1[[#This Row],[Total Wage Diff bonus]:[Bank Bonus]],\"<> \")","v":0},{"$f":"IF(AA317>0, Table1[[#This Row],[Column4]], IF(AB317>0,Table1[[#This Row],[Column4]],IF(X317>0,\"1000\")))","v":false}]
[null,null,null,null,null,null,null,null,null,null,null,null,null,null,null,null,0,null,null,null,null,null,null,null,{"$f":"IF(Table1[[#This Row],[Wage differential Bonus                            - NotePay Rate you are bonusing to]]>0, Table1[[#This Row],[Wage differential Bonus                            - NotePay Rate you are bonusing to]]-Table1[[#This Row],[Pay Rate]], \"\")","v":""},{"$f":"IF(Table1[[#This Row],[Wage differential Bonus                            - NotePay Rate you are bonusing to]]>0,Table1[[#This Row],[Bonus Rate]]*Table1[[#This Row],[Hours]],\"\")","v":""},null,null,null,null,null,{"$f":"IF(OR(AH318>0.001,AH318<-0.001),Table1[[#This Row],[Employee '#]],\" \")","v":" "},false,{"$f":"SUMIF(Table1[[#This Row],[Total Wage Diff bonus]:[Bank Bonus]],\"<> \")","v":0},{"$f":"IF(AA318>0, Table1[[#This Row],[Column4]], IF(AB318>0,Table1[[#This Row],[Column4]],IF(X318>0,\"1000\")))","v":false}]
[null,null,null,null,null,null,null,null,null,null,null,null,null,null,null,null,0,null,null,null,null,null,null,null,{"$f":"IF(Table1[[#This Row],[Wage differential Bonus                            - NotePay Rate you are bonusing to]]>0, Table1[[#This Row],[Wage differential Bonus                            - NotePay Rate you are bonusing to]]-Table1[[#This Row],[Pay Rate]], \"\")","v":""},{"$f":"IF(Table1[[#This Row],[Wage differential Bonus                            - NotePay Rate you are bonusing to]]>0,Table1[[#This Row],[Bonus Rate]]*Table1[[#This Row],[Hours]],\"\")","v":""},null,null,null,null,null,{"$f":"IF(OR(AH319>0.001,AH319<-0.001),Table1[[#This Row],[Employee '#]],\" \")","v":" "},false,{"$f":"SUMIF(Table1[[#This Row],[Total Wage Diff bonus]:[Bank Bonus]],\"<> \")","v":0},{"$f":"IF(AA319>0, Table1[[#This Row],[Column4]], IF(AB319>0,Table1[[#This Row],[Column4]],IF(X319>0,\"1000\")))","v":false}]
[null,null,null,null,null,null,null,null,null,null,null,null,null,null,null,null,0,null,null,null,null,null,null,null,{"$f":"IF(Table1[[#This Row],[Wage differential Bonus                            - NotePay Rate you are bonusing to]]>0, Table1[[#This Row],[Wage differential Bonus                            - NotePay Rate you are bonusing to]]-Table1[[#This Row],[Pay Rate]], \"\")","v":""},{"$f":"IF(Table1[[#This Row],[Wage differential Bonus                            - NotePay Rate you are bonusing to]]>0,Table1[[#This Row],[Bonus Rate]]*Table1[[#This Row],[Hours]],\"\")","v":""},null,null,null,null,null,{"$f":"IF(OR(AH320>0.001,AH320<-0.001),Table1[[#This Row],[Employee '#]],\" \")","v":" "},false,{"$f":"SUMIF(Table1[[#This Row],[Total Wage Diff bonus]:[Bank Bonus]],\"<> \")","v":0},{"$f":"IF(AA320>0, Table1[[#This Row],[Column4]], IF(AB320>0,Table1[[#This Row],[Column4]],IF(X320>0,\"1000\")))","v":false}]
[null,null,null,null,null,null,null,null,null,null,null,null,null,null,null,null,0,null,null,null,null,null,null,null,{"$f":"IF(Table1[[#This Row],[Wage differential Bonus                            - NotePay Rate you are bonusing to]]>0, Table1[[#This Row],[Wage differential Bonus                            - NotePay Rate you are bonusing to]]-Table1[[#This Row],[Pay Rate]], \"\")","v":""},{"$f":"IF(Table1[[#This Row],[Wage differential Bonus                            - NotePay Rate you are bonusing to]]>0,Table1[[#This Row],[Bonus Rate]]*Table1[[#This Row],[Hours]],\"\")","v":""},null,null,null,null,null,{"$f":"IF(OR(AH321>0.001,AH321<-0.001),Table1[[#This Row],[Employee '#]],\" \")","v":" "},false,{"$f":"SUMIF(Table1[[#This Row],[Total Wage Diff bonus]:[Bank Bonus]],\"<> \")","v":0},{"$f":"IF(AA321>0, Table1[[#This Row],[Column4]], IF(AB321>0,Table1[[#This Row],[Column4]],IF(X321>0,\"1000\")))","v":false}]
[null,null,null,null,null,null,null,null,null,null,null,null,null,null,null,null,0,null,null,null,null,null,null,null,{"$f":"IF(Table1[[#This Row],[Wage differential Bonus                            - NotePay Rate you are bonusing to]]>0, Table1[[#This Row],[Wage differential Bonus                            - NotePay Rate you are bonusing to]]-Table1[[#This Row],[Pay Rate]], \"\")","v":""},{"$f":"IF(Table1[[#This Row],[Wage differential Bonus                            - NotePay Rate you are bonusing to]]>0,Table1[[#This Row],[Bonus Rate]]*Table1[[#This Row],[Hours]],\"\")","v":""},null,null,null,null,null,{"$f":"IF(OR(AH322>0.001,AH322<-0.001),Table1[[#This Row],[Employee '#]],\" \")","v":" "},false,{"$f":"SUMIF(Table1[[#This Row],[Total Wage Diff bonus]:[Bank Bonus]],\"<> \")","v":0},{"$f":"IF(AA322>0, Table1[[#This Row],[Column4]], IF(AB322>0,Table1[[#This Row],[Column4]],IF(X322>0,\"1000\")))","v":false}]
[null,null,null,null,null,null,null,null,null,null,null,null,null,null,null,null,0,null,null,null,null,null,null,null,{"$f":"IF(Table1[[#This Row],[Wage differential Bonus                            - NotePay Rate you are bonusing to]]>0, Table1[[#This Row],[Wage differential Bonus                            - NotePay Rate you are bonusing to]]-Table1[[#This Row],[Pay Rate]], \"\")","v":""},{"$f":"IF(Table1[[#This Row],[Wage differential Bonus                            - NotePay Rate you are bonusing to]]>0,Table1[[#This Row],[Bonus Rate]]*Table1[[#This Row],[Hours]],\"\")","v":""},null,null,null,null,null,{"$f":"IF(OR(AH323>0.001,AH323<-0.001),Table1[[#This Row],[Employee '#]],\" \")","v":" "},false,{"$f":"SUMIF(Table1[[#This Row],[Total Wage Diff bonus]:[Bank Bonus]],\"<> \")","v":0},{"$f":"IF(AA323>0, Table1[[#This Row],[Column4]], IF(AB323>0,Table1[[#This Row],[Column4]],IF(X323>0,\"1000\")))","v":false}]
[null,null,null,null,null,null,null,null,null,null,null,null,null,null,null,null,{"$f":"L324+P324","v":0},null,null,null,null,null,null,null,{"$f":"IF(Table1[[#This Row],[Wage differential Bonus                            - NotePay Rate you are bonusing to]]>0, Table1[[#This Row],[Wage differential Bonus                            - NotePay Rate you are bonusing to]]-Table1[[#This Row],[Pay Rate]], \"\")","v":""},{"$f":"IF(Table1[[#This Row],[Wage differential Bonus                            - NotePay Rate you are bonusing to]]>0,Table1[[#This Row],[Bonus Rate]]*Table1[[#This Row],[Hours]],\"\")","v":""},null,null,null,null,null,{"$f":"IF(OR(AH324>0.001,AH324<-0.001),Table1[[#This Row],[Employee '#]],\" \")","v":" "},{"$f":"IF(AA324>0, \"28\", IF(AB324>0,\"53\",IF(X324>0,\"20\")))","v":false},{"$f":"SUMIF(Table1[[#This Row],[Total Wage Diff bonus]:[Bank Bonus]],\"<> \")","v":0},{"$f":"IF(AA324>0, Table1[[#This Row],[Column4]], IF(AB324>0,Table1[[#This Row],[Column4]],IF(X324>0,\"1000\")))","v":false}]
[null,null,null,null,null,null,null,null,null,null,null,null,null,null,null,null,0,null,null,null,null,null,null,null,{"$f":"IF(Table1[[#This Row],[Wage differential Bonus                            - NotePay Rate you are bonusing to]]>0, Table1[[#This Row],[Wage differential Bonus                            - NotePay Rate you are bonusing to]]-Table1[[#This Row],[Pay Rate]], \"\")","v":""},{"$f":"IF(Table1[[#This Row],[Wage differential Bonus                            - NotePay Rate you are bonusing to]]>0,Table1[[#This Row],[Bonus Rate]]*Table1[[#This Row],[Hours]],\"\")","v":""},null,null,null,null,null,{"$f":"IF(OR(AH325>0.001,AH325<-0.001),Table1[[#This Row],[Employee '#]],\" \")","v":" "},false,{"$f":"SUMIF(Table1[[#This Row],[Total Wage Diff bonus]:[Bank Bonus]],\"<> \")","v":0},{"$f":"IF(AA325>0, Table1[[#This Row],[Column4]], IF(AB325>0,Table1[[#This Row],[Column4]],IF(X325>0,\"1000\")))","v":false}]
[null,null,null,null,null,null,null,null,null,null,null,null,null,null,null,null,0,null,null,null,null,null,null,null,{"$f":"IF(Table1[[#This Row],[Wage differential Bonus                            - NotePay Rate you are bonusing to]]>0, Table1[[#This Row],[Wage differential Bonus                            - NotePay Rate you are bonusing to]]-Table1[[#This Row],[Pay Rate]], \"\")","v":""},{"$f":"IF(Table1[[#This Row],[Wage differential Bonus                            - NotePay Rate you are bonusing to]]>0,Table1[[#This Row],[Bonus Rate]]*Table1[[#This Row],[Hours]],\"\")","v":""},null,null,null,null,null,{"$f":"IF(OR(AH326>0.001,AH326<-0.001),Table1[[#This Row],[Employee '#]],\" \")","v":" "},false,{"$f":"SUMIF(Table1[[#This Row],[Total Wage Diff bonus]:[Bank Bonus]],\"<> \")","v":0},{"$f":"IF(AA326>0, Table1[[#This Row],[Column4]], IF(AB326>0,Table1[[#This Row],[Column4]],IF(X326>0,\"1000\")))","v":false}]
[null,null,null,null,null,null,null,null,null,null,null,null,null,null,null,null,0,null,null,null,null,null,null,null,{"$f":"IF(Table1[[#This Row],[Wage differential Bonus                            - NotePay Rate you are bonusing to]]>0, Table1[[#This Row],[Wage differential Bonus                            - NotePay Rate you are bonusing to]]-Table1[[#This Row],[Pay Rate]], \"\")","v":""},{"$f":"IF(Table1[[#This Row],[Wage differential Bonus                            - NotePay Rate you are bonusing to]]>0,Table1[[#This Row],[Bonus Rate]]*Table1[[#This Row],[Hours]],\"\")","v":""},null,null,null,null,null,{"$f":"IF(OR(AH327>0.001,AH327<-0.001),Table1[[#This Row],[Employee '#]],\" \")","v":" "},false,{"$f":"SUMIF(Table1[[#This Row],[Total Wage Diff bonus]:[Bank Bonus]],\"<> \")","v":0},{"$f":"IF(AA327>0, Table1[[#This Row],[Column4]], IF(AB327>0,Table1[[#This Row],[Column4]],IF(X327>0,\"1000\")))","v":false}]
[null,null,null,null,null,null,null,null,null,null,null,null,null,null,null,null,0,null,null,null,null,null,null,null,{"$f":"IF(Table1[[#This Row],[Wage differential Bonus                            - NotePay Rate you are bonusing to]]>0, Table1[[#This Row],[Wage differential Bonus                            - NotePay Rate you are bonusing to]]-Table1[[#This Row],[Pay Rate]], \"\")","v":""},{"$f":"IF(Table1[[#This Row],[Wage differential Bonus                            - NotePay Rate you are bonusing to]]>0,Table1[[#This Row],[Bonus Rate]]*Table1[[#This Row],[Hours]],\"\")","v":""},null,null,null,null,null,{"$f":"IF(OR(AH328>0.001,AH328<-0.001),Table1[[#This Row],[Employee '#]],\" \")","v":" "},false,{"$f":"SUMIF(Table1[[#This Row],[Total Wage Diff bonus]:[Bank Bonus]],\"<> \")","v":0},{"$f":"IF(AA328>0, Table1[[#This Row],[Column4]], IF(AB328>0,Table1[[#This Row],[Column4]],IF(X328>0,\"1000\")))","v":false}]
[null,null,null,null,null,null,null,null,null,null,null,null,null,null,null,null,0,null,null,null,null,null,null,null,{"$f":"IF(Table1[[#This Row],[Wage differential Bonus                            - NotePay Rate you are bonusing to]]>0, Table1[[#This Row],[Wage differential Bonus                            - NotePay Rate you are bonusing to]]-Table1[[#This Row],[Pay Rate]], \"\")","v":""},{"$f":"IF(Table1[[#This Row],[Wage differential Bonus                            - NotePay Rate you are bonusing to]]>0,Table1[[#This Row],[Bonus Rate]]*Table1[[#This Row],[Hours]],\"\")","v":""},null,null,null,null,null,{"$f":"IF(OR(AH329>0.001,AH329<-0.001),Table1[[#This Row],[Employee '#]],\" \")","v":" "},false,{"$f":"SUMIF(Table1[[#This Row],[Total Wage Diff bonus]:[Bank Bonus]],\"<> \")","v":0},{"$f":"IF(AA329>0, Table1[[#This Row],[Column4]], IF(AB329>0,Table1[[#This Row],[Column4]],IF(X329>0,\"1000\")))","v":false}]
[null,null,null,null,null,null,null,null,null,null,null,null,null,null,null,null,0,null,null,null,null,null,null,null,{"$f":"IF(Table1[[#This Row],[Wage differential Bonus                            - NotePay Rate you are bonusing to]]>0, Table1[[#This Row],[Wage differential Bonus                            - NotePay Rate you are bonusing to]]-Table1[[#This Row],[Pay Rate]], \"\")","v":""},{"$f":"IF(Table1[[#This Row],[Wage differential Bonus                            - NotePay Rate you are bonusing to]]>0,Table1[[#This Row],[Bonus Rate]]*Table1[[#This Row],[Hours]],\"\")","v":""},null,null,null,null,null,{"$f":"IF(OR(AH330>0.001,AH330<-0.001),Table1[[#This Row],[Employee '#]],\" \")","v":" "},false,{"$f":"SUMIF(Table1[[#This Row],[Total Wage Diff bonus]:[Bank Bonus]],\"<> \")","v":0},{"$f":"IF(AA330>0, Table1[[#This Row],[Column4]], IF(AB330>0,Table1[[#This Row],[Column4]],IF(X330>0,\"1000\")))","v":false}]
[null,null,null,null,null,null,null,null,null,null,null,null,null,null,null,null,0,null,null,null,null,null,null,null,{"$f":"IF(Table1[[#This Row],[Wage differential Bonus                            - NotePay Rate you are bonusing to]]>0, Table1[[#This Row],[Wage differential Bonus                            - NotePay Rate you are bonusing to]]-Table1[[#This Row],[Pay Rate]], \"\")","v":""},{"$f":"IF(Table1[[#This Row],[Wage differential Bonus                            - NotePay Rate you are bonusing to]]>0,Table1[[#This Row],[Bonus Rate]]*Table1[[#This Row],[Hours]],\"\")","v":""},null,null,null,null,null,{"$f":"IF(OR(AH331>0.001,AH331<-0.001),Table1[[#This Row],[Employee '#]],\" \")","v":" "},false,{"$f":"SUMIF(Table1[[#This Row],[Total Wage Diff bonus]:[Bank Bonus]],\"<> \")","v":0},{"$f":"IF(AA331>0, Table1[[#This Row],[Column4]], IF(AB331>0,Table1[[#This Row],[Column4]],IF(X331>0,\"1000\")))","v":false}]
[null,null,null,null,null,null,null,null,null,null,null,null,null,null,null,null,0,null,null,null,null,null,null,null,{"$f":"IF(Table1[[#This Row],[Wage differential Bonus                            - NotePay Rate you are bonusing to]]>0, Table1[[#This Row],[Wage differential Bonus                            - NotePay Rate you are bonusing to]]-Table1[[#This Row],[Pay Rate]], \"\")","v":""},{"$f":"IF(Table1[[#This Row],[Wage differential Bonus                            - NotePay Rate you are bonusing to]]>0,Table1[[#This Row],[Bonus Rate]]*Table1[[#This Row],[Hours]],\"\")","v":""},null,null,null,null,null,{"$f":"IF(OR(AH332>0.001,AH332<-0.001),Table1[[#This Row],[Employee '#]],\" \")","v":" "},false,{"$f":"SUMIF(Table1[[#This Row],[Total Wage Diff bonus]:[Bank Bonus]],\"<> \")","v":0},{"$f":"IF(AA332>0, Table1[[#This Row],[Column4]], IF(AB332>0,Table1[[#This Row],[Column4]],IF(X332>0,\"1000\")))","v":false}]
[null,null,null,null,null,null,null,null,null,null,null,null,null,null,null,null,0,null,null,null,null,null,null,null,{"$f":"IF(Table1[[#This Row],[Wage differential Bonus                            - NotePay Rate you are bonusing to]]>0, Table1[[#This Row],[Wage differential Bonus                            - NotePay Rate you are bonusing to]]-Table1[[#This Row],[Pay Rate]], \"\")","v":""},{"$f":"IF(Table1[[#This Row],[Wage differential Bonus                            - NotePay Rate you are bonusing to]]>0,Table1[[#This Row],[Bonus Rate]]*Table1[[#This Row],[Hours]],\"\")","v":""},null,null,null,null,null,{"$f":"IF(OR(AH333>0.001,AH333<-0.001),Table1[[#This Row],[Employee '#]],\" \")","v":" "},false,{"$f":"SUMIF(Table1[[#This Row],[Total Wage Diff bonus]:[Bank Bonus]],\"<> \")","v":0},{"$f":"IF(AA333>0, Table1[[#This Row],[Column4]], IF(AB333>0,Table1[[#This Row],[Column4]],IF(X333>0,\"1000\")))","v":false}]
[null,null,null,null,null,null,null,null,null,null,null,null,null,null,null,null,0,null,null,null,null,null,null,null,{"$f":"IF(Table1[[#This Row],[Wage differential Bonus                            - NotePay Rate you are bonusing to]]>0, Table1[[#This Row],[Wage differential Bonus                            - NotePay Rate you are bonusing to]]-Table1[[#This Row],[Pay Rate]], \"\")","v":""},{"$f":"IF(Table1[[#This Row],[Wage differential Bonus                            - NotePay Rate you are bonusing to]]>0,Table1[[#This Row],[Bonus Rate]]*Table1[[#This Row],[Hours]],\"\")","v":""},null,null,null,null,null,{"$f":"IF(OR(AH334>0.001,AH334<-0.001),Table1[[#This Row],[Employee '#]],\" \")","v":" "},false,{"$f":"SUMIF(Table1[[#This Row],[Total Wage Diff bonus]:[Bank Bonus]],\"<> \")","v":0},{"$f":"IF(AA334>0, Table1[[#This Row],[Column4]], IF(AB334>0,Table1[[#This Row],[Column4]],IF(X334>0,\"1000\")))","v":false}]
[null,null,null,null,null,null,null,null,null,null,null,null,null,null,null,null,0,null,null,null,null,null,null,null,{"$f":"IF(Table1[[#This Row],[Wage differential Bonus                            - NotePay Rate you are bonusing to]]>0, Table1[[#This Row],[Wage differential Bonus                            - NotePay Rate you are bonusing to]]-Table1[[#This Row],[Pay Rate]], \"\")","v":""},{"$f":"IF(Table1[[#This Row],[Wage differential Bonus                            - NotePay Rate you are bonusing to]]>0,Table1[[#This Row],[Bonus Rate]]*Table1[[#This Row],[Hours]],\"\")","v":""},null,null,null,null,null,{"$f":"IF(OR(AH335>0.001,AH335<-0.001),Table1[[#This Row],[Employee '#]],\" \")","v":" "},false,{"$f":"SUMIF(Table1[[#This Row],[Total Wage Diff bonus]:[Bank Bonus]],\"<> \")","v":0},{"$f":"IF(AA335>0, Table1[[#This Row],[Column4]], IF(AB335>0,Table1[[#This Row],[Column4]],IF(X335>0,\"1000\")))","v":false}]
[null,null,null,null,null,null,null,null,null,null,null,null,null,null,null,null,0,null,null,null,null,null,null,null,{"$f":"IF(Table1[[#This Row],[Wage differential Bonus                            - NotePay Rate you are bonusing to]]>0, Table1[[#This Row],[Wage differential Bonus                            - NotePay Rate you are bonusing to]]-Table1[[#This Row],[Pay Rate]], \"\")","v":""},{"$f":"IF(Table1[[#This Row],[Wage differential Bonus                            - NotePay Rate you are bonusing to]]>0,Table1[[#This Row],[Bonus Rate]]*Table1[[#This Row],[Hours]],\"\")","v":""},null,null,null,null,null,{"$f":"IF(OR(AH336>0.001,AH336<-0.001),Table1[[#This Row],[Employee '#]],\" \")","v":" "},false,{"$f":"SUMIF(Table1[[#This Row],[Total Wage Diff bonus]:[Bank Bonus]],\"<> \")","v":0},{"$f":"IF(AA336>0, Table1[[#This Row],[Column4]], IF(AB336>0,Table1[[#This Row],[Column4]],IF(X336>0,\"1000\")))","v":false}]
[null,null,null,null,null,null,null,null,null,null,null,null,null,null,null,null,0,null,null,null,null,null,null,null,{"$f":"IF(Table1[[#This Row],[Wage differential Bonus                            - NotePay Rate you are bonusing to]]>0, Table1[[#This Row],[Wage differential Bonus                            - NotePay Rate you are bonusing to]]-Table1[[#This Row],[Pay Rate]], \"\")","v":""},{"$f":"IF(Table1[[#This Row],[Wage differential Bonus                            - NotePay Rate you are bonusing to]]>0,Table1[[#This Row],[Bonus Rate]]*Table1[[#This Row],[Hours]],\"\")","v":""},null,null,null,null,null,{"$f":"IF(OR(AH337>0.001,AH337<-0.001),Table1[[#This Row],[Employee '#]],\" \")","v":" "},false,{"$f":"SUMIF(Table1[[#This Row],[Total Wage Diff bonus]:[Bank Bonus]],\"<> \")","v":0},{"$f":"IF(AA337>0, Table1[[#This Row],[Column4]], IF(AB337>0,Table1[[#This Row],[Column4]],IF(X337>0,\"1000\")))","v":false}]
[null,null,null,null,null,null,null,null,null,null,null,null,null,null,null,null,0,null,null,null,null,null,null,null,{"$f":"IF(Table1[[#This Row],[Wage differential Bonus                            - NotePay Rate you are bonusing to]]>0, Table1[[#This Row],[Wage differential Bonus                            - NotePay Rate you are bonusing to]]-Table1[[#This Row],[Pay Rate]], \"\")","v":""},{"$f":"IF(Table1[[#This Row],[Wage differential Bonus                            - NotePay Rate you are bonusing to]]>0,Table1[[#This Row],[Bonus Rate]]*Table1[[#This Row],[Hours]],\"\")","v":""},null,null,null,null,null,{"$f":"IF(OR(AH338>0.001,AH338<-0.001),Table1[[#This Row],[Employee '#]],\" \")","v":" "},false,{"$f":"SUMIF(Table1[[#This Row],[Total Wage Diff bonus]:[Bank Bonus]],\"<> \")","v":0},{"$f":"IF(AA338>0, Table1[[#This Row],[Column4]], IF(AB338>0,Table1[[#This Row],[Column4]],IF(X338>0,\"1000\")))","v":false}]
[null,null,null,null,null,null,null,null,null,null,null,null,null,null,null,null,0,null,null,null,null,null,null,null,{"$f":"IF(Table1[[#This Row],[Wage differential Bonus                            - NotePay Rate you are bonusing to]]>0, Table1[[#This Row],[Wage differential Bonus                            - NotePay Rate you are bonusing to]]-Table1[[#This Row],[Pay Rate]], \"\")","v":""},{"$f":"IF(Table1[[#This Row],[Wage differential Bonus                            - NotePay Rate you are bonusing to]]>0,Table1[[#This Row],[Bonus Rate]]*Table1[[#This Row],[Hours]],\"\")","v":""},null,null,null,null,null,{"$f":"IF(OR(AH339>0.001,AH339<-0.001),Table1[[#This Row],[Employee '#]],\" \")","v":" "},false,{"$f":"SUMIF(Table1[[#This Row],[Total Wage Diff bonus]:[Bank Bonus]],\"<> \")","v":0},{"$f":"IF(AA339>0, Table1[[#This Row],[Column4]], IF(AB339>0,Table1[[#This Row],[Column4]],IF(X339>0,\"1000\")))","v":false}]
[null,null,null,null,null,null,null,null,null,null,null,null,null,null,null,null,0,null,null,null,null,null,null,null,{"$f":"IF(Table1[[#This Row],[Wage differential Bonus                            - NotePay Rate you are bonusing to]]>0, Table1[[#This Row],[Wage differential Bonus                            - NotePay Rate you are bonusing to]]-Table1[[#This Row],[Pay Rate]], \"\")","v":""},{"$f":"IF(Table1[[#This Row],[Wage differential Bonus                            - NotePay Rate you are bonusing to]]>0,Table1[[#This Row],[Bonus Rate]]*Table1[[#This Row],[Hours]],\"\")","v":""},null,null,null,null,null,{"$f":"IF(OR(AH340>0.001,AH340<-0.001),Table1[[#This Row],[Employee '#]],\" \")","v":" "},false,{"$f":"SUMIF(Table1[[#This Row],[Total Wage Diff bonus]:[Bank Bonus]],\"<> \")","v":0},{"$f":"IF(AA340>0, Table1[[#This Row],[Column4]], IF(AB340>0,Table1[[#This Row],[Column4]],IF(X340>0,\"1000\")))","v":false}]
[null,null,null,null,null,null,null,null,null,null,null,null,null,null,null,null,0,null,null,null,null,null,null,null,{"$f":"IF(Table1[[#This Row],[Wage differential Bonus                            - NotePay Rate you are bonusing to]]>0, Table1[[#This Row],[Wage differential Bonus                            - NotePay Rate you are bonusing to]]-Table1[[#This Row],[Pay Rate]], \"\")","v":""},{"$f":"IF(Table1[[#This Row],[Wage differential Bonus                            - NotePay Rate you are bonusing to]]>0,Table1[[#This Row],[Bonus Rate]]*Table1[[#This Row],[Hours]],\"\")","v":""},null,null,null,null,null,{"$f":"IF(OR(AH341>0.001,AH341<-0.001),Table1[[#This Row],[Employee '#]],\" \")","v":" "},false,{"$f":"SUMIF(Table1[[#This Row],[Total Wage Diff bonus]:[Bank Bonus]],\"<> \")","v":0},{"$f":"IF(AA341>0, Table1[[#This Row],[Column4]], IF(AB341>0,Table1[[#This Row],[Column4]],IF(X341>0,\"1000\")))","v":false}]
[null,null,null,null,null,null,null,null,null,null,null,null,null,null,null,null,0,null,null,null,null,null,null,null,{"$f":"IF(Table1[[#This Row],[Wage differential Bonus                            - NotePay Rate you are bonusing to]]>0, Table1[[#This Row],[Wage differential Bonus                            - NotePay Rate you are bonusing to]]-Table1[[#This Row],[Pay Rate]], \"\")","v":""},{"$f":"IF(Table1[[#This Row],[Wage differential Bonus                            - NotePay Rate you are bonusing to]]>0,Table1[[#This Row],[Bonus Rate]]*Table1[[#This Row],[Hours]],\"\")","v":""},null,null,null,null,null,{"$f":"IF(OR(AH342>0.001,AH342<-0.001),Table1[[#This Row],[Employee '#]],\" \")","v":" "},false,{"$f":"SUMIF(Table1[[#This Row],[Total Wage Diff bonus]:[Bank Bonus]],\"<> \")","v":0},{"$f":"IF(AA342>0, Table1[[#This Row],[Column4]], IF(AB342>0,Table1[[#This Row],[Column4]],IF(X342>0,\"1000\")))","v":false}]
[null,null,null,null,null,null,null,null,null,null,null,null,null,null,null,null,0,null,null,null,null,null,null,null,{"$f":"IF(Table1[[#This Row],[Wage differential Bonus                            - NotePay Rate you are bonusing to]]>0, Table1[[#This Row],[Wage differential Bonus                            - NotePay Rate you are bonusing to]]-Table1[[#This Row],[Pay Rate]], \"\")","v":""},{"$f":"IF(Table1[[#This Row],[Wage differential Bonus                            - NotePay Rate you are bonusing to]]>0,Table1[[#This Row],[Bonus Rate]]*Table1[[#This Row],[Hours]],\"\")","v":""},null,null,null,null,null,{"$f":"IF(OR(AH343>0.001,AH343<-0.001),Table1[[#This Row],[Employee '#]],\" \")","v":" "},false,{"$f":"SUMIF(Table1[[#This Row],[Total Wage Diff bonus]:[Bank Bonus]],\"<> \")","v":0},{"$f":"IF(AA343>0, Table1[[#This Row],[Column4]], IF(AB343>0,Table1[[#This Row],[Column4]],IF(X343>0,\"1000\")))","v":false}]
[null,null,null,null,null,null,null,null,null,null,null,null,null,null,null,null,0,null,null,null,null,null,null,null,{"$f":"IF(Table1[[#This Row],[Wage differential Bonus                            - NotePay Rate you are bonusing to]]>0, Table1[[#This Row],[Wage differential Bonus                            - NotePay Rate you are bonusing to]]-Table1[[#This Row],[Pay Rate]], \"\")","v":""},{"$f":"IF(Table1[[#This Row],[Wage differential Bonus                            - NotePay Rate you are bonusing to]]>0,Table1[[#This Row],[Bonus Rate]]*Table1[[#This Row],[Hours]],\"\")","v":""},null,null,null,null,null,{"$f":"IF(OR(AH344>0.001,AH344<-0.001),Table1[[#This Row],[Employee '#]],\" \")","v":" "},false,{"$f":"SUMIF(Table1[[#This Row],[Total Wage Diff bonus]:[Bank Bonus]],\"<> \")","v":0},{"$f":"IF(AA344>0, Table1[[#This Row],[Column4]], IF(AB344>0,Table1[[#This Row],[Column4]],IF(X344>0,\"1000\")))","v":false}]
[null,null,null,null,null,null,null,null,null,null,null,null,null,null,null,null,0,null,null,null,null,null,null,null,{"$f":"IF(Table1[[#This Row],[Wage differential Bonus                            - NotePay Rate you are bonusing to]]>0, Table1[[#This Row],[Wage differential Bonus                            - NotePay Rate you are bonusing to]]-Table1[[#This Row],[Pay Rate]], \"\")","v":""},{"$f":"IF(Table1[[#This Row],[Wage differential Bonus                            - NotePay Rate you are bonusing to]]>0,Table1[[#This Row],[Bonus Rate]]*Table1[[#This Row],[Hours]],\"\")","v":""},null,null,null,null,null,{"$f":"IF(OR(AH345>0.001,AH345<-0.001),Table1[[#This Row],[Employee '#]],\" \")","v":" "},false,{"$f":"SUMIF(Table1[[#This Row],[Total Wage Diff bonus]:[Bank Bonus]],\"<> \")","v":0},{"$f":"IF(AA345>0, Table1[[#This Row],[Column4]], IF(AB345>0,Table1[[#This Row],[Column4]],IF(X345>0,\"1000\")))","v":false}]
[null,null,null,null,null,null,null,null,null,null,null,null,null,null,null,null,0,null,null,null,null,null,null,null,{"$f":"IF(Table1[[#This Row],[Wage differential Bonus                            - NotePay Rate you are bonusing to]]>0, Table1[[#This Row],[Wage differential Bonus                            - NotePay Rate you are bonusing to]]-Table1[[#This Row],[Pay Rate]], \"\")","v":""},{"$f":"IF(Table1[[#This Row],[Wage differential Bonus                            - NotePay Rate you are bonusing to]]>0,Table1[[#This Row],[Bonus Rate]]*Table1[[#This Row],[Hours]],\"\")","v":""},null,null,null,null,null,{"$f":"IF(OR(AH346>0.001,AH346<-0.001),Table1[[#This Row],[Employee '#]],\" \")","v":" "},false,{"$f":"SUMIF(Table1[[#This Row],[Total Wage Diff bonus]:[Bank Bonus]],\"<> \")","v":0},{"$f":"IF(AA346>0, Table1[[#This Row],[Column4]], IF(AB346>0,Table1[[#This Row],[Column4]],IF(X346>0,\"1000\")))","v":false}]
[null,null,null,null,null,null,null,null,null,null,null,null,null,null,null,null,0,null,null,null,null,null,null,null,{"$f":"IF(Table1[[#This Row],[Wage differential Bonus                            - NotePay Rate you are bonusing to]]>0, Table1[[#This Row],[Wage differential Bonus                            - NotePay Rate you are bonusing to]]-Table1[[#This Row],[Pay Rate]], \"\")","v":""},{"$f":"IF(Table1[[#This Row],[Wage differential Bonus                            - NotePay Rate you are bonusing to]]>0,Table1[[#This Row],[Bonus Rate]]*Table1[[#This Row],[Hours]],\"\")","v":""},null,null,null,null,null,{"$f":"IF(OR(AH347>0.001,AH347<-0.001),Table1[[#This Row],[Employee '#]],\" \")","v":" "},false,{"$f":"SUMIF(Table1[[#This Row],[Total Wage Diff bonus]:[Bank Bonus]],\"<> \")","v":0},{"$f":"IF(AA347>0, Table1[[#This Row],[Column4]], IF(AB347>0,Table1[[#This Row],[Column4]],IF(X347>0,\"1000\")))","v":false}]
[null,null,null,null,null,null,null,null,null,null,null,null,null,null,null,null,0,null,null,null,null,null,null,null,{"$f":"IF(Table1[[#This Row],[Wage differential Bonus                            - NotePay Rate you are bonusing to]]>0, Table1[[#This Row],[Wage differential Bonus                            - NotePay Rate you are bonusing to]]-Table1[[#This Row],[Pay Rate]], \"\")","v":""},{"$f":"IF(Table1[[#This Row],[Wage differential Bonus                            - NotePay Rate you are bonusing to]]>0,Table1[[#This Row],[Bonus Rate]]*Table1[[#This Row],[Hours]],\"\")","v":""},null,null,null,null,null,{"$f":"IF(OR(AH348>0.001,AH348<-0.001),Table1[[#This Row],[Employee '#]],\" \")","v":" "},false,{"$f":"SUMIF(Table1[[#This Row],[Total Wage Diff bonus]:[Bank Bonus]],\"<> \")","v":0},{"$f":"IF(AA348>0, Table1[[#This Row],[Column4]], IF(AB348>0,Table1[[#This Row],[Column4]],IF(X348>0,\"1000\")))","v":false}]
[null,null,null,null,null,null,null,null,null,null,null,null,null,null,null,null,0,null,null,null,null,null,null,null,{"$f":"IF(Table1[[#This Row],[Wage differential Bonus                            - NotePay Rate you are bonusing to]]>0, Table1[[#This Row],[Wage differential Bonus                            - NotePay Rate you are bonusing to]]-Table1[[#This Row],[Pay Rate]], \"\")","v":""},{"$f":"IF(Table1[[#This Row],[Wage differential Bonus                            - NotePay Rate you are bonusing to]]>0,Table1[[#This Row],[Bonus Rate]]*Table1[[#This Row],[Hours]],\"\")","v":""},null,null,null,null,null,{"$f":"IF(OR(AH349>0.001,AH349<-0.001),Table1[[#This Row],[Employee '#]],\" \")","v":" "},false,{"$f":"SUMIF(Table1[[#This Row],[Total Wage Diff bonus]:[Bank Bonus]],\"<> \")","v":0},{"$f":"IF(AA349>0, Table1[[#This Row],[Column4]], IF(AB349>0,Table1[[#This Row],[Column4]],IF(X349>0,\"1000\")))","v":false}]
[null,null,null,null,null,null,null,null,null,null,null,null,null,null,null,null,0,null,null,null,null,null,null,null,{"$f":"IF(Table1[[#This Row],[Wage differential Bonus                            - NotePay Rate you are bonusing to]]>0, Table1[[#This Row],[Wage differential Bonus                            - NotePay Rate you are bonusing to]]-Table1[[#This Row],[Pay Rate]], \"\")","v":""},{"$f":"IF(Table1[[#This Row],[Wage differential Bonus                            - NotePay Rate you are bonusing to]]>0,Table1[[#This Row],[Bonus Rate]]*Table1[[#This Row],[Hours]],\"\")","v":""},null,null,null,null,null,{"$f":"IF(OR(AH350>0.001,AH350<-0.001),Table1[[#This Row],[Employee '#]],\" \")","v":" "},false,{"$f":"SUMIF(Table1[[#This Row],[Total Wage Diff bonus]:[Bank Bonus]],\"<> \")","v":0},{"$f":"IF(AA350>0, Table1[[#This Row],[Column4]], IF(AB350>0,Table1[[#This Row],[Column4]],IF(X350>0,\"1000\")))","v":false}]
[null,null,null,null,null,null,null,null,null,null,null,null,null,null,null,null,0,null,null,null,null,null,null,null,{"$f":"IF(Table1[[#This Row],[Wage differential Bonus                            - NotePay Rate you are bonusing to]]>0, Table1[[#This Row],[Wage differential Bonus                            - NotePay Rate you are bonusing to]]-Table1[[#This Row],[Pay Rate]], \"\")","v":""},{"$f":"IF(Table1[[#This Row],[Wage differential Bonus                            - NotePay Rate you are bonusing to]]>0,Table1[[#This Row],[Bonus Rate]]*Table1[[#This Row],[Hours]],\"\")","v":""},null,null,null,null,null,{"$f":"IF(OR(AH351>0.001,AH351<-0.001),Table1[[#This Row],[Employee '#]],\" \")","v":" "},false,{"$f":"SUMIF(Table1[[#This Row],[Total Wage Diff bonus]:[Bank Bonus]],\"<> \")","v":0},{"$f":"IF(AA351>0, Table1[[#This Row],[Column4]], IF(AB351>0,Table1[[#This Row],[Column4]],IF(X351>0,\"1000\")))","v":false}]
[null,null,null,null,null,null,null,null,null,null,null,null,null,null,null,null,0,null,null,null,null,null,null,null,{"$f":"IF(Table1[[#This Row],[Wage differential Bonus                            - NotePay Rate you are bonusing to]]>0, Table1[[#This Row],[Wage differential Bonus                            - NotePay Rate you are bonusing to]]-Table1[[#This Row],[Pay Rate]], \"\")","v":""},{"$f":"IF(Table1[[#This Row],[Wage differential Bonus                            - NotePay Rate you are bonusing to]]>0,Table1[[#This Row],[Bonus Rate]]*Table1[[#This Row],[Hours]],\"\")","v":""},null,null,null,null,null,{"$f":"IF(OR(AH352>0.001,AH352<-0.001),Table1[[#This Row],[Employee '#]],\" \")","v":" "},false,{"$f":"SUMIF(Table1[[#This Row],[Total Wage Diff bonus]:[Bank Bonus]],\"<> \")","v":0},{"$f":"IF(AA352>0, Table1[[#This Row],[Column4]], IF(AB352>0,Table1[[#This Row],[Column4]],IF(X352>0,\"1000\")))","v":false}]
[null,null,null,null,null,null,null,null,null,null,null,null,null,null,null,null,0,null,null,null,null,null,null,null,{"$f":"IF(Table1[[#This Row],[Wage differential Bonus                            - NotePay Rate you are bonusing to]]>0, Table1[[#This Row],[Wage differential Bonus                            - NotePay Rate you are bonusing to]]-Table1[[#This Row],[Pay Rate]], \"\")","v":""},{"$f":"IF(Table1[[#This Row],[Wage differential Bonus                            - NotePay Rate you are bonusing to]]>0,Table1[[#This Row],[Bonus Rate]]*Table1[[#This Row],[Hours]],\"\")","v":""},null,null,null,null,null,{"$f":"IF(OR(AH353>0.001,AH353<-0.001),Table1[[#This Row],[Employee '#]],\" \")","v":" "},false,{"$f":"SUMIF(Table1[[#This Row],[Total Wage Diff bonus]:[Bank Bonus]],\"<> \")","v":0},{"$f":"IF(AA353>0, Table1[[#This Row],[Column4]], IF(AB353>0,Table1[[#This Row],[Column4]],IF(X353>0,\"1000\")))","v":false}]
[null,null,null,null,null,null,null,null,null,null,null,null,null,null,null,null,0,null,null,null,null,null,null,null,{"$f":"IF(Table1[[#This Row],[Wage differential Bonus                            - NotePay Rate you are bonusing to]]>0, Table1[[#This Row],[Wage differential Bonus                            - NotePay Rate you are bonusing to]]-Table1[[#This Row],[Pay Rate]], \"\")","v":""},{"$f":"IF(Table1[[#This Row],[Wage differential Bonus                            - NotePay Rate you are bonusing to]]>0,Table1[[#This Row],[Bonus Rate]]*Table1[[#This Row],[Hours]],\"\")","v":""},null,null,null,null,null,{"$f":"IF(OR(AH354>0.001,AH354<-0.001),Table1[[#This Row],[Employee '#]],\" \")","v":" "},false,{"$f":"SUMIF(Table1[[#This Row],[Total Wage Diff bonus]:[Bank Bonus]],\"<> \")","v":0},{"$f":"IF(AA354>0, Table1[[#This Row],[Column4]], IF(AB354>0,Table1[[#This Row],[Column4]],IF(X354>0,\"1000\")))","v":false}]
[null,null,null,null,null,null,null,null,null,null,null,null,null,null,null,null,0,null,null,null,null,null,null,null,{"$f":"IF(Table1[[#This Row],[Wage differential Bonus                            - NotePay Rate you are bonusing to]]>0, Table1[[#This Row],[Wage differential Bonus                            - NotePay Rate you are bonusing to]]-Table1[[#This Row],[Pay Rate]], \"\")","v":""},{"$f":"IF(Table1[[#This Row],[Wage differential Bonus                            - NotePay Rate you are bonusing to]]>0,Table1[[#This Row],[Bonus Rate]]*Table1[[#This Row],[Hours]],\"\")","v":""},null,null,null,null,null,{"$f":"IF(OR(AH355>0.001,AH355<-0.001),Table1[[#This Row],[Employee '#]],\" \")","v":" "},false,{"$f":"SUMIF(Table1[[#This Row],[Total Wage Diff bonus]:[Bank Bonus]],\"<> \")","v":0},{"$f":"IF(AA355>0, Table1[[#This Row],[Column4]], IF(AB355>0,Table1[[#This Row],[Column4]],IF(X355>0,\"1000\")))","v":false}]
[null,null,null,null,null,null,null,null,null,null,null,null,null,null,null,null,0,null,null,null,null,null,null,null,{"$f":"IF(Table1[[#This Row],[Wage differential Bonus                            - NotePay Rate you are bonusing to]]>0, Table1[[#This Row],[Wage differential Bonus                            - NotePay Rate you are bonusing to]]-Table1[[#This Row],[Pay Rate]], \"\")","v":""},{"$f":"IF(Table1[[#This Row],[Wage differential Bonus                            - NotePay Rate you are bonusing to]]>0,Table1[[#This Row],[Bonus Rate]]*Table1[[#This Row],[Hours]],\"\")","v":""},null,null,null,null,null,{"$f":"IF(OR(AH356>0.001,AH356<-0.001),Table1[[#This Row],[Employee '#]],\" \")","v":" "},false,{"$f":"SUMIF(Table1[[#This Row],[Total Wage Diff bonus]:[Bank Bonus]],\"<> \")","v":0},{"$f":"IF(AA356>0, Table1[[#This Row],[Column4]], IF(AB356>0,Table1[[#This Row],[Column4]],IF(X356>0,\"1000\")))","v":false}]
[null,null,null,null,null,null,null,null,null,null,null,null,null,null,null,null,0,null,null,null,null,null,null,null,{"$f":"IF(Table1[[#This Row],[Wage differential Bonus                            - NotePay Rate you are bonusing to]]>0, Table1[[#This Row],[Wage differential Bonus                            - NotePay Rate you are bonusing to]]-Table1[[#This Row],[Pay Rate]], \"\")","v":""},{"$f":"IF(Table1[[#This Row],[Wage differential Bonus                            - NotePay Rate you are bonusing to]]>0,Table1[[#This Row],[Bonus Rate]]*Table1[[#This Row],[Hours]],\"\")","v":""},null,null,null,null,null,{"$f":"IF(OR(AH357>0.001,AH357<-0.001),Table1[[#This Row],[Employee '#]],\" \")","v":" "},false,{"$f":"SUMIF(Table1[[#This Row],[Total Wage Diff bonus]:[Bank Bonus]],\"<> \")","v":0},{"$f":"IF(AA357>0, Table1[[#This Row],[Column4]], IF(AB357>0,Table1[[#This Row],[Column4]],IF(X357>0,\"1000\")))","v":false}]
[null,null,null,null,null,null,null,null,null,null,null,null,null,null,null,null,0,null,null,null,null,null,null,null,{"$f":"IF(Table1[[#This Row],[Wage differential Bonus                            - NotePay Rate you are bonusing to]]>0, Table1[[#This Row],[Wage differential Bonus                            - NotePay Rate you are bonusing to]]-Table1[[#This Row],[Pay Rate]], \"\")","v":""},{"$f":"IF(Table1[[#This Row],[Wage differential Bonus                            - NotePay Rate you are bonusing to]]>0,Table1[[#This Row],[Bonus Rate]]*Table1[[#This Row],[Hours]],\"\")","v":""},null,null,null,null,null,{"$f":"IF(OR(AH358>0.001,AH358<-0.001),Table1[[#This Row],[Employee '#]],\" \")","v":" "},false,{"$f":"SUMIF(Table1[[#This Row],[Total Wage Diff bonus]:[Bank Bonus]],\"<> \")","v":0},{"$f":"IF(AA358>0, Table1[[#This Row],[Column4]], IF(AB358>0,Table1[[#This Row],[Column4]],IF(X358>0,\"1000\")))","v":false}]
[null,null,null,null,null,null,null,null,null,null,null,null,null,null,null,null,0,null,null,null,null,null,null,null,{"$f":"IF(Table1[[#This Row],[Wage differential Bonus                            - NotePay Rate you are bonusing to]]>0, Table1[[#This Row],[Wage differential Bonus                            - NotePay Rate you are bonusing to]]-Table1[[#This Row],[Pay Rate]], \"\")","v":""},{"$f":"IF(Table1[[#This Row],[Wage differential Bonus                            - NotePay Rate you are bonusing to]]>0,Table1[[#This Row],[Bonus Rate]]*Table1[[#This Row],[Hours]],\"\")","v":""},null,null,null,null,null,{"$f":"IF(OR(AH359>0.001,AH359<-0.001),Table1[[#This Row],[Employee '#]],\" \")","v":" "},false,{"$f":"SUMIF(Table1[[#This Row],[Total Wage Diff bonus]:[Bank Bonus]],\"<> \")","v":0},{"$f":"IF(AA359>0, Table1[[#This Row],[Column4]], IF(AB359>0,Table1[[#This Row],[Column4]],IF(X359>0,\"1000\")))","v":false}]
[null,null,null,null,null,null,null,null,null,null,null,null,null,null,null,null,0,null,null,null,null,null,null,null,{"$f":"IF(Table1[[#This Row],[Wage differential Bonus                            - NotePay Rate you are bonusing to]]>0, Table1[[#This Row],[Wage differential Bonus                            - NotePay Rate you are bonusing to]]-Table1[[#This Row],[Pay Rate]], \"\")","v":""},{"$f":"IF(Table1[[#This Row],[Wage differential Bonus                            - NotePay Rate you are bonusing to]]>0,Table1[[#This Row],[Bonus Rate]]*Table1[[#This Row],[Hours]],\"\")","v":""},null,null,null,null,null,{"$f":"IF(OR(AH360>0.001,AH360<-0.001),Table1[[#This Row],[Employee '#]],\" \")","v":" "},false,{"$f":"SUMIF(Table1[[#This Row],[Total Wage Diff bonus]:[Bank Bonus]],\"<> \")","v":0},{"$f":"IF(AA360>0, Table1[[#This Row],[Column4]], IF(AB360>0,Table1[[#This Row],[Column4]],IF(X360>0,\"1000\")))","v":false}]
[null,null,null,null,null,null,null,null,null,null,null,null,null,null,null,null,0,null,null,null,null,null,null,null,{"$f":"IF(Table1[[#This Row],[Wage differential Bonus                            - NotePay Rate you are bonusing to]]>0, Table1[[#This Row],[Wage differential Bonus                            - NotePay Rate you are bonusing to]]-Table1[[#This Row],[Pay Rate]], \"\")","v":""},{"$f":"IF(Table1[[#This Row],[Wage differential Bonus                            - NotePay Rate you are bonusing to]]>0,Table1[[#This Row],[Bonus Rate]]*Table1[[#This Row],[Hours]],\"\")","v":""},null,null,null,null,null,{"$f":"IF(OR(AH361>0.001,AH361<-0.001),Table1[[#This Row],[Employee '#]],\" \")","v":" "},false,{"$f":"SUMIF(Table1[[#This Row],[Total Wage Diff bonus]:[Bank Bonus]],\"<> \")","v":0},{"$f":"IF(AA361>0, Table1[[#This Row],[Column4]], IF(AB361>0,Table1[[#This Row],[Column4]],IF(X361>0,\"1000\")))","v":false}]
[null,null,null,null,null,null,null,null,null,null,null,null,null,null,null,null,0,null,null,null,null,null,null,null,{"$f":"IF(Table1[[#This Row],[Wage differential Bonus                            - NotePay Rate you are bonusing to]]>0, Table1[[#This Row],[Wage differential Bonus                            - NotePay Rate you are bonusing to]]-Table1[[#This Row],[Pay Rate]], \"\")","v":""},{"$f":"IF(Table1[[#This Row],[Wage differential Bonus                            - NotePay Rate you are bonusing to]]>0,Table1[[#This Row],[Bonus Rate]]*Table1[[#This Row],[Hours]],\"\")","v":""},null,null,null,null,null,{"$f":"IF(OR(AH362>0.001,AH362<-0.001),Table1[[#This Row],[Employee '#]],\" \")","v":" "},false,{"$f":"SUMIF(Table1[[#This Row],[Total Wage Diff bonus]:[Bank Bonus]],\"<> \")","v":0},{"$f":"IF(AA362>0, Table1[[#This Row],[Column4]], IF(AB362>0,Table1[[#This Row],[Column4]],IF(X362>0,\"1000\")))","v":false}]
[null,null,null,null,null,null,null,null,null,null,null,null,null,null,null,null,0,null,null,null,null,null,null,null,{"$f":"IF(Table1[[#This Row],[Wage differential Bonus                            - NotePay Rate you are bonusing to]]>0, Table1[[#This Row],[Wage differential Bonus                            - NotePay Rate you are bonusing to]]-Table1[[#This Row],[Pay Rate]], \"\")","v":""},{"$f":"IF(Table1[[#This Row],[Wage differential Bonus                            - NotePay Rate you are bonusing to]]>0,Table1[[#This Row],[Bonus Rate]]*Table1[[#This Row],[Hours]],\"\")","v":""},null,null,null,null,null,{"$f":"IF(OR(AH363>0.001,AH363<-0.001),Table1[[#This Row],[Employee '#]],\" \")","v":" "},false,{"$f":"SUMIF(Table1[[#This Row],[Total Wage Diff bonus]:[Bank Bonus]],\"<> \")","v":0},{"$f":"IF(AA363>0, Table1[[#This Row],[Column4]], IF(AB363>0,Table1[[#This Row],[Column4]],IF(X363>0,\"1000\")))","v":false}]
[null,null,null,null,null,null,null,null,null,null,null,null,null,null,null,null,0,null,null,null,null,null,null,null,{"$f":"IF(Table1[[#This Row],[Wage differential Bonus                            - NotePay Rate you are bonusing to]]>0, Table1[[#This Row],[Wage differential Bonus                            - NotePay Rate you are bonusing to]]-Table1[[#This Row],[Pay Rate]], \"\")","v":""},{"$f":"IF(Table1[[#This Row],[Wage differential Bonus                            - NotePay Rate you are bonusing to]]>0,Table1[[#This Row],[Bonus Rate]]*Table1[[#This Row],[Hours]],\"\")","v":""},null,null,null,null,null,{"$f":"IF(OR(AH364>0.001,AH364<-0.001),Table1[[#This Row],[Employee '#]],\" \")","v":" "},false,{"$f":"SUMIF(Table1[[#This Row],[Total Wage Diff bonus]:[Bank Bonus]],\"<> \")","v":0},{"$f":"IF(AA364>0, Table1[[#This Row],[Column4]], IF(AB364>0,Table1[[#This Row],[Column4]],IF(X364>0,\"1000\")))","v":false}]
[null,null,null,null,null,null,null,null,null,null,null,null,null,null,null,null,0,null,null,null,null,null,null,null,{"$f":"IF(Table1[[#This Row],[Wage differential Bonus                            - NotePay Rate you are bonusing to]]>0, Table1[[#This Row],[Wage differential Bonus                            - NotePay Rate you are bonusing to]]-Table1[[#This Row],[Pay Rate]], \"\")","v":""},{"$f":"IF(Table1[[#This Row],[Wage differential Bonus                            - NotePay Rate you are bonusing to]]>0,Table1[[#This Row],[Bonus Rate]]*Table1[[#This Row],[Hours]],\"\")","v":""},null,null,null,null,null,{"$f":"IF(OR(AH365>0.001,AH365<-0.001),Table1[[#This Row],[Employee '#]],\" \")","v":" "},false,{"$f":"SUMIF(Table1[[#This Row],[Total Wage Diff bonus]:[Bank Bonus]],\"<> \")","v":0},{"$f":"IF(AA365>0, Table1[[#This Row],[Column4]], IF(AB365>0,Table1[[#This Row],[Column4]],IF(X365>0,\"1000\")))","v":false}]
[null,null,null,null,null,null,null,null,null,null,null,null,null,null,null,null,0,null,null,null,null,null,null,null,{"$f":"IF(Table1[[#This Row],[Wage differential Bonus                            - NotePay Rate you are bonusing to]]>0, Table1[[#This Row],[Wage differential Bonus                            - NotePay Rate you are bonusing to]]-Table1[[#This Row],[Pay Rate]], \"\")","v":""},{"$f":"IF(Table1[[#This Row],[Wage differential Bonus                            - NotePay Rate you are bonusing to]]>0,Table1[[#This Row],[Bonus Rate]]*Table1[[#This Row],[Hours]],\"\")","v":""},null,null,null,null,null,{"$f":"IF(OR(AH366>0.001,AH366<-0.001),Table1[[#This Row],[Employee '#]],\" \")","v":" "},false,{"$f":"SUMIF(Table1[[#This Row],[Total Wage Diff bonus]:[Bank Bonus]],\"<> \")","v":0},{"$f":"IF(AA366>0, Table1[[#This Row],[Column4]], IF(AB366>0,Table1[[#This Row],[Column4]],IF(X366>0,\"1000\")))","v":false}]
[null,null,null,null,null,null,null,null,null,null,null,null,null,null,null,null,0,null,null,null,null,null,null,null,{"$f":"IF(Table1[[#This Row],[Wage differential Bonus                            - NotePay Rate you are bonusing to]]>0, Table1[[#This Row],[Wage differential Bonus                            - NotePay Rate you are bonusing to]]-Table1[[#This Row],[Pay Rate]], \"\")","v":""},{"$f":"IF(Table1[[#This Row],[Wage differential Bonus                            - NotePay Rate you are bonusing to]]>0,Table1[[#This Row],[Bonus Rate]]*Table1[[#This Row],[Hours]],\"\")","v":""},null,null,null,null,null,{"$f":"IF(OR(AH367>0.001,AH367<-0.001),Table1[[#This Row],[Employee '#]],\" \")","v":" "},false,{"$f":"SUMIF(Table1[[#This Row],[Total Wage Diff bonus]:[Bank Bonus]],\"<> \")","v":0},{"$f":"IF(AA367>0, Table1[[#This Row],[Column4]], IF(AB367>0,Table1[[#This Row],[Column4]],IF(X367>0,\"1000\")))","v":false}]
[null,null,null,null,null,null,null,null,null,null,null,null,null,null,null,null,0,null,null,null,null,null,null,null,{"$f":"IF(Table1[[#This Row],[Wage differential Bonus                            - NotePay Rate you are bonusing to]]>0, Table1[[#This Row],[Wage differential Bonus                            - NotePay Rate you are bonusing to]]-Table1[[#This Row],[Pay Rate]], \"\")","v":""},{"$f":"IF(Table1[[#This Row],[Wage differential Bonus                            - NotePay Rate you are bonusing to]]>0,Table1[[#This Row],[Bonus Rate]]*Table1[[#This Row],[Hours]],\"\")","v":""},null,null,null,null,null,{"$f":"IF(OR(AH368>0.001,AH368<-0.001),Table1[[#This Row],[Employee '#]],\" \")","v":" "},false,{"$f":"SUMIF(Table1[[#This Row],[Total Wage Diff bonus]:[Bank Bonus]],\"<> \")","v":0},{"$f":"IF(AA368>0, Table1[[#This Row],[Column4]], IF(AB368>0,Table1[[#This Row],[Column4]],IF(X368>0,\"1000\")))","v":false}]
[null,null,null,null,null,null,null,null,null,null,null,null,null,null,null,null,0,null,null,null,null,null,null,null,{"$f":"IF(Table1[[#This Row],[Wage differential Bonus                            - NotePay Rate you are bonusing to]]>0, Table1[[#This Row],[Wage differential Bonus                            - NotePay Rate you are bonusing to]]-Table1[[#This Row],[Pay Rate]], \"\")","v":""},{"$f":"IF(Table1[[#This Row],[Wage differential Bonus                            - NotePay Rate you are bonusing to]]>0,Table1[[#This Row],[Bonus Rate]]*Table1[[#This Row],[Hours]],\"\")","v":""},null,null,null,null,null,{"$f":"IF(OR(AH369>0.001,AH369<-0.001),Table1[[#This Row],[Employee '#]],\" \")","v":" "},false,{"$f":"SUMIF(Table1[[#This Row],[Total Wage Diff bonus]:[Bank Bonus]],\"<> \")","v":0},{"$f":"IF(AA369>0, Table1[[#This Row],[Column4]], IF(AB369>0,Table1[[#This Row],[Column4]],IF(X369>0,\"1000\")))","v":false}]
[null,null,null,null,null,null,null,null,null,null,null,null,null,null,null,null,0,null,null,null,null,null,null,null,{"$f":"IF(Table1[[#This Row],[Wage differential Bonus                            - NotePay Rate you are bonusing to]]>0, Table1[[#This Row],[Wage differential Bonus                            - NotePay Rate you are bonusing to]]-Table1[[#This Row],[Pay Rate]], \"\")","v":""},{"$f":"IF(Table1[[#This Row],[Wage differential Bonus                            - NotePay Rate you are bonusing to]]>0,Table1[[#This Row],[Bonus Rate]]*Table1[[#This Row],[Hours]],\"\")","v":""},null,null,null,null,null,{"$f":"IF(OR(AH370>0.001,AH370<-0.001),Table1[[#This Row],[Employee '#]],\" \")","v":" "},false,{"$f":"SUMIF(Table1[[#This Row],[Total Wage Diff bonus]:[Bank Bonus]],\"<> \")","v":0},{"$f":"IF(AA370>0, Table1[[#This Row],[Column4]], IF(AB370>0,Table1[[#This Row],[Column4]],IF(X370>0,\"1000\")))","v":false}]
[null,null,null,null,null,null,null,null,null,null,null,null,null,null,null,null,0,null,null,null,null,null,null,null,{"$f":"IF(Table1[[#This Row],[Wage differential Bonus                            - NotePay Rate you are bonusing to]]>0, Table1[[#This Row],[Wage differential Bonus                            - NotePay Rate you are bonusing to]]-Table1[[#This Row],[Pay Rate]], \"\")","v":""},{"$f":"IF(Table1[[#This Row],[Wage differential Bonus                            - NotePay Rate you are bonusing to]]>0,Table1[[#This Row],[Bonus Rate]]*Table1[[#This Row],[Hours]],\"\")","v":""},null,null,null,null,null,{"$f":"IF(OR(AH371>0.001,AH371<-0.001),Table1[[#This Row],[Employee '#]],\" \")","v":" "},false,{"$f":"SUMIF(Table1[[#This Row],[Total Wage Diff bonus]:[Bank Bonus]],\"<> \")","v":0},{"$f":"IF(AA371>0, Table1[[#This Row],[Column4]], IF(AB371>0,Table1[[#This Row],[Column4]],IF(X371>0,\"1000\")))","v":false}]
[null,null,null,null,null,null,null,null,null,null,null,null,null,null,null,null,0,null,null,null,null,null,null,null,{"$f":"IF(Table1[[#This Row],[Wage differential Bonus                            - NotePay Rate you are bonusing to]]>0, Table1[[#This Row],[Wage differential Bonus                            - NotePay Rate you are bonusing to]]-Table1[[#This Row],[Pay Rate]], \"\")","v":""},{"$f":"IF(Table1[[#This Row],[Wage differential Bonus                            - NotePay Rate you are bonusing to]]>0,Table1[[#This Row],[Bonus Rate]]*Table1[[#This Row],[Hours]],\"\")","v":""},null,null,null,null,null,{"$f":"IF(OR(AH372>0.001,AH372<-0.001),Table1[[#This Row],[Employee '#]],\" \")","v":" "},false,{"$f":"SUMIF(Table1[[#This Row],[Total Wage Diff bonus]:[Bank Bonus]],\"<> \")","v":0},{"$f":"IF(AA372>0, Table1[[#This Row],[Column4]], IF(AB372>0,Table1[[#This Row],[Column4]],IF(X372>0,\"1000\")))","v":false}]
[null,null,null,null,null,null,null,null,null,null,null,null,null,null,null,null,0,null,null,null,null,null,null,null,{"$f":"IF(Table1[[#This Row],[Wage differential Bonus                            - NotePay Rate you are bonusing to]]>0, Table1[[#This Row],[Wage differential Bonus                            - NotePay Rate you are bonusing to]]-Table1[[#This Row],[Pay Rate]], \"\")","v":""},{"$f":"IF(Table1[[#This Row],[Wage differential Bonus                            - NotePay Rate you are bonusing to]]>0,Table1[[#This Row],[Bonus Rate]]*Table1[[#This Row],[Hours]],\"\")","v":""},null,null,null,null,null,{"$f":"IF(OR(AH373>0.001,AH373<-0.001),Table1[[#This Row],[Employee '#]],\" \")","v":" "},false,{"$f":"SUMIF(Table1[[#This Row],[Total Wage Diff bonus]:[Bank Bonus]],\"<> \")","v":0},{"$f":"IF(AA373>0, Table1[[#This Row],[Column4]], IF(AB373>0,Table1[[#This Row],[Column4]],IF(X373>0,\"1000\")))","v":false}]
[null,null,null,null,null,null,null,null,null,null,null,null,null,null,null,null,0,null,null,null,null,null,null,null,{"$f":"IF(Table1[[#This Row],[Wage differential Bonus                            - NotePay Rate you are bonusing to]]>0, Table1[[#This Row],[Wage differential Bonus                            - NotePay Rate you are bonusing to]]-Table1[[#This Row],[Pay Rate]], \"\")","v":""},{"$f":"IF(Table1[[#This Row],[Wage differential Bonus                            - NotePay Rate you are bonusing to]]>0,Table1[[#This Row],[Bonus Rate]]*Table1[[#This Row],[Hours]],\"\")","v":""},null,null,null,null,null,{"$f":"IF(OR(AH374>0.001,AH374<-0.001),Table1[[#This Row],[Employee '#]],\" \")","v":" "},false,{"$f":"SUMIF(Table1[[#This Row],[Total Wage Diff bonus]:[Bank Bonus]],\"<> \")","v":0},{"$f":"IF(AA374>0, Table1[[#This Row],[Column4]], IF(AB374>0,Table1[[#This Row],[Column4]],IF(X374>0,\"1000\")))","v":false}]
[null,null,null,null,null,null,null,null,null,null,null,null,null,null,null,null,0,null,null,null,null,null,null,null,{"$f":"IF(Table1[[#This Row],[Wage differential Bonus                            - NotePay Rate you are bonusing to]]>0, Table1[[#This Row],[Wage differential Bonus                            - NotePay Rate you are bonusing to]]-Table1[[#This Row],[Pay Rate]], \"\")","v":""},{"$f":"IF(Table1[[#This Row],[Wage differential Bonus                            - NotePay Rate you are bonusing to]]>0,Table1[[#This Row],[Bonus Rate]]*Table1[[#This Row],[Hours]],\"\")","v":""},null,null,null,null,null,{"$f":"IF(OR(AH375>0.001,AH375<-0.001),Table1[[#This Row],[Employee '#]],\" \")","v":" "},false,{"$f":"SUMIF(Table1[[#This Row],[Total Wage Diff bonus]:[Bank Bonus]],\"<> \")","v":0},{"$f":"IF(AA375>0, Table1[[#This Row],[Column4]], IF(AB375>0,Table1[[#This Row],[Column4]],IF(X375>0,\"1000\")))","v":false}]
[null,null,null,null,null,null,null,null,null,null,null,null,null,null,null,null,0,null,null,null,null,null,null,null,{"$f":"IF(Table1[[#This Row],[Wage differential Bonus                            - NotePay Rate you are bonusing to]]>0, Table1[[#This Row],[Wage differential Bonus                            - NotePay Rate you are bonusing to]]-Table1[[#This Row],[Pay Rate]], \"\")","v":""},{"$f":"IF(Table1[[#This Row],[Wage differential Bonus                            - NotePay Rate you are bonusing to]]>0,Table1[[#This Row],[Bonus Rate]]*Table1[[#This Row],[Hours]],\"\")","v":""},null,null,null,null,null,{"$f":"IF(OR(AH376>0.001,AH376<-0.001),Table1[[#This Row],[Employee '#]],\" \")","v":" "},false,{"$f":"SUMIF(Table1[[#This Row],[Total Wage Diff bonus]:[Bank Bonus]],\"<> \")","v":0},{"$f":"IF(AA376>0, Table1[[#This Row],[Column4]], IF(AB376>0,Table1[[#This Row],[Column4]],IF(X376>0,\"1000\")))","v":false}]
[null,null,null,null,null,null,null,null,null,null,null,null,null,null,null,null,0,null,null,null,null,null,null,null,{"$f":"IF(Table1[[#This Row],[Wage differential Bonus                            - NotePay Rate you are bonusing to]]>0, Table1[[#This Row],[Wage differential Bonus                            - NotePay Rate you are bonusing to]]-Table1[[#This Row],[Pay Rate]], \"\")","v":""},{"$f":"IF(Table1[[#This Row],[Wage differential Bonus                            - NotePay Rate you are bonusing to]]>0,Table1[[#This Row],[Bonus Rate]]*Table1[[#This Row],[Hours]],\"\")","v":""},null,null,null,null,null,{"$f":"IF(OR(AH377>0.001,AH377<-0.001),Table1[[#This Row],[Employee '#]],\" \")","v":" "},false,{"$f":"SUMIF(Table1[[#This Row],[Total Wage Diff bonus]:[Bank Bonus]],\"<> \")","v":0},{"$f":"IF(AA377>0, Table1[[#This Row],[Column4]], IF(AB377>0,Table1[[#This Row],[Column4]],IF(X377>0,\"1000\")))","v":false}]
[null,null,null,null,null,null,null,null,null,null,null,null,null,null,null,null,0,null,null,null,null,null,null,null,{"$f":"IF(Table1[[#This Row],[Wage differential Bonus                            - NotePay Rate you are bonusing to]]>0, Table1[[#This Row],[Wage differential Bonus                            - NotePay Rate you are bonusing to]]-Table1[[#This Row],[Pay Rate]], \"\")","v":""},{"$f":"IF(Table1[[#This Row],[Wage differential Bonus                            - NotePay Rate you are bonusing to]]>0,Table1[[#This Row],[Bonus Rate]]*Table1[[#This Row],[Hours]],\"\")","v":""},null,null,null,null,null,{"$f":"IF(OR(AH378>0.001,AH378<-0.001),Table1[[#This Row],[Employee '#]],\" \")","v":" "},false,{"$f":"SUMIF(Table1[[#This Row],[Total Wage Diff bonus]:[Bank Bonus]],\"<> \")","v":0},{"$f":"IF(AA378>0, Table1[[#This Row],[Column4]], IF(AB378>0,Table1[[#This Row],[Column4]],IF(X378>0,\"1000\")))","v":false}]
[null,null,null,null,null,null,null,null,null,null,null,null,null,null,null,null,0,null,null,null,null,null,null,null,{"$f":"IF(Table1[[#This Row],[Wage differential Bonus                            - NotePay Rate you are bonusing to]]>0, Table1[[#This Row],[Wage differential Bonus                            - NotePay Rate you are bonusing to]]-Table1[[#This Row],[Pay Rate]], \"\")","v":""},{"$f":"IF(Table1[[#This Row],[Wage differential Bonus                            - NotePay Rate you are bonusing to]]>0,Table1[[#This Row],[Bonus Rate]]*Table1[[#This Row],[Hours]],\"\")","v":""},null,null,null,null,null,{"$f":"IF(OR(AH379>0.001,AH379<-0.001),Table1[[#This Row],[Employee '#]],\" \")","v":" "},false,{"$f":"SUMIF(Table1[[#This Row],[Total Wage Diff bonus]:[Bank Bonus]],\"<> \")","v":0},{"$f":"IF(AA379>0, Table1[[#This Row],[Column4]], IF(AB379>0,Table1[[#This Row],[Column4]],IF(X379>0,\"1000\")))","v":false}]
[null,null,null,null,null,null,null,null,null,null,null,null,null,null,null,null,0,null,null,null,null,null,null,null,{"$f":"IF(Table1[[#This Row],[Wage differential Bonus                            - NotePay Rate you are bonusing to]]>0, Table1[[#This Row],[Wage differential Bonus                            - NotePay Rate you are bonusing to]]-Table1[[#This Row],[Pay Rate]], \"\")","v":""},{"$f":"IF(Table1[[#This Row],[Wage differential Bonus                            - NotePay Rate you are bonusing to]]>0,Table1[[#This Row],[Bonus Rate]]*Table1[[#This Row],[Hours]],\"\")","v":""},null,null,null,null,null,{"$f":"IF(OR(AH380>0.001,AH380<-0.001),Table1[[#This Row],[Employee '#]],\" \")","v":" "},false,{"$f":"SUMIF(Table1[[#This Row],[Total Wage Diff bonus]:[Bank Bonus]],\"<> \")","v":0},{"$f":"IF(AA380>0, Table1[[#This Row],[Column4]], IF(AB380>0,Table1[[#This Row],[Column4]],IF(X380>0,\"1000\")))","v":false}]
[null,null,null,null,null,null,null,null,null,null,null,null,null,null,null,null,0,null,null,null,null,null,null,null,{"$f":"IF(Table1[[#This Row],[Wage differential Bonus                            - NotePay Rate you are bonusing to]]>0, Table1[[#This Row],[Wage differential Bonus                            - NotePay Rate you are bonusing to]]-Table1[[#This Row],[Pay Rate]], \"\")","v":""},{"$f":"IF(Table1[[#This Row],[Wage differential Bonus                            - NotePay Rate you are bonusing to]]>0,Table1[[#This Row],[Bonus Rate]]*Table1[[#This Row],[Hours]],\"\")","v":""},null,null,null,null,null,{"$f":"IF(OR(AH381>0.001,AH381<-0.001),Table1[[#This Row],[Employee '#]],\" \")","v":" "},false,{"$f":"SUMIF(Table1[[#This Row],[Total Wage Diff bonus]:[Bank Bonus]],\"<> \")","v":0},{"$f":"IF(AA381>0, Table1[[#This Row],[Column4]], IF(AB381>0,Table1[[#This Row],[Column4]],IF(X381>0,\"1000\")))","v":false}]
[null,null,null,null,null,null,null,null,null,null,null,null,null,null,null,null,0,null,null,null,null,null,null,null,{"$f":"IF(Table1[[#This Row],[Wage differential Bonus                            - NotePay Rate you are bonusing to]]>0, Table1[[#This Row],[Wage differential Bonus                            - NotePay Rate you are bonusing to]]-Table1[[#This Row],[Pay Rate]], \"\")","v":""},{"$f":"IF(Table1[[#This Row],[Wage differential Bonus                            - NotePay Rate you are bonusing to]]>0,Table1[[#This Row],[Bonus Rate]]*Table1[[#This Row],[Hours]],\"\")","v":""},null,null,null,null,null,{"$f":"IF(OR(AH382>0.001,AH382<-0.001),Table1[[#This Row],[Employee '#]],\" \")","v":" "},false,{"$f":"SUMIF(Table1[[#This Row],[Total Wage Diff bonus]:[Bank Bonus]],\"<> \")","v":0},{"$f":"IF(AA382>0, Table1[[#This Row],[Column4]], IF(AB382>0,Table1[[#This Row],[Column4]],IF(X382>0,\"1000\")))","v":false}]
[null,null,null,null,null,null,null,null,null,null,null,null,null,null,null,null,0,null,null,null,null,null,null,null,{"$f":"IF(Table1[[#This Row],[Wage differential Bonus                            - NotePay Rate you are bonusing to]]>0, Table1[[#This Row],[Wage differential Bonus                            - NotePay Rate you are bonusing to]]-Table1[[#This Row],[Pay Rate]], \"\")","v":""},{"$f":"IF(Table1[[#This Row],[Wage differential Bonus                            - NotePay Rate you are bonusing to]]>0,Table1[[#This Row],[Bonus Rate]]*Table1[[#This Row],[Hours]],\"\")","v":""},null,null,null,null,null,{"$f":"IF(OR(AH383>0.001,AH383<-0.001),Table1[[#This Row],[Employee '#]],\" \")","v":" "},false,{"$f":"SUMIF(Table1[[#This Row],[Total Wage Diff bonus]:[Bank Bonus]],\"<> \")","v":0},{"$f":"IF(AA383>0, Table1[[#This Row],[Column4]], IF(AB383>0,Table1[[#This Row],[Column4]],IF(X383>0,\"1000\")))","v":false}]
[null,null,null,null,null,null,null,null,null,null,null,null,null,null,null,null,0,null,null,null,null,null,null,null,{"$f":"IF(Table1[[#This Row],[Wage differential Bonus                            - NotePay Rate you are bonusing to]]>0, Table1[[#This Row],[Wage differential Bonus                            - NotePay Rate you are bonusing to]]-Table1[[#This Row],[Pay Rate]], \"\")","v":""},{"$f":"IF(Table1[[#This Row],[Wage differential Bonus                            - NotePay Rate you are bonusing to]]>0,Table1[[#This Row],[Bonus Rate]]*Table1[[#This Row],[Hours]],\"\")","v":""},null,null,null,null,null,{"$f":"IF(OR(AH384>0.001,AH384<-0.001),Table1[[#This Row],[Employee '#]],\" \")","v":" "},false,{"$f":"SUMIF(Table1[[#This Row],[Total Wage Diff bonus]:[Bank Bonus]],\"<> \")","v":0},{"$f":"IF(AA384>0, Table1[[#This Row],[Column4]], IF(AB384>0,Table1[[#This Row],[Column4]],IF(X384>0,\"1000\")))","v":false}]
[null,null,null,null,null,null,null,null,null,null,null,null,null,null,null,null,0,null,null,null,null,null,null,null,{"$f":"IF(Table1[[#This Row],[Wage differential Bonus                            - NotePay Rate you are bonusing to]]>0, Table1[[#This Row],[Wage differential Bonus                            - NotePay Rate you are bonusing to]]-Table1[[#This Row],[Pay Rate]], \"\")","v":""},{"$f":"IF(Table1[[#This Row],[Wage differential Bonus                            - NotePay Rate you are bonusing to]]>0,Table1[[#This Row],[Bonus Rate]]*Table1[[#This Row],[Hours]],\"\")","v":""},null,null,null,null,null,{"$f":"IF(OR(AH385>0.001,AH385<-0.001),Table1[[#This Row],[Employee '#]],\" \")","v":" "},false,{"$f":"SUMIF(Table1[[#This Row],[Total Wage Diff bonus]:[Bank Bonus]],\"<> \")","v":0},{"$f":"IF(AA385>0, Table1[[#This Row],[Column4]], IF(AB385>0,Table1[[#This Row],[Column4]],IF(X385>0,\"1000\")))","v":false}]
[null,null,null,null,null,null,null,null,null,null,null,null,null,null,null,null,0,null,null,null,null,null,null,null,{"$f":"IF(Table1[[#This Row],[Wage differential Bonus                            - NotePay Rate you are bonusing to]]>0, Table1[[#This Row],[Wage differential Bonus                            - NotePay Rate you are bonusing to]]-Table1[[#This Row],[Pay Rate]], \"\")","v":""},{"$f":"IF(Table1[[#This Row],[Wage differential Bonus                            - NotePay Rate you are bonusing to]]>0,Table1[[#This Row],[Bonus Rate]]*Table1[[#This Row],[Hours]],\"\")","v":""},null,null,null,null,null,{"$f":"IF(OR(AH386>0.001,AH386<-0.001),Table1[[#This Row],[Employee '#]],\" \")","v":" "},false,{"$f":"SUMIF(Table1[[#This Row],[Total Wage Diff bonus]:[Bank Bonus]],\"<> \")","v":0},{"$f":"IF(AA386>0, Table1[[#This Row],[Column4]], IF(AB386>0,Table1[[#This Row],[Column4]],IF(X386>0,\"1000\")))","v":false}]
[null,null,null,null,null,null,null,null,null,null,null,null,null,null,null,null,0,null,null,null,null,null,null,null,{"$f":"IF(Table1[[#This Row],[Wage differential Bonus                            - NotePay Rate you are bonusing to]]>0, Table1[[#This Row],[Wage differential Bonus                            - NotePay Rate you are bonusing to]]-Table1[[#This Row],[Pay Rate]], \"\")","v":""},{"$f":"IF(Table1[[#This Row],[Wage differential Bonus                            - NotePay Rate you are bonusing to]]>0,Table1[[#This Row],[Bonus Rate]]*Table1[[#This Row],[Hours]],\"\")","v":""},null,null,null,null,null,{"$f":"IF(OR(AH387>0.001,AH387<-0.001),Table1[[#This Row],[Employee '#]],\" \")","v":" "},false,{"$f":"SUMIF(Table1[[#This Row],[Total Wage Diff bonus]:[Bank Bonus]],\"<> \")","v":0},{"$f":"IF(AA387>0, Table1[[#This Row],[Column4]], IF(AB387>0,Table1[[#This Row],[Column4]],IF(X387>0,\"1000\")))","v":false}]
[null,null,null,null,null,null,null,null,null,null,null,null,null,null,null,null,{"$f":"L388+P388","v":0},null,null,null,null,null,null,null,{"$f":"IF(Table1[[#This Row],[Wage differential Bonus                            - NotePay Rate you are bonusing to]]>0, Table1[[#This Row],[Wage differential Bonus                            - NotePay Rate you are bonusing to]]-Table1[[#This Row],[Pay Rate]], \"\")","v":""},{"$f":"IF(Table1[[#This Row],[Wage differential Bonus                            - NotePay Rate you are bonusing to]]>0,Table1[[#This Row],[Bonus Rate]]*Table1[[#This Row],[Hours]],\"\")","v":""},null,null,null,null,null,{"$f":"IF(OR(AH388>0.001,AH388<-0.001),Table1[[#This Row],[Employee '#]],\" \")","v":" "},{"$f":"IF(AA388>0, \"28\", IF(AB388>0,\"53\",IF(X388>0,\"20\")))","v":false},{"$f":"SUMIF(Table1[[#This Row],[Total Wage Diff bonus]:[Bank Bonus]],\"<> \")","v":0},{"$f":"IF(AA388>0, Table1[[#This Row],[Column4]], IF(AB388>0,Table1[[#This Row],[Column4]],IF(X388>0,\"1000\")))","v":false}]
[null,null,null,null,null,null,null,null,null,null,null,null,null,null,null,null,0,null,null,null,null,null,null,null,{"$f":"IF(Table1[[#This Row],[Wage differential Bonus                            - NotePay Rate you are bonusing to]]>0, Table1[[#This Row],[Wage differential Bonus                            - NotePay Rate you are bonusing to]]-Table1[[#This Row],[Pay Rate]], \"\")","v":""},{"$f":"IF(Table1[[#This Row],[Wage differential Bonus                            - NotePay Rate you are bonusing to]]>0,Table1[[#This Row],[Bonus Rate]]*Table1[[#This Row],[Hours]],\"\")","v":""},null,null,null,null,null,{"$f":"IF(OR(AH389>0.001,AH389<-0.001),Table1[[#This Row],[Employee '#]],\" \")","v":" "},false,{"$f":"SUMIF(Table1[[#This Row],[Total Wage Diff bonus]:[Bank Bonus]],\"<> \")","v":0},{"$f":"IF(AA389>0, Table1[[#This Row],[Column4]], IF(AB389>0,Table1[[#This Row],[Column4]],IF(X389>0,\"1000\")))","v":false}]
[null,null,null,null,null,null,null,null,null,null,null,null,null,null,null,null,0,null,null,null,null,null,null,null,{"$f":"IF(Table1[[#This Row],[Wage differential Bonus                            - NotePay Rate you are bonusing to]]>0, Table1[[#This Row],[Wage differential Bonus                            - NotePay Rate you are bonusing to]]-Table1[[#This Row],[Pay Rate]], \"\")","v":""},{"$f":"IF(Table1[[#This Row],[Wage differential Bonus                            - NotePay Rate you are bonusing to]]>0,Table1[[#This Row],[Bonus Rate]]*Table1[[#This Row],[Hours]],\"\")","v":""},null,null,null,null,null,{"$f":"IF(OR(AH390>0.001,AH390<-0.001),Table1[[#This Row],[Employee '#]],\" \")","v":" "},false,{"$f":"SUMIF(Table1[[#This Row],[Total Wage Diff bonus]:[Bank Bonus]],\"<> \")","v":0},{"$f":"IF(AA390>0, Table1[[#This Row],[Column4]], IF(AB390>0,Table1[[#This Row],[Column4]],IF(X390>0,\"1000\")))","v":false}]
[null,null,null,null,null,null,null,null,null,null,null,null,null,null,null,null,0,null,null,null,null,null,null,null,{"$f":"IF(Table1[[#This Row],[Wage differential Bonus                            - NotePay Rate you are bonusing to]]>0, Table1[[#This Row],[Wage differential Bonus                            - NotePay Rate you are bonusing to]]-Table1[[#This Row],[Pay Rate]], \"\")","v":""},{"$f":"IF(Table1[[#This Row],[Wage differential Bonus                            - NotePay Rate you are bonusing to]]>0,Table1[[#This Row],[Bonus Rate]]*Table1[[#This Row],[Hours]],\"\")","v":""},null,null,null,null,null,{"$f":"IF(OR(AH391>0.001,AH391<-0.001),Table1[[#This Row],[Employee '#]],\" \")","v":" "},false,{"$f":"SUMIF(Table1[[#This Row],[Total Wage Diff bonus]:[Bank Bonus]],\"<> \")","v":0},{"$f":"IF(AA391>0, Table1[[#This Row],[Column4]], IF(AB391>0,Table1[[#This Row],[Column4]],IF(X391>0,\"1000\")))","v":false}]
[null,null,null,null,null,null,null,null,null,null,null,null,null,null,null,null,0,null,null,null,null,null,null,null,{"$f":"IF(Table1[[#This Row],[Wage differential Bonus                            - NotePay Rate you are bonusing to]]>0, Table1[[#This Row],[Wage differential Bonus                            - NotePay Rate you are bonusing to]]-Table1[[#This Row],[Pay Rate]], \"\")","v":""},{"$f":"IF(Table1[[#This Row],[Wage differential Bonus                            - NotePay Rate you are bonusing to]]>0,Table1[[#This Row],[Bonus Rate]]*Table1[[#This Row],[Hours]],\"\")","v":""},null,null,null,null,null,{"$f":"IF(OR(AH392>0.001,AH392<-0.001),Table1[[#This Row],[Employee '#]],\" \")","v":" "},false,{"$f":"SUMIF(Table1[[#This Row],[Total Wage Diff bonus]:[Bank Bonus]],\"<> \")","v":0},{"$f":"IF(AA392>0, Table1[[#This Row],[Column4]], IF(AB392>0,Table1[[#This Row],[Column4]],IF(X392>0,\"1000\")))","v":false}]
[null,null,null,null,null,null,null,null,null,null,null,null,null,null,null,null,0,null,null,null,null,null,null,null,{"$f":"IF(Table1[[#This Row],[Wage differential Bonus                            - NotePay Rate you are bonusing to]]>0, Table1[[#This Row],[Wage differential Bonus                            - NotePay Rate you are bonusing to]]-Table1[[#This Row],[Pay Rate]], \"\")","v":""},{"$f":"IF(Table1[[#This Row],[Wage differential Bonus                            - NotePay Rate you are bonusing to]]>0,Table1[[#This Row],[Bonus Rate]]*Table1[[#This Row],[Hours]],\"\")","v":""},null,null,null,null,null,{"$f":"IF(OR(AH393>0.001,AH393<-0.001),Table1[[#This Row],[Employee '#]],\" \")","v":" "},false,{"$f":"SUMIF(Table1[[#This Row],[Total Wage Diff bonus]:[Bank Bonus]],\"<> \")","v":0},{"$f":"IF(AA393>0, Table1[[#This Row],[Column4]], IF(AB393>0,Table1[[#This Row],[Column4]],IF(X393>0,\"1000\")))","v":false}]
[null,null,null,null,null,null,null,null,null,null,null,null,null,null,null,null,0,null,null,null,null,null,null,null,{"$f":"IF(Table1[[#This Row],[Wage differential Bonus                            - NotePay Rate you are bonusing to]]>0, Table1[[#This Row],[Wage differential Bonus                            - NotePay Rate you are bonusing to]]-Table1[[#This Row],[Pay Rate]], \"\")","v":""},{"$f":"IF(Table1[[#This Row],[Wage differential Bonus                            - NotePay Rate you are bonusing to]]>0,Table1[[#This Row],[Bonus Rate]]*Table1[[#This Row],[Hours]],\"\")","v":""},null,null,null,null,null,{"$f":"IF(OR(AH394>0.001,AH394<-0.001),Table1[[#This Row],[Employee '#]],\" \")","v":" "},false,{"$f":"SUMIF(Table1[[#This Row],[Total Wage Diff bonus]:[Bank Bonus]],\"<> \")","v":0},{"$f":"IF(AA394>0, Table1[[#This Row],[Column4]], IF(AB394>0,Table1[[#This Row],[Column4]],IF(X394>0,\"1000\")))","v":false}]
[null,null,null,null,null,null,null,null,null,null,null,null,null,null,null,null,0,null,null,null,null,null,null,null,{"$f":"IF(Table1[[#This Row],[Wage differential Bonus                            - NotePay Rate you are bonusing to]]>0, Table1[[#This Row],[Wage differential Bonus                            - NotePay Rate you are bonusing to]]-Table1[[#This Row],[Pay Rate]], \"\")","v":""},{"$f":"IF(Table1[[#This Row],[Wage differential Bonus                            - NotePay Rate you are bonusing to]]>0,Table1[[#This Row],[Bonus Rate]]*Table1[[#This Row],[Hours]],\"\")","v":""},null,null,null,null,null,{"$f":"IF(OR(AH395>0.001,AH395<-0.001),Table1[[#This Row],[Employee '#]],\" \")","v":" "},false,{"$f":"SUMIF(Table1[[#This Row],[Total Wage Diff bonus]:[Bank Bonus]],\"<> \")","v":0},{"$f":"IF(AA395>0, Table1[[#This Row],[Column4]], IF(AB395>0,Table1[[#This Row],[Column4]],IF(X395>0,\"1000\")))","v":false}]
[null,null,null,null,null,null,null,null,null,null,null,null,null,null,null,null,0,null,null,null,null,null,null,null,{"$f":"IF(Table1[[#This Row],[Wage differential Bonus                            - NotePay Rate you are bonusing to]]>0, Table1[[#This Row],[Wage differential Bonus                            - NotePay Rate you are bonusing to]]-Table1[[#This Row],[Pay Rate]], \"\")","v":""},{"$f":"IF(Table1[[#This Row],[Wage differential Bonus                            - NotePay Rate you are bonusing to]]>0,Table1[[#This Row],[Bonus Rate]]*Table1[[#This Row],[Hours]],\"\")","v":""},null,null,null,null,null,{"$f":"IF(OR(AH396>0.001,AH396<-0.001),Table1[[#This Row],[Employee '#]],\" \")","v":" "},false,{"$f":"SUMIF(Table1[[#This Row],[Total Wage Diff bonus]:[Bank Bonus]],\"<> \")","v":0},{"$f":"IF(AA396>0, Table1[[#This Row],[Column4]], IF(AB396>0,Table1[[#This Row],[Column4]],IF(X396>0,\"1000\")))","v":false}]
[null,null,null,null,null,null,null,null,null,null,null,null,null,null,null,null,0,null,null,null,null,null,null,null,{"$f":"IF(Table1[[#This Row],[Wage differential Bonus                            - NotePay Rate you are bonusing to]]>0, Table1[[#This Row],[Wage differential Bonus                            - NotePay Rate you are bonusing to]]-Table1[[#This Row],[Pay Rate]], \"\")","v":""},{"$f":"IF(Table1[[#This Row],[Wage differential Bonus                            - NotePay Rate you are bonusing to]]>0,Table1[[#This Row],[Bonus Rate]]*Table1[[#This Row],[Hours]],\"\")","v":""},null,null,null,null,null,{"$f":"IF(OR(AH397>0.001,AH397<-0.001),Table1[[#This Row],[Employee '#]],\" \")","v":" "},false,{"$f":"SUMIF(Table1[[#This Row],[Total Wage Diff bonus]:[Bank Bonus]],\"<> \")","v":0},{"$f":"IF(AA397>0, Table1[[#This Row],[Column4]], IF(AB397>0,Table1[[#This Row],[Column4]],IF(X397>0,\"1000\")))","v":false}]
[null,null,null,null,null,null,null,null,null,null,null,null,null,null,null,null,0,null,null,null,null,null,null,null,{"$f":"IF(Table1[[#This Row],[Wage differential Bonus                            - NotePay Rate you are bonusing to]]>0, Table1[[#This Row],[Wage differential Bonus                            - NotePay Rate you are bonusing to]]-Table1[[#This Row],[Pay Rate]], \"\")","v":""},{"$f":"IF(Table1[[#This Row],[Wage differential Bonus                            - NotePay Rate you are bonusing to]]>0,Table1[[#This Row],[Bonus Rate]]*Table1[[#This Row],[Hours]],\"\")","v":""},null,null,null,null,null,{"$f":"IF(OR(AH398>0.001,AH398<-0.001),Table1[[#This Row],[Employee '#]],\" \")","v":" "},false,{"$f":"SUMIF(Table1[[#This Row],[Total Wage Diff bonus]:[Bank Bonus]],\"<> \")","v":0},{"$f":"IF(AA398>0, Table1[[#This Row],[Column4]], IF(AB398>0,Table1[[#This Row],[Column4]],IF(X398>0,\"1000\")))","v":false}]
[null,null,null,null,null,null,null,null,null,null,null,null,null,null,null,null,0,null,null,null,null,null,null,null,{"$f":"IF(Table1[[#This Row],[Wage differential Bonus                            - NotePay Rate you are bonusing to]]>0, Table1[[#This Row],[Wage differential Bonus                            - NotePay Rate you are bonusing to]]-Table1[[#This Row],[Pay Rate]], \"\")","v":""},{"$f":"IF(Table1[[#This Row],[Wage differential Bonus                            - NotePay Rate you are bonusing to]]>0,Table1[[#This Row],[Bonus Rate]]*Table1[[#This Row],[Hours]],\"\")","v":""},null,null,null,null,null,{"$f":"IF(OR(AH399>0.001,AH399<-0.001),Table1[[#This Row],[Employee '#]],\" \")","v":" "},false,{"$f":"SUMIF(Table1[[#This Row],[Total Wage Diff bonus]:[Bank Bonus]],\"<> \")","v":0},{"$f":"IF(AA399>0, Table1[[#This Row],[Column4]], IF(AB399>0,Table1[[#This Row],[Column4]],IF(X399>0,\"1000\")))","v":false}]
[null,null,null,null,null,null,null,null,null,null,null,null,null,null,null,null,0,null,null,null,null,null,null,null,{"$f":"IF(Table1[[#This Row],[Wage differential Bonus                            - NotePay Rate you are bonusing to]]>0, Table1[[#This Row],[Wage differential Bonus                            - NotePay Rate you are bonusing to]]-Table1[[#This Row],[Pay Rate]], \"\")","v":""},{"$f":"IF(Table1[[#This Row],[Wage differential Bonus                            - NotePay Rate you are bonusing to]]>0,Table1[[#This Row],[Bonus Rate]]*Table1[[#This Row],[Hours]],\"\")","v":""},null,null,null,null,null,{"$f":"IF(OR(AH400>0.001,AH400<-0.001),Table1[[#This Row],[Employee '#]],\" \")","v":" "},false,{"$f":"SUMIF(Table1[[#This Row],[Total Wage Diff bonus]:[Bank Bonus]],\"<> \")","v":0},{"$f":"IF(AA400>0, Table1[[#This Row],[Column4]], IF(AB400>0,Table1[[#This Row],[Column4]],IF(X400>0,\"1000\")))","v":false}]
[null,null,null,null,null,null,null,null,null,null,null,null,null,null,null,null,0,null,null,null,null,null,null,null,{"$f":"IF(Table1[[#This Row],[Wage differential Bonus                            - NotePay Rate you are bonusing to]]>0, Table1[[#This Row],[Wage differential Bonus                            - NotePay Rate you are bonusing to]]-Table1[[#This Row],[Pay Rate]], \"\")","v":""},{"$f":"IF(Table1[[#This Row],[Wage differential Bonus                            - NotePay Rate you are bonusing to]]>0,Table1[[#This Row],[Bonus Rate]]*Table1[[#This Row],[Hours]],\"\")","v":""},null,null,null,null,null,{"$f":"IF(OR(AH401>0.001,AH401<-0.001),Table1[[#This Row],[Employee '#]],\" \")","v":" "},false,{"$f":"SUMIF(Table1[[#This Row],[Total Wage Diff bonus]:[Bank Bonus]],\"<> \")","v":0},{"$f":"IF(AA401>0, Table1[[#This Row],[Column4]], IF(AB401>0,Table1[[#This Row],[Column4]],IF(X401>0,\"1000\")))","v":false}]
[null,null,null,null,null,null,null,null,null,null,null,null,null,null,null,null,0,null,null,null,null,null,null,null,{"$f":"IF(Table1[[#This Row],[Wage differential Bonus                            - NotePay Rate you are bonusing to]]>0, Table1[[#This Row],[Wage differential Bonus                            - NotePay Rate you are bonusing to]]-Table1[[#This Row],[Pay Rate]], \"\")","v":""},{"$f":"IF(Table1[[#This Row],[Wage differential Bonus                            - NotePay Rate you are bonusing to]]>0,Table1[[#This Row],[Bonus Rate]]*Table1[[#This Row],[Hours]],\"\")","v":""},null,null,null,null,null,{"$f":"IF(OR(AH402>0.001,AH402<-0.001),Table1[[#This Row],[Employee '#]],\" \")","v":" "},false,{"$f":"SUMIF(Table1[[#This Row],[Total Wage Diff bonus]:[Bank Bonus]],\"<> \")","v":0},{"$f":"IF(AA402>0, Table1[[#This Row],[Column4]], IF(AB402>0,Table1[[#This Row],[Column4]],IF(X402>0,\"1000\")))","v":false}]
[null,null,null,null,null,null,null,null,null,null,null,null,null,null,null,null,0,null,null,null,null,null,null,null,{"$f":"IF(Table1[[#This Row],[Wage differential Bonus                            - NotePay Rate you are bonusing to]]>0, Table1[[#This Row],[Wage differential Bonus                            - NotePay Rate you are bonusing to]]-Table1[[#This Row],[Pay Rate]], \"\")","v":""},{"$f":"IF(Table1[[#This Row],[Wage differential Bonus                            - NotePay Rate you are bonusing to]]>0,Table1[[#This Row],[Bonus Rate]]*Table1[[#This Row],[Hours]],\"\")","v":""},null,null,null,null,null,{"$f":"IF(OR(AH403>0.001,AH403<-0.001),Table1[[#This Row],[Employee '#]],\" \")","v":" "},false,{"$f":"SUMIF(Table1[[#This Row],[Total Wage Diff bonus]:[Bank Bonus]],\"<> \")","v":0},{"$f":"IF(AA403>0, Table1[[#This Row],[Column4]], IF(AB403>0,Table1[[#This Row],[Column4]],IF(X403>0,\"1000\")))","v":false}]
[null,null,null,null,null,null,null,null,null,null,null,null,null,null,null,null,0,null,null,null,null,null,null,null,{"$f":"IF(Table1[[#This Row],[Wage differential Bonus                            - NotePay Rate you are bonusing to]]>0, Table1[[#This Row],[Wage differential Bonus                            - NotePay Rate you are bonusing to]]-Table1[[#This Row],[Pay Rate]], \"\")","v":""},{"$f":"IF(Table1[[#This Row],[Wage differential Bonus                            - NotePay Rate you are bonusing to]]>0,Table1[[#This Row],[Bonus Rate]]*Table1[[#This Row],[Hours]],\"\")","v":""},null,null,null,null,null,{"$f":"IF(OR(AH404>0.001,AH404<-0.001),Table1[[#This Row],[Employee '#]],\" \")","v":" "},false,{"$f":"SUMIF(Table1[[#This Row],[Total Wage Diff bonus]:[Bank Bonus]],\"<> \")","v":0},{"$f":"IF(AA404>0, Table1[[#This Row],[Column4]], IF(AB404>0,Table1[[#This Row],[Column4]],IF(X404>0,\"1000\")))","v":false}]
[null,null,null,null,null,null,null,null,null,null,null,null,null,null,null,null,0,null,null,null,null,null,null,null,{"$f":"IF(Table1[[#This Row],[Wage differential Bonus                            - NotePay Rate you are bonusing to]]>0, Table1[[#This Row],[Wage differential Bonus                            - NotePay Rate you are bonusing to]]-Table1[[#This Row],[Pay Rate]], \"\")","v":""},{"$f":"IF(Table1[[#This Row],[Wage differential Bonus                            - NotePay Rate you are bonusing to]]>0,Table1[[#This Row],[Bonus Rate]]*Table1[[#This Row],[Hours]],\"\")","v":""},null,null,null,null,null,{"$f":"IF(OR(AH405>0.001,AH405<-0.001),Table1[[#This Row],[Employee '#]],\" \")","v":" "},false,{"$f":"SUMIF(Table1[[#This Row],[Total Wage Diff bonus]:[Bank Bonus]],\"<> \")","v":0},{"$f":"IF(AA405>0, Table1[[#This Row],[Column4]], IF(AB405>0,Table1[[#This Row],[Column4]],IF(X405>0,\"1000\")))","v":false}]
[null,null,null,null,null,null,null,null,null,null,null,null,null,null,null,null,0,null,null,null,null,null,null,null,{"$f":"IF(Table1[[#This Row],[Wage differential Bonus                            - NotePay Rate you are bonusing to]]>0, Table1[[#This Row],[Wage differential Bonus                            - NotePay Rate you are bonusing to]]-Table1[[#This Row],[Pay Rate]], \"\")","v":""},{"$f":"IF(Table1[[#This Row],[Wage differential Bonus                            - NotePay Rate you are bonusing to]]>0,Table1[[#This Row],[Bonus Rate]]*Table1[[#This Row],[Hours]],\"\")","v":""},null,null,null,null,null,{"$f":"IF(OR(AH406>0.001,AH406<-0.001),Table1[[#This Row],[Employee '#]],\" \")","v":" "},false,{"$f":"SUMIF(Table1[[#This Row],[Total Wage Diff bonus]:[Bank Bonus]],\"<> \")","v":0},{"$f":"IF(AA406>0, Table1[[#This Row],[Column4]], IF(AB406>0,Table1[[#This Row],[Column4]],IF(X406>0,\"1000\")))","v":false}]
[null,null,null,null,null,null,null,null,null,null,null,null,null,null,null,null,0,null,null,null,null,null,null,null,{"$f":"IF(Table1[[#This Row],[Wage differential Bonus                            - NotePay Rate you are bonusing to]]>0, Table1[[#This Row],[Wage differential Bonus                            - NotePay Rate you are bonusing to]]-Table1[[#This Row],[Pay Rate]], \"\")","v":""},{"$f":"IF(Table1[[#This Row],[Wage differential Bonus                            - NotePay Rate you are bonusing to]]>0,Table1[[#This Row],[Bonus Rate]]*Table1[[#This Row],[Hours]],\"\")","v":""},null,null,null,null,null,{"$f":"IF(OR(AH407>0.001,AH407<-0.001),Table1[[#This Row],[Employee '#]],\" \")","v":" "},false,{"$f":"SUMIF(Table1[[#This Row],[Total Wage Diff bonus]:[Bank Bonus]],\"<> \")","v":0},{"$f":"IF(AA407>0, Table1[[#This Row],[Column4]], IF(AB407>0,Table1[[#This Row],[Column4]],IF(X407>0,\"1000\")))","v":false}]
[null,null,null,null,null,null,null,null,null,null,null,null,null,null,null,null,0,null,null,null,null,null,null,null,{"$f":"IF(Table1[[#This Row],[Wage differential Bonus                            - NotePay Rate you are bonusing to]]>0, Table1[[#This Row],[Wage differential Bonus                            - NotePay Rate you are bonusing to]]-Table1[[#This Row],[Pay Rate]], \"\")","v":""},{"$f":"IF(Table1[[#This Row],[Wage differential Bonus                            - NotePay Rate you are bonusing to]]>0,Table1[[#This Row],[Bonus Rate]]*Table1[[#This Row],[Hours]],\"\")","v":""},null,null,null,null,null,{"$f":"IF(OR(AH408>0.001,AH408<-0.001),Table1[[#This Row],[Employee '#]],\" \")","v":" "},false,{"$f":"SUMIF(Table1[[#This Row],[Total Wage Diff bonus]:[Bank Bonus]],\"<> \")","v":0},{"$f":"IF(AA408>0, Table1[[#This Row],[Column4]], IF(AB408>0,Table1[[#This Row],[Column4]],IF(X408>0,\"1000\")))","v":false}]
[null,null,null,null,null,null,null,null,null,null,null,null,null,null,null,null,0,null,null,null,null,null,null,null,{"$f":"IF(Table1[[#This Row],[Wage differential Bonus                            - NotePay Rate you are bonusing to]]>0, Table1[[#This Row],[Wage differential Bonus                            - NotePay Rate you are bonusing to]]-Table1[[#This Row],[Pay Rate]], \"\")","v":""},{"$f":"IF(Table1[[#This Row],[Wage differential Bonus                            - NotePay Rate you are bonusing to]]>0,Table1[[#This Row],[Bonus Rate]]*Table1[[#This Row],[Hours]],\"\")","v":""},null,null,null,null,null,{"$f":"IF(OR(AH409>0.001,AH409<-0.001),Table1[[#This Row],[Employee '#]],\" \")","v":" "},false,{"$f":"SUMIF(Table1[[#This Row],[Total Wage Diff bonus]:[Bank Bonus]],\"<> \")","v":0},{"$f":"IF(AA409>0, Table1[[#This Row],[Column4]], IF(AB409>0,Table1[[#This Row],[Column4]],IF(X409>0,\"1000\")))","v":false}]
[null,null,null,null,null,null,null,null,null,null,null,null,null,null,null,null,0,null,null,null,null,null,null,null,{"$f":"IF(Table1[[#This Row],[Wage differential Bonus                            - NotePay Rate you are bonusing to]]>0, Table1[[#This Row],[Wage differential Bonus                            - NotePay Rate you are bonusing to]]-Table1[[#This Row],[Pay Rate]], \"\")","v":""},{"$f":"IF(Table1[[#This Row],[Wage differential Bonus                            - NotePay Rate you are bonusing to]]>0,Table1[[#This Row],[Bonus Rate]]*Table1[[#This Row],[Hours]],\"\")","v":""},null,null,null,null,null,{"$f":"IF(OR(AH410>0.001,AH410<-0.001),Table1[[#This Row],[Employee '#]],\" \")","v":" "},false,{"$f":"SUMIF(Table1[[#This Row],[Total Wage Diff bonus]:[Bank Bonus]],\"<> \")","v":0},{"$f":"IF(AA410>0, Table1[[#This Row],[Column4]], IF(AB410>0,Table1[[#This Row],[Column4]],IF(X410>0,\"1000\")))","v":false}]
[null,null,null,null,null,null,null,null,null,null,null,null,null,null,null,null,0,null,null,null,null,null,null,null,{"$f":"IF(Table1[[#This Row],[Wage differential Bonus                            - NotePay Rate you are bonusing to]]>0, Table1[[#This Row],[Wage differential Bonus                            - NotePay Rate you are bonusing to]]-Table1[[#This Row],[Pay Rate]], \"\")","v":""},{"$f":"IF(Table1[[#This Row],[Wage differential Bonus                            - NotePay Rate you are bonusing to]]>0,Table1[[#This Row],[Bonus Rate]]*Table1[[#This Row],[Hours]],\"\")","v":""},null,null,null,null,null,{"$f":"IF(OR(AH411>0.001,AH411<-0.001),Table1[[#This Row],[Employee '#]],\" \")","v":" "},false,{"$f":"SUMIF(Table1[[#This Row],[Total Wage Diff bonus]:[Bank Bonus]],\"<> \")","v":0},{"$f":"IF(AA411>0, Table1[[#This Row],[Column4]], IF(AB411>0,Table1[[#This Row],[Column4]],IF(X411>0,\"1000\")))","v":false}]
[null,null,null,null,null,null,null,null,null,null,null,null,null,null,null,null,0,null,null,null,null,null,null,null,{"$f":"IF(Table1[[#This Row],[Wage differential Bonus                            - NotePay Rate you are bonusing to]]>0, Table1[[#This Row],[Wage differential Bonus                            - NotePay Rate you are bonusing to]]-Table1[[#This Row],[Pay Rate]], \"\")","v":""},{"$f":"IF(Table1[[#This Row],[Wage differential Bonus                            - NotePay Rate you are bonusing to]]>0,Table1[[#This Row],[Bonus Rate]]*Table1[[#This Row],[Hours]],\"\")","v":""},null,null,null,null,null,{"$f":"IF(OR(AH412>0.001,AH412<-0.001),Table1[[#This Row],[Employee '#]],\" \")","v":" "},false,{"$f":"SUMIF(Table1[[#This Row],[Total Wage Diff bonus]:[Bank Bonus]],\"<> \")","v":0},{"$f":"IF(AA412>0, Table1[[#This Row],[Column4]], IF(AB412>0,Table1[[#This Row],[Column4]],IF(X412>0,\"1000\")))","v":false}]
[null,null,null,null,null,null,null,null,null,null,null,null,null,null,null,null,0,null,null,null,null,null,null,null,{"$f":"IF(Table1[[#This Row],[Wage differential Bonus                            - NotePay Rate you are bonusing to]]>0, Table1[[#This Row],[Wage differential Bonus                            - NotePay Rate you are bonusing to]]-Table1[[#This Row],[Pay Rate]], \"\")","v":""},{"$f":"IF(Table1[[#This Row],[Wage differential Bonus                            - NotePay Rate you are bonusing to]]>0,Table1[[#This Row],[Bonus Rate]]*Table1[[#This Row],[Hours]],\"\")","v":""},null,null,null,null,null,{"$f":"IF(OR(AH413>0.001,AH413<-0.001),Table1[[#This Row],[Employee '#]],\" \")","v":" "},false,{"$f":"SUMIF(Table1[[#This Row],[Total Wage Diff bonus]:[Bank Bonus]],\"<> \")","v":0},{"$f":"IF(AA413>0, Table1[[#This Row],[Column4]], IF(AB413>0,Table1[[#This Row],[Column4]],IF(X413>0,\"1000\")))","v":false}]
[null,null,null,null,null,null,null,null,null,null,null,null,null,null,null,null,0,null,null,null,null,null,null,null,{"$f":"IF(Table1[[#This Row],[Wage differential Bonus                            - NotePay Rate you are bonusing to]]>0, Table1[[#This Row],[Wage differential Bonus                            - NotePay Rate you are bonusing to]]-Table1[[#This Row],[Pay Rate]], \"\")","v":""},{"$f":"IF(Table1[[#This Row],[Wage differential Bonus                            - NotePay Rate you are bonusing to]]>0,Table1[[#This Row],[Bonus Rate]]*Table1[[#This Row],[Hours]],\"\")","v":""},null,null,null,null,null,{"$f":"IF(OR(AH414>0.001,AH414<-0.001),Table1[[#This Row],[Employee '#]],\" \")","v":" "},false,{"$f":"SUMIF(Table1[[#This Row],[Total Wage Diff bonus]:[Bank Bonus]],\"<> \")","v":0},{"$f":"IF(AA414>0, Table1[[#This Row],[Column4]], IF(AB414>0,Table1[[#This Row],[Column4]],IF(X414>0,\"1000\")))","v":false}]
[null,null,null,null,null,null,null,null,null,null,null,null,null,null,null,null,0,null,null,null,null,null,null,null,{"$f":"IF(Table1[[#This Row],[Wage differential Bonus                            - NotePay Rate you are bonusing to]]>0, Table1[[#This Row],[Wage differential Bonus                            - NotePay Rate you are bonusing to]]-Table1[[#This Row],[Pay Rate]], \"\")","v":""},{"$f":"IF(Table1[[#This Row],[Wage differential Bonus                            - NotePay Rate you are bonusing to]]>0,Table1[[#This Row],[Bonus Rate]]*Table1[[#This Row],[Hours]],\"\")","v":""},null,null,null,null,null,{"$f":"IF(OR(AH415>0.001,AH415<-0.001),Table1[[#This Row],[Employee '#]],\" \")","v":" "},false,{"$f":"SUMIF(Table1[[#This Row],[Total Wage Diff bonus]:[Bank Bonus]],\"<> \")","v":0},{"$f":"IF(AA415>0, Table1[[#This Row],[Column4]], IF(AB415>0,Table1[[#This Row],[Column4]],IF(X415>0,\"1000\")))","v":false}]
[null,null,null,null,null,null,null,null,null,null,null,null,null,null,null,null,0,null,null,null,null,null,null,null,{"$f":"IF(Table1[[#This Row],[Wage differential Bonus                            - NotePay Rate you are bonusing to]]>0, Table1[[#This Row],[Wage differential Bonus                            - NotePay Rate you are bonusing to]]-Table1[[#This Row],[Pay Rate]], \"\")","v":""},{"$f":"IF(Table1[[#This Row],[Wage differential Bonus                            - NotePay Rate you are bonusing to]]>0,Table1[[#This Row],[Bonus Rate]]*Table1[[#This Row],[Hours]],\"\")","v":""},null,null,null,null,null,{"$f":"IF(OR(AH416>0.001,AH416<-0.001),Table1[[#This Row],[Employee '#]],\" \")","v":" "},false,{"$f":"SUMIF(Table1[[#This Row],[Total Wage Diff bonus]:[Bank Bonus]],\"<> \")","v":0},{"$f":"IF(AA416>0, Table1[[#This Row],[Column4]], IF(AB416>0,Table1[[#This Row],[Column4]],IF(X416>0,\"1000\")))","v":false}]
[null,null,null,null,null,null,null,null,null,null,null,null,null,null,null,null,0,null,null,null,null,null,null,null,{"$f":"IF(Table1[[#This Row],[Wage differential Bonus                            - NotePay Rate you are bonusing to]]>0, Table1[[#This Row],[Wage differential Bonus                            - NotePay Rate you are bonusing to]]-Table1[[#This Row],[Pay Rate]], \"\")","v":""},{"$f":"IF(Table1[[#This Row],[Wage differential Bonus                            - NotePay Rate you are bonusing to]]>0,Table1[[#This Row],[Bonus Rate]]*Table1[[#This Row],[Hours]],\"\")","v":""},null,null,null,null,null,{"$f":"IF(OR(AH417>0.001,AH417<-0.001),Table1[[#This Row],[Employee '#]],\" \")","v":" "},false,{"$f":"SUMIF(Table1[[#This Row],[Total Wage Diff bonus]:[Bank Bonus]],\"<> \")","v":0},{"$f":"IF(AA417>0, Table1[[#This Row],[Column4]], IF(AB417>0,Table1[[#This Row],[Column4]],IF(X417>0,\"1000\")))","v":false}]
[null,null,null,null,null,null,null,null,null,null,null,null,null,null,null,null,0,null,null,null,null,null,null,null,{"$f":"IF(Table1[[#This Row],[Wage differential Bonus                            - NotePay Rate you are bonusing to]]>0, Table1[[#This Row],[Wage differential Bonus                            - NotePay Rate you are bonusing to]]-Table1[[#This Row],[Pay Rate]], \"\")","v":""},{"$f":"IF(Table1[[#This Row],[Wage differential Bonus                            - NotePay Rate you are bonusing to]]>0,Table1[[#This Row],[Bonus Rate]]*Table1[[#This Row],[Hours]],\"\")","v":""},null,null,null,null,null,{"$f":"IF(OR(AH418>0.001,AH418<-0.001),Table1[[#This Row],[Employee '#]],\" \")","v":" "},false,{"$f":"SUMIF(Table1[[#This Row],[Total Wage Diff bonus]:[Bank Bonus]],\"<> \")","v":0},{"$f":"IF(AA418>0, Table1[[#This Row],[Column4]], IF(AB418>0,Table1[[#This Row],[Column4]],IF(X418>0,\"1000\")))","v":false}]
[null,null,null,null,null,null,null,null,null,null,null,null,null,null,null,null,0,null,null,null,null,null,null,null,{"$f":"IF(Table1[[#This Row],[Wage differential Bonus                            - NotePay Rate you are bonusing to]]>0, Table1[[#This Row],[Wage differential Bonus                            - NotePay Rate you are bonusing to]]-Table1[[#This Row],[Pay Rate]], \"\")","v":""},{"$f":"IF(Table1[[#This Row],[Wage differential Bonus                            - NotePay Rate you are bonusing to]]>0,Table1[[#This Row],[Bonus Rate]]*Table1[[#This Row],[Hours]],\"\")","v":""},null,null,null,null,null,{"$f":"IF(OR(AH419>0.001,AH419<-0.001),Table1[[#This Row],[Employee '#]],\" \")","v":" "},false,{"$f":"SUMIF(Table1[[#This Row],[Total Wage Diff bonus]:[Bank Bonus]],\"<> \")","v":0},{"$f":"IF(AA419>0, Table1[[#This Row],[Column4]], IF(AB419>0,Table1[[#This Row],[Column4]],IF(X419>0,\"1000\")))","v":false}]
[null,null,null,null,null,null,null,null,null,null,null,null,null,null,null,null,0,null,null,null,null,null,null,null,{"$f":"IF(Table1[[#This Row],[Wage differential Bonus                            - NotePay Rate you are bonusing to]]>0, Table1[[#This Row],[Wage differential Bonus                            - NotePay Rate you are bonusing to]]-Table1[[#This Row],[Pay Rate]], \"\")","v":""},{"$f":"IF(Table1[[#This Row],[Wage differential Bonus                            - NotePay Rate you are bonusing to]]>0,Table1[[#This Row],[Bonus Rate]]*Table1[[#This Row],[Hours]],\"\")","v":""},null,null,null,null,null,{"$f":"IF(OR(AH420>0.001,AH420<-0.001),Table1[[#This Row],[Employee '#]],\" \")","v":" "},false,{"$f":"SUMIF(Table1[[#This Row],[Total Wage Diff bonus]:[Bank Bonus]],\"<> \")","v":0},{"$f":"IF(AA420>0, Table1[[#This Row],[Column4]], IF(AB420>0,Table1[[#This Row],[Column4]],IF(X420>0,\"1000\")))","v":false}]
[null,null,null,null,null,null,null,null,null,null,null,null,null,null,null,null,0,null,null,null,null,null,null,null,{"$f":"IF(Table1[[#This Row],[Wage differential Bonus                            - NotePay Rate you are bonusing to]]>0, Table1[[#This Row],[Wage differential Bonus                            - NotePay Rate you are bonusing to]]-Table1[[#This Row],[Pay Rate]], \"\")","v":""},{"$f":"IF(Table1[[#This Row],[Wage differential Bonus                            - NotePay Rate you are bonusing to]]>0,Table1[[#This Row],[Bonus Rate]]*Table1[[#This Row],[Hours]],\"\")","v":""},null,null,null,null,null,{"$f":"IF(OR(AH421>0.001,AH421<-0.001),Table1[[#This Row],[Employee '#]],\" \")","v":" "},false,{"$f":"SUMIF(Table1[[#This Row],[Total Wage Diff bonus]:[Bank Bonus]],\"<> \")","v":0},{"$f":"IF(AA421>0, Table1[[#This Row],[Column4]], IF(AB421>0,Table1[[#This Row],[Column4]],IF(X421>0,\"1000\")))","v":false}]
[null,null,null,null,null,null,null,null,null,null,null,null,null,null,null,null,0,null,null,null,null,null,null,null,{"$f":"IF(Table1[[#This Row],[Wage differential Bonus                            - NotePay Rate you are bonusing to]]>0, Table1[[#This Row],[Wage differential Bonus                            - NotePay Rate you are bonusing to]]-Table1[[#This Row],[Pay Rate]], \"\")","v":""},{"$f":"IF(Table1[[#This Row],[Wage differential Bonus                            - NotePay Rate you are bonusing to]]>0,Table1[[#This Row],[Bonus Rate]]*Table1[[#This Row],[Hours]],\"\")","v":""},null,null,null,null,null,{"$f":"IF(OR(AH422>0.001,AH422<-0.001),Table1[[#This Row],[Employee '#]],\" \")","v":" "},false,{"$f":"SUMIF(Table1[[#This Row],[Total Wage Diff bonus]:[Bank Bonus]],\"<> \")","v":0},{"$f":"IF(AA422>0, Table1[[#This Row],[Column4]], IF(AB422>0,Table1[[#This Row],[Column4]],IF(X422>0,\"1000\")))","v":false}]
[null,null,null,null,null,null,null,null,null,null,null,null,null,null,null,null,0,null,null,null,null,null,null,null,{"$f":"IF(Table1[[#This Row],[Wage differential Bonus                            - NotePay Rate you are bonusing to]]>0, Table1[[#This Row],[Wage differential Bonus                            - NotePay Rate you are bonusing to]]-Table1[[#This Row],[Pay Rate]], \"\")","v":""},{"$f":"IF(Table1[[#This Row],[Wage differential Bonus                            - NotePay Rate you are bonusing to]]>0,Table1[[#This Row],[Bonus Rate]]*Table1[[#This Row],[Hours]],\"\")","v":""},null,null,null,null,null,{"$f":"IF(OR(AH423>0.001,AH423<-0.001),Table1[[#This Row],[Employee '#]],\" \")","v":" "},false,{"$f":"SUMIF(Table1[[#This Row],[Total Wage Diff bonus]:[Bank Bonus]],\"<> \")","v":0},{"$f":"IF(AA423>0, Table1[[#This Row],[Column4]], IF(AB423>0,Table1[[#This Row],[Column4]],IF(X423>0,\"1000\")))","v":false}]
[null,null,null,null,null,null,null,null,null,null,null,null,null,null,null,null,0,null,null,null,null,null,null,null,{"$f":"IF(Table1[[#This Row],[Wage differential Bonus                            - NotePay Rate you are bonusing to]]>0, Table1[[#This Row],[Wage differential Bonus                            - NotePay Rate you are bonusing to]]-Table1[[#This Row],[Pay Rate]], \"\")","v":""},{"$f":"IF(Table1[[#This Row],[Wage differential Bonus                            - NotePay Rate you are bonusing to]]>0,Table1[[#This Row],[Bonus Rate]]*Table1[[#This Row],[Hours]],\"\")","v":""},null,null,null,null,null,{"$f":"IF(OR(AH424>0.001,AH424<-0.001),Table1[[#This Row],[Employee '#]],\" \")","v":" "},false,{"$f":"SUMIF(Table1[[#This Row],[Total Wage Diff bonus]:[Bank Bonus]],\"<> \")","v":0},{"$f":"IF(AA424>0, Table1[[#This Row],[Column4]], IF(AB424>0,Table1[[#This Row],[Column4]],IF(X424>0,\"1000\")))","v":false}]
[null,null,null,null,null,null,null,null,null,null,null,null,null,null,null,null,0,null,null,null,null,null,null,null,{"$f":"IF(Table1[[#This Row],[Wage differential Bonus                            - NotePay Rate you are bonusing to]]>0, Table1[[#This Row],[Wage differential Bonus                            - NotePay Rate you are bonusing to]]-Table1[[#This Row],[Pay Rate]], \"\")","v":""},{"$f":"IF(Table1[[#This Row],[Wage differential Bonus                            - NotePay Rate you are bonusing to]]>0,Table1[[#This Row],[Bonus Rate]]*Table1[[#This Row],[Hours]],\"\")","v":""},null,null,null,null,null,{"$f":"IF(OR(AH425>0.001,AH425<-0.001),Table1[[#This Row],[Employee '#]],\" \")","v":" "},false,{"$f":"SUMIF(Table1[[#This Row],[Total Wage Diff bonus]:[Bank Bonus]],\"<> \")","v":0},{"$f":"IF(AA425>0, Table1[[#This Row],[Column4]], IF(AB425>0,Table1[[#This Row],[Column4]],IF(X425>0,\"1000\")))","v":false}]
[null,null,null,null,null,null,null,null,null,null,null,null,null,null,null,null,0,null,null,null,null,null,null,null,{"$f":"IF(Table1[[#This Row],[Wage differential Bonus                            - NotePay Rate you are bonusing to]]>0, Table1[[#This Row],[Wage differential Bonus                            - NotePay Rate you are bonusing to]]-Table1[[#This Row],[Pay Rate]], \"\")","v":""},{"$f":"IF(Table1[[#This Row],[Wage differential Bonus                            - NotePay Rate you are bonusing to]]>0,Table1[[#This Row],[Bonus Rate]]*Table1[[#This Row],[Hours]],\"\")","v":""},null,null,null,null,null,{"$f":"IF(OR(AH426>0.001,AH426<-0.001),Table1[[#This Row],[Employee '#]],\" \")","v":" "},false,{"$f":"SUMIF(Table1[[#This Row],[Total Wage Diff bonus]:[Bank Bonus]],\"<> \")","v":0},{"$f":"IF(AA426>0, Table1[[#This Row],[Column4]], IF(AB426>0,Table1[[#This Row],[Column4]],IF(X426>0,\"1000\")))","v":false}]
[null,null,null,null,null,null,null,null,null,null,null,null,null,null,null,null,0,null,null,null,null,null,null,null,{"$f":"IF(Table1[[#This Row],[Wage differential Bonus                            - NotePay Rate you are bonusing to]]>0, Table1[[#This Row],[Wage differential Bonus                            - NotePay Rate you are bonusing to]]-Table1[[#This Row],[Pay Rate]], \"\")","v":""},{"$f":"IF(Table1[[#This Row],[Wage differential Bonus                            - NotePay Rate you are bonusing to]]>0,Table1[[#This Row],[Bonus Rate]]*Table1[[#This Row],[Hours]],\"\")","v":""},null,null,null,null,null,{"$f":"IF(OR(AH427>0.001,AH427<-0.001),Table1[[#This Row],[Employee '#]],\" \")","v":" "},false,{"$f":"SUMIF(Table1[[#This Row],[Total Wage Diff bonus]:[Bank Bonus]],\"<> \")","v":0},{"$f":"IF(AA427>0, Table1[[#This Row],[Column4]], IF(AB427>0,Table1[[#This Row],[Column4]],IF(X427>0,\"1000\")))","v":false}]
[null,null,null,null,null,null,null,null,null,null,null,null,null,null,null,null,0,null,null,null,null,null,null,null,{"$f":"IF(Table1[[#This Row],[Wage differential Bonus                            - NotePay Rate you are bonusing to]]>0, Table1[[#This Row],[Wage differential Bonus                            - NotePay Rate you are bonusing to]]-Table1[[#This Row],[Pay Rate]], \"\")","v":""},{"$f":"IF(Table1[[#This Row],[Wage differential Bonus                            - NotePay Rate you are bonusing to]]>0,Table1[[#This Row],[Bonus Rate]]*Table1[[#This Row],[Hours]],\"\")","v":""},null,null,null,null,null,{"$f":"IF(OR(AH428>0.001,AH428<-0.001),Table1[[#This Row],[Employee '#]],\" \")","v":" "},false,{"$f":"SUMIF(Table1[[#This Row],[Total Wage Diff bonus]:[Bank Bonus]],\"<> \")","v":0},{"$f":"IF(AA428>0, Table1[[#This Row],[Column4]], IF(AB428>0,Table1[[#This Row],[Column4]],IF(X428>0,\"1000\")))","v":false}]
[null,null,null,null,null,null,null,null,null,null,null,null,null,null,null,null,0,null,null,null,null,null,null,null,{"$f":"IF(Table1[[#This Row],[Wage differential Bonus                            - NotePay Rate you are bonusing to]]>0, Table1[[#This Row],[Wage differential Bonus                            - NotePay Rate you are bonusing to]]-Table1[[#This Row],[Pay Rate]], \"\")","v":""},{"$f":"IF(Table1[[#This Row],[Wage differential Bonus                            - NotePay Rate you are bonusing to]]>0,Table1[[#This Row],[Bonus Rate]]*Table1[[#This Row],[Hours]],\"\")","v":""},null,null,null,null,null,{"$f":"IF(OR(AH429>0.001,AH429<-0.001),Table1[[#This Row],[Employee '#]],\" \")","v":" "},false,{"$f":"SUMIF(Table1[[#This Row],[Total Wage Diff bonus]:[Bank Bonus]],\"<> \")","v":0},{"$f":"IF(AA429>0, Table1[[#This Row],[Column4]], IF(AB429>0,Table1[[#This Row],[Column4]],IF(X429>0,\"1000\")))","v":false}]
[null,null,null,null,null,null,null,null,null,null,null,null,null,null,null,null,0,null,null,null,null,null,null,null,{"$f":"IF(Table1[[#This Row],[Wage differential Bonus                            - NotePay Rate you are bonusing to]]>0, Table1[[#This Row],[Wage differential Bonus                            - NotePay Rate you are bonusing to]]-Table1[[#This Row],[Pay Rate]], \"\")","v":""},{"$f":"IF(Table1[[#This Row],[Wage differential Bonus                            - NotePay Rate you are bonusing to]]>0,Table1[[#This Row],[Bonus Rate]]*Table1[[#This Row],[Hours]],\"\")","v":""},null,null,null,null,null,{"$f":"IF(OR(AH430>0.001,AH430<-0.001),Table1[[#This Row],[Employee '#]],\" \")","v":" "},false,{"$f":"SUMIF(Table1[[#This Row],[Total Wage Diff bonus]:[Bank Bonus]],\"<> \")","v":0},{"$f":"IF(AA430>0, Table1[[#This Row],[Column4]], IF(AB430>0,Table1[[#This Row],[Column4]],IF(X430>0,\"1000\")))","v":false}]
[null,null,null,null,null,null,null,null,null,null,null,null,null,null,null,null,0,null,null,null,null,null,null,null,{"$f":"IF(Table1[[#This Row],[Wage differential Bonus                            - NotePay Rate you are bonusing to]]>0, Table1[[#This Row],[Wage differential Bonus                            - NotePay Rate you are bonusing to]]-Table1[[#This Row],[Pay Rate]], \"\")","v":""},{"$f":"IF(Table1[[#This Row],[Wage differential Bonus                            - NotePay Rate you are bonusing to]]>0,Table1[[#This Row],[Bonus Rate]]*Table1[[#This Row],[Hours]],\"\")","v":""},null,null,null,null,null,{"$f":"IF(OR(AH431>0.001,AH431<-0.001),Table1[[#This Row],[Employee '#]],\" \")","v":" "},false,{"$f":"SUMIF(Table1[[#This Row],[Total Wage Diff bonus]:[Bank Bonus]],\"<> \")","v":0},{"$f":"IF(AA431>0, Table1[[#This Row],[Column4]], IF(AB431>0,Table1[[#This Row],[Column4]],IF(X431>0,\"1000\")))","v":false}]
[null,null,null,null,null,null,null,null,null,null,null,null,null,null,null,null,0,null,null,null,null,null,null,null,{"$f":"IF(Table1[[#This Row],[Wage differential Bonus                            - NotePay Rate you are bonusing to]]>0, Table1[[#This Row],[Wage differential Bonus                            - NotePay Rate you are bonusing to]]-Table1[[#This Row],[Pay Rate]], \"\")","v":""},{"$f":"IF(Table1[[#This Row],[Wage differential Bonus                            - NotePay Rate you are bonusing to]]>0,Table1[[#This Row],[Bonus Rate]]*Table1[[#This Row],[Hours]],\"\")","v":""},null,null,null,null,null,{"$f":"IF(OR(AH432>0.001,AH432<-0.001),Table1[[#This Row],[Employee '#]],\" \")","v":" "},false,{"$f":"SUMIF(Table1[[#This Row],[Total Wage Diff bonus]:[Bank Bonus]],\"<> \")","v":0},{"$f":"IF(AA432>0, Table1[[#This Row],[Column4]], IF(AB432>0,Table1[[#This Row],[Column4]],IF(X432>0,\"1000\")))","v":false}]
[null,null,null,null,null,null,null,null,null,null,null,null,null,null,null,null,0,null,null,null,null,null,null,null,{"$f":"IF(Table1[[#This Row],[Wage differential Bonus                            - NotePay Rate you are bonusing to]]>0, Table1[[#This Row],[Wage differential Bonus                            - NotePay Rate you are bonusing to]]-Table1[[#This Row],[Pay Rate]], \"\")","v":""},{"$f":"IF(Table1[[#This Row],[Wage differential Bonus                            - NotePay Rate you are bonusing to]]>0,Table1[[#This Row],[Bonus Rate]]*Table1[[#This Row],[Hours]],\"\")","v":""},null,null,null,null,null,{"$f":"IF(OR(AH433>0.001,AH433<-0.001),Table1[[#This Row],[Employee '#]],\" \")","v":" "},false,{"$f":"SUMIF(Table1[[#This Row],[Total Wage Diff bonus]:[Bank Bonus]],\"<> \")","v":0},{"$f":"IF(AA433>0, Table1[[#This Row],[Column4]], IF(AB433>0,Table1[[#This Row],[Column4]],IF(X433>0,\"1000\")))","v":false}]
[null,null,null,null,null,null,null,null,null,null,null,null,null,null,null,null,0,null,null,null,null,null,null,null,{"$f":"IF(Table1[[#This Row],[Wage differential Bonus                            - NotePay Rate you are bonusing to]]>0, Table1[[#This Row],[Wage differential Bonus                            - NotePay Rate you are bonusing to]]-Table1[[#This Row],[Pay Rate]], \"\")","v":""},{"$f":"IF(Table1[[#This Row],[Wage differential Bonus                            - NotePay Rate you are bonusing to]]>0,Table1[[#This Row],[Bonus Rate]]*Table1[[#This Row],[Hours]],\"\")","v":""},null,null,null,null,null,{"$f":"IF(OR(AH434>0.001,AH434<-0.001),Table1[[#This Row],[Employee '#]],\" \")","v":" "},false,{"$f":"SUMIF(Table1[[#This Row],[Total Wage Diff bonus]:[Bank Bonus]],\"<> \")","v":0},{"$f":"IF(AA434>0, Table1[[#This Row],[Column4]], IF(AB434>0,Table1[[#This Row],[Column4]],IF(X434>0,\"1000\")))","v":false}]
[null,null,null,null,null,null,null,null,null,null,null,null,null,null,null,null,0,null,null,null,null,null,null,null,{"$f":"IF(Table1[[#This Row],[Wage differential Bonus                            - NotePay Rate you are bonusing to]]>0, Table1[[#This Row],[Wage differential Bonus                            - NotePay Rate you are bonusing to]]-Table1[[#This Row],[Pay Rate]], \"\")","v":""},{"$f":"IF(Table1[[#This Row],[Wage differential Bonus                            - NotePay Rate you are bonusing to]]>0,Table1[[#This Row],[Bonus Rate]]*Table1[[#This Row],[Hours]],\"\")","v":""},null,null,null,null,null,{"$f":"IF(OR(AH435>0.001,AH435<-0.001),Table1[[#This Row],[Employee '#]],\" \")","v":" "},false,{"$f":"SUMIF(Table1[[#This Row],[Total Wage Diff bonus]:[Bank Bonus]],\"<> \")","v":0},{"$f":"IF(AA435>0, Table1[[#This Row],[Column4]], IF(AB435>0,Table1[[#This Row],[Column4]],IF(X435>0,\"1000\")))","v":false}]
[null,null,null,null,null,null,null,null,null,null,null,null,null,null,null,null,0,null,null,null,null,null,null,null,{"$f":"IF(Table1[[#This Row],[Wage differential Bonus                            - NotePay Rate you are bonusing to]]>0, Table1[[#This Row],[Wage differential Bonus                            - NotePay Rate you are bonusing to]]-Table1[[#This Row],[Pay Rate]], \"\")","v":""},{"$f":"IF(Table1[[#This Row],[Wage differential Bonus                            - NotePay Rate you are bonusing to]]>0,Table1[[#This Row],[Bonus Rate]]*Table1[[#This Row],[Hours]],\"\")","v":""},null,null,null,null,null,{"$f":"IF(OR(AH436>0.001,AH436<-0.001),Table1[[#This Row],[Employee '#]],\" \")","v":" "},false,{"$f":"SUMIF(Table1[[#This Row],[Total Wage Diff bonus]:[Bank Bonus]],\"<> \")","v":0},{"$f":"IF(AA436>0, Table1[[#This Row],[Column4]], IF(AB436>0,Table1[[#This Row],[Column4]],IF(X436>0,\"1000\")))","v":false}]
[null,null,null,null,null,null,null,null,null,null,null,null,null,null,null,null,0,null,null,null,null,null,null,null,{"$f":"IF(Table1[[#This Row],[Wage differential Bonus                            - NotePay Rate you are bonusing to]]>0, Table1[[#This Row],[Wage differential Bonus                            - NotePay Rate you are bonusing to]]-Table1[[#This Row],[Pay Rate]], \"\")","v":""},{"$f":"IF(Table1[[#This Row],[Wage differential Bonus                            - NotePay Rate you are bonusing to]]>0,Table1[[#This Row],[Bonus Rate]]*Table1[[#This Row],[Hours]],\"\")","v":""},null,null,null,null,null,{"$f":"IF(OR(AH437>0.001,AH437<-0.001),Table1[[#This Row],[Employee '#]],\" \")","v":" "},false,{"$f":"SUMIF(Table1[[#This Row],[Total Wage Diff bonus]:[Bank Bonus]],\"<> \")","v":0},{"$f":"IF(AA437>0, Table1[[#This Row],[Column4]], IF(AB437>0,Table1[[#This Row],[Column4]],IF(X437>0,\"1000\")))","v":false}]
[null,null,null,null,null,null,null,null,null,null,null,null,null,null,null,null,0,null,null,null,null,null,null,null,{"$f":"IF(Table1[[#This Row],[Wage differential Bonus                            - NotePay Rate you are bonusing to]]>0, Table1[[#This Row],[Wage differential Bonus                            - NotePay Rate you are bonusing to]]-Table1[[#This Row],[Pay Rate]], \"\")","v":""},{"$f":"IF(Table1[[#This Row],[Wage differential Bonus                            - NotePay Rate you are bonusing to]]>0,Table1[[#This Row],[Bonus Rate]]*Table1[[#This Row],[Hours]],\"\")","v":""},null,null,null,null,null,{"$f":"IF(OR(AH438>0.001,AH438<-0.001),Table1[[#This Row],[Employee '#]],\" \")","v":" "},false,{"$f":"SUMIF(Table1[[#This Row],[Total Wage Diff bonus]:[Bank Bonus]],\"<> \")","v":0},{"$f":"IF(AA438>0, Table1[[#This Row],[Column4]], IF(AB438>0,Table1[[#This Row],[Column4]],IF(X438>0,\"1000\")))","v":false}]
[null,null,null,null,null,null,null,null,null,null,null,null,null,null,null,null,0,null,null,null,null,null,null,null,{"$f":"IF(Table1[[#This Row],[Wage differential Bonus                            - NotePay Rate you are bonusing to]]>0, Table1[[#This Row],[Wage differential Bonus                            - NotePay Rate you are bonusing to]]-Table1[[#This Row],[Pay Rate]], \"\")","v":""},{"$f":"IF(Table1[[#This Row],[Wage differential Bonus                            - NotePay Rate you are bonusing to]]>0,Table1[[#This Row],[Bonus Rate]]*Table1[[#This Row],[Hours]],\"\")","v":""},null,null,null,null,null,{"$f":"IF(OR(AH439>0.001,AH439<-0.001),Table1[[#This Row],[Employee '#]],\" \")","v":" "},false,{"$f":"SUMIF(Table1[[#This Row],[Total Wage Diff bonus]:[Bank Bonus]],\"<> \")","v":0},{"$f":"IF(AA439>0, Table1[[#This Row],[Column4]], IF(AB439>0,Table1[[#This Row],[Column4]],IF(X439>0,\"1000\")))","v":false}]
[null,null,null,null,null,null,null,null,null,null,null,null,null,null,null,null,0,null,null,null,null,null,null,null,{"$f":"IF(Table1[[#This Row],[Wage differential Bonus                            - NotePay Rate you are bonusing to]]>0, Table1[[#This Row],[Wage differential Bonus                            - NotePay Rate you are bonusing to]]-Table1[[#This Row],[Pay Rate]], \"\")","v":""},{"$f":"IF(Table1[[#This Row],[Wage differential Bonus                            - NotePay Rate you are bonusing to]]>0,Table1[[#This Row],[Bonus Rate]]*Table1[[#This Row],[Hours]],\"\")","v":""},null,null,null,null,null,{"$f":"IF(OR(AH440>0.001,AH440<-0.001),Table1[[#This Row],[Employee '#]],\" \")","v":" "},false,{"$f":"SUMIF(Table1[[#This Row],[Total Wage Diff bonus]:[Bank Bonus]],\"<> \")","v":0},{"$f":"IF(AA440>0, Table1[[#This Row],[Column4]], IF(AB440>0,Table1[[#This Row],[Column4]],IF(X440>0,\"1000\")))","v":false}]
[null,null,null,null,null,null,null,null,null,null,null,null,null,null,null,null,0,null,null,null,null,null,null,null,{"$f":"IF(Table1[[#This Row],[Wage differential Bonus                            - NotePay Rate you are bonusing to]]>0, Table1[[#This Row],[Wage differential Bonus                            - NotePay Rate you are bonusing to]]-Table1[[#This Row],[Pay Rate]], \"\")","v":""},{"$f":"IF(Table1[[#This Row],[Wage differential Bonus                            - NotePay Rate you are bonusing to]]>0,Table1[[#This Row],[Bonus Rate]]*Table1[[#This Row],[Hours]],\"\")","v":""},null,null,null,null,null,{"$f":"IF(OR(AH441>0.001,AH441<-0.001),Table1[[#This Row],[Employee '#]],\" \")","v":" "},false,{"$f":"SUMIF(Table1[[#This Row],[Total Wage Diff bonus]:[Bank Bonus]],\"<> \")","v":0},{"$f":"IF(AA441>0, Table1[[#This Row],[Column4]], IF(AB441>0,Table1[[#This Row],[Column4]],IF(X441>0,\"1000\")))","v":false}]
[null,null,null,null,null,null,null,null,null,null,null,null,null,null,null,null,0,null,null,null,null,null,null,null,{"$f":"IF(Table1[[#This Row],[Wage differential Bonus                            - NotePay Rate you are bonusing to]]>0, Table1[[#This Row],[Wage differential Bonus                            - NotePay Rate you are bonusing to]]-Table1[[#This Row],[Pay Rate]], \"\")","v":""},{"$f":"IF(Table1[[#This Row],[Wage differential Bonus                            - NotePay Rate you are bonusing to]]>0,Table1[[#This Row],[Bonus Rate]]*Table1[[#This Row],[Hours]],\"\")","v":""},null,null,null,null,null,{"$f":"IF(OR(AH442>0.001,AH442<-0.001),Table1[[#This Row],[Employee '#]],\" \")","v":" "},false,{"$f":"SUMIF(Table1[[#This Row],[Total Wage Diff bonus]:[Bank Bonus]],\"<> \")","v":0},{"$f":"IF(AA442>0, Table1[[#This Row],[Column4]], IF(AB442>0,Table1[[#This Row],[Column4]],IF(X442>0,\"1000\")))","v":false}]
[null,null,null,null,null,null,null,null,null,null,null,null,null,null,null,null,0,null,null,null,null,null,null,null,{"$f":"IF(Table1[[#This Row],[Wage differential Bonus                            - NotePay Rate you are bonusing to]]>0, Table1[[#This Row],[Wage differential Bonus                            - NotePay Rate you are bonusing to]]-Table1[[#This Row],[Pay Rate]], \"\")","v":""},{"$f":"IF(Table1[[#This Row],[Wage differential Bonus                            - NotePay Rate you are bonusing to]]>0,Table1[[#This Row],[Bonus Rate]]*Table1[[#This Row],[Hours]],\"\")","v":""},null,null,null,null,null,{"$f":"IF(OR(AH443>0.001,AH443<-0.001),Table1[[#This Row],[Employee '#]],\" \")","v":" "},false,{"$f":"SUMIF(Table1[[#This Row],[Total Wage Diff bonus]:[Bank Bonus]],\"<> \")","v":0},{"$f":"IF(AA443>0, Table1[[#This Row],[Column4]], IF(AB443>0,Table1[[#This Row],[Column4]],IF(X443>0,\"1000\")))","v":false}]
[null,null,null,null,null,null,null,null,null,null,null,null,null,null,null,null,0,null,null,null,null,null,null,null,{"$f":"IF(Table1[[#This Row],[Wage differential Bonus                            - NotePay Rate you are bonusing to]]>0, Table1[[#This Row],[Wage differential Bonus                            - NotePay Rate you are bonusing to]]-Table1[[#This Row],[Pay Rate]], \"\")","v":""},{"$f":"IF(Table1[[#This Row],[Wage differential Bonus                            - NotePay Rate you are bonusing to]]>0,Table1[[#This Row],[Bonus Rate]]*Table1[[#This Row],[Hours]],\"\")","v":""},null,null,null,null,null,{"$f":"IF(OR(AH444>0.001,AH444<-0.001),Table1[[#This Row],[Employee '#]],\" \")","v":" "},false,{"$f":"SUMIF(Table1[[#This Row],[Total Wage Diff bonus]:[Bank Bonus]],\"<> \")","v":0},{"$f":"IF(AA444>0, Table1[[#This Row],[Column4]], IF(AB444>0,Table1[[#This Row],[Column4]],IF(X444>0,\"1000\")))","v":false}]
[null,null,null,null,null,null,null,null,null,null,null,null,null,null,null,null,0,null,null,null,null,null,null,null,{"$f":"IF(Table1[[#This Row],[Wage differential Bonus                            - NotePay Rate you are bonusing to]]>0, Table1[[#This Row],[Wage differential Bonus                            - NotePay Rate you are bonusing to]]-Table1[[#This Row],[Pay Rate]], \"\")","v":""},{"$f":"IF(Table1[[#This Row],[Wage differential Bonus                            - NotePay Rate you are bonusing to]]>0,Table1[[#This Row],[Bonus Rate]]*Table1[[#This Row],[Hours]],\"\")","v":""},null,null,null,null,null,{"$f":"IF(OR(AH445>0.001,AH445<-0.001),Table1[[#This Row],[Employee '#]],\" \")","v":" "},false,{"$f":"SUMIF(Table1[[#This Row],[Total Wage Diff bonus]:[Bank Bonus]],\"<> \")","v":0},{"$f":"IF(AA445>0, Table1[[#This Row],[Column4]], IF(AB445>0,Table1[[#This Row],[Column4]],IF(X445>0,\"1000\")))","v":false}]
[null,null,null,null,null,null,null,null,null,null,null,null,null,null,null,null,0,null,null,null,null,null,null,null,{"$f":"IF(Table1[[#This Row],[Wage differential Bonus                            - NotePay Rate you are bonusing to]]>0, Table1[[#This Row],[Wage differential Bonus                            - NotePay Rate you are bonusing to]]-Table1[[#This Row],[Pay Rate]], \"\")","v":""},{"$f":"IF(Table1[[#This Row],[Wage differential Bonus                            - NotePay Rate you are bonusing to]]>0,Table1[[#This Row],[Bonus Rate]]*Table1[[#This Row],[Hours]],\"\")","v":""},null,null,null,null,null,{"$f":"IF(OR(AH446>0.001,AH446<-0.001),Table1[[#This Row],[Employee '#]],\" \")","v":" "},false,{"$f":"SUMIF(Table1[[#This Row],[Total Wage Diff bonus]:[Bank Bonus]],\"<> \")","v":0},{"$f":"IF(AA446>0, Table1[[#This Row],[Column4]], IF(AB446>0,Table1[[#This Row],[Column4]],IF(X446>0,\"1000\")))","v":false}]
[null,null,null,null,null,null,null,null,null,null,null,null,null,null,null,null,0,null,null,null,null,null,null,null,{"$f":"IF(Table1[[#This Row],[Wage differential Bonus                            - NotePay Rate you are bonusing to]]>0, Table1[[#This Row],[Wage differential Bonus                            - NotePay Rate you are bonusing to]]-Table1[[#This Row],[Pay Rate]], \"\")","v":""},{"$f":"IF(Table1[[#This Row],[Wage differential Bonus                            - NotePay Rate you are bonusing to]]>0,Table1[[#This Row],[Bonus Rate]]*Table1[[#This Row],[Hours]],\"\")","v":""},null,null,null,null,null,{"$f":"IF(OR(AH447>0.001,AH447<-0.001),Table1[[#This Row],[Employee '#]],\" \")","v":" "},false,{"$f":"SUMIF(Table1[[#This Row],[Total Wage Diff bonus]:[Bank Bonus]],\"<> \")","v":0},{"$f":"IF(AA447>0, Table1[[#This Row],[Column4]], IF(AB447>0,Table1[[#This Row],[Column4]],IF(X447>0,\"1000\")))","v":false}]
[null,null,null,null,null,null,null,null,null,null,null,null,null,null,null,null,0,null,null,null,null,null,null,null,{"$f":"IF(Table1[[#This Row],[Wage differential Bonus                            - NotePay Rate you are bonusing to]]>0, Table1[[#This Row],[Wage differential Bonus                            - NotePay Rate you are bonusing to]]-Table1[[#This Row],[Pay Rate]], \"\")","v":""},{"$f":"IF(Table1[[#This Row],[Wage differential Bonus                            - NotePay Rate you are bonusing to]]>0,Table1[[#This Row],[Bonus Rate]]*Table1[[#This Row],[Hours]],\"\")","v":""},null,null,null,null,null,{"$f":"IF(OR(AH448>0.001,AH448<-0.001),Table1[[#This Row],[Employee '#]],\" \")","v":" "},false,{"$f":"SUMIF(Table1[[#This Row],[Total Wage Diff bonus]:[Bank Bonus]],\"<> \")","v":0},{"$f":"IF(AA448>0, Table1[[#This Row],[Column4]], IF(AB448>0,Table1[[#This Row],[Column4]],IF(X448>0,\"1000\")))","v":false}]
[null,null,null,null,null,null,null,null,null,null,null,null,null,null,null,null,0,null,null,null,null,null,null,null,{"$f":"IF(Table1[[#This Row],[Wage differential Bonus                            - NotePay Rate you are bonusing to]]>0, Table1[[#This Row],[Wage differential Bonus                            - NotePay Rate you are bonusing to]]-Table1[[#This Row],[Pay Rate]], \"\")","v":""},{"$f":"IF(Table1[[#This Row],[Wage differential Bonus                            - NotePay Rate you are bonusing to]]>0,Table1[[#This Row],[Bonus Rate]]*Table1[[#This Row],[Hours]],\"\")","v":""},null,null,null,null,null,{"$f":"IF(OR(AH449>0.001,AH449<-0.001),Table1[[#This Row],[Employee '#]],\" \")","v":" "},false,{"$f":"SUMIF(Table1[[#This Row],[Total Wage Diff bonus]:[Bank Bonus]],\"<> \")","v":0},{"$f":"IF(AA449>0, Table1[[#This Row],[Column4]], IF(AB449>0,Table1[[#This Row],[Column4]],IF(X449>0,\"1000\")))","v":false}]
[null,null,null,null,null,null,null,null,null,null,null,null,null,null,null,null,0,null,null,null,null,null,null,null,{"$f":"IF(Table1[[#This Row],[Wage differential Bonus                            - NotePay Rate you are bonusing to]]>0, Table1[[#This Row],[Wage differential Bonus                            - NotePay Rate you are bonusing to]]-Table1[[#This Row],[Pay Rate]], \"\")","v":""},{"$f":"IF(Table1[[#This Row],[Wage differential Bonus                            - NotePay Rate you are bonusing to]]>0,Table1[[#This Row],[Bonus Rate]]*Table1[[#This Row],[Hours]],\"\")","v":""},null,null,null,null,null,{"$f":"IF(OR(AH450>0.001,AH450<-0.001),Table1[[#This Row],[Employee '#]],\" \")","v":" "},false,{"$f":"SUMIF(Table1[[#This Row],[Total Wage Diff bonus]:[Bank Bonus]],\"<> \")","v":0},{"$f":"IF(AA450>0, Table1[[#This Row],[Column4]], IF(AB450>0,Table1[[#This Row],[Column4]],IF(X450>0,\"1000\")))","v":false}]
[null,null,null,null,null,null,null,null,null,null,null,null,null,null,null,null,0,null,null,null,null,null,null,null,{"$f":"IF(Table1[[#This Row],[Wage differential Bonus                            - NotePay Rate you are bonusing to]]>0, Table1[[#This Row],[Wage differential Bonus                            - NotePay Rate you are bonusing to]]-Table1[[#This Row],[Pay Rate]], \"\")","v":""},{"$f":"IF(Table1[[#This Row],[Wage differential Bonus                            - NotePay Rate you are bonusing to]]>0,Table1[[#This Row],[Bonus Rate]]*Table1[[#This Row],[Hours]],\"\")","v":""},null,null,null,null,null,{"$f":"IF(OR(AH451>0.001,AH451<-0.001),Table1[[#This Row],[Employee '#]],\" \")","v":" "},false,{"$f":"SUMIF(Table1[[#This Row],[Total Wage Diff bonus]:[Bank Bonus]],\"<> \")","v":0},{"$f":"IF(AA451>0, Table1[[#This Row],[Column4]], IF(AB451>0,Table1[[#This Row],[Column4]],IF(X451>0,\"1000\")))","v":false}]
[null,null,null,null,null,null,null,null,null,null,null,null,null,null,null,null,{"$f":"L452+P452","v":0},null,null,null,null,null,null,null,{"$f":"IF(Table1[[#This Row],[Wage differential Bonus                            - NotePay Rate you are bonusing to]]>0, Table1[[#This Row],[Wage differential Bonus                            - NotePay Rate you are bonusing to]]-Table1[[#This Row],[Pay Rate]], \"\")","v":""},{"$f":"IF(Table1[[#This Row],[Wage differential Bonus                            - NotePay Rate you are bonusing to]]>0,Table1[[#This Row],[Bonus Rate]]*Table1[[#This Row],[Hours]],\"\")","v":""},null,null,null,null,null,{"$f":"IF(OR(AH452>0.001,AH452<-0.001),Table1[[#This Row],[Employee '#]],\" \")","v":" "},{"$f":"IF(AA452>0, \"28\", IF(AB452>0,\"53\",IF(X452>0,\"20\")))","v":false},{"$f":"SUMIF(Table1[[#This Row],[Total Wage Diff bonus]:[Bank Bonus]],\"<> \")","v":0},{"$f":"IF(AA452>0, Table1[[#This Row],[Column4]], IF(AB452>0,Table1[[#This Row],[Column4]],IF(X452>0,\"1000\")))","v":false}]
[null,null,null,null,null,null,null,null,null,null,null,null,null,null,null,null,0,null,null,null,null,null,null,null,{"$f":"IF(Table1[[#This Row],[Wage differential Bonus                            - NotePay Rate you are bonusing to]]>0, Table1[[#This Row],[Wage differential Bonus                            - NotePay Rate you are bonusing to]]-Table1[[#This Row],[Pay Rate]], \"\")","v":""},{"$f":"IF(Table1[[#This Row],[Wage differential Bonus                            - NotePay Rate you are bonusing to]]>0,Table1[[#This Row],[Bonus Rate]]*Table1[[#This Row],[Hours]],\"\")","v":""},null,null,null,null,null,{"$f":"IF(OR(AH453>0.001,AH453<-0.001),Table1[[#This Row],[Employee '#]],\" \")","v":" "},false,{"$f":"SUMIF(Table1[[#This Row],[Total Wage Diff bonus]:[Bank Bonus]],\"<> \")","v":0},{"$f":"IF(AA453>0, Table1[[#This Row],[Column4]], IF(AB453>0,Table1[[#This Row],[Column4]],IF(X453>0,\"1000\")))","v":false}]
[null,null,null,null,null,null,null,null,null,null,null,null,null,null,null,null,0,null,null,null,null,null,null,null,{"$f":"IF(Table1[[#This Row],[Wage differential Bonus                            - NotePay Rate you are bonusing to]]>0, Table1[[#This Row],[Wage differential Bonus                            - NotePay Rate you are bonusing to]]-Table1[[#This Row],[Pay Rate]], \"\")","v":""},{"$f":"IF(Table1[[#This Row],[Wage differential Bonus                            - NotePay Rate you are bonusing to]]>0,Table1[[#This Row],[Bonus Rate]]*Table1[[#This Row],[Hours]],\"\")","v":""},null,null,null,null,null,{"$f":"IF(OR(AH454>0.001,AH454<-0.001),Table1[[#This Row],[Employee '#]],\" \")","v":" "},false,{"$f":"SUMIF(Table1[[#This Row],[Total Wage Diff bonus]:[Bank Bonus]],\"<> \")","v":0},{"$f":"IF(AA454>0, Table1[[#This Row],[Column4]], IF(AB454>0,Table1[[#This Row],[Column4]],IF(X454>0,\"1000\")))","v":false}]
[null,null,null,null,null,null,null,null,null,null,null,null,null,null,null,null,0,null,null,null,null,null,null,null,{"$f":"IF(Table1[[#This Row],[Wage differential Bonus                            - NotePay Rate you are bonusing to]]>0, Table1[[#This Row],[Wage differential Bonus                            - NotePay Rate you are bonusing to]]-Table1[[#This Row],[Pay Rate]], \"\")","v":""},{"$f":"IF(Table1[[#This Row],[Wage differential Bonus                            - NotePay Rate you are bonusing to]]>0,Table1[[#This Row],[Bonus Rate]]*Table1[[#This Row],[Hours]],\"\")","v":""},null,null,null,null,null,{"$f":"IF(OR(AH455>0.001,AH455<-0.001),Table1[[#This Row],[Employee '#]],\" \")","v":" "},false,{"$f":"SUMIF(Table1[[#This Row],[Total Wage Diff bonus]:[Bank Bonus]],\"<> \")","v":0},{"$f":"IF(AA455>0, Table1[[#This Row],[Column4]], IF(AB455>0,Table1[[#This Row],[Column4]],IF(X455>0,\"1000\")))","v":false}]
[null,null,null,null,null,null,null,null,null,null,null,null,null,null,null,null,0,null,null,null,null,null,null,null,{"$f":"IF(Table1[[#This Row],[Wage differential Bonus                            - NotePay Rate you are bonusing to]]>0, Table1[[#This Row],[Wage differential Bonus                            - NotePay Rate you are bonusing to]]-Table1[[#This Row],[Pay Rate]], \"\")","v":""},{"$f":"IF(Table1[[#This Row],[Wage differential Bonus                            - NotePay Rate you are bonusing to]]>0,Table1[[#This Row],[Bonus Rate]]*Table1[[#This Row],[Hours]],\"\")","v":""},null,null,null,null,null,{"$f":"IF(OR(AH456>0.001,AH456<-0.001),Table1[[#This Row],[Employee '#]],\" \")","v":" "},false,{"$f":"SUMIF(Table1[[#This Row],[Total Wage Diff bonus]:[Bank Bonus]],\"<> \")","v":0},{"$f":"IF(AA456>0, Table1[[#This Row],[Column4]], IF(AB456>0,Table1[[#This Row],[Column4]],IF(X456>0,\"1000\")))","v":false}]
[null,null,null,null,null,null,null,null,null,null,null,null,null,null,null,null,0,null,null,null,null,null,null,null,{"$f":"IF(Table1[[#This Row],[Wage differential Bonus                            - NotePay Rate you are bonusing to]]>0, Table1[[#This Row],[Wage differential Bonus                            - NotePay Rate you are bonusing to]]-Table1[[#This Row],[Pay Rate]], \"\")","v":""},{"$f":"IF(Table1[[#This Row],[Wage differential Bonus                            - NotePay Rate you are bonusing to]]>0,Table1[[#This Row],[Bonus Rate]]*Table1[[#This Row],[Hours]],\"\")","v":""},null,null,null,null,null,{"$f":"IF(OR(AH457>0.001,AH457<-0.001),Table1[[#This Row],[Employee '#]],\" \")","v":" "},false,{"$f":"SUMIF(Table1[[#This Row],[Total Wage Diff bonus]:[Bank Bonus]],\"<> \")","v":0},{"$f":"IF(AA457>0, Table1[[#This Row],[Column4]], IF(AB457>0,Table1[[#This Row],[Column4]],IF(X457>0,\"1000\")))","v":false}]
[null,null,null,null,null,null,null,null,null,null,null,null,null,null,null,null,0,null,null,null,null,null,null,null,{"$f":"IF(Table1[[#This Row],[Wage differential Bonus                            - NotePay Rate you are bonusing to]]>0, Table1[[#This Row],[Wage differential Bonus                            - NotePay Rate you are bonusing to]]-Table1[[#This Row],[Pay Rate]], \"\")","v":""},{"$f":"IF(Table1[[#This Row],[Wage differential Bonus                            - NotePay Rate you are bonusing to]]>0,Table1[[#This Row],[Bonus Rate]]*Table1[[#This Row],[Hours]],\"\")","v":""},null,null,null,null,null,{"$f":"IF(OR(AH458>0.001,AH458<-0.001),Table1[[#This Row],[Employee '#]],\" \")","v":" "},false,{"$f":"SUMIF(Table1[[#This Row],[Total Wage Diff bonus]:[Bank Bonus]],\"<> \")","v":0},{"$f":"IF(AA458>0, Table1[[#This Row],[Column4]], IF(AB458>0,Table1[[#This Row],[Column4]],IF(X458>0,\"1000\")))","v":false}]
[null,null,null,null,null,null,null,null,null,null,null,null,null,null,null,null,0,null,null,null,null,null,null,null,{"$f":"IF(Table1[[#This Row],[Wage differential Bonus                            - NotePay Rate you are bonusing to]]>0, Table1[[#This Row],[Wage differential Bonus                            - NotePay Rate you are bonusing to]]-Table1[[#This Row],[Pay Rate]], \"\")","v":""},{"$f":"IF(Table1[[#This Row],[Wage differential Bonus                            - NotePay Rate you are bonusing to]]>0,Table1[[#This Row],[Bonus Rate]]*Table1[[#This Row],[Hours]],\"\")","v":""},null,null,null,null,null,{"$f":"IF(OR(AH459>0.001,AH459<-0.001),Table1[[#This Row],[Employee '#]],\" \")","v":" "},false,{"$f":"SUMIF(Table1[[#This Row],[Total Wage Diff bonus]:[Bank Bonus]],\"<> \")","v":0},{"$f":"IF(AA459>0, Table1[[#This Row],[Column4]], IF(AB459>0,Table1[[#This Row],[Column4]],IF(X459>0,\"1000\")))","v":false}]
[null,null,null,null,null,null,null,null,null,null,null,null,null,null,null,null,0,null,null,null,null,null,null,null,{"$f":"IF(Table1[[#This Row],[Wage differential Bonus                            - NotePay Rate you are bonusing to]]>0, Table1[[#This Row],[Wage differential Bonus                            - NotePay Rate you are bonusing to]]-Table1[[#This Row],[Pay Rate]], \"\")","v":""},{"$f":"IF(Table1[[#This Row],[Wage differential Bonus                            - NotePay Rate you are bonusing to]]>0,Table1[[#This Row],[Bonus Rate]]*Table1[[#This Row],[Hours]],\"\")","v":""},null,null,null,null,null,{"$f":"IF(OR(AH460>0.001,AH460<-0.001),Table1[[#This Row],[Employee '#]],\" \")","v":" "},false,{"$f":"SUMIF(Table1[[#This Row],[Total Wage Diff bonus]:[Bank Bonus]],\"<> \")","v":0},{"$f":"IF(AA460>0, Table1[[#This Row],[Column4]], IF(AB460>0,Table1[[#This Row],[Column4]],IF(X460>0,\"1000\")))","v":false}]
[null,null,null,null,null,null,null,null,null,null,null,null,null,null,null,null,0,null,null,null,null,null,null,null,{"$f":"IF(Table1[[#This Row],[Wage differential Bonus                            - NotePay Rate you are bonusing to]]>0, Table1[[#This Row],[Wage differential Bonus                            - NotePay Rate you are bonusing to]]-Table1[[#This Row],[Pay Rate]], \"\")","v":""},{"$f":"IF(Table1[[#This Row],[Wage differential Bonus                            - NotePay Rate you are bonusing to]]>0,Table1[[#This Row],[Bonus Rate]]*Table1[[#This Row],[Hours]],\"\")","v":""},null,null,null,null,null,{"$f":"IF(OR(AH461>0.001,AH461<-0.001),Table1[[#This Row],[Employee '#]],\" \")","v":" "},false,{"$f":"SUMIF(Table1[[#This Row],[Total Wage Diff bonus]:[Bank Bonus]],\"<> \")","v":0},{"$f":"IF(AA461>0, Table1[[#This Row],[Column4]], IF(AB461>0,Table1[[#This Row],[Column4]],IF(X461>0,\"1000\")))","v":false}]
[null,null,null,null,null,null,null,null,null,null,null,null,null,null,null,null,0,null,null,null,null,null,null,null,{"$f":"IF(Table1[[#This Row],[Wage differential Bonus                            - NotePay Rate you are bonusing to]]>0, Table1[[#This Row],[Wage differential Bonus                            - NotePay Rate you are bonusing to]]-Table1[[#This Row],[Pay Rate]], \"\")","v":""},{"$f":"IF(Table1[[#This Row],[Wage differential Bonus                            - NotePay Rate you are bonusing to]]>0,Table1[[#This Row],[Bonus Rate]]*Table1[[#This Row],[Hours]],\"\")","v":""},null,null,null,null,null,{"$f":"IF(OR(AH462>0.001,AH462<-0.001),Table1[[#This Row],[Employee '#]],\" \")","v":" "},false,{"$f":"SUMIF(Table1[[#This Row],[Total Wage Diff bonus]:[Bank Bonus]],\"<> \")","v":0},{"$f":"IF(AA462>0, Table1[[#This Row],[Column4]], IF(AB462>0,Table1[[#This Row],[Column4]],IF(X462>0,\"1000\")))","v":false}]
[null,null,null,null,null,null,null,null,null,null,null,null,null,null,null,null,0,null,null,null,null,null,null,null,{"$f":"IF(Table1[[#This Row],[Wage differential Bonus                            - NotePay Rate you are bonusing to]]>0, Table1[[#This Row],[Wage differential Bonus                            - NotePay Rate you are bonusing to]]-Table1[[#This Row],[Pay Rate]], \"\")","v":""},{"$f":"IF(Table1[[#This Row],[Wage differential Bonus                            - NotePay Rate you are bonusing to]]>0,Table1[[#This Row],[Bonus Rate]]*Table1[[#This Row],[Hours]],\"\")","v":""},null,null,null,null,null,{"$f":"IF(OR(AH463>0.001,AH463<-0.001),Table1[[#This Row],[Employee '#]],\" \")","v":" "},false,{"$f":"SUMIF(Table1[[#This Row],[Total Wage Diff bonus]:[Bank Bonus]],\"<> \")","v":0},{"$f":"IF(AA463>0, Table1[[#This Row],[Column4]], IF(AB463>0,Table1[[#This Row],[Column4]],IF(X463>0,\"1000\")))","v":false}]
[null,null,null,null,null,null,null,null,null,null,null,null,null,null,null,null,0,null,null,null,null,null,null,null,{"$f":"IF(Table1[[#This Row],[Wage differential Bonus                            - NotePay Rate you are bonusing to]]>0, Table1[[#This Row],[Wage differential Bonus                            - NotePay Rate you are bonusing to]]-Table1[[#This Row],[Pay Rate]], \"\")","v":""},{"$f":"IF(Table1[[#This Row],[Wage differential Bonus                            - NotePay Rate you are bonusing to]]>0,Table1[[#This Row],[Bonus Rate]]*Table1[[#This Row],[Hours]],\"\")","v":""},null,null,null,null,null,{"$f":"IF(OR(AH464>0.001,AH464<-0.001),Table1[[#This Row],[Employee '#]],\" \")","v":" "},false,{"$f":"SUMIF(Table1[[#This Row],[Total Wage Diff bonus]:[Bank Bonus]],\"<> \")","v":0},{"$f":"IF(AA464>0, Table1[[#This Row],[Column4]], IF(AB464>0,Table1[[#This Row],[Column4]],IF(X464>0,\"1000\")))","v":false}]
[null,null,null,null,null,null,null,null,null,null,null,null,null,null,null,null,0,null,null,null,null,null,null,null,{"$f":"IF(Table1[[#This Row],[Wage differential Bonus                            - NotePay Rate you are bonusing to]]>0, Table1[[#This Row],[Wage differential Bonus                            - NotePay Rate you are bonusing to]]-Table1[[#This Row],[Pay Rate]], \"\")","v":""},{"$f":"IF(Table1[[#This Row],[Wage differential Bonus                            - NotePay Rate you are bonusing to]]>0,Table1[[#This Row],[Bonus Rate]]*Table1[[#This Row],[Hours]],\"\")","v":""},null,null,null,null,null,{"$f":"IF(OR(AH465>0.001,AH465<-0.001),Table1[[#This Row],[Employee '#]],\" \")","v":" "},false,{"$f":"SUMIF(Table1[[#This Row],[Total Wage Diff bonus]:[Bank Bonus]],\"<> \")","v":0},{"$f":"IF(AA465>0, Table1[[#This Row],[Column4]], IF(AB465>0,Table1[[#This Row],[Column4]],IF(X465>0,\"1000\")))","v":false}]
[null,null,null,null,null,null,null,null,null,null,null,null,null,null,null,null,0,null,null,null,null,null,null,null,{"$f":"IF(Table1[[#This Row],[Wage differential Bonus                            - NotePay Rate you are bonusing to]]>0, Table1[[#This Row],[Wage differential Bonus                            - NotePay Rate you are bonusing to]]-Table1[[#This Row],[Pay Rate]], \"\")","v":""},{"$f":"IF(Table1[[#This Row],[Wage differential Bonus                            - NotePay Rate you are bonusing to]]>0,Table1[[#This Row],[Bonus Rate]]*Table1[[#This Row],[Hours]],\"\")","v":""},null,null,null,null,null,{"$f":"IF(OR(AH466>0.001,AH466<-0.001),Table1[[#This Row],[Employee '#]],\" \")","v":" "},false,{"$f":"SUMIF(Table1[[#This Row],[Total Wage Diff bonus]:[Bank Bonus]],\"<> \")","v":0},{"$f":"IF(AA466>0, Table1[[#This Row],[Column4]], IF(AB466>0,Table1[[#This Row],[Column4]],IF(X466>0,\"1000\")))","v":false}]
[null,null,null,null,null,null,null,null,null,null,null,null,null,null,null,null,0,null,null,null,null,null,null,null,{"$f":"IF(Table1[[#This Row],[Wage differential Bonus                            - NotePay Rate you are bonusing to]]>0, Table1[[#This Row],[Wage differential Bonus                            - NotePay Rate you are bonusing to]]-Table1[[#This Row],[Pay Rate]], \"\")","v":""},{"$f":"IF(Table1[[#This Row],[Wage differential Bonus                            - NotePay Rate you are bonusing to]]>0,Table1[[#This Row],[Bonus Rate]]*Table1[[#This Row],[Hours]],\"\")","v":""},null,null,null,null,null,{"$f":"IF(OR(AH467>0.001,AH467<-0.001),Table1[[#This Row],[Employee '#]],\" \")","v":" "},false,{"$f":"SUMIF(Table1[[#This Row],[Total Wage Diff bonus]:[Bank Bonus]],\"<> \")","v":0},{"$f":"IF(AA467>0, Table1[[#This Row],[Column4]], IF(AB467>0,Table1[[#This Row],[Column4]],IF(X467>0,\"1000\")))","v":false}]
[null,null,null,null,null,null,null,null,null,null,null,null,null,null,null,null,0,null,null,null,null,null,null,null,{"$f":"IF(Table1[[#This Row],[Wage differential Bonus                            - NotePay Rate you are bonusing to]]>0, Table1[[#This Row],[Wage differential Bonus                            - NotePay Rate you are bonusing to]]-Table1[[#This Row],[Pay Rate]], \"\")","v":""},{"$f":"IF(Table1[[#This Row],[Wage differential Bonus                            - NotePay Rate you are bonusing to]]>0,Table1[[#This Row],[Bonus Rate]]*Table1[[#This Row],[Hours]],\"\")","v":""},null,null,null,null,null,{"$f":"IF(OR(AH468>0.001,AH468<-0.001),Table1[[#This Row],[Employee '#]],\" \")","v":" "},false,{"$f":"SUMIF(Table1[[#This Row],[Total Wage Diff bonus]:[Bank Bonus]],\"<> \")","v":0},{"$f":"IF(AA468>0, Table1[[#This Row],[Column4]], IF(AB468>0,Table1[[#This Row],[Column4]],IF(X468>0,\"1000\")))","v":false}]
[null,null,null,null,null,null,null,null,null,null,null,null,null,null,null,null,0,null,null,null,null,null,null,null,{"$f":"IF(Table1[[#This Row],[Wage differential Bonus                            - NotePay Rate you are bonusing to]]>0, Table1[[#This Row],[Wage differential Bonus                            - NotePay Rate you are bonusing to]]-Table1[[#This Row],[Pay Rate]], \"\")","v":""},{"$f":"IF(Table1[[#This Row],[Wage differential Bonus                            - NotePay Rate you are bonusing to]]>0,Table1[[#This Row],[Bonus Rate]]*Table1[[#This Row],[Hours]],\"\")","v":""},null,null,null,null,null,{"$f":"IF(OR(AH469>0.001,AH469<-0.001),Table1[[#This Row],[Employee '#]],\" \")","v":" "},false,{"$f":"SUMIF(Table1[[#This Row],[Total Wage Diff bonus]:[Bank Bonus]],\"<> \")","v":0},{"$f":"IF(AA469>0, Table1[[#This Row],[Column4]], IF(AB469>0,Table1[[#This Row],[Column4]],IF(X469>0,\"1000\")))","v":false}]
[null,null,null,null,null,null,null,null,null,null,null,null,null,null,null,null,0,null,null,null,null,null,null,null,{"$f":"IF(Table1[[#This Row],[Wage differential Bonus                            - NotePay Rate you are bonusing to]]>0, Table1[[#This Row],[Wage differential Bonus                            - NotePay Rate you are bonusing to]]-Table1[[#This Row],[Pay Rate]], \"\")","v":""},{"$f":"IF(Table1[[#This Row],[Wage differential Bonus                            - NotePay Rate you are bonusing to]]>0,Table1[[#This Row],[Bonus Rate]]*Table1[[#This Row],[Hours]],\"\")","v":""},null,null,null,null,null,{"$f":"IF(OR(AH470>0.001,AH470<-0.001),Table1[[#This Row],[Employee '#]],\" \")","v":" "},false,{"$f":"SUMIF(Table1[[#This Row],[Total Wage Diff bonus]:[Bank Bonus]],\"<> \")","v":0},{"$f":"IF(AA470>0, Table1[[#This Row],[Column4]], IF(AB470>0,Table1[[#This Row],[Column4]],IF(X470>0,\"1000\")))","v":false}]
[null,null,null,null,null,null,null,null,null,null,null,null,null,null,null,null,0,null,null,null,null,null,null,null,{"$f":"IF(Table1[[#This Row],[Wage differential Bonus                            - NotePay Rate you are bonusing to]]>0, Table1[[#This Row],[Wage differential Bonus                            - NotePay Rate you are bonusing to]]-Table1[[#This Row],[Pay Rate]], \"\")","v":""},{"$f":"IF(Table1[[#This Row],[Wage differential Bonus                            - NotePay Rate you are bonusing to]]>0,Table1[[#This Row],[Bonus Rate]]*Table1[[#This Row],[Hours]],\"\")","v":""},null,null,null,null,null,{"$f":"IF(OR(AH471>0.001,AH471<-0.001),Table1[[#This Row],[Employee '#]],\" \")","v":" "},false,{"$f":"SUMIF(Table1[[#This Row],[Total Wage Diff bonus]:[Bank Bonus]],\"<> \")","v":0},{"$f":"IF(AA471>0, Table1[[#This Row],[Column4]], IF(AB471>0,Table1[[#This Row],[Column4]],IF(X471>0,\"1000\")))","v":false}]
[null,null,null,null,null,null,null,null,null,null,null,null,null,null,null,null,0,null,null,null,null,null,null,null,{"$f":"IF(Table1[[#This Row],[Wage differential Bonus                            - NotePay Rate you are bonusing to]]>0, Table1[[#This Row],[Wage differential Bonus                            - NotePay Rate you are bonusing to]]-Table1[[#This Row],[Pay Rate]], \"\")","v":""},{"$f":"IF(Table1[[#This Row],[Wage differential Bonus                            - NotePay Rate you are bonusing to]]>0,Table1[[#This Row],[Bonus Rate]]*Table1[[#This Row],[Hours]],\"\")","v":""},null,null,null,null,null,{"$f":"IF(OR(AH472>0.001,AH472<-0.001),Table1[[#This Row],[Employee '#]],\" \")","v":" "},false,{"$f":"SUMIF(Table1[[#This Row],[Total Wage Diff bonus]:[Bank Bonus]],\"<> \")","v":0},{"$f":"IF(AA472>0, Table1[[#This Row],[Column4]], IF(AB472>0,Table1[[#This Row],[Column4]],IF(X472>0,\"1000\")))","v":false}]
[null,null,null,null,null,null,null,null,null,null,null,null,null,null,null,null,0,null,null,null,null,null,null,null,{"$f":"IF(Table1[[#This Row],[Wage differential Bonus                            - NotePay Rate you are bonusing to]]>0, Table1[[#This Row],[Wage differential Bonus                            - NotePay Rate you are bonusing to]]-Table1[[#This Row],[Pay Rate]], \"\")","v":""},{"$f":"IF(Table1[[#This Row],[Wage differential Bonus                            - NotePay Rate you are bonusing to]]>0,Table1[[#This Row],[Bonus Rate]]*Table1[[#This Row],[Hours]],\"\")","v":""},null,null,null,null,null,{"$f":"IF(OR(AH473>0.001,AH473<-0.001),Table1[[#This Row],[Employee '#]],\" \")","v":" "},false,{"$f":"SUMIF(Table1[[#This Row],[Total Wage Diff bonus]:[Bank Bonus]],\"<> \")","v":0},{"$f":"IF(AA473>0, Table1[[#This Row],[Column4]], IF(AB473>0,Table1[[#This Row],[Column4]],IF(X473>0,\"1000\")))","v":false}]
[null,null,null,null,null,null,null,null,null,null,null,null,null,null,null,null,0,null,null,null,null,null,null,null,{"$f":"IF(Table1[[#This Row],[Wage differential Bonus                            - NotePay Rate you are bonusing to]]>0, Table1[[#This Row],[Wage differential Bonus                            - NotePay Rate you are bonusing to]]-Table1[[#This Row],[Pay Rate]], \"\")","v":""},{"$f":"IF(Table1[[#This Row],[Wage differential Bonus                            - NotePay Rate you are bonusing to]]>0,Table1[[#This Row],[Bonus Rate]]*Table1[[#This Row],[Hours]],\"\")","v":""},null,null,null,null,null,{"$f":"IF(OR(AH474>0.001,AH474<-0.001),Table1[[#This Row],[Employee '#]],\" \")","v":" "},false,{"$f":"SUMIF(Table1[[#This Row],[Total Wage Diff bonus]:[Bank Bonus]],\"<> \")","v":0},{"$f":"IF(AA474>0, Table1[[#This Row],[Column4]], IF(AB474>0,Table1[[#This Row],[Column4]],IF(X474>0,\"1000\")))","v":false}]
[null,null,null,null,null,null,null,null,null,null,null,null,null,null,null,null,0,null,null,null,null,null,null,null,{"$f":"IF(Table1[[#This Row],[Wage differential Bonus                            - NotePay Rate you are bonusing to]]>0, Table1[[#This Row],[Wage differential Bonus                            - NotePay Rate you are bonusing to]]-Table1[[#This Row],[Pay Rate]], \"\")","v":""},{"$f":"IF(Table1[[#This Row],[Wage differential Bonus                            - NotePay Rate you are bonusing to]]>0,Table1[[#This Row],[Bonus Rate]]*Table1[[#This Row],[Hours]],\"\")","v":""},null,null,null,null,null,{"$f":"IF(OR(AH475>0.001,AH475<-0.001),Table1[[#This Row],[Employee '#]],\" \")","v":" "},false,{"$f":"SUMIF(Table1[[#This Row],[Total Wage Diff bonus]:[Bank Bonus]],\"<> \")","v":0},{"$f":"IF(AA475>0, Table1[[#This Row],[Column4]], IF(AB475>0,Table1[[#This Row],[Column4]],IF(X475>0,\"1000\")))","v":false}]
[null,null,null,null,null,null,null,null,null,null,null,null,null,null,null,null,0,null,null,null,null,null,null,null,{"$f":"IF(Table1[[#This Row],[Wage differential Bonus                            - NotePay Rate you are bonusing to]]>0, Table1[[#This Row],[Wage differential Bonus                            - NotePay Rate you are bonusing to]]-Table1[[#This Row],[Pay Rate]], \"\")","v":""},{"$f":"IF(Table1[[#This Row],[Wage differential Bonus                            - NotePay Rate you are bonusing to]]>0,Table1[[#This Row],[Bonus Rate]]*Table1[[#This Row],[Hours]],\"\")","v":""},null,null,null,null,null,{"$f":"IF(OR(AH476>0.001,AH476<-0.001),Table1[[#This Row],[Employee '#]],\" \")","v":" "},false,{"$f":"SUMIF(Table1[[#This Row],[Total Wage Diff bonus]:[Bank Bonus]],\"<> \")","v":0},{"$f":"IF(AA476>0, Table1[[#This Row],[Column4]], IF(AB476>0,Table1[[#This Row],[Column4]],IF(X476>0,\"1000\")))","v":false}]
[null,null,null,null,null,null,null,null,null,null,null,null,null,null,null,null,0,null,null,null,null,null,null,null,{"$f":"IF(Table1[[#This Row],[Wage differential Bonus                            - NotePay Rate you are bonusing to]]>0, Table1[[#This Row],[Wage differential Bonus                            - NotePay Rate you are bonusing to]]-Table1[[#This Row],[Pay Rate]], \"\")","v":""},{"$f":"IF(Table1[[#This Row],[Wage differential Bonus                            - NotePay Rate you are bonusing to]]>0,Table1[[#This Row],[Bonus Rate]]*Table1[[#This Row],[Hours]],\"\")","v":""},null,null,null,null,null,{"$f":"IF(OR(AH477>0.001,AH477<-0.001),Table1[[#This Row],[Employee '#]],\" \")","v":" "},false,{"$f":"SUMIF(Table1[[#This Row],[Total Wage Diff bonus]:[Bank Bonus]],\"<> \")","v":0},{"$f":"IF(AA477>0, Table1[[#This Row],[Column4]], IF(AB477>0,Table1[[#This Row],[Column4]],IF(X477>0,\"1000\")))","v":false}]
[null,null,null,null,null,null,null,null,null,null,null,null,null,null,null,null,0,null,null,null,null,null,null,null,{"$f":"IF(Table1[[#This Row],[Wage differential Bonus                            - NotePay Rate you are bonusing to]]>0, Table1[[#This Row],[Wage differential Bonus                            - NotePay Rate you are bonusing to]]-Table1[[#This Row],[Pay Rate]], \"\")","v":""},{"$f":"IF(Table1[[#This Row],[Wage differential Bonus                            - NotePay Rate you are bonusing to]]>0,Table1[[#This Row],[Bonus Rate]]*Table1[[#This Row],[Hours]],\"\")","v":""},null,null,null,null,null,{"$f":"IF(OR(AH478>0.001,AH478<-0.001),Table1[[#This Row],[Employee '#]],\" \")","v":" "},false,{"$f":"SUMIF(Table1[[#This Row],[Total Wage Diff bonus]:[Bank Bonus]],\"<> \")","v":0},{"$f":"IF(AA478>0, Table1[[#This Row],[Column4]], IF(AB478>0,Table1[[#This Row],[Column4]],IF(X478>0,\"1000\")))","v":false}]
[null,null,null,null,null,null,null,null,null,null,null,null,null,null,null,null,0,null,null,null,null,null,null,null,{"$f":"IF(Table1[[#This Row],[Wage differential Bonus                            - NotePay Rate you are bonusing to]]>0, Table1[[#This Row],[Wage differential Bonus                            - NotePay Rate you are bonusing to]]-Table1[[#This Row],[Pay Rate]], \"\")","v":""},{"$f":"IF(Table1[[#This Row],[Wage differential Bonus                            - NotePay Rate you are bonusing to]]>0,Table1[[#This Row],[Bonus Rate]]*Table1[[#This Row],[Hours]],\"\")","v":""},null,null,null,null,null,{"$f":"IF(OR(AH479>0.001,AH479<-0.001),Table1[[#This Row],[Employee '#]],\" \")","v":" "},false,{"$f":"SUMIF(Table1[[#This Row],[Total Wage Diff bonus]:[Bank Bonus]],\"<> \")","v":0},{"$f":"IF(AA479>0, Table1[[#This Row],[Column4]], IF(AB479>0,Table1[[#This Row],[Column4]],IF(X479>0,\"1000\")))","v":false}]
[null,null,null,null,null,null,null,null,null,null,null,null,null,null,null,null,0,null,null,null,null,null,null,null,{"$f":"IF(Table1[[#This Row],[Wage differential Bonus                            - NotePay Rate you are bonusing to]]>0, Table1[[#This Row],[Wage differential Bonus                            - NotePay Rate you are bonusing to]]-Table1[[#This Row],[Pay Rate]], \"\")","v":""},{"$f":"IF(Table1[[#This Row],[Wage differential Bonus                            - NotePay Rate you are bonusing to]]>0,Table1[[#This Row],[Bonus Rate]]*Table1[[#This Row],[Hours]],\"\")","v":""},null,null,null,null,null,{"$f":"IF(OR(AH480>0.001,AH480<-0.001),Table1[[#This Row],[Employee '#]],\" \")","v":" "},false,{"$f":"SUMIF(Table1[[#This Row],[Total Wage Diff bonus]:[Bank Bonus]],\"<> \")","v":0},{"$f":"IF(AA480>0, Table1[[#This Row],[Column4]], IF(AB480>0,Table1[[#This Row],[Column4]],IF(X480>0,\"1000\")))","v":false}]
[null,null,null,null,null,null,null,null,null,null,null,null,null,null,null,null,0,null,null,null,null,null,null,null,{"$f":"IF(Table1[[#This Row],[Wage differential Bonus                            - NotePay Rate you are bonusing to]]>0, Table1[[#This Row],[Wage differential Bonus                            - NotePay Rate you are bonusing to]]-Table1[[#This Row],[Pay Rate]], \"\")","v":""},{"$f":"IF(Table1[[#This Row],[Wage differential Bonus                            - NotePay Rate you are bonusing to]]>0,Table1[[#This Row],[Bonus Rate]]*Table1[[#This Row],[Hours]],\"\")","v":""},null,null,null,null,null,{"$f":"IF(OR(AH481>0.001,AH481<-0.001),Table1[[#This Row],[Employee '#]],\" \")","v":" "},false,{"$f":"SUMIF(Table1[[#This Row],[Total Wage Diff bonus]:[Bank Bonus]],\"<> \")","v":0},{"$f":"IF(AA481>0, Table1[[#This Row],[Column4]], IF(AB481>0,Table1[[#This Row],[Column4]],IF(X481>0,\"1000\")))","v":false}]
[null,null,null,null,null,null,null,null,null,null,null,null,null,null,null,null,0,null,null,null,null,null,null,null,{"$f":"IF(Table1[[#This Row],[Wage differential Bonus                            - NotePay Rate you are bonusing to]]>0, Table1[[#This Row],[Wage differential Bonus                            - NotePay Rate you are bonusing to]]-Table1[[#This Row],[Pay Rate]], \"\")","v":""},{"$f":"IF(Table1[[#This Row],[Wage differential Bonus                            - NotePay Rate you are bonusing to]]>0,Table1[[#This Row],[Bonus Rate]]*Table1[[#This Row],[Hours]],\"\")","v":""},null,null,null,null,null,{"$f":"IF(OR(AH482>0.001,AH482<-0.001),Table1[[#This Row],[Employee '#]],\" \")","v":" "},false,{"$f":"SUMIF(Table1[[#This Row],[Total Wage Diff bonus]:[Bank Bonus]],\"<> \")","v":0},{"$f":"IF(AA482>0, Table1[[#This Row],[Column4]], IF(AB482>0,Table1[[#This Row],[Column4]],IF(X482>0,\"1000\")))","v":false}]
[null,null,null,null,null,null,null,null,null,null,null,null,null,null,null,null,0,null,null,null,null,null,null,null,{"$f":"IF(Table1[[#This Row],[Wage differential Bonus                            - NotePay Rate you are bonusing to]]>0, Table1[[#This Row],[Wage differential Bonus                            - NotePay Rate you are bonusing to]]-Table1[[#This Row],[Pay Rate]], \"\")","v":""},{"$f":"IF(Table1[[#This Row],[Wage differential Bonus                            - NotePay Rate you are bonusing to]]>0,Table1[[#This Row],[Bonus Rate]]*Table1[[#This Row],[Hours]],\"\")","v":""},null,null,null,null,null,{"$f":"IF(OR(AH483>0.001,AH483<-0.001),Table1[[#This Row],[Employee '#]],\" \")","v":" "},false,{"$f":"SUMIF(Table1[[#This Row],[Total Wage Diff bonus]:[Bank Bonus]],\"<> \")","v":0},{"$f":"IF(AA483>0, Table1[[#This Row],[Column4]], IF(AB483>0,Table1[[#This Row],[Column4]],IF(X483>0,\"1000\")))","v":false}]
[null,null,null,null,null,null,null,null,null,null,null,null,null,null,null,null,0,null,null,null,null,null,null,null,{"$f":"IF(Table1[[#This Row],[Wage differential Bonus                            - NotePay Rate you are bonusing to]]>0, Table1[[#This Row],[Wage differential Bonus                            - NotePay Rate you are bonusing to]]-Table1[[#This Row],[Pay Rate]], \"\")","v":""},{"$f":"IF(Table1[[#This Row],[Wage differential Bonus                            - NotePay Rate you are bonusing to]]>0,Table1[[#This Row],[Bonus Rate]]*Table1[[#This Row],[Hours]],\"\")","v":""},null,null,null,null,null,{"$f":"IF(OR(AH484>0.001,AH484<-0.001),Table1[[#This Row],[Employee '#]],\" \")","v":" "},false,{"$f":"SUMIF(Table1[[#This Row],[Total Wage Diff bonus]:[Bank Bonus]],\"<> \")","v":0},{"$f":"IF(AA484>0, Table1[[#This Row],[Column4]], IF(AB484>0,Table1[[#This Row],[Column4]],IF(X484>0,\"1000\")))","v":false}]
[null,null,null,null,null,null,null,null,null,null,null,null,null,null,null,null,0,null,null,null,null,null,null,null,{"$f":"IF(Table1[[#This Row],[Wage differential Bonus                            - NotePay Rate you are bonusing to]]>0, Table1[[#This Row],[Wage differential Bonus                            - NotePay Rate you are bonusing to]]-Table1[[#This Row],[Pay Rate]], \"\")","v":""},{"$f":"IF(Table1[[#This Row],[Wage differential Bonus                            - NotePay Rate you are bonusing to]]>0,Table1[[#This Row],[Bonus Rate]]*Table1[[#This Row],[Hours]],\"\")","v":""},null,null,null,null,null,{"$f":"IF(OR(AH485>0.001,AH485<-0.001),Table1[[#This Row],[Employee '#]],\" \")","v":" "},false,{"$f":"SUMIF(Table1[[#This Row],[Total Wage Diff bonus]:[Bank Bonus]],\"<> \")","v":0},{"$f":"IF(AA485>0, Table1[[#This Row],[Column4]], IF(AB485>0,Table1[[#This Row],[Column4]],IF(X485>0,\"1000\")))","v":false}]
[null,null,null,null,null,null,null,null,null,null,null,null,null,null,null,null,0,null,null,null,null,null,null,null,{"$f":"IF(Table1[[#This Row],[Wage differential Bonus                            - NotePay Rate you are bonusing to]]>0, Table1[[#This Row],[Wage differential Bonus                            - NotePay Rate you are bonusing to]]-Table1[[#This Row],[Pay Rate]], \"\")","v":""},{"$f":"IF(Table1[[#This Row],[Wage differential Bonus                            - NotePay Rate you are bonusing to]]>0,Table1[[#This Row],[Bonus Rate]]*Table1[[#This Row],[Hours]],\"\")","v":""},null,null,null,null,null,{"$f":"IF(OR(AH486>0.001,AH486<-0.001),Table1[[#This Row],[Employee '#]],\" \")","v":" "},false,{"$f":"SUMIF(Table1[[#This Row],[Total Wage Diff bonus]:[Bank Bonus]],\"<> \")","v":0},{"$f":"IF(AA486>0, Table1[[#This Row],[Column4]], IF(AB486>0,Table1[[#This Row],[Column4]],IF(X486>0,\"1000\")))","v":false}]
[null,null,null,null,null,null,null,null,null,null,null,null,null,null,null,null,0,null,null,null,null,null,null,null,{"$f":"IF(Table1[[#This Row],[Wage differential Bonus                            - NotePay Rate you are bonusing to]]>0, Table1[[#This Row],[Wage differential Bonus                            - NotePay Rate you are bonusing to]]-Table1[[#This Row],[Pay Rate]], \"\")","v":""},{"$f":"IF(Table1[[#This Row],[Wage differential Bonus                            - NotePay Rate you are bonusing to]]>0,Table1[[#This Row],[Bonus Rate]]*Table1[[#This Row],[Hours]],\"\")","v":""},null,null,null,null,null,{"$f":"IF(OR(AH487>0.001,AH487<-0.001),Table1[[#This Row],[Employee '#]],\" \")","v":" "},false,{"$f":"SUMIF(Table1[[#This Row],[Total Wage Diff bonus]:[Bank Bonus]],\"<> \")","v":0},{"$f":"IF(AA487>0, Table1[[#This Row],[Column4]], IF(AB487>0,Table1[[#This Row],[Column4]],IF(X487>0,\"1000\")))","v":false}]
[null,null,null,null,null,null,null,null,null,null,null,null,null,null,null,null,0,null,null,null,null,null,null,null,{"$f":"IF(Table1[[#This Row],[Wage differential Bonus                            - NotePay Rate you are bonusing to]]>0, Table1[[#This Row],[Wage differential Bonus                            - NotePay Rate you are bonusing to]]-Table1[[#This Row],[Pay Rate]], \"\")","v":""},{"$f":"IF(Table1[[#This Row],[Wage differential Bonus                            - NotePay Rate you are bonusing to]]>0,Table1[[#This Row],[Bonus Rate]]*Table1[[#This Row],[Hours]],\"\")","v":""},null,null,null,null,null,{"$f":"IF(OR(AH488>0.001,AH488<-0.001),Table1[[#This Row],[Employee '#]],\" \")","v":" "},false,{"$f":"SUMIF(Table1[[#This Row],[Total Wage Diff bonus]:[Bank Bonus]],\"<> \")","v":0},{"$f":"IF(AA488>0, Table1[[#This Row],[Column4]], IF(AB488>0,Table1[[#This Row],[Column4]],IF(X488>0,\"1000\")))","v":false}]
[null,null,null,null,null,null,null,null,null,null,null,null,null,null,null,null,0,null,null,null,null,null,null,null,{"$f":"IF(Table1[[#This Row],[Wage differential Bonus                            - NotePay Rate you are bonusing to]]>0, Table1[[#This Row],[Wage differential Bonus                            - NotePay Rate you are bonusing to]]-Table1[[#This Row],[Pay Rate]], \"\")","v":""},{"$f":"IF(Table1[[#This Row],[Wage differential Bonus                            - NotePay Rate you are bonusing to]]>0,Table1[[#This Row],[Bonus Rate]]*Table1[[#This Row],[Hours]],\"\")","v":""},null,null,null,null,null,{"$f":"IF(OR(AH489>0.001,AH489<-0.001),Table1[[#This Row],[Employee '#]],\" \")","v":" "},false,{"$f":"SUMIF(Table1[[#This Row],[Total Wage Diff bonus]:[Bank Bonus]],\"<> \")","v":0},{"$f":"IF(AA489>0, Table1[[#This Row],[Column4]], IF(AB489>0,Table1[[#This Row],[Column4]],IF(X489>0,\"1000\")))","v":false}]
[null,null,null,null,null,null,null,null,null,null,null,null,null,null,null,null,0,null,null,null,null,null,null,null,{"$f":"IF(Table1[[#This Row],[Wage differential Bonus                            - NotePay Rate you are bonusing to]]>0, Table1[[#This Row],[Wage differential Bonus                            - NotePay Rate you are bonusing to]]-Table1[[#This Row],[Pay Rate]], \"\")","v":""},{"$f":"IF(Table1[[#This Row],[Wage differential Bonus                            - NotePay Rate you are bonusing to]]>0,Table1[[#This Row],[Bonus Rate]]*Table1[[#This Row],[Hours]],\"\")","v":""},null,null,null,null,null,{"$f":"IF(OR(AH490>0.001,AH490<-0.001),Table1[[#This Row],[Employee '#]],\" \")","v":" "},false,{"$f":"SUMIF(Table1[[#This Row],[Total Wage Diff bonus]:[Bank Bonus]],\"<> \")","v":0},{"$f":"IF(AA490>0, Table1[[#This Row],[Column4]], IF(AB490>0,Table1[[#This Row],[Column4]],IF(X490>0,\"1000\")))","v":false}]
[null,null,null,null,null,null,null,null,null,null,null,null,null,null,null,null,0,null,null,null,null,null,null,null,{"$f":"IF(Table1[[#This Row],[Wage differential Bonus                            - NotePay Rate you are bonusing to]]>0, Table1[[#This Row],[Wage differential Bonus                            - NotePay Rate you are bonusing to]]-Table1[[#This Row],[Pay Rate]], \"\")","v":""},{"$f":"IF(Table1[[#This Row],[Wage differential Bonus                            - NotePay Rate you are bonusing to]]>0,Table1[[#This Row],[Bonus Rate]]*Table1[[#This Row],[Hours]],\"\")","v":""},null,null,null,null,null,{"$f":"IF(OR(AH491>0.001,AH491<-0.001),Table1[[#This Row],[Employee '#]],\" \")","v":" "},false,{"$f":"SUMIF(Table1[[#This Row],[Total Wage Diff bonus]:[Bank Bonus]],\"<> \")","v":0},{"$f":"IF(AA491>0, Table1[[#This Row],[Column4]], IF(AB491>0,Table1[[#This Row],[Column4]],IF(X491>0,\"1000\")))","v":false}]
[null,null,null,null,null,null,null,null,null,null,null,null,null,null,null,null,0,null,null,null,null,null,null,null,{"$f":"IF(Table1[[#This Row],[Wage differential Bonus                            - NotePay Rate you are bonusing to]]>0, Table1[[#This Row],[Wage differential Bonus                            - NotePay Rate you are bonusing to]]-Table1[[#This Row],[Pay Rate]], \"\")","v":""},{"$f":"IF(Table1[[#This Row],[Wage differential Bonus                            - NotePay Rate you are bonusing to]]>0,Table1[[#This Row],[Bonus Rate]]*Table1[[#This Row],[Hours]],\"\")","v":""},null,null,null,null,null,{"$f":"IF(OR(AH492>0.001,AH492<-0.001),Table1[[#This Row],[Employee '#]],\" \")","v":" "},false,{"$f":"SUMIF(Table1[[#This Row],[Total Wage Diff bonus]:[Bank Bonus]],\"<> \")","v":0},{"$f":"IF(AA492>0, Table1[[#This Row],[Column4]], IF(AB492>0,Table1[[#This Row],[Column4]],IF(X492>0,\"1000\")))","v":false}]
[null,null,null,null,null,null,null,null,null,null,null,null,null,null,null,null,0,null,null,null,null,null,null,null,{"$f":"IF(Table1[[#This Row],[Wage differential Bonus                            - NotePay Rate you are bonusing to]]>0, Table1[[#This Row],[Wage differential Bonus                            - NotePay Rate you are bonusing to]]-Table1[[#This Row],[Pay Rate]], \"\")","v":""},{"$f":"IF(Table1[[#This Row],[Wage differential Bonus                            - NotePay Rate you are bonusing to]]>0,Table1[[#This Row],[Bonus Rate]]*Table1[[#This Row],[Hours]],\"\")","v":""},null,null,null,null,null,{"$f":"IF(OR(AH493>0.001,AH493<-0.001),Table1[[#This Row],[Employee '#]],\" \")","v":" "},false,{"$f":"SUMIF(Table1[[#This Row],[Total Wage Diff bonus]:[Bank Bonus]],\"<> \")","v":0},{"$f":"IF(AA493>0, Table1[[#This Row],[Column4]], IF(AB493>0,Table1[[#This Row],[Column4]],IF(X493>0,\"1000\")))","v":false}]
[null,null,null,null,null,null,null,null,null,null,null,null,null,null,null,null,0,null,null,null,null,null,null,null,{"$f":"IF(Table1[[#This Row],[Wage differential Bonus                            - NotePay Rate you are bonusing to]]>0, Table1[[#This Row],[Wage differential Bonus                            - NotePay Rate you are bonusing to]]-Table1[[#This Row],[Pay Rate]], \"\")","v":""},{"$f":"IF(Table1[[#This Row],[Wage differential Bonus                            - NotePay Rate you are bonusing to]]>0,Table1[[#This Row],[Bonus Rate]]*Table1[[#This Row],[Hours]],\"\")","v":""},null,null,null,null,null,{"$f":"IF(OR(AH494>0.001,AH494<-0.001),Table1[[#This Row],[Employee '#]],\" \")","v":" "},false,{"$f":"SUMIF(Table1[[#This Row],[Total Wage Diff bonus]:[Bank Bonus]],\"<> \")","v":0},{"$f":"IF(AA494>0, Table1[[#This Row],[Column4]], IF(AB494>0,Table1[[#This Row],[Column4]],IF(X494>0,\"1000\")))","v":false}]
[null,null,null,null,null,null,null,null,null,null,null,null,null,null,null,null,0,null,null,null,null,null,null,null,{"$f":"IF(Table1[[#This Row],[Wage differential Bonus                            - NotePay Rate you are bonusing to]]>0, Table1[[#This Row],[Wage differential Bonus                            - NotePay Rate you are bonusing to]]-Table1[[#This Row],[Pay Rate]], \"\")","v":""},{"$f":"IF(Table1[[#This Row],[Wage differential Bonus                            - NotePay Rate you are bonusing to]]>0,Table1[[#This Row],[Bonus Rate]]*Table1[[#This Row],[Hours]],\"\")","v":""},null,null,null,null,null,{"$f":"IF(OR(AH495>0.001,AH495<-0.001),Table1[[#This Row],[Employee '#]],\" \")","v":" "},false,{"$f":"SUMIF(Table1[[#This Row],[Total Wage Diff bonus]:[Bank Bonus]],\"<> \")","v":0},{"$f":"IF(AA495>0, Table1[[#This Row],[Column4]], IF(AB495>0,Table1[[#This Row],[Column4]],IF(X495>0,\"1000\")))","v":false}]
[null,null,null,null,null,null,null,null,null,null,null,null,null,null,null,null,0,null,null,null,null,null,null,null,{"$f":"IF(Table1[[#This Row],[Wage differential Bonus                            - NotePay Rate you are bonusing to]]>0, Table1[[#This Row],[Wage differential Bonus                            - NotePay Rate you are bonusing to]]-Table1[[#This Row],[Pay Rate]], \"\")","v":""},{"$f":"IF(Table1[[#This Row],[Wage differential Bonus                            - NotePay Rate you are bonusing to]]>0,Table1[[#This Row],[Bonus Rate]]*Table1[[#This Row],[Hours]],\"\")","v":""},null,null,null,null,null,{"$f":"IF(OR(AH496>0.001,AH496<-0.001),Table1[[#This Row],[Employee '#]],\" \")","v":" "},false,{"$f":"SUMIF(Table1[[#This Row],[Total Wage Diff bonus]:[Bank Bonus]],\"<> \")","v":0},{"$f":"IF(AA496>0, Table1[[#This Row],[Column4]], IF(AB496>0,Table1[[#This Row],[Column4]],IF(X496>0,\"1000\")))","v":false}]
[null,null,null,null,null,null,null,null,null,null,null,null,null,null,null,null,0,null,null,null,null,null,null,null,{"$f":"IF(Table1[[#This Row],[Wage differential Bonus                            - NotePay Rate you are bonusing to]]>0, Table1[[#This Row],[Wage differential Bonus                            - NotePay Rate you are bonusing to]]-Table1[[#This Row],[Pay Rate]], \"\")","v":""},{"$f":"IF(Table1[[#This Row],[Wage differential Bonus                            - NotePay Rate you are bonusing to]]>0,Table1[[#This Row],[Bonus Rate]]*Table1[[#This Row],[Hours]],\"\")","v":""},null,null,null,null,null,{"$f":"IF(OR(AH497>0.001,AH497<-0.001),Table1[[#This Row],[Employee '#]],\" \")","v":" "},false,{"$f":"SUMIF(Table1[[#This Row],[Total Wage Diff bonus]:[Bank Bonus]],\"<> \")","v":0},{"$f":"IF(AA497>0, Table1[[#This Row],[Column4]], IF(AB497>0,Table1[[#This Row],[Column4]],IF(X497>0,\"1000\")))","v":false}]
[null,null,null,null,null,null,null,null,null,null,null,null,null,null,null,null,0,null,null,null,null,null,null,null,{"$f":"IF(Table1[[#This Row],[Wage differential Bonus                            - NotePay Rate you are bonusing to]]>0, Table1[[#This Row],[Wage differential Bonus                            - NotePay Rate you are bonusing to]]-Table1[[#This Row],[Pay Rate]], \"\")","v":""},{"$f":"IF(Table1[[#This Row],[Wage differential Bonus                            - NotePay Rate you are bonusing to]]>0,Table1[[#This Row],[Bonus Rate]]*Table1[[#This Row],[Hours]],\"\")","v":""},null,null,null,null,null,{"$f":"IF(OR(AH498>0.001,AH498<-0.001),Table1[[#This Row],[Employee '#]],\" \")","v":" "},false,{"$f":"SUMIF(Table1[[#This Row],[Total Wage Diff bonus]:[Bank Bonus]],\"<> \")","v":0},{"$f":"IF(AA498>0, Table1[[#This Row],[Column4]], IF(AB498>0,Table1[[#This Row],[Column4]],IF(X498>0,\"1000\")))","v":false}]
[null,null,null,null,null,null,null,null,null,null,null,null,null,null,null,null,0,null,null,null,null,null,null,null,{"$f":"IF(Table1[[#This Row],[Wage differential Bonus                            - NotePay Rate you are bonusing to]]>0, Table1[[#This Row],[Wage differential Bonus                            - NotePay Rate you are bonusing to]]-Table1[[#This Row],[Pay Rate]], \"\")","v":""},{"$f":"IF(Table1[[#This Row],[Wage differential Bonus                            - NotePay Rate you are bonusing to]]>0,Table1[[#This Row],[Bonus Rate]]*Table1[[#This Row],[Hours]],\"\")","v":""},null,null,null,null,null,{"$f":"IF(OR(AH499>0.001,AH499<-0.001),Table1[[#This Row],[Employee '#]],\" \")","v":" "},false,{"$f":"SUMIF(Table1[[#This Row],[Total Wage Diff bonus]:[Bank Bonus]],\"<> \")","v":0},{"$f":"IF(AA499>0, Table1[[#This Row],[Column4]], IF(AB499>0,Table1[[#This Row],[Column4]],IF(X499>0,\"1000\")))","v":false}]
[null,null,null,null,null,null,null,null,null,null,null,null,null,null,null,null,0,null,null,null,null,null,null,null,{"$f":"IF(Table1[[#This Row],[Wage differential Bonus                            - NotePay Rate you are bonusing to]]>0, Table1[[#This Row],[Wage differential Bonus                            - NotePay Rate you are bonusing to]]-Table1[[#This Row],[Pay Rate]], \"\")","v":""},{"$f":"IF(Table1[[#This Row],[Wage differential Bonus                            - NotePay Rate you are bonusing to]]>0,Table1[[#This Row],[Bonus Rate]]*Table1[[#This Row],[Hours]],\"\")","v":""},null,null,null,null,null,{"$f":"IF(OR(AH500>0.001,AH500<-0.001),Table1[[#This Row],[Employee '#]],\" \")","v":" "},false,{"$f":"SUMIF(Table1[[#This Row],[Total Wage Diff bonus]:[Bank Bonus]],\"<> \")","v":0},{"$f":"IF(AA500>0, Table1[[#This Row],[Column4]], IF(AB500>0,Table1[[#This Row],[Column4]],IF(X500>0,\"1000\")))","v":false}]
[null,null,null,null,null,null,null,null,null,null,null,null,null,null,null,null,0,null,null,null,null,null,null,null,{"$f":"IF(Table1[[#This Row],[Wage differential Bonus                            - NotePay Rate you are bonusing to]]>0, Table1[[#This Row],[Wage differential Bonus                            - NotePay Rate you are bonusing to]]-Table1[[#This Row],[Pay Rate]], \"\")","v":""},{"$f":"IF(Table1[[#This Row],[Wage differential Bonus                            - NotePay Rate you are bonusing to]]>0,Table1[[#This Row],[Bonus Rate]]*Table1[[#This Row],[Hours]],\"\")","v":""},null,null,null,null,null,{"$f":"IF(OR(AH501>0.001,AH501<-0.001),Table1[[#This Row],[Employee '#]],\" \")","v":" "},false,{"$f":"SUMIF(Table1[[#This Row],[Total Wage Diff bonus]:[Bank Bonus]],\"<> \")","v":0},{"$f":"IF(AA501>0, Table1[[#This Row],[Column4]], IF(AB501>0,Table1[[#This Row],[Column4]],IF(X501>0,\"1000\")))","v":false}]
[null,null,null,null,null,null,null,null,null,null,null,null,null,null,null,null,0,null,null,null,null,null,null,null,{"$f":"IF(Table1[[#This Row],[Wage differential Bonus                            - NotePay Rate you are bonusing to]]>0, Table1[[#This Row],[Wage differential Bonus                            - NotePay Rate you are bonusing to]]-Table1[[#This Row],[Pay Rate]], \"\")","v":""},{"$f":"IF(Table1[[#This Row],[Wage differential Bonus                            - NotePay Rate you are bonusing to]]>0,Table1[[#This Row],[Bonus Rate]]*Table1[[#This Row],[Hours]],\"\")","v":""},null,null,null,null,null,{"$f":"IF(OR(AH502>0.001,AH502<-0.001),Table1[[#This Row],[Employee '#]],\" \")","v":" "},false,{"$f":"SUMIF(Table1[[#This Row],[Total Wage Diff bonus]:[Bank Bonus]],\"<> \")","v":0},{"$f":"IF(AA502>0, Table1[[#This Row],[Column4]], IF(AB502>0,Table1[[#This Row],[Column4]],IF(X502>0,\"1000\")))","v":false}]
[null,null,null,null,null,null,null,null,null,null,null,null,null,null,null,null,0,null,null,null,null,null,null,null,{"$f":"IF(Table1[[#This Row],[Wage differential Bonus                            - NotePay Rate you are bonusing to]]>0, Table1[[#This Row],[Wage differential Bonus                            - NotePay Rate you are bonusing to]]-Table1[[#This Row],[Pay Rate]], \"\")","v":""},{"$f":"IF(Table1[[#This Row],[Wage differential Bonus                            - NotePay Rate you are bonusing to]]>0,Table1[[#This Row],[Bonus Rate]]*Table1[[#This Row],[Hours]],\"\")","v":""},null,null,null,null,null,{"$f":"IF(OR(AH503>0.001,AH503<-0.001),Table1[[#This Row],[Employee '#]],\" \")","v":" "},false,{"$f":"SUMIF(Table1[[#This Row],[Total Wage Diff bonus]:[Bank Bonus]],\"<> \")","v":0},{"$f":"IF(AA503>0, Table1[[#This Row],[Column4]], IF(AB503>0,Table1[[#This Row],[Column4]],IF(X503>0,\"1000\")))","v":false}]
[null,null,null,null,null,null,null,null,null,null,null,null,null,null,null,null,0,null,null,null,null,null,null,null,{"$f":"IF(Table1[[#This Row],[Wage differential Bonus                            - NotePay Rate you are bonusing to]]>0, Table1[[#This Row],[Wage differential Bonus                            - NotePay Rate you are bonusing to]]-Table1[[#This Row],[Pay Rate]], \"\")","v":""},{"$f":"IF(Table1[[#This Row],[Wage differential Bonus                            - NotePay Rate you are bonusing to]]>0,Table1[[#This Row],[Bonus Rate]]*Table1[[#This Row],[Hours]],\"\")","v":""},null,null,null,null,null,{"$f":"IF(OR(AH504>0.001,AH504<-0.001),Table1[[#This Row],[Employee '#]],\" \")","v":" "},false,{"$f":"SUMIF(Table1[[#This Row],[Total Wage Diff bonus]:[Bank Bonus]],\"<> \")","v":0},{"$f":"IF(AA504>0, Table1[[#This Row],[Column4]], IF(AB504>0,Table1[[#This Row],[Column4]],IF(X504>0,\"1000\")))","v":false}]
[null,null,null,null,null,null,null,null,null,null,null,null,null,null,null,null,0,null,null,null,null,null,null,null,{"$f":"IF(Table1[[#This Row],[Wage differential Bonus                            - NotePay Rate you are bonusing to]]>0, Table1[[#This Row],[Wage differential Bonus                            - NotePay Rate you are bonusing to]]-Table1[[#This Row],[Pay Rate]], \"\")","v":""},{"$f":"IF(Table1[[#This Row],[Wage differential Bonus                            - NotePay Rate you are bonusing to]]>0,Table1[[#This Row],[Bonus Rate]]*Table1[[#This Row],[Hours]],\"\")","v":""},null,null,null,null,null,{"$f":"IF(OR(AH505>0.001,AH505<-0.001),Table1[[#This Row],[Employee '#]],\" \")","v":" "},false,{"$f":"SUMIF(Table1[[#This Row],[Total Wage Diff bonus]:[Bank Bonus]],\"<> \")","v":0},{"$f":"IF(AA505>0, Table1[[#This Row],[Column4]], IF(AB505>0,Table1[[#This Row],[Column4]],IF(X505>0,\"1000\")))","v":false}]
[null,null,null,null,null,null,null,null,null,null,null,null,null,null,null,null,0,null,null,null,null,null,null,null,{"$f":"IF(Table1[[#This Row],[Wage differential Bonus                            - NotePay Rate you are bonusing to]]>0, Table1[[#This Row],[Wage differential Bonus                            - NotePay Rate you are bonusing to]]-Table1[[#This Row],[Pay Rate]], \"\")","v":""},{"$f":"IF(Table1[[#This Row],[Wage differential Bonus                            - NotePay Rate you are bonusing to]]>0,Table1[[#This Row],[Bonus Rate]]*Table1[[#This Row],[Hours]],\"\")","v":""},null,null,null,null,null,{"$f":"IF(OR(AH506>0.001,AH506<-0.001),Table1[[#This Row],[Employee '#]],\" \")","v":" "},false,{"$f":"SUMIF(Table1[[#This Row],[Total Wage Diff bonus]:[Bank Bonus]],\"<> \")","v":0},{"$f":"IF(AA506>0, Table1[[#This Row],[Column4]], IF(AB506>0,Table1[[#This Row],[Column4]],IF(X506>0,\"1000\")))","v":false}]
[null,null,null,null,null,null,null,null,null,null,null,null,null,null,null,null,0,null,null,null,null,null,null,null,{"$f":"IF(Table1[[#This Row],[Wage differential Bonus                            - NotePay Rate you are bonusing to]]>0, Table1[[#This Row],[Wage differential Bonus                            - NotePay Rate you are bonusing to]]-Table1[[#This Row],[Pay Rate]], \"\")","v":""},{"$f":"IF(Table1[[#This Row],[Wage differential Bonus                            - NotePay Rate you are bonusing to]]>0,Table1[[#This Row],[Bonus Rate]]*Table1[[#This Row],[Hours]],\"\")","v":""},null,null,null,null,null,{"$f":"IF(OR(AH507>0.001,AH507<-0.001),Table1[[#This Row],[Employee '#]],\" \")","v":" "},false,{"$f":"SUMIF(Table1[[#This Row],[Total Wage Diff bonus]:[Bank Bonus]],\"<> \")","v":0},{"$f":"IF(AA507>0, Table1[[#This Row],[Column4]], IF(AB507>0,Table1[[#This Row],[Column4]],IF(X507>0,\"1000\")))","v":false}]
[null,null,null,null,null,null,null,null,null,null,null,null,null,null,null,null,0,null,null,null,null,null,null,null,{"$f":"IF(Table1[[#This Row],[Wage differential Bonus                            - NotePay Rate you are bonusing to]]>0, Table1[[#This Row],[Wage differential Bonus                            - NotePay Rate you are bonusing to]]-Table1[[#This Row],[Pay Rate]], \"\")","v":""},{"$f":"IF(Table1[[#This Row],[Wage differential Bonus                            - NotePay Rate you are bonusing to]]>0,Table1[[#This Row],[Bonus Rate]]*Table1[[#This Row],[Hours]],\"\")","v":""},null,null,null,null,null,{"$f":"IF(OR(AH508>0.001,AH508<-0.001),Table1[[#This Row],[Employee '#]],\" \")","v":" "},false,{"$f":"SUMIF(Table1[[#This Row],[Total Wage Diff bonus]:[Bank Bonus]],\"<> \")","v":0},{"$f":"IF(AA508>0, Table1[[#This Row],[Column4]], IF(AB508>0,Table1[[#This Row],[Column4]],IF(X508>0,\"1000\")))","v":false}]
[null,null,null,null,null,null,null,null,null,null,null,null,null,null,null,null,0,null,null,null,null,null,null,null,{"$f":"IF(Table1[[#This Row],[Wage differential Bonus                            - NotePay Rate you are bonusing to]]>0, Table1[[#This Row],[Wage differential Bonus                            - NotePay Rate you are bonusing to]]-Table1[[#This Row],[Pay Rate]], \"\")","v":""},{"$f":"IF(Table1[[#This Row],[Wage differential Bonus                            - NotePay Rate you are bonusing to]]>0,Table1[[#This Row],[Bonus Rate]]*Table1[[#This Row],[Hours]],\"\")","v":""},null,null,null,null,null,{"$f":"IF(OR(AH509>0.001,AH509<-0.001),Table1[[#This Row],[Employee '#]],\" \")","v":" "},false,{"$f":"SUMIF(Table1[[#This Row],[Total Wage Diff bonus]:[Bank Bonus]],\"<> \")","v":0},{"$f":"IF(AA509>0, Table1[[#This Row],[Column4]], IF(AB509>0,Table1[[#This Row],[Column4]],IF(X509>0,\"1000\")))","v":false}]
[null,null,null,null,null,null,null,null,null,null,null,null,null,null,null,null,0,null,null,null,null,null,null,null,{"$f":"IF(Table1[[#This Row],[Wage differential Bonus                            - NotePay Rate you are bonusing to]]>0, Table1[[#This Row],[Wage differential Bonus                            - NotePay Rate you are bonusing to]]-Table1[[#This Row],[Pay Rate]], \"\")","v":""},{"$f":"IF(Table1[[#This Row],[Wage differential Bonus                            - NotePay Rate you are bonusing to]]>0,Table1[[#This Row],[Bonus Rate]]*Table1[[#This Row],[Hours]],\"\")","v":""},null,null,null,null,null,{"$f":"IF(OR(AH510>0.001,AH510<-0.001),Table1[[#This Row],[Employee '#]],\" \")","v":" "},false,{"$f":"SUMIF(Table1[[#This Row],[Total Wage Diff bonus]:[Bank Bonus]],\"<> \")","v":0},{"$f":"IF(AA510>0, Table1[[#This Row],[Column4]], IF(AB510>0,Table1[[#This Row],[Column4]],IF(X510>0,\"1000\")))","v":false}]
[null,null,null,null,null,null,null,null,null,null,null,null,null,null,null,null,0,null,null,null,null,null,null,null,{"$f":"IF(Table1[[#This Row],[Wage differential Bonus                            - NotePay Rate you are bonusing to]]>0, Table1[[#This Row],[Wage differential Bonus                            - NotePay Rate you are bonusing to]]-Table1[[#This Row],[Pay Rate]], \"\")","v":""},{"$f":"IF(Table1[[#This Row],[Wage differential Bonus                            - NotePay Rate you are bonusing to]]>0,Table1[[#This Row],[Bonus Rate]]*Table1[[#This Row],[Hours]],\"\")","v":""},null,null,null,null,null,{"$f":"IF(OR(AH511>0.001,AH511<-0.001),Table1[[#This Row],[Employee '#]],\" \")","v":" "},false,{"$f":"SUMIF(Table1[[#This Row],[Total Wage Diff bonus]:[Bank Bonus]],\"<> \")","v":0},{"$f":"IF(AA511>0, Table1[[#This Row],[Column4]], IF(AB511>0,Table1[[#This Row],[Column4]],IF(X511>0,\"1000\")))","v":false}]
[null,null,null,null,null,null,null,null,null,null,null,null,null,null,null,null,0,null,null,null,null,null,null,null,{"$f":"IF(Table1[[#This Row],[Wage differential Bonus                            - NotePay Rate you are bonusing to]]>0, Table1[[#This Row],[Wage differential Bonus                            - NotePay Rate you are bonusing to]]-Table1[[#This Row],[Pay Rate]], \"\")","v":""},{"$f":"IF(Table1[[#This Row],[Wage differential Bonus                            - NotePay Rate you are bonusing to]]>0,Table1[[#This Row],[Bonus Rate]]*Table1[[#This Row],[Hours]],\"\")","v":""},null,null,null,null,null,{"$f":"IF(OR(AH512>0.001,AH512<-0.001),Table1[[#This Row],[Employee '#]],\" \")","v":" "},false,{"$f":"SUMIF(Table1[[#This Row],[Total Wage Diff bonus]:[Bank Bonus]],\"<> \")","v":0},{"$f":"IF(AA512>0, Table1[[#This Row],[Column4]], IF(AB512>0,Table1[[#This Row],[Column4]],IF(X512>0,\"1000\")))","v":false}]
[null,null,null,null,null,null,null,null,null,null,null,null,null,null,null,null,0,null,null,null,null,null,null,null,{"$f":"IF(Table1[[#This Row],[Wage differential Bonus                            - NotePay Rate you are bonusing to]]>0, Table1[[#This Row],[Wage differential Bonus                            - NotePay Rate you are bonusing to]]-Table1[[#This Row],[Pay Rate]], \"\")","v":""},{"$f":"IF(Table1[[#This Row],[Wage differential Bonus                            - NotePay Rate you are bonusing to]]>0,Table1[[#This Row],[Bonus Rate]]*Table1[[#This Row],[Hours]],\"\")","v":""},null,null,null,null,null,{"$f":"IF(OR(AH513>0.001,AH513<-0.001),Table1[[#This Row],[Employee '#]],\" \")","v":" "},false,{"$f":"SUMIF(Table1[[#This Row],[Total Wage Diff bonus]:[Bank Bonus]],\"<> \")","v":0},{"$f":"IF(AA513>0, Table1[[#This Row],[Column4]], IF(AB513>0,Table1[[#This Row],[Column4]],IF(X513>0,\"1000\")))","v":false}]
[null,null,null,null,null,null,null,null,null,null,null,null,null,null,null,null,0,null,null,null,null,null,null,null,{"$f":"IF(Table1[[#This Row],[Wage differential Bonus                            - NotePay Rate you are bonusing to]]>0, Table1[[#This Row],[Wage differential Bonus                            - NotePay Rate you are bonusing to]]-Table1[[#This Row],[Pay Rate]], \"\")","v":""},{"$f":"IF(Table1[[#This Row],[Wage differential Bonus                            - NotePay Rate you are bonusing to]]>0,Table1[[#This Row],[Bonus Rate]]*Table1[[#This Row],[Hours]],\"\")","v":""},null,null,null,null,null,{"$f":"IF(OR(AH514>0.001,AH514<-0.001),Table1[[#This Row],[Employee '#]],\" \")","v":" "},false,{"$f":"SUMIF(Table1[[#This Row],[Total Wage Diff bonus]:[Bank Bonus]],\"<> \")","v":0},{"$f":"IF(AA514>0, Table1[[#This Row],[Column4]], IF(AB514>0,Table1[[#This Row],[Column4]],IF(X514>0,\"1000\")))","v":false}]
[null,null,null,null,null,null,null,null,null,null,null,null,null,null,null,null,0,null,null,null,null,null,null,null,{"$f":"IF(Table1[[#This Row],[Wage differential Bonus                            - NotePay Rate you are bonusing to]]>0, Table1[[#This Row],[Wage differential Bonus                            - NotePay Rate you are bonusing to]]-Table1[[#This Row],[Pay Rate]], \"\")","v":""},{"$f":"IF(Table1[[#This Row],[Wage differential Bonus                            - NotePay Rate you are bonusing to]]>0,Table1[[#This Row],[Bonus Rate]]*Table1[[#This Row],[Hours]],\"\")","v":""},null,null,null,null,null,{"$f":"IF(OR(AH515>0.001,AH515<-0.001),Table1[[#This Row],[Employee '#]],\" \")","v":" "},false,{"$f":"SUMIF(Table1[[#This Row],[Total Wage Diff bonus]:[Bank Bonus]],\"<> \")","v":0},{"$f":"IF(AA515>0, Table1[[#This Row],[Column4]], IF(AB515>0,Table1[[#This Row],[Column4]],IF(X515>0,\"1000\")))","v":false}]
[null,null,null,null,null,null,null,null,null,null,null,null,null,null,null,null,{"$f":"L516+P516","v":0},null,null,null,null,null,null,null,{"$f":"IF(Table1[[#This Row],[Wage differential Bonus                            - NotePay Rate you are bonusing to]]>0, Table1[[#This Row],[Wage differential Bonus                            - NotePay Rate you are bonusing to]]-Table1[[#This Row],[Pay Rate]], \"\")","v":""},{"$f":"IF(Table1[[#This Row],[Wage differential Bonus                            - NotePay Rate you are bonusing to]]>0,Table1[[#This Row],[Bonus Rate]]*Table1[[#This Row],[Hours]],\"\")","v":""},null,null,null,null,null,{"$f":"IF(OR(AH516>0.001,AH516<-0.001),Table1[[#This Row],[Employee '#]],\" \")","v":" "},{"$f":"IF(AA516>0, \"28\", IF(AB516>0,\"53\",IF(X516>0,\"20\")))","v":false},{"$f":"SUMIF(Table1[[#This Row],[Total Wage Diff bonus]:[Bank Bonus]],\"<> \")","v":0},{"$f":"IF(AA516>0, Table1[[#This Row],[Column4]], IF(AB516>0,Table1[[#This Row],[Column4]],IF(X516>0,\"1000\")))","v":false}]
[null,null,null,null,null,null,null,null,null,null,null,null,null,null,null,null,0,null,null,null,null,null,null,null,{"$f":"IF(Table1[[#This Row],[Wage differential Bonus                            - NotePay Rate you are bonusing to]]>0, Table1[[#This Row],[Wage differential Bonus                            - NotePay Rate you are bonusing to]]-Table1[[#This Row],[Pay Rate]], \"\")","v":""},{"$f":"IF(Table1[[#This Row],[Wage differential Bonus                            - NotePay Rate you are bonusing to]]>0,Table1[[#This Row],[Bonus Rate]]*Table1[[#This Row],[Hours]],\"\")","v":""},null,null,null,null,null,{"$f":"IF(OR(AH517>0.001,AH517<-0.001),Table1[[#This Row],[Employee '#]],\" \")","v":" "},false,{"$f":"SUMIF(Table1[[#This Row],[Total Wage Diff bonus]:[Bank Bonus]],\"<> \")","v":0},{"$f":"IF(AA517>0, Table1[[#This Row],[Column4]], IF(AB517>0,Table1[[#This Row],[Column4]],IF(X517>0,\"1000\")))","v":false}]
[null,null,null,null,null,null,null,null,null,null,null,null,null,null,null,null,0,null,null,null,null,null,null,null,{"$f":"IF(Table1[[#This Row],[Wage differential Bonus                            - NotePay Rate you are bonusing to]]>0, Table1[[#This Row],[Wage differential Bonus                            - NotePay Rate you are bonusing to]]-Table1[[#This Row],[Pay Rate]], \"\")","v":""},{"$f":"IF(Table1[[#This Row],[Wage differential Bonus                            - NotePay Rate you are bonusing to]]>0,Table1[[#This Row],[Bonus Rate]]*Table1[[#This Row],[Hours]],\"\")","v":""},null,null,null,null,null,{"$f":"IF(OR(AH518>0.001,AH518<-0.001),Table1[[#This Row],[Employee '#]],\" \")","v":" "},false,{"$f":"SUMIF(Table1[[#This Row],[Total Wage Diff bonus]:[Bank Bonus]],\"<> \")","v":0},{"$f":"IF(AA518>0, Table1[[#This Row],[Column4]], IF(AB518>0,Table1[[#This Row],[Column4]],IF(X518>0,\"1000\")))","v":false}]
[null,null,null,null,null,null,null,null,null,null,null,null,null,null,null,null,0,null,null,null,null,null,null,null,{"$f":"IF(Table1[[#This Row],[Wage differential Bonus                            - NotePay Rate you are bonusing to]]>0, Table1[[#This Row],[Wage differential Bonus                            - NotePay Rate you are bonusing to]]-Table1[[#This Row],[Pay Rate]], \"\")","v":""},{"$f":"IF(Table1[[#This Row],[Wage differential Bonus                            - NotePay Rate you are bonusing to]]>0,Table1[[#This Row],[Bonus Rate]]*Table1[[#This Row],[Hours]],\"\")","v":""},null,null,null,null,null,{"$f":"IF(OR(AH519>0.001,AH519<-0.001),Table1[[#This Row],[Employee '#]],\" \")","v":" "},false,{"$f":"SUMIF(Table1[[#This Row],[Total Wage Diff bonus]:[Bank Bonus]],\"<> \")","v":0},{"$f":"IF(AA519>0, Table1[[#This Row],[Column4]], IF(AB519>0,Table1[[#This Row],[Column4]],IF(X519>0,\"1000\")))","v":false}]
[null,null,null,null,null,null,null,null,null,null,null,null,null,null,null,null,0,null,null,null,null,null,null,null,{"$f":"IF(Table1[[#This Row],[Wage differential Bonus                            - NotePay Rate you are bonusing to]]>0, Table1[[#This Row],[Wage differential Bonus                            - NotePay Rate you are bonusing to]]-Table1[[#This Row],[Pay Rate]], \"\")","v":""},{"$f":"IF(Table1[[#This Row],[Wage differential Bonus                            - NotePay Rate you are bonusing to]]>0,Table1[[#This Row],[Bonus Rate]]*Table1[[#This Row],[Hours]],\"\")","v":""},null,null,null,null,null,{"$f":"IF(OR(AH520>0.001,AH520<-0.001),Table1[[#This Row],[Employee '#]],\" \")","v":" "},false,{"$f":"SUMIF(Table1[[#This Row],[Total Wage Diff bonus]:[Bank Bonus]],\"<> \")","v":0},{"$f":"IF(AA520>0, Table1[[#This Row],[Column4]], IF(AB520>0,Table1[[#This Row],[Column4]],IF(X520>0,\"1000\")))","v":false}]
[null,null,null,null,null,null,null,null,null,null,null,null,null,null,null,null,0,null,null,null,null,null,null,null,{"$f":"IF(Table1[[#This Row],[Wage differential Bonus                            - NotePay Rate you are bonusing to]]>0, Table1[[#This Row],[Wage differential Bonus                            - NotePay Rate you are bonusing to]]-Table1[[#This Row],[Pay Rate]], \"\")","v":""},{"$f":"IF(Table1[[#This Row],[Wage differential Bonus                            - NotePay Rate you are bonusing to]]>0,Table1[[#This Row],[Bonus Rate]]*Table1[[#This Row],[Hours]],\"\")","v":""},null,null,null,null,null,{"$f":"IF(OR(AH521>0.001,AH521<-0.001),Table1[[#This Row],[Employee '#]],\" \")","v":" "},false,{"$f":"SUMIF(Table1[[#This Row],[Total Wage Diff bonus]:[Bank Bonus]],\"<> \")","v":0},{"$f":"IF(AA521>0, Table1[[#This Row],[Column4]], IF(AB521>0,Table1[[#This Row],[Column4]],IF(X521>0,\"1000\")))","v":false}]
[null,null,null,null,null,null,null,null,null,null,null,null,null,null,null,null,0,null,null,null,null,null,null,null,{"$f":"IF(Table1[[#This Row],[Wage differential Bonus                            - NotePay Rate you are bonusing to]]>0, Table1[[#This Row],[Wage differential Bonus                            - NotePay Rate you are bonusing to]]-Table1[[#This Row],[Pay Rate]], \"\")","v":""},{"$f":"IF(Table1[[#This Row],[Wage differential Bonus                            - NotePay Rate you are bonusing to]]>0,Table1[[#This Row],[Bonus Rate]]*Table1[[#This Row],[Hours]],\"\")","v":""},null,null,null,null,null,{"$f":"IF(OR(AH522>0.001,AH522<-0.001),Table1[[#This Row],[Employee '#]],\" \")","v":" "},false,{"$f":"SUMIF(Table1[[#This Row],[Total Wage Diff bonus]:[Bank Bonus]],\"<> \")","v":0},{"$f":"IF(AA522>0, Table1[[#This Row],[Column4]], IF(AB522>0,Table1[[#This Row],[Column4]],IF(X522>0,\"1000\")))","v":false}]
[null,null,null,null,null,null,null,null,null,null,null,null,null,null,null,null,0,null,null,null,null,null,null,null,{"$f":"IF(Table1[[#This Row],[Wage differential Bonus                            - NotePay Rate you are bonusing to]]>0, Table1[[#This Row],[Wage differential Bonus                            - NotePay Rate you are bonusing to]]-Table1[[#This Row],[Pay Rate]], \"\")","v":""},{"$f":"IF(Table1[[#This Row],[Wage differential Bonus                            - NotePay Rate you are bonusing to]]>0,Table1[[#This Row],[Bonus Rate]]*Table1[[#This Row],[Hours]],\"\")","v":""},null,null,null,null,null,{"$f":"IF(OR(AH523>0.001,AH523<-0.001),Table1[[#This Row],[Employee '#]],\" \")","v":" "},false,{"$f":"SUMIF(Table1[[#This Row],[Total Wage Diff bonus]:[Bank Bonus]],\"<> \")","v":0},{"$f":"IF(AA523>0, Table1[[#This Row],[Column4]], IF(AB523>0,Table1[[#This Row],[Column4]],IF(X523>0,\"1000\")))","v":false}]
[null,null,null,null,null,null,null,null,null,null,null,null,null,null,null,null,0,null,null,null,null,null,null,null,{"$f":"IF(Table1[[#This Row],[Wage differential Bonus                            - NotePay Rate you are bonusing to]]>0, Table1[[#This Row],[Wage differential Bonus                            - NotePay Rate you are bonusing to]]-Table1[[#This Row],[Pay Rate]], \"\")","v":""},{"$f":"IF(Table1[[#This Row],[Wage differential Bonus                            - NotePay Rate you are bonusing to]]>0,Table1[[#This Row],[Bonus Rate]]*Table1[[#This Row],[Hours]],\"\")","v":""},null,null,null,null,null,{"$f":"IF(OR(AH524>0.001,AH524<-0.001),Table1[[#This Row],[Employee '#]],\" \")","v":" "},false,{"$f":"SUMIF(Table1[[#This Row],[Total Wage Diff bonus]:[Bank Bonus]],\"<> \")","v":0},{"$f":"IF(AA524>0, Table1[[#This Row],[Column4]], IF(AB524>0,Table1[[#This Row],[Column4]],IF(X524>0,\"1000\")))","v":false}]
[null,null,null,null,null,null,null,null,null,null,null,null,null,null,null,null,0,null,null,null,null,null,null,null,{"$f":"IF(Table1[[#This Row],[Wage differential Bonus                            - NotePay Rate you are bonusing to]]>0, Table1[[#This Row],[Wage differential Bonus                            - NotePay Rate you are bonusing to]]-Table1[[#This Row],[Pay Rate]], \"\")","v":""},{"$f":"IF(Table1[[#This Row],[Wage differential Bonus                            - NotePay Rate you are bonusing to]]>0,Table1[[#This Row],[Bonus Rate]]*Table1[[#This Row],[Hours]],\"\")","v":""},null,null,null,null,null,{"$f":"IF(OR(AH525>0.001,AH525<-0.001),Table1[[#This Row],[Employee '#]],\" \")","v":" "},false,{"$f":"SUMIF(Table1[[#This Row],[Total Wage Diff bonus]:[Bank Bonus]],\"<> \")","v":0},{"$f":"IF(AA525>0, Table1[[#This Row],[Column4]], IF(AB525>0,Table1[[#This Row],[Column4]],IF(X525>0,\"1000\")))","v":false}]
[null,null,null,null,null,null,null,null,null,null,null,null,null,null,null,null,0,null,null,null,null,null,null,null,{"$f":"IF(Table1[[#This Row],[Wage differential Bonus                            - NotePay Rate you are bonusing to]]>0, Table1[[#This Row],[Wage differential Bonus                            - NotePay Rate you are bonusing to]]-Table1[[#This Row],[Pay Rate]], \"\")","v":""},{"$f":"IF(Table1[[#This Row],[Wage differential Bonus                            - NotePay Rate you are bonusing to]]>0,Table1[[#This Row],[Bonus Rate]]*Table1[[#This Row],[Hours]],\"\")","v":""},null,null,null,null,null,{"$f":"IF(OR(AH526>0.001,AH526<-0.001),Table1[[#This Row],[Employee '#]],\" \")","v":" "},false,{"$f":"SUMIF(Table1[[#This Row],[Total Wage Diff bonus]:[Bank Bonus]],\"<> \")","v":0},{"$f":"IF(AA526>0, Table1[[#This Row],[Column4]], IF(AB526>0,Table1[[#This Row],[Column4]],IF(X526>0,\"1000\")))","v":false}]
[null,null,null,null,null,null,null,null,null,null,null,null,null,null,null,null,0,null,null,null,null,null,null,null,{"$f":"IF(Table1[[#This Row],[Wage differential Bonus                            - NotePay Rate you are bonusing to]]>0, Table1[[#This Row],[Wage differential Bonus                            - NotePay Rate you are bonusing to]]-Table1[[#This Row],[Pay Rate]], \"\")","v":""},{"$f":"IF(Table1[[#This Row],[Wage differential Bonus                            - NotePay Rate you are bonusing to]]>0,Table1[[#This Row],[Bonus Rate]]*Table1[[#This Row],[Hours]],\"\")","v":""},null,null,null,null,null,{"$f":"IF(OR(AH527>0.001,AH527<-0.001),Table1[[#This Row],[Employee '#]],\" \")","v":" "},false,{"$f":"SUMIF(Table1[[#This Row],[Total Wage Diff bonus]:[Bank Bonus]],\"<> \")","v":0},{"$f":"IF(AA527>0, Table1[[#This Row],[Column4]], IF(AB527>0,Table1[[#This Row],[Column4]],IF(X527>0,\"1000\")))","v":false}]
[null,null,null,null,null,null,null,null,null,null,null,null,null,null,null,null,0,null,null,null,null,null,null,null,{"$f":"IF(Table1[[#This Row],[Wage differential Bonus                            - NotePay Rate you are bonusing to]]>0, Table1[[#This Row],[Wage differential Bonus                            - NotePay Rate you are bonusing to]]-Table1[[#This Row],[Pay Rate]], \"\")","v":""},{"$f":"IF(Table1[[#This Row],[Wage differential Bonus                            - NotePay Rate you are bonusing to]]>0,Table1[[#This Row],[Bonus Rate]]*Table1[[#This Row],[Hours]],\"\")","v":""},null,null,null,null,null,{"$f":"IF(OR(AH528>0.001,AH528<-0.001),Table1[[#This Row],[Employee '#]],\" \")","v":" "},false,{"$f":"SUMIF(Table1[[#This Row],[Total Wage Diff bonus]:[Bank Bonus]],\"<> \")","v":0},{"$f":"IF(AA528>0, Table1[[#This Row],[Column4]], IF(AB528>0,Table1[[#This Row],[Column4]],IF(X528>0,\"1000\")))","v":false}]
[null,null,null,null,null,null,null,null,null,null,null,null,null,null,null,null,0,null,null,null,null,null,null,null,{"$f":"IF(Table1[[#This Row],[Wage differential Bonus                            - NotePay Rate you are bonusing to]]>0, Table1[[#This Row],[Wage differential Bonus                            - NotePay Rate you are bonusing to]]-Table1[[#This Row],[Pay Rate]], \"\")","v":""},{"$f":"IF(Table1[[#This Row],[Wage differential Bonus                            - NotePay Rate you are bonusing to]]>0,Table1[[#This Row],[Bonus Rate]]*Table1[[#This Row],[Hours]],\"\")","v":""},null,null,null,null,null,{"$f":"IF(OR(AH529>0.001,AH529<-0.001),Table1[[#This Row],[Employee '#]],\" \")","v":" "},false,{"$f":"SUMIF(Table1[[#This Row],[Total Wage Diff bonus]:[Bank Bonus]],\"<> \")","v":0},{"$f":"IF(AA529>0, Table1[[#This Row],[Column4]], IF(AB529>0,Table1[[#This Row],[Column4]],IF(X529>0,\"1000\")))","v":false}]
[null,null,null,null,null,null,null,null,null,null,null,null,null,null,null,null,0,null,null,null,null,null,null,null,{"$f":"IF(Table1[[#This Row],[Wage differential Bonus                            - NotePay Rate you are bonusing to]]>0, Table1[[#This Row],[Wage differential Bonus                            - NotePay Rate you are bonusing to]]-Table1[[#This Row],[Pay Rate]], \"\")","v":""},{"$f":"IF(Table1[[#This Row],[Wage differential Bonus                            - NotePay Rate you are bonusing to]]>0,Table1[[#This Row],[Bonus Rate]]*Table1[[#This Row],[Hours]],\"\")","v":""},null,null,null,null,null,{"$f":"IF(OR(AH530>0.001,AH530<-0.001),Table1[[#This Row],[Employee '#]],\" \")","v":" "},false,{"$f":"SUMIF(Table1[[#This Row],[Total Wage Diff bonus]:[Bank Bonus]],\"<> \")","v":0},{"$f":"IF(AA530>0, Table1[[#This Row],[Column4]], IF(AB530>0,Table1[[#This Row],[Column4]],IF(X530>0,\"1000\")))","v":false}]
[null,null,null,null,null,null,null,null,null,null,null,null,null,null,null,null,0,null,null,null,null,null,null,null,{"$f":"IF(Table1[[#This Row],[Wage differential Bonus                            - NotePay Rate you are bonusing to]]>0, Table1[[#This Row],[Wage differential Bonus                            - NotePay Rate you are bonusing to]]-Table1[[#This Row],[Pay Rate]], \"\")","v":""},{"$f":"IF(Table1[[#This Row],[Wage differential Bonus                            - NotePay Rate you are bonusing to]]>0,Table1[[#This Row],[Bonus Rate]]*Table1[[#This Row],[Hours]],\"\")","v":""},null,null,null,null,null,{"$f":"IF(OR(AH531>0.001,AH531<-0.001),Table1[[#This Row],[Employee '#]],\" \")","v":" "},false,{"$f":"SUMIF(Table1[[#This Row],[Total Wage Diff bonus]:[Bank Bonus]],\"<> \")","v":0},{"$f":"IF(AA531>0, Table1[[#This Row],[Column4]], IF(AB531>0,Table1[[#This Row],[Column4]],IF(X531>0,\"1000\")))","v":false}]
[null,null,null,null,null,null,null,null,null,null,null,null,null,null,null,null,0,null,null,null,null,null,null,null,{"$f":"IF(Table1[[#This Row],[Wage differential Bonus                            - NotePay Rate you are bonusing to]]>0, Table1[[#This Row],[Wage differential Bonus                            - NotePay Rate you are bonusing to]]-Table1[[#This Row],[Pay Rate]], \"\")","v":""},{"$f":"IF(Table1[[#This Row],[Wage differential Bonus                            - NotePay Rate you are bonusing to]]>0,Table1[[#This Row],[Bonus Rate]]*Table1[[#This Row],[Hours]],\"\")","v":""},null,null,null,null,null,{"$f":"IF(OR(AH532>0.001,AH532<-0.001),Table1[[#This Row],[Employee '#]],\" \")","v":" "},false,{"$f":"SUMIF(Table1[[#This Row],[Total Wage Diff bonus]:[Bank Bonus]],\"<> \")","v":0},{"$f":"IF(AA532>0, Table1[[#This Row],[Column4]], IF(AB532>0,Table1[[#This Row],[Column4]],IF(X532>0,\"1000\")))","v":false}]
[null,null,null,null,null,null,null,null,null,null,null,null,null,null,null,null,0,null,null,null,null,null,null,null,{"$f":"IF(Table1[[#This Row],[Wage differential Bonus                            - NotePay Rate you are bonusing to]]>0, Table1[[#This Row],[Wage differential Bonus                            - NotePay Rate you are bonusing to]]-Table1[[#This Row],[Pay Rate]], \"\")","v":""},{"$f":"IF(Table1[[#This Row],[Wage differential Bonus                            - NotePay Rate you are bonusing to]]>0,Table1[[#This Row],[Bonus Rate]]*Table1[[#This Row],[Hours]],\"\")","v":""},null,null,null,null,null,{"$f":"IF(OR(AH533>0.001,AH533<-0.001),Table1[[#This Row],[Employee '#]],\" \")","v":" "},false,{"$f":"SUMIF(Table1[[#This Row],[Total Wage Diff bonus]:[Bank Bonus]],\"<> \")","v":0},{"$f":"IF(AA533>0, Table1[[#This Row],[Column4]], IF(AB533>0,Table1[[#This Row],[Column4]],IF(X533>0,\"1000\")))","v":false}]
[null,null,null,null,null,null,null,null,null,null,null,null,null,null,null,null,0,null,null,null,null,null,null,null,{"$f":"IF(Table1[[#This Row],[Wage differential Bonus                            - NotePay Rate you are bonusing to]]>0, Table1[[#This Row],[Wage differential Bonus                            - NotePay Rate you are bonusing to]]-Table1[[#This Row],[Pay Rate]], \"\")","v":""},{"$f":"IF(Table1[[#This Row],[Wage differential Bonus                            - NotePay Rate you are bonusing to]]>0,Table1[[#This Row],[Bonus Rate]]*Table1[[#This Row],[Hours]],\"\")","v":""},null,null,null,null,null,{"$f":"IF(OR(AH534>0.001,AH534<-0.001),Table1[[#This Row],[Employee '#]],\" \")","v":" "},false,{"$f":"SUMIF(Table1[[#This Row],[Total Wage Diff bonus]:[Bank Bonus]],\"<> \")","v":0},{"$f":"IF(AA534>0, Table1[[#This Row],[Column4]], IF(AB534>0,Table1[[#This Row],[Column4]],IF(X534>0,\"1000\")))","v":false}]
[null,null,null,null,null,null,null,null,null,null,null,null,null,null,null,null,0,null,null,null,null,null,null,null,{"$f":"IF(Table1[[#This Row],[Wage differential Bonus                            - NotePay Rate you are bonusing to]]>0, Table1[[#This Row],[Wage differential Bonus                            - NotePay Rate you are bonusing to]]-Table1[[#This Row],[Pay Rate]], \"\")","v":""},{"$f":"IF(Table1[[#This Row],[Wage differential Bonus                            - NotePay Rate you are bonusing to]]>0,Table1[[#This Row],[Bonus Rate]]*Table1[[#This Row],[Hours]],\"\")","v":""},null,null,null,null,null,{"$f":"IF(OR(AH535>0.001,AH535<-0.001),Table1[[#This Row],[Employee '#]],\" \")","v":" "},false,{"$f":"SUMIF(Table1[[#This Row],[Total Wage Diff bonus]:[Bank Bonus]],\"<> \")","v":0},{"$f":"IF(AA535>0, Table1[[#This Row],[Column4]], IF(AB535>0,Table1[[#This Row],[Column4]],IF(X535>0,\"1000\")))","v":false}]
[null,null,null,null,null,null,null,null,null,null,null,null,null,null,null,null,0,null,null,null,null,null,null,null,{"$f":"IF(Table1[[#This Row],[Wage differential Bonus                            - NotePay Rate you are bonusing to]]>0, Table1[[#This Row],[Wage differential Bonus                            - NotePay Rate you are bonusing to]]-Table1[[#This Row],[Pay Rate]], \"\")","v":""},{"$f":"IF(Table1[[#This Row],[Wage differential Bonus                            - NotePay Rate you are bonusing to]]>0,Table1[[#This Row],[Bonus Rate]]*Table1[[#This Row],[Hours]],\"\")","v":""},null,null,null,null,null,{"$f":"IF(OR(AH536>0.001,AH536<-0.001),Table1[[#This Row],[Employee '#]],\" \")","v":" "},false,{"$f":"SUMIF(Table1[[#This Row],[Total Wage Diff bonus]:[Bank Bonus]],\"<> \")","v":0},{"$f":"IF(AA536>0, Table1[[#This Row],[Column4]], IF(AB536>0,Table1[[#This Row],[Column4]],IF(X536>0,\"1000\")))","v":false}]
[null,null,null,null,null,null,null,null,null,null,null,null,null,null,null,null,0,null,null,null,null,null,null,null,{"$f":"IF(Table1[[#This Row],[Wage differential Bonus                            - NotePay Rate you are bonusing to]]>0, Table1[[#This Row],[Wage differential Bonus                            - NotePay Rate you are bonusing to]]-Table1[[#This Row],[Pay Rate]], \"\")","v":""},{"$f":"IF(Table1[[#This Row],[Wage differential Bonus                            - NotePay Rate you are bonusing to]]>0,Table1[[#This Row],[Bonus Rate]]*Table1[[#This Row],[Hours]],\"\")","v":""},null,null,null,null,null,{"$f":"IF(OR(AH537>0.001,AH537<-0.001),Table1[[#This Row],[Employee '#]],\" \")","v":" "},false,{"$f":"SUMIF(Table1[[#This Row],[Total Wage Diff bonus]:[Bank Bonus]],\"<> \")","v":0},{"$f":"IF(AA537>0, Table1[[#This Row],[Column4]], IF(AB537>0,Table1[[#This Row],[Column4]],IF(X537>0,\"1000\")))","v":false}]
[null,null,null,null,null,null,null,null,null,null,null,null,null,null,null,null,0,null,null,null,null,null,null,null,{"$f":"IF(Table1[[#This Row],[Wage differential Bonus                            - NotePay Rate you are bonusing to]]>0, Table1[[#This Row],[Wage differential Bonus                            - NotePay Rate you are bonusing to]]-Table1[[#This Row],[Pay Rate]], \"\")","v":""},{"$f":"IF(Table1[[#This Row],[Wage differential Bonus                            - NotePay Rate you are bonusing to]]>0,Table1[[#This Row],[Bonus Rate]]*Table1[[#This Row],[Hours]],\"\")","v":""},null,null,null,null,null,{"$f":"IF(OR(AH538>0.001,AH538<-0.001),Table1[[#This Row],[Employee '#]],\" \")","v":" "},false,{"$f":"SUMIF(Table1[[#This Row],[Total Wage Diff bonus]:[Bank Bonus]],\"<> \")","v":0},{"$f":"IF(AA538>0, Table1[[#This Row],[Column4]], IF(AB538>0,Table1[[#This Row],[Column4]],IF(X538>0,\"1000\")))","v":false}]
[null,null,null,null,null,null,null,null,null,null,null,null,null,null,null,null,0,null,null,null,null,null,null,null,{"$f":"IF(Table1[[#This Row],[Wage differential Bonus                            - NotePay Rate you are bonusing to]]>0, Table1[[#This Row],[Wage differential Bonus                            - NotePay Rate you are bonusing to]]-Table1[[#This Row],[Pay Rate]], \"\")","v":""},{"$f":"IF(Table1[[#This Row],[Wage differential Bonus                            - NotePay Rate you are bonusing to]]>0,Table1[[#This Row],[Bonus Rate]]*Table1[[#This Row],[Hours]],\"\")","v":""},null,null,null,null,null,{"$f":"IF(OR(AH539>0.001,AH539<-0.001),Table1[[#This Row],[Employee '#]],\" \")","v":" "},false,{"$f":"SUMIF(Table1[[#This Row],[Total Wage Diff bonus]:[Bank Bonus]],\"<> \")","v":0},{"$f":"IF(AA539>0, Table1[[#This Row],[Column4]], IF(AB539>0,Table1[[#This Row],[Column4]],IF(X539>0,\"1000\")))","v":false}]
[null,null,null,null,null,null,null,null,null,null,null,null,null,null,null,null,0,null,null,null,null,null,null,null,{"$f":"IF(Table1[[#This Row],[Wage differential Bonus                            - NotePay Rate you are bonusing to]]>0, Table1[[#This Row],[Wage differential Bonus                            - NotePay Rate you are bonusing to]]-Table1[[#This Row],[Pay Rate]], \"\")","v":""},{"$f":"IF(Table1[[#This Row],[Wage differential Bonus                            - NotePay Rate you are bonusing to]]>0,Table1[[#This Row],[Bonus Rate]]*Table1[[#This Row],[Hours]],\"\")","v":""},null,null,null,null,null,{"$f":"IF(OR(AH540>0.001,AH540<-0.001),Table1[[#This Row],[Employee '#]],\" \")","v":" "},false,{"$f":"SUMIF(Table1[[#This Row],[Total Wage Diff bonus]:[Bank Bonus]],\"<> \")","v":0},{"$f":"IF(AA540>0, Table1[[#This Row],[Column4]], IF(AB540>0,Table1[[#This Row],[Column4]],IF(X540>0,\"1000\")))","v":false}]
[null,null,null,null,null,null,null,null,null,null,null,null,null,null,null,null,0,null,null,null,null,null,null,null,{"$f":"IF(Table1[[#This Row],[Wage differential Bonus                            - NotePay Rate you are bonusing to]]>0, Table1[[#This Row],[Wage differential Bonus                            - NotePay Rate you are bonusing to]]-Table1[[#This Row],[Pay Rate]], \"\")","v":""},{"$f":"IF(Table1[[#This Row],[Wage differential Bonus                            - NotePay Rate you are bonusing to]]>0,Table1[[#This Row],[Bonus Rate]]*Table1[[#This Row],[Hours]],\"\")","v":""},null,null,null,null,null,{"$f":"IF(OR(AH541>0.001,AH541<-0.001),Table1[[#This Row],[Employee '#]],\" \")","v":" "},false,{"$f":"SUMIF(Table1[[#This Row],[Total Wage Diff bonus]:[Bank Bonus]],\"<> \")","v":0},{"$f":"IF(AA541>0, Table1[[#This Row],[Column4]], IF(AB541>0,Table1[[#This Row],[Column4]],IF(X541>0,\"1000\")))","v":false}]
[null,null,null,null,null,null,null,null,null,null,null,null,null,null,null,null,0,null,null,null,null,null,null,null,{"$f":"IF(Table1[[#This Row],[Wage differential Bonus                            - NotePay Rate you are bonusing to]]>0, Table1[[#This Row],[Wage differential Bonus                            - NotePay Rate you are bonusing to]]-Table1[[#This Row],[Pay Rate]], \"\")","v":""},{"$f":"IF(Table1[[#This Row],[Wage differential Bonus                            - NotePay Rate you are bonusing to]]>0,Table1[[#This Row],[Bonus Rate]]*Table1[[#This Row],[Hours]],\"\")","v":""},null,null,null,null,null,{"$f":"IF(OR(AH542>0.001,AH542<-0.001),Table1[[#This Row],[Employee '#]],\" \")","v":" "},false,{"$f":"SUMIF(Table1[[#This Row],[Total Wage Diff bonus]:[Bank Bonus]],\"<> \")","v":0},{"$f":"IF(AA542>0, Table1[[#This Row],[Column4]], IF(AB542>0,Table1[[#This Row],[Column4]],IF(X542>0,\"1000\")))","v":false}]
[null,null,null,null,null,null,null,null,null,null,null,null,null,null,null,null,0,null,null,null,null,null,null,null,{"$f":"IF(Table1[[#This Row],[Wage differential Bonus                            - NotePay Rate you are bonusing to]]>0, Table1[[#This Row],[Wage differential Bonus                            - NotePay Rate you are bonusing to]]-Table1[[#This Row],[Pay Rate]], \"\")","v":""},{"$f":"IF(Table1[[#This Row],[Wage differential Bonus                            - NotePay Rate you are bonusing to]]>0,Table1[[#This Row],[Bonus Rate]]*Table1[[#This Row],[Hours]],\"\")","v":""},null,null,null,null,null,{"$f":"IF(OR(AH543>0.001,AH543<-0.001),Table1[[#This Row],[Employee '#]],\" \")","v":" "},false,{"$f":"SUMIF(Table1[[#This Row],[Total Wage Diff bonus]:[Bank Bonus]],\"<> \")","v":0},{"$f":"IF(AA543>0, Table1[[#This Row],[Column4]], IF(AB543>0,Table1[[#This Row],[Column4]],IF(X543>0,\"1000\")))","v":false}]
[null,null,null,null,null,null,null,null,null,null,null,null,null,null,null,null,0,null,null,null,null,null,null,null,{"$f":"IF(Table1[[#This Row],[Wage differential Bonus                            - NotePay Rate you are bonusing to]]>0, Table1[[#This Row],[Wage differential Bonus                            - NotePay Rate you are bonusing to]]-Table1[[#This Row],[Pay Rate]], \"\")","v":""},{"$f":"IF(Table1[[#This Row],[Wage differential Bonus                            - NotePay Rate you are bonusing to]]>0,Table1[[#This Row],[Bonus Rate]]*Table1[[#This Row],[Hours]],\"\")","v":""},null,null,null,null,null,{"$f":"IF(OR(AH544>0.001,AH544<-0.001),Table1[[#This Row],[Employee '#]],\" \")","v":" "},false,{"$f":"SUMIF(Table1[[#This Row],[Total Wage Diff bonus]:[Bank Bonus]],\"<> \")","v":0},{"$f":"IF(AA544>0, Table1[[#This Row],[Column4]], IF(AB544>0,Table1[[#This Row],[Column4]],IF(X544>0,\"1000\")))","v":false}]
[null,null,null,null,null,null,null,null,null,null,null,null,null,null,null,null,0,null,null,null,null,null,null,null,{"$f":"IF(Table1[[#This Row],[Wage differential Bonus                            - NotePay Rate you are bonusing to]]>0, Table1[[#This Row],[Wage differential Bonus                            - NotePay Rate you are bonusing to]]-Table1[[#This Row],[Pay Rate]], \"\")","v":""},{"$f":"IF(Table1[[#This Row],[Wage differential Bonus                            - NotePay Rate you are bonusing to]]>0,Table1[[#This Row],[Bonus Rate]]*Table1[[#This Row],[Hours]],\"\")","v":""},null,null,null,null,null,{"$f":"IF(OR(AH545>0.001,AH545<-0.001),Table1[[#This Row],[Employee '#]],\" \")","v":" "},false,{"$f":"SUMIF(Table1[[#This Row],[Total Wage Diff bonus]:[Bank Bonus]],\"<> \")","v":0},{"$f":"IF(AA545>0, Table1[[#This Row],[Column4]], IF(AB545>0,Table1[[#This Row],[Column4]],IF(X545>0,\"1000\")))","v":false}]
[null,null,null,null,null,null,null,null,null,null,null,null,null,null,null,null,0,null,null,null,null,null,null,null,{"$f":"IF(Table1[[#This Row],[Wage differential Bonus                            - NotePay Rate you are bonusing to]]>0, Table1[[#This Row],[Wage differential Bonus                            - NotePay Rate you are bonusing to]]-Table1[[#This Row],[Pay Rate]], \"\")","v":""},{"$f":"IF(Table1[[#This Row],[Wage differential Bonus                            - NotePay Rate you are bonusing to]]>0,Table1[[#This Row],[Bonus Rate]]*Table1[[#This Row],[Hours]],\"\")","v":""},null,null,null,null,null,{"$f":"IF(OR(AH546>0.001,AH546<-0.001),Table1[[#This Row],[Employee '#]],\" \")","v":" "},false,{"$f":"SUMIF(Table1[[#This Row],[Total Wage Diff bonus]:[Bank Bonus]],\"<> \")","v":0},{"$f":"IF(AA546>0, Table1[[#This Row],[Column4]], IF(AB546>0,Table1[[#This Row],[Column4]],IF(X546>0,\"1000\")))","v":false}]
[null,null,null,null,null,null,null,null,null,null,null,null,null,null,null,null,0,null,null,null,null,null,null,null,{"$f":"IF(Table1[[#This Row],[Wage differential Bonus                            - NotePay Rate you are bonusing to]]>0, Table1[[#This Row],[Wage differential Bonus                            - NotePay Rate you are bonusing to]]-Table1[[#This Row],[Pay Rate]], \"\")","v":""},{"$f":"IF(Table1[[#This Row],[Wage differential Bonus                            - NotePay Rate you are bonusing to]]>0,Table1[[#This Row],[Bonus Rate]]*Table1[[#This Row],[Hours]],\"\")","v":""},null,null,null,null,null,{"$f":"IF(OR(AH547>0.001,AH547<-0.001),Table1[[#This Row],[Employee '#]],\" \")","v":" "},false,{"$f":"SUMIF(Table1[[#This Row],[Total Wage Diff bonus]:[Bank Bonus]],\"<> \")","v":0},{"$f":"IF(AA547>0, Table1[[#This Row],[Column4]], IF(AB547>0,Table1[[#This Row],[Column4]],IF(X547>0,\"1000\")))","v":false}]
[null,null,null,null,null,null,null,null,null,null,null,null,null,null,null,null,0,null,null,null,null,null,null,null,{"$f":"IF(Table1[[#This Row],[Wage differential Bonus                            - NotePay Rate you are bonusing to]]>0, Table1[[#This Row],[Wage differential Bonus                            - NotePay Rate you are bonusing to]]-Table1[[#This Row],[Pay Rate]], \"\")","v":""},{"$f":"IF(Table1[[#This Row],[Wage differential Bonus                            - NotePay Rate you are bonusing to]]>0,Table1[[#This Row],[Bonus Rate]]*Table1[[#This Row],[Hours]],\"\")","v":""},null,null,null,null,null,{"$f":"IF(OR(AH548>0.001,AH548<-0.001),Table1[[#This Row],[Employee '#]],\" \")","v":" "},false,{"$f":"SUMIF(Table1[[#This Row],[Total Wage Diff bonus]:[Bank Bonus]],\"<> \")","v":0},{"$f":"IF(AA548>0, Table1[[#This Row],[Column4]], IF(AB548>0,Table1[[#This Row],[Column4]],IF(X548>0,\"1000\")))","v":false}]
[null,null,null,null,null,null,null,null,null,null,null,null,null,null,null,null,0,null,null,null,null,null,null,null,{"$f":"IF(Table1[[#This Row],[Wage differential Bonus                            - NotePay Rate you are bonusing to]]>0, Table1[[#This Row],[Wage differential Bonus                            - NotePay Rate you are bonusing to]]-Table1[[#This Row],[Pay Rate]], \"\")","v":""},{"$f":"IF(Table1[[#This Row],[Wage differential Bonus                            - NotePay Rate you are bonusing to]]>0,Table1[[#This Row],[Bonus Rate]]*Table1[[#This Row],[Hours]],\"\")","v":""},null,null,null,null,null,{"$f":"IF(OR(AH549>0.001,AH549<-0.001),Table1[[#This Row],[Employee '#]],\" \")","v":" "},false,{"$f":"SUMIF(Table1[[#This Row],[Total Wage Diff bonus]:[Bank Bonus]],\"<> \")","v":0},{"$f":"IF(AA549>0, Table1[[#This Row],[Column4]], IF(AB549>0,Table1[[#This Row],[Column4]],IF(X549>0,\"1000\")))","v":false}]
[null,null,null,null,null,null,null,null,null,null,null,null,null,null,null,null,0,null,null,null,null,null,null,null,{"$f":"IF(Table1[[#This Row],[Wage differential Bonus                            - NotePay Rate you are bonusing to]]>0, Table1[[#This Row],[Wage differential Bonus                            - NotePay Rate you are bonusing to]]-Table1[[#This Row],[Pay Rate]], \"\")","v":""},{"$f":"IF(Table1[[#This Row],[Wage differential Bonus                            - NotePay Rate you are bonusing to]]>0,Table1[[#This Row],[Bonus Rate]]*Table1[[#This Row],[Hours]],\"\")","v":""},null,null,null,null,null,{"$f":"IF(OR(AH550>0.001,AH550<-0.001),Table1[[#This Row],[Employee '#]],\" \")","v":" "},false,{"$f":"SUMIF(Table1[[#This Row],[Total Wage Diff bonus]:[Bank Bonus]],\"<> \")","v":0},{"$f":"IF(AA550>0, Table1[[#This Row],[Column4]], IF(AB550>0,Table1[[#This Row],[Column4]],IF(X550>0,\"1000\")))","v":false}]
[null,null,null,null,null,null,null,null,null,null,null,null,null,null,null,null,0,null,null,null,null,null,null,null,{"$f":"IF(Table1[[#This Row],[Wage differential Bonus                            - NotePay Rate you are bonusing to]]>0, Table1[[#This Row],[Wage differential Bonus                            - NotePay Rate you are bonusing to]]-Table1[[#This Row],[Pay Rate]], \"\")","v":""},{"$f":"IF(Table1[[#This Row],[Wage differential Bonus                            - NotePay Rate you are bonusing to]]>0,Table1[[#This Row],[Bonus Rate]]*Table1[[#This Row],[Hours]],\"\")","v":""},null,null,null,null,null,{"$f":"IF(OR(AH551>0.001,AH551<-0.001),Table1[[#This Row],[Employee '#]],\" \")","v":" "},false,{"$f":"SUMIF(Table1[[#This Row],[Total Wage Diff bonus]:[Bank Bonus]],\"<> \")","v":0},{"$f":"IF(AA551>0, Table1[[#This Row],[Column4]], IF(AB551>0,Table1[[#This Row],[Column4]],IF(X551>0,\"1000\")))","v":false}]
[null,null,null,null,null,null,null,null,null,null,null,null,null,null,null,null,0,null,null,null,null,null,null,null,{"$f":"IF(Table1[[#This Row],[Wage differential Bonus                            - NotePay Rate you are bonusing to]]>0, Table1[[#This Row],[Wage differential Bonus                            - NotePay Rate you are bonusing to]]-Table1[[#This Row],[Pay Rate]], \"\")","v":""},{"$f":"IF(Table1[[#This Row],[Wage differential Bonus                            - NotePay Rate you are bonusing to]]>0,Table1[[#This Row],[Bonus Rate]]*Table1[[#This Row],[Hours]],\"\")","v":""},null,null,null,null,null,{"$f":"IF(OR(AH552>0.001,AH552<-0.001),Table1[[#This Row],[Employee '#]],\" \")","v":" "},false,{"$f":"SUMIF(Table1[[#This Row],[Total Wage Diff bonus]:[Bank Bonus]],\"<> \")","v":0},{"$f":"IF(AA552>0, Table1[[#This Row],[Column4]], IF(AB552>0,Table1[[#This Row],[Column4]],IF(X552>0,\"1000\")))","v":false}]
[null,null,null,null,null,null,null,null,null,null,null,null,null,null,null,null,0,null,null,null,null,null,null,null,{"$f":"IF(Table1[[#This Row],[Wage differential Bonus                            - NotePay Rate you are bonusing to]]>0, Table1[[#This Row],[Wage differential Bonus                            - NotePay Rate you are bonusing to]]-Table1[[#This Row],[Pay Rate]], \"\")","v":""},{"$f":"IF(Table1[[#This Row],[Wage differential Bonus                            - NotePay Rate you are bonusing to]]>0,Table1[[#This Row],[Bonus Rate]]*Table1[[#This Row],[Hours]],\"\")","v":""},null,null,null,null,null,{"$f":"IF(OR(AH553>0.001,AH553<-0.001),Table1[[#This Row],[Employee '#]],\" \")","v":" "},false,{"$f":"SUMIF(Table1[[#This Row],[Total Wage Diff bonus]:[Bank Bonus]],\"<> \")","v":0},{"$f":"IF(AA553>0, Table1[[#This Row],[Column4]], IF(AB553>0,Table1[[#This Row],[Column4]],IF(X553>0,\"1000\")))","v":false}]
[null,null,null,null,null,null,null,null,null,null,null,null,null,null,null,null,0,null,null,null,null,null,null,null,{"$f":"IF(Table1[[#This Row],[Wage differential Bonus                            - NotePay Rate you are bonusing to]]>0, Table1[[#This Row],[Wage differential Bonus                            - NotePay Rate you are bonusing to]]-Table1[[#This Row],[Pay Rate]], \"\")","v":""},{"$f":"IF(Table1[[#This Row],[Wage differential Bonus                            - NotePay Rate you are bonusing to]]>0,Table1[[#This Row],[Bonus Rate]]*Table1[[#This Row],[Hours]],\"\")","v":""},null,null,null,null,null,{"$f":"IF(OR(AH554>0.001,AH554<-0.001),Table1[[#This Row],[Employee '#]],\" \")","v":" "},false,{"$f":"SUMIF(Table1[[#This Row],[Total Wage Diff bonus]:[Bank Bonus]],\"<> \")","v":0},{"$f":"IF(AA554>0, Table1[[#This Row],[Column4]], IF(AB554>0,Table1[[#This Row],[Column4]],IF(X554>0,\"1000\")))","v":false}]
[null,null,null,null,null,null,null,null,null,null,null,null,null,null,null,null,0,null,null,null,null,null,null,null,{"$f":"IF(Table1[[#This Row],[Wage differential Bonus                            - NotePay Rate you are bonusing to]]>0, Table1[[#This Row],[Wage differential Bonus                            - NotePay Rate you are bonusing to]]-Table1[[#This Row],[Pay Rate]], \"\")","v":""},{"$f":"IF(Table1[[#This Row],[Wage differential Bonus                            - NotePay Rate you are bonusing to]]>0,Table1[[#This Row],[Bonus Rate]]*Table1[[#This Row],[Hours]],\"\")","v":""},null,null,null,null,null,{"$f":"IF(OR(AH555>0.001,AH555<-0.001),Table1[[#This Row],[Employee '#]],\" \")","v":" "},false,{"$f":"SUMIF(Table1[[#This Row],[Total Wage Diff bonus]:[Bank Bonus]],\"<> \")","v":0},{"$f":"IF(AA555>0, Table1[[#This Row],[Column4]], IF(AB555>0,Table1[[#This Row],[Column4]],IF(X555>0,\"1000\")))","v":false}]
[null,null,null,null,null,null,null,null,null,null,null,null,null,null,null,null,0,null,null,null,null,null,null,null,{"$f":"IF(Table1[[#This Row],[Wage differential Bonus                            - NotePay Rate you are bonusing to]]>0, Table1[[#This Row],[Wage differential Bonus                            - NotePay Rate you are bonusing to]]-Table1[[#This Row],[Pay Rate]], \"\")","v":""},{"$f":"IF(Table1[[#This Row],[Wage differential Bonus                            - NotePay Rate you are bonusing to]]>0,Table1[[#This Row],[Bonus Rate]]*Table1[[#This Row],[Hours]],\"\")","v":""},null,null,null,null,null,{"$f":"IF(OR(AH556>0.001,AH556<-0.001),Table1[[#This Row],[Employee '#]],\" \")","v":" "},false,{"$f":"SUMIF(Table1[[#This Row],[Total Wage Diff bonus]:[Bank Bonus]],\"<> \")","v":0},{"$f":"IF(AA556>0, Table1[[#This Row],[Column4]], IF(AB556>0,Table1[[#This Row],[Column4]],IF(X556>0,\"1000\")))","v":false}]
[null,null,null,null,null,null,null,null,null,null,null,null,null,null,null,null,0,null,null,null,null,null,null,null,{"$f":"IF(Table1[[#This Row],[Wage differential Bonus                            - NotePay Rate you are bonusing to]]>0, Table1[[#This Row],[Wage differential Bonus                            - NotePay Rate you are bonusing to]]-Table1[[#This Row],[Pay Rate]], \"\")","v":""},{"$f":"IF(Table1[[#This Row],[Wage differential Bonus                            - NotePay Rate you are bonusing to]]>0,Table1[[#This Row],[Bonus Rate]]*Table1[[#This Row],[Hours]],\"\")","v":""},null,null,null,null,null,{"$f":"IF(OR(AH557>0.001,AH557<-0.001),Table1[[#This Row],[Employee '#]],\" \")","v":" "},false,{"$f":"SUMIF(Table1[[#This Row],[Total Wage Diff bonus]:[Bank Bonus]],\"<> \")","v":0},{"$f":"IF(AA557>0, Table1[[#This Row],[Column4]], IF(AB557>0,Table1[[#This Row],[Column4]],IF(X557>0,\"1000\")))","v":false}]
[null,null,null,null,null,null,null,null,null,null,null,null,null,null,null,null,0,null,null,null,null,null,null,null,{"$f":"IF(Table1[[#This Row],[Wage differential Bonus                            - NotePay Rate you are bonusing to]]>0, Table1[[#This Row],[Wage differential Bonus                            - NotePay Rate you are bonusing to]]-Table1[[#This Row],[Pay Rate]], \"\")","v":""},{"$f":"IF(Table1[[#This Row],[Wage differential Bonus                            - NotePay Rate you are bonusing to]]>0,Table1[[#This Row],[Bonus Rate]]*Table1[[#This Row],[Hours]],\"\")","v":""},null,null,null,null,null,{"$f":"IF(OR(AH558>0.001,AH558<-0.001),Table1[[#This Row],[Employee '#]],\" \")","v":" "},false,{"$f":"SUMIF(Table1[[#This Row],[Total Wage Diff bonus]:[Bank Bonus]],\"<> \")","v":0},{"$f":"IF(AA558>0, Table1[[#This Row],[Column4]], IF(AB558>0,Table1[[#This Row],[Column4]],IF(X558>0,\"1000\")))","v":false}]
[null,null,null,null,null,null,null,null,null,null,null,null,null,null,null,null,0,null,null,null,null,null,null,null,{"$f":"IF(Table1[[#This Row],[Wage differential Bonus                            - NotePay Rate you are bonusing to]]>0, Table1[[#This Row],[Wage differential Bonus                            - NotePay Rate you are bonusing to]]-Table1[[#This Row],[Pay Rate]], \"\")","v":""},{"$f":"IF(Table1[[#This Row],[Wage differential Bonus                            - NotePay Rate you are bonusing to]]>0,Table1[[#This Row],[Bonus Rate]]*Table1[[#This Row],[Hours]],\"\")","v":""},null,null,null,null,null,{"$f":"IF(OR(AH559>0.001,AH559<-0.001),Table1[[#This Row],[Employee '#]],\" \")","v":" "},false,{"$f":"SUMIF(Table1[[#This Row],[Total Wage Diff bonus]:[Bank Bonus]],\"<> \")","v":0},{"$f":"IF(AA559>0, Table1[[#This Row],[Column4]], IF(AB559>0,Table1[[#This Row],[Column4]],IF(X559>0,\"1000\")))","v":false}]
[null,null,null,null,null,null,null,null,null,null,null,null,null,null,null,null,0,null,null,null,null,null,null,null,{"$f":"IF(Table1[[#This Row],[Wage differential Bonus                            - NotePay Rate you are bonusing to]]>0, Table1[[#This Row],[Wage differential Bonus                            - NotePay Rate you are bonusing to]]-Table1[[#This Row],[Pay Rate]], \"\")","v":""},{"$f":"IF(Table1[[#This Row],[Wage differential Bonus                            - NotePay Rate you are bonusing to]]>0,Table1[[#This Row],[Bonus Rate]]*Table1[[#This Row],[Hours]],\"\")","v":""},null,null,null,null,null,{"$f":"IF(OR(AH560>0.001,AH560<-0.001),Table1[[#This Row],[Employee '#]],\" \")","v":" "},false,{"$f":"SUMIF(Table1[[#This Row],[Total Wage Diff bonus]:[Bank Bonus]],\"<> \")","v":0},{"$f":"IF(AA560>0, Table1[[#This Row],[Column4]], IF(AB560>0,Table1[[#This Row],[Column4]],IF(X560>0,\"1000\")))","v":false}]
[null,null,null,null,null,null,null,null,null,null,null,null,null,null,null,null,0,null,null,null,null,null,null,null,{"$f":"IF(Table1[[#This Row],[Wage differential Bonus                            - NotePay Rate you are bonusing to]]>0, Table1[[#This Row],[Wage differential Bonus                            - NotePay Rate you are bonusing to]]-Table1[[#This Row],[Pay Rate]], \"\")","v":""},{"$f":"IF(Table1[[#This Row],[Wage differential Bonus                            - NotePay Rate you are bonusing to]]>0,Table1[[#This Row],[Bonus Rate]]*Table1[[#This Row],[Hours]],\"\")","v":""},null,null,null,null,null,{"$f":"IF(OR(AH561>0.001,AH561<-0.001),Table1[[#This Row],[Employee '#]],\" \")","v":" "},false,{"$f":"SUMIF(Table1[[#This Row],[Total Wage Diff bonus]:[Bank Bonus]],\"<> \")","v":0},{"$f":"IF(AA561>0, Table1[[#This Row],[Column4]], IF(AB561>0,Table1[[#This Row],[Column4]],IF(X561>0,\"1000\")))","v":false}]
[null,null,null,null,null,null,null,null,null,null,null,null,null,null,null,null,0,null,null,null,null,null,null,null,{"$f":"IF(Table1[[#This Row],[Wage differential Bonus                            - NotePay Rate you are bonusing to]]>0, Table1[[#This Row],[Wage differential Bonus                            - NotePay Rate you are bonusing to]]-Table1[[#This Row],[Pay Rate]], \"\")","v":""},{"$f":"IF(Table1[[#This Row],[Wage differential Bonus                            - NotePay Rate you are bonusing to]]>0,Table1[[#This Row],[Bonus Rate]]*Table1[[#This Row],[Hours]],\"\")","v":""},null,null,null,null,null,{"$f":"IF(OR(AH562>0.001,AH562<-0.001),Table1[[#This Row],[Employee '#]],\" \")","v":" "},false,{"$f":"SUMIF(Table1[[#This Row],[Total Wage Diff bonus]:[Bank Bonus]],\"<> \")","v":0},{"$f":"IF(AA562>0, Table1[[#This Row],[Column4]], IF(AB562>0,Table1[[#This Row],[Column4]],IF(X562>0,\"1000\")))","v":false}]
[null,null,null,null,null,null,null,null,null,null,null,null,null,null,null,null,0,null,null,null,null,null,null,null,{"$f":"IF(Table1[[#This Row],[Wage differential Bonus                            - NotePay Rate you are bonusing to]]>0, Table1[[#This Row],[Wage differential Bonus                            - NotePay Rate you are bonusing to]]-Table1[[#This Row],[Pay Rate]], \"\")","v":""},{"$f":"IF(Table1[[#This Row],[Wage differential Bonus                            - NotePay Rate you are bonusing to]]>0,Table1[[#This Row],[Bonus Rate]]*Table1[[#This Row],[Hours]],\"\")","v":""},null,null,null,null,null,{"$f":"IF(OR(AH563>0.001,AH563<-0.001),Table1[[#This Row],[Employee '#]],\" \")","v":" "},false,{"$f":"SUMIF(Table1[[#This Row],[Total Wage Diff bonus]:[Bank Bonus]],\"<> \")","v":0},{"$f":"IF(AA563>0, Table1[[#This Row],[Column4]], IF(AB563>0,Table1[[#This Row],[Column4]],IF(X563>0,\"1000\")))","v":false}]
[null,null,null,null,null,null,null,null,null,null,null,null,null,null,null,null,0,null,null,null,null,null,null,null,{"$f":"IF(Table1[[#This Row],[Wage differential Bonus                            - NotePay Rate you are bonusing to]]>0, Table1[[#This Row],[Wage differential Bonus                            - NotePay Rate you are bonusing to]]-Table1[[#This Row],[Pay Rate]], \"\")","v":""},{"$f":"IF(Table1[[#This Row],[Wage differential Bonus                            - NotePay Rate you are bonusing to]]>0,Table1[[#This Row],[Bonus Rate]]*Table1[[#This Row],[Hours]],\"\")","v":""},null,null,null,null,null,{"$f":"IF(OR(AH564>0.001,AH564<-0.001),Table1[[#This Row],[Employee '#]],\" \")","v":" "},false,{"$f":"SUMIF(Table1[[#This Row],[Total Wage Diff bonus]:[Bank Bonus]],\"<> \")","v":0},{"$f":"IF(AA564>0, Table1[[#This Row],[Column4]], IF(AB564>0,Table1[[#This Row],[Column4]],IF(X564>0,\"1000\")))","v":false}]
[null,null,null,null,null,null,null,null,null,null,null,null,null,null,null,null,0,null,null,null,null,null,null,null,{"$f":"IF(Table1[[#This Row],[Wage differential Bonus                            - NotePay Rate you are bonusing to]]>0, Table1[[#This Row],[Wage differential Bonus                            - NotePay Rate you are bonusing to]]-Table1[[#This Row],[Pay Rate]], \"\")","v":""},{"$f":"IF(Table1[[#This Row],[Wage differential Bonus                            - NotePay Rate you are bonusing to]]>0,Table1[[#This Row],[Bonus Rate]]*Table1[[#This Row],[Hours]],\"\")","v":""},null,null,null,null,null,{"$f":"IF(OR(AH565>0.001,AH565<-0.001),Table1[[#This Row],[Employee '#]],\" \")","v":" "},false,{"$f":"SUMIF(Table1[[#This Row],[Total Wage Diff bonus]:[Bank Bonus]],\"<> \")","v":0},{"$f":"IF(AA565>0, Table1[[#This Row],[Column4]], IF(AB565>0,Table1[[#This Row],[Column4]],IF(X565>0,\"1000\")))","v":false}]
[null,null,null,null,null,null,null,null,null,null,null,null,null,null,null,null,0,null,null,null,null,null,null,null,{"$f":"IF(Table1[[#This Row],[Wage differential Bonus                            - NotePay Rate you are bonusing to]]>0, Table1[[#This Row],[Wage differential Bonus                            - NotePay Rate you are bonusing to]]-Table1[[#This Row],[Pay Rate]], \"\")","v":""},{"$f":"IF(Table1[[#This Row],[Wage differential Bonus                            - NotePay Rate you are bonusing to]]>0,Table1[[#This Row],[Bonus Rate]]*Table1[[#This Row],[Hours]],\"\")","v":""},null,null,null,null,null,{"$f":"IF(OR(AH566>0.001,AH566<-0.001),Table1[[#This Row],[Employee '#]],\" \")","v":" "},false,{"$f":"SUMIF(Table1[[#This Row],[Total Wage Diff bonus]:[Bank Bonus]],\"<> \")","v":0},{"$f":"IF(AA566>0, Table1[[#This Row],[Column4]], IF(AB566>0,Table1[[#This Row],[Column4]],IF(X566>0,\"1000\")))","v":false}]
[null,null,null,null,null,null,null,null,null,null,null,null,null,null,null,null,0,null,null,null,null,null,null,null,{"$f":"IF(Table1[[#This Row],[Wage differential Bonus                            - NotePay Rate you are bonusing to]]>0, Table1[[#This Row],[Wage differential Bonus                            - NotePay Rate you are bonusing to]]-Table1[[#This Row],[Pay Rate]], \"\")","v":""},{"$f":"IF(Table1[[#This Row],[Wage differential Bonus                            - NotePay Rate you are bonusing to]]>0,Table1[[#This Row],[Bonus Rate]]*Table1[[#This Row],[Hours]],\"\")","v":""},null,null,null,null,null,{"$f":"IF(OR(AH567>0.001,AH567<-0.001),Table1[[#This Row],[Employee '#]],\" \")","v":" "},false,{"$f":"SUMIF(Table1[[#This Row],[Total Wage Diff bonus]:[Bank Bonus]],\"<> \")","v":0},{"$f":"IF(AA567>0, Table1[[#This Row],[Column4]], IF(AB567>0,Table1[[#This Row],[Column4]],IF(X567>0,\"1000\")))","v":false}]
[null,null,null,null,null,null,null,null,null,null,null,null,null,null,null,null,0,null,null,null,null,null,null,null,{"$f":"IF(Table1[[#This Row],[Wage differential Bonus                            - NotePay Rate you are bonusing to]]>0, Table1[[#This Row],[Wage differential Bonus                            - NotePay Rate you are bonusing to]]-Table1[[#This Row],[Pay Rate]], \"\")","v":""},{"$f":"IF(Table1[[#This Row],[Wage differential Bonus                            - NotePay Rate you are bonusing to]]>0,Table1[[#This Row],[Bonus Rate]]*Table1[[#This Row],[Hours]],\"\")","v":""},null,null,null,null,null,{"$f":"IF(OR(AH568>0.001,AH568<-0.001),Table1[[#This Row],[Employee '#]],\" \")","v":" "},false,{"$f":"SUMIF(Table1[[#This Row],[Total Wage Diff bonus]:[Bank Bonus]],\"<> \")","v":0},{"$f":"IF(AA568>0, Table1[[#This Row],[Column4]], IF(AB568>0,Table1[[#This Row],[Column4]],IF(X568>0,\"1000\")))","v":false}]
[null,null,null,null,null,null,null,null,null,null,null,null,null,null,null,null,0,null,null,null,null,null,null,null,{"$f":"IF(Table1[[#This Row],[Wage differential Bonus                            - NotePay Rate you are bonusing to]]>0, Table1[[#This Row],[Wage differential Bonus                            - NotePay Rate you are bonusing to]]-Table1[[#This Row],[Pay Rate]], \"\")","v":""},{"$f":"IF(Table1[[#This Row],[Wage differential Bonus                            - NotePay Rate you are bonusing to]]>0,Table1[[#This Row],[Bonus Rate]]*Table1[[#This Row],[Hours]],\"\")","v":""},null,null,null,null,null,{"$f":"IF(OR(AH569>0.001,AH569<-0.001),Table1[[#This Row],[Employee '#]],\" \")","v":" "},false,{"$f":"SUMIF(Table1[[#This Row],[Total Wage Diff bonus]:[Bank Bonus]],\"<> \")","v":0},{"$f":"IF(AA569>0, Table1[[#This Row],[Column4]], IF(AB569>0,Table1[[#This Row],[Column4]],IF(X569>0,\"1000\")))","v":false}]
[null,null,null,null,null,null,null,null,null,null,null,null,null,null,null,null,0,null,null,null,null,null,null,null,{"$f":"IF(Table1[[#This Row],[Wage differential Bonus                            - NotePay Rate you are bonusing to]]>0, Table1[[#This Row],[Wage differential Bonus                            - NotePay Rate you are bonusing to]]-Table1[[#This Row],[Pay Rate]], \"\")","v":""},{"$f":"IF(Table1[[#This Row],[Wage differential Bonus                            - NotePay Rate you are bonusing to]]>0,Table1[[#This Row],[Bonus Rate]]*Table1[[#This Row],[Hours]],\"\")","v":""},null,null,null,null,null,{"$f":"IF(OR(AH570>0.001,AH570<-0.001),Table1[[#This Row],[Employee '#]],\" \")","v":" "},false,{"$f":"SUMIF(Table1[[#This Row],[Total Wage Diff bonus]:[Bank Bonus]],\"<> \")","v":0},{"$f":"IF(AA570>0, Table1[[#This Row],[Column4]], IF(AB570>0,Table1[[#This Row],[Column4]],IF(X570>0,\"1000\")))","v":false}]
[null,null,null,null,null,null,null,null,null,null,null,null,null,null,null,null,0,null,null,null,null,null,null,null,{"$f":"IF(Table1[[#This Row],[Wage differential Bonus                            - NotePay Rate you are bonusing to]]>0, Table1[[#This Row],[Wage differential Bonus                            - NotePay Rate you are bonusing to]]-Table1[[#This Row],[Pay Rate]], \"\")","v":""},{"$f":"IF(Table1[[#This Row],[Wage differential Bonus                            - NotePay Rate you are bonusing to]]>0,Table1[[#This Row],[Bonus Rate]]*Table1[[#This Row],[Hours]],\"\")","v":""},null,null,null,null,null,{"$f":"IF(OR(AH571>0.001,AH571<-0.001),Table1[[#This Row],[Employee '#]],\" \")","v":" "},false,{"$f":"SUMIF(Table1[[#This Row],[Total Wage Diff bonus]:[Bank Bonus]],\"<> \")","v":0},{"$f":"IF(AA571>0, Table1[[#This Row],[Column4]], IF(AB571>0,Table1[[#This Row],[Column4]],IF(X571>0,\"1000\")))","v":false}]
[null,null,null,null,null,null,null,null,null,null,null,null,null,null,null,null,0,null,null,null,null,null,null,null,{"$f":"IF(Table1[[#This Row],[Wage differential Bonus                            - NotePay Rate you are bonusing to]]>0, Table1[[#This Row],[Wage differential Bonus                            - NotePay Rate you are bonusing to]]-Table1[[#This Row],[Pay Rate]], \"\")","v":""},{"$f":"IF(Table1[[#This Row],[Wage differential Bonus                            - NotePay Rate you are bonusing to]]>0,Table1[[#This Row],[Bonus Rate]]*Table1[[#This Row],[Hours]],\"\")","v":""},null,null,null,null,null,{"$f":"IF(OR(AH572>0.001,AH572<-0.001),Table1[[#This Row],[Employee '#]],\" \")","v":" "},false,{"$f":"SUMIF(Table1[[#This Row],[Total Wage Diff bonus]:[Bank Bonus]],\"<> \")","v":0},{"$f":"IF(AA572>0, Table1[[#This Row],[Column4]], IF(AB572>0,Table1[[#This Row],[Column4]],IF(X572>0,\"1000\")))","v":false}]
[null,null,null,null,null,null,null,null,null,null,null,null,null,null,null,null,0,null,null,null,null,null,null,null,{"$f":"IF(Table1[[#This Row],[Wage differential Bonus                            - NotePay Rate you are bonusing to]]>0, Table1[[#This Row],[Wage differential Bonus                            - NotePay Rate you are bonusing to]]-Table1[[#This Row],[Pay Rate]], \"\")","v":""},{"$f":"IF(Table1[[#This Row],[Wage differential Bonus                            - NotePay Rate you are bonusing to]]>0,Table1[[#This Row],[Bonus Rate]]*Table1[[#This Row],[Hours]],\"\")","v":""},null,null,null,null,null,{"$f":"IF(OR(AH573>0.001,AH573<-0.001),Table1[[#This Row],[Employee '#]],\" \")","v":" "},false,{"$f":"SUMIF(Table1[[#This Row],[Total Wage Diff bonus]:[Bank Bonus]],\"<> \")","v":0},{"$f":"IF(AA573>0, Table1[[#This Row],[Column4]], IF(AB573>0,Table1[[#This Row],[Column4]],IF(X573>0,\"1000\")))","v":false}]
[null,null,null,null,null,null,null,null,null,null,null,null,null,null,null,null,0,null,null,null,null,null,null,null,{"$f":"IF(Table1[[#This Row],[Wage differential Bonus                            - NotePay Rate you are bonusing to]]>0, Table1[[#This Row],[Wage differential Bonus                            - NotePay Rate you are bonusing to]]-Table1[[#This Row],[Pay Rate]], \"\")","v":""},{"$f":"IF(Table1[[#This Row],[Wage differential Bonus                            - NotePay Rate you are bonusing to]]>0,Table1[[#This Row],[Bonus Rate]]*Table1[[#This Row],[Hours]],\"\")","v":""},null,null,null,null,null,{"$f":"IF(OR(AH574>0.001,AH574<-0.001),Table1[[#This Row],[Employee '#]],\" \")","v":" "},false,{"$f":"SUMIF(Table1[[#This Row],[Total Wage Diff bonus]:[Bank Bonus]],\"<> \")","v":0},{"$f":"IF(AA574>0, Table1[[#This Row],[Column4]], IF(AB574>0,Table1[[#This Row],[Column4]],IF(X574>0,\"1000\")))","v":false}]
[null,null,null,null,null,null,null,null,null,null,null,null,null,null,null,null,0,null,null,null,null,null,null,null,{"$f":"IF(Table1[[#This Row],[Wage differential Bonus                            - NotePay Rate you are bonusing to]]>0, Table1[[#This Row],[Wage differential Bonus                            - NotePay Rate you are bonusing to]]-Table1[[#This Row],[Pay Rate]], \"\")","v":""},{"$f":"IF(Table1[[#This Row],[Wage differential Bonus                            - NotePay Rate you are bonusing to]]>0,Table1[[#This Row],[Bonus Rate]]*Table1[[#This Row],[Hours]],\"\")","v":""},null,null,null,null,null,{"$f":"IF(OR(AH575>0.001,AH575<-0.001),Table1[[#This Row],[Employee '#]],\" \")","v":" "},false,{"$f":"SUMIF(Table1[[#This Row],[Total Wage Diff bonus]:[Bank Bonus]],\"<> \")","v":0},{"$f":"IF(AA575>0, Table1[[#This Row],[Column4]], IF(AB575>0,Table1[[#This Row],[Column4]],IF(X575>0,\"1000\")))","v":false}]
[null,null,null,null,null,null,null,null,null,null,null,null,null,null,null,null,0,null,null,null,null,null,null,null,{"$f":"IF(Table1[[#This Row],[Wage differential Bonus                            - NotePay Rate you are bonusing to]]>0, Table1[[#This Row],[Wage differential Bonus                            - NotePay Rate you are bonusing to]]-Table1[[#This Row],[Pay Rate]], \"\")","v":""},{"$f":"IF(Table1[[#This Row],[Wage differential Bonus                            - NotePay Rate you are bonusing to]]>0,Table1[[#This Row],[Bonus Rate]]*Table1[[#This Row],[Hours]],\"\")","v":""},null,null,null,null,null,{"$f":"IF(OR(AH576>0.001,AH576<-0.001),Table1[[#This Row],[Employee '#]],\" \")","v":" "},false,{"$f":"SUMIF(Table1[[#This Row],[Total Wage Diff bonus]:[Bank Bonus]],\"<> \")","v":0},{"$f":"IF(AA576>0, Table1[[#This Row],[Column4]], IF(AB576>0,Table1[[#This Row],[Column4]],IF(X576>0,\"1000\")))","v":false}]
[null,null,null,null,null,null,null,null,null,null,null,null,null,null,null,null,0,null,null,null,null,null,null,null,{"$f":"IF(Table1[[#This Row],[Wage differential Bonus                            - NotePay Rate you are bonusing to]]>0, Table1[[#This Row],[Wage differential Bonus                            - NotePay Rate you are bonusing to]]-Table1[[#This Row],[Pay Rate]], \"\")","v":""},{"$f":"IF(Table1[[#This Row],[Wage differential Bonus                            - NotePay Rate you are bonusing to]]>0,Table1[[#This Row],[Bonus Rate]]*Table1[[#This Row],[Hours]],\"\")","v":""},null,null,null,null,null,{"$f":"IF(OR(AH577>0.001,AH577<-0.001),Table1[[#This Row],[Employee '#]],\" \")","v":" "},false,{"$f":"SUMIF(Table1[[#This Row],[Total Wage Diff bonus]:[Bank Bonus]],\"<> \")","v":0},{"$f":"IF(AA577>0, Table1[[#This Row],[Column4]], IF(AB577>0,Table1[[#This Row],[Column4]],IF(X577>0,\"1000\")))","v":false}]
[null,null,null,null,null,null,null,null,null,null,null,null,null,null,null,null,0,null,null,null,null,null,null,null,{"$f":"IF(Table1[[#This Row],[Wage differential Bonus                            - NotePay Rate you are bonusing to]]>0, Table1[[#This Row],[Wage differential Bonus                            - NotePay Rate you are bonusing to]]-Table1[[#This Row],[Pay Rate]], \"\")","v":""},{"$f":"IF(Table1[[#This Row],[Wage differential Bonus                            - NotePay Rate you are bonusing to]]>0,Table1[[#This Row],[Bonus Rate]]*Table1[[#This Row],[Hours]],\"\")","v":""},null,null,null,null,null,{"$f":"IF(OR(AH578>0.001,AH578<-0.001),Table1[[#This Row],[Employee '#]],\" \")","v":" "},false,{"$f":"SUMIF(Table1[[#This Row],[Total Wage Diff bonus]:[Bank Bonus]],\"<> \")","v":0},{"$f":"IF(AA578>0, Table1[[#This Row],[Column4]], IF(AB578>0,Table1[[#This Row],[Column4]],IF(X578>0,\"1000\")))","v":false}]
[null,null,null,null,null,null,null,null,null,null,null,null,null,null,null,null,0,null,null,null,null,null,null,null,{"$f":"IF(Table1[[#This Row],[Wage differential Bonus                            - NotePay Rate you are bonusing to]]>0, Table1[[#This Row],[Wage differential Bonus                            - NotePay Rate you are bonusing to]]-Table1[[#This Row],[Pay Rate]], \"\")","v":""},{"$f":"IF(Table1[[#This Row],[Wage differential Bonus                            - NotePay Rate you are bonusing to]]>0,Table1[[#This Row],[Bonus Rate]]*Table1[[#This Row],[Hours]],\"\")","v":""},null,null,null,null,null,{"$f":"IF(OR(AH579>0.001,AH579<-0.001),Table1[[#This Row],[Employee '#]],\" \")","v":" "},false,{"$f":"SUMIF(Table1[[#This Row],[Total Wage Diff bonus]:[Bank Bonus]],\"<> \")","v":0},{"$f":"IF(AA579>0, Table1[[#This Row],[Column4]], IF(AB579>0,Table1[[#This Row],[Column4]],IF(X579>0,\"1000\")))","v":false}]
[null,null,null,null,null,null,null,null,null,null,null,null,null,null,null,null,{"$f":"L580+P580","v":0},null,null,null,null,null,null,null,{"$f":"IF(Table1[[#This Row],[Wage differential Bonus                            - NotePay Rate you are bonusing to]]>0, Table1[[#This Row],[Wage differential Bonus                            - NotePay Rate you are bonusing to]]-Table1[[#This Row],[Pay Rate]], \"\")","v":""},{"$f":"IF(Table1[[#This Row],[Wage differential Bonus                            - NotePay Rate you are bonusing to]]>0,Table1[[#This Row],[Bonus Rate]]*Table1[[#This Row],[Hours]],\"\")","v":""},null,null,null,null,null,{"$f":"IF(OR(AH580>0.001,AH580<-0.001),Table1[[#This Row],[Employee '#]],\" \")","v":" "},{"$f":"IF(AA580>0, \"28\", IF(AB580>0,\"53\",IF(X580>0,\"20\")))","v":false},{"$f":"SUMIF(Table1[[#This Row],[Total Wage Diff bonus]:[Bank Bonus]],\"<> \")","v":0},{"$f":"IF(AA580>0, Table1[[#This Row],[Column4]], IF(AB580>0,Table1[[#This Row],[Column4]],IF(X580>0,\"1000\")))","v":false}]
[null,null,null,null,null,null,null,null,null,null,null,null,null,null,null,null,0,null,null,null,null,null,null,null,{"$f":"IF(Table1[[#This Row],[Wage differential Bonus                            - NotePay Rate you are bonusing to]]>0, Table1[[#This Row],[Wage differential Bonus                            - NotePay Rate you are bonusing to]]-Table1[[#This Row],[Pay Rate]], \"\")","v":""},{"$f":"IF(Table1[[#This Row],[Wage differential Bonus                            - NotePay Rate you are bonusing to]]>0,Table1[[#This Row],[Bonus Rate]]*Table1[[#This Row],[Hours]],\"\")","v":""},null,null,null,null,null,{"$f":"IF(OR(AH581>0.001,AH581<-0.001),Table1[[#This Row],[Employee '#]],\" \")","v":" "},false,{"$f":"SUMIF(Table1[[#This Row],[Total Wage Diff bonus]:[Bank Bonus]],\"<> \")","v":0},{"$f":"IF(AA581>0, Table1[[#This Row],[Column4]], IF(AB581>0,Table1[[#This Row],[Column4]],IF(X581>0,\"1000\")))","v":false}]
[null,null,null,null,null,null,null,null,null,null,null,null,null,null,null,null,0,null,null,null,null,null,null,null,{"$f":"IF(Table1[[#This Row],[Wage differential Bonus                            - NotePay Rate you are bonusing to]]>0, Table1[[#This Row],[Wage differential Bonus                            - NotePay Rate you are bonusing to]]-Table1[[#This Row],[Pay Rate]], \"\")","v":""},{"$f":"IF(Table1[[#This Row],[Wage differential Bonus                            - NotePay Rate you are bonusing to]]>0,Table1[[#This Row],[Bonus Rate]]*Table1[[#This Row],[Hours]],\"\")","v":""},null,null,null,null,null,{"$f":"IF(OR(AH582>0.001,AH582<-0.001),Table1[[#This Row],[Employee '#]],\" \")","v":" "},false,{"$f":"SUMIF(Table1[[#This Row],[Total Wage Diff bonus]:[Bank Bonus]],\"<> \")","v":0},{"$f":"IF(AA582>0, Table1[[#This Row],[Column4]], IF(AB582>0,Table1[[#This Row],[Column4]],IF(X582>0,\"1000\")))","v":false}]
[null,null,null,null,null,null,null,null,null,null,null,null,null,null,null,null,0,null,null,null,null,null,null,null,{"$f":"IF(Table1[[#This Row],[Wage differential Bonus                            - NotePay Rate you are bonusing to]]>0, Table1[[#This Row],[Wage differential Bonus                            - NotePay Rate you are bonusing to]]-Table1[[#This Row],[Pay Rate]], \"\")","v":""},{"$f":"IF(Table1[[#This Row],[Wage differential Bonus                            - NotePay Rate you are bonusing to]]>0,Table1[[#This Row],[Bonus Rate]]*Table1[[#This Row],[Hours]],\"\")","v":""},null,null,null,null,null,{"$f":"IF(OR(AH583>0.001,AH583<-0.001),Table1[[#This Row],[Employee '#]],\" \")","v":" "},false,{"$f":"SUMIF(Table1[[#This Row],[Total Wage Diff bonus]:[Bank Bonus]],\"<> \")","v":0},{"$f":"IF(AA583>0, Table1[[#This Row],[Column4]], IF(AB583>0,Table1[[#This Row],[Column4]],IF(X583>0,\"1000\")))","v":false}]
[null,null,null,null,null,null,null,null,null,null,null,null,null,null,null,null,0,null,null,null,null,null,null,null,{"$f":"IF(Table1[[#This Row],[Wage differential Bonus                            - NotePay Rate you are bonusing to]]>0, Table1[[#This Row],[Wage differential Bonus                            - NotePay Rate you are bonusing to]]-Table1[[#This Row],[Pay Rate]], \"\")","v":""},{"$f":"IF(Table1[[#This Row],[Wage differential Bonus                            - NotePay Rate you are bonusing to]]>0,Table1[[#This Row],[Bonus Rate]]*Table1[[#This Row],[Hours]],\"\")","v":""},null,null,null,null,null,{"$f":"IF(OR(AH584>0.001,AH584<-0.001),Table1[[#This Row],[Employee '#]],\" \")","v":" "},false,{"$f":"SUMIF(Table1[[#This Row],[Total Wage Diff bonus]:[Bank Bonus]],\"<> \")","v":0},{"$f":"IF(AA584>0, Table1[[#This Row],[Column4]], IF(AB584>0,Table1[[#This Row],[Column4]],IF(X584>0,\"1000\")))","v":false}]
[null,null,null,null,null,null,null,null,null,null,null,null,null,null,null,null,0,null,null,null,null,null,null,null,{"$f":"IF(Table1[[#This Row],[Wage differential Bonus                            - NotePay Rate you are bonusing to]]>0, Table1[[#This Row],[Wage differential Bonus                            - NotePay Rate you are bonusing to]]-Table1[[#This Row],[Pay Rate]], \"\")","v":""},{"$f":"IF(Table1[[#This Row],[Wage differential Bonus                            - NotePay Rate you are bonusing to]]>0,Table1[[#This Row],[Bonus Rate]]*Table1[[#This Row],[Hours]],\"\")","v":""},null,null,null,null,null,{"$f":"IF(OR(AH585>0.001,AH585<-0.001),Table1[[#This Row],[Employee '#]],\" \")","v":" "},false,{"$f":"SUMIF(Table1[[#This Row],[Total Wage Diff bonus]:[Bank Bonus]],\"<> \")","v":0},{"$f":"IF(AA585>0, Table1[[#This Row],[Column4]], IF(AB585>0,Table1[[#This Row],[Column4]],IF(X585>0,\"1000\")))","v":false}]
[null,null,null,null,null,null,null,null,null,null,null,null,null,null,null,null,0,null,null,null,null,null,null,null,{"$f":"IF(Table1[[#This Row],[Wage differential Bonus                            - NotePay Rate you are bonusing to]]>0, Table1[[#This Row],[Wage differential Bonus                            - NotePay Rate you are bonusing to]]-Table1[[#This Row],[Pay Rate]], \"\")","v":""},{"$f":"IF(Table1[[#This Row],[Wage differential Bonus                            - NotePay Rate you are bonusing to]]>0,Table1[[#This Row],[Bonus Rate]]*Table1[[#This Row],[Hours]],\"\")","v":""},null,null,null,null,null,{"$f":"IF(OR(AH586>0.001,AH586<-0.001),Table1[[#This Row],[Employee '#]],\" \")","v":" "},false,{"$f":"SUMIF(Table1[[#This Row],[Total Wage Diff bonus]:[Bank Bonus]],\"<> \")","v":0},{"$f":"IF(AA586>0, Table1[[#This Row],[Column4]], IF(AB586>0,Table1[[#This Row],[Column4]],IF(X586>0,\"1000\")))","v":false}]
[null,null,null,null,null,null,null,null,null,null,null,null,null,null,null,null,0,null,null,null,null,null,null,null,{"$f":"IF(Table1[[#This Row],[Wage differential Bonus                            - NotePay Rate you are bonusing to]]>0, Table1[[#This Row],[Wage differential Bonus                            - NotePay Rate you are bonusing to]]-Table1[[#This Row],[Pay Rate]], \"\")","v":""},{"$f":"IF(Table1[[#This Row],[Wage differential Bonus                            - NotePay Rate you are bonusing to]]>0,Table1[[#This Row],[Bonus Rate]]*Table1[[#This Row],[Hours]],\"\")","v":""},null,null,null,null,null,{"$f":"IF(OR(AH587>0.001,AH587<-0.001),Table1[[#This Row],[Employee '#]],\" \")","v":" "},false,{"$f":"SUMIF(Table1[[#This Row],[Total Wage Diff bonus]:[Bank Bonus]],\"<> \")","v":0},{"$f":"IF(AA587>0, Table1[[#This Row],[Column4]], IF(AB587>0,Table1[[#This Row],[Column4]],IF(X587>0,\"1000\")))","v":false}]
[null,null,null,null,null,null,null,null,null,null,null,null,null,null,null,null,0,null,null,null,null,null,null,null,{"$f":"IF(Table1[[#This Row],[Wage differential Bonus                            - NotePay Rate you are bonusing to]]>0, Table1[[#This Row],[Wage differential Bonus                            - NotePay Rate you are bonusing to]]-Table1[[#This Row],[Pay Rate]], \"\")","v":""},{"$f":"IF(Table1[[#This Row],[Wage differential Bonus                            - NotePay Rate you are bonusing to]]>0,Table1[[#This Row],[Bonus Rate]]*Table1[[#This Row],[Hours]],\"\")","v":""},null,null,null,null,null,{"$f":"IF(OR(AH588>0.001,AH588<-0.001),Table1[[#This Row],[Employee '#]],\" \")","v":" "},false,{"$f":"SUMIF(Table1[[#This Row],[Total Wage Diff bonus]:[Bank Bonus]],\"<> \")","v":0},{"$f":"IF(AA588>0, Table1[[#This Row],[Column4]], IF(AB588>0,Table1[[#This Row],[Column4]],IF(X588>0,\"1000\")))","v":false}]
[null,null,null,null,null,null,null,null,null,null,null,null,null,null,null,null,0,null,null,null,null,null,null,null,{"$f":"IF(Table1[[#This Row],[Wage differential Bonus                            - NotePay Rate you are bonusing to]]>0, Table1[[#This Row],[Wage differential Bonus                            - NotePay Rate you are bonusing to]]-Table1[[#This Row],[Pay Rate]], \"\")","v":""},{"$f":"IF(Table1[[#This Row],[Wage differential Bonus                            - NotePay Rate you are bonusing to]]>0,Table1[[#This Row],[Bonus Rate]]*Table1[[#This Row],[Hours]],\"\")","v":""},null,null,null,null,null,{"$f":"IF(OR(AH589>0.001,AH589<-0.001),Table1[[#This Row],[Employee '#]],\" \")","v":" "},false,{"$f":"SUMIF(Table1[[#This Row],[Total Wage Diff bonus]:[Bank Bonus]],\"<> \")","v":0},{"$f":"IF(AA589>0, Table1[[#This Row],[Column4]], IF(AB589>0,Table1[[#This Row],[Column4]],IF(X589>0,\"1000\")))","v":false}]
[null,null,null,null,null,null,null,null,null,null,null,null,null,null,null,null,0,null,null,null,null,null,null,null,{"$f":"IF(Table1[[#This Row],[Wage differential Bonus                            - NotePay Rate you are bonusing to]]>0, Table1[[#This Row],[Wage differential Bonus                            - NotePay Rate you are bonusing to]]-Table1[[#This Row],[Pay Rate]], \"\")","v":""},{"$f":"IF(Table1[[#This Row],[Wage differential Bonus                            - NotePay Rate you are bonusing to]]>0,Table1[[#This Row],[Bonus Rate]]*Table1[[#This Row],[Hours]],\"\")","v":""},null,null,null,null,null,{"$f":"IF(OR(AH590>0.001,AH590<-0.001),Table1[[#This Row],[Employee '#]],\" \")","v":" "},false,{"$f":"SUMIF(Table1[[#This Row],[Total Wage Diff bonus]:[Bank Bonus]],\"<> \")","v":0},{"$f":"IF(AA590>0, Table1[[#This Row],[Column4]], IF(AB590>0,Table1[[#This Row],[Column4]],IF(X590>0,\"1000\")))","v":false}]
[null,null,null,null,null,null,null,null,null,null,null,null,null,null,null,null,0,null,null,null,null,null,null,null,{"$f":"IF(Table1[[#This Row],[Wage differential Bonus                            - NotePay Rate you are bonusing to]]>0, Table1[[#This Row],[Wage differential Bonus                            - NotePay Rate you are bonusing to]]-Table1[[#This Row],[Pay Rate]], \"\")","v":""},{"$f":"IF(Table1[[#This Row],[Wage differential Bonus                            - NotePay Rate you are bonusing to]]>0,Table1[[#This Row],[Bonus Rate]]*Table1[[#This Row],[Hours]],\"\")","v":""},null,null,null,null,null,{"$f":"IF(OR(AH591>0.001,AH591<-0.001),Table1[[#This Row],[Employee '#]],\" \")","v":" "},false,{"$f":"SUMIF(Table1[[#This Row],[Total Wage Diff bonus]:[Bank Bonus]],\"<> \")","v":0},{"$f":"IF(AA591>0, Table1[[#This Row],[Column4]], IF(AB591>0,Table1[[#This Row],[Column4]],IF(X591>0,\"1000\")))","v":false}]
[null,null,null,null,null,null,null,null,null,null,null,null,null,null,null,null,0,null,null,null,null,null,null,null,{"$f":"IF(Table1[[#This Row],[Wage differential Bonus                            - NotePay Rate you are bonusing to]]>0, Table1[[#This Row],[Wage differential Bonus                            - NotePay Rate you are bonusing to]]-Table1[[#This Row],[Pay Rate]], \"\")","v":""},{"$f":"IF(Table1[[#This Row],[Wage differential Bonus                            - NotePay Rate you are bonusing to]]>0,Table1[[#This Row],[Bonus Rate]]*Table1[[#This Row],[Hours]],\"\")","v":""},null,null,null,null,null,{"$f":"IF(OR(AH592>0.001,AH592<-0.001),Table1[[#This Row],[Employee '#]],\" \")","v":" "},false,{"$f":"SUMIF(Table1[[#This Row],[Total Wage Diff bonus]:[Bank Bonus]],\"<> \")","v":0},{"$f":"IF(AA592>0, Table1[[#This Row],[Column4]], IF(AB592>0,Table1[[#This Row],[Column4]],IF(X592>0,\"1000\")))","v":false}]
[null,null,null,null,null,null,null,null,null,null,null,null,null,null,null,null,0,null,null,null,null,null,null,null,{"$f":"IF(Table1[[#This Row],[Wage differential Bonus                            - NotePay Rate you are bonusing to]]>0, Table1[[#This Row],[Wage differential Bonus                            - NotePay Rate you are bonusing to]]-Table1[[#This Row],[Pay Rate]], \"\")","v":""},{"$f":"IF(Table1[[#This Row],[Wage differential Bonus                            - NotePay Rate you are bonusing to]]>0,Table1[[#This Row],[Bonus Rate]]*Table1[[#This Row],[Hours]],\"\")","v":""},null,null,null,null,null,{"$f":"IF(OR(AH593>0.001,AH593<-0.001),Table1[[#This Row],[Employee '#]],\" \")","v":" "},false,{"$f":"SUMIF(Table1[[#This Row],[Total Wage Diff bonus]:[Bank Bonus]],\"<> \")","v":0},{"$f":"IF(AA593>0, Table1[[#This Row],[Column4]], IF(AB593>0,Table1[[#This Row],[Column4]],IF(X593>0,\"1000\")))","v":false}]
[null,null,null,null,null,null,null,null,null,null,null,null,null,null,null,null,0,null,null,null,null,null,null,null,{"$f":"IF(Table1[[#This Row],[Wage differential Bonus                            - NotePay Rate you are bonusing to]]>0, Table1[[#This Row],[Wage differential Bonus                            - NotePay Rate you are bonusing to]]-Table1[[#This Row],[Pay Rate]], \"\")","v":""},{"$f":"IF(Table1[[#This Row],[Wage differential Bonus                            - NotePay Rate you are bonusing to]]>0,Table1[[#This Row],[Bonus Rate]]*Table1[[#This Row],[Hours]],\"\")","v":""},null,null,null,null,null,{"$f":"IF(OR(AH594>0.001,AH594<-0.001),Table1[[#This Row],[Employee '#]],\" \")","v":" "},false,{"$f":"SUMIF(Table1[[#This Row],[Total Wage Diff bonus]:[Bank Bonus]],\"<> \")","v":0},{"$f":"IF(AA594>0, Table1[[#This Row],[Column4]], IF(AB594>0,Table1[[#This Row],[Column4]],IF(X594>0,\"1000\")))","v":false}]
[null,null,null,null,null,null,null,null,null,null,null,null,null,null,null,null,0,null,null,null,null,null,null,null,{"$f":"IF(Table1[[#This Row],[Wage differential Bonus                            - NotePay Rate you are bonusing to]]>0, Table1[[#This Row],[Wage differential Bonus                            - NotePay Rate you are bonusing to]]-Table1[[#This Row],[Pay Rate]], \"\")","v":""},{"$f":"IF(Table1[[#This Row],[Wage differential Bonus                            - NotePay Rate you are bonusing to]]>0,Table1[[#This Row],[Bonus Rate]]*Table1[[#This Row],[Hours]],\"\")","v":""},null,null,null,null,null,{"$f":"IF(OR(AH595>0.001,AH595<-0.001),Table1[[#This Row],[Employee '#]],\" \")","v":" "},false,{"$f":"SUMIF(Table1[[#This Row],[Total Wage Diff bonus]:[Bank Bonus]],\"<> \")","v":0},{"$f":"IF(AA595>0, Table1[[#This Row],[Column4]], IF(AB595>0,Table1[[#This Row],[Column4]],IF(X595>0,\"1000\")))","v":false}]
[null,null,null,null,null,null,null,null,null,null,null,null,null,null,null,null,0,null,null,null,null,null,null,null,{"$f":"IF(Table1[[#This Row],[Wage differential Bonus                            - NotePay Rate you are bonusing to]]>0, Table1[[#This Row],[Wage differential Bonus                            - NotePay Rate you are bonusing to]]-Table1[[#This Row],[Pay Rate]], \"\")","v":""},{"$f":"IF(Table1[[#This Row],[Wage differential Bonus                            - NotePay Rate you are bonusing to]]>0,Table1[[#This Row],[Bonus Rate]]*Table1[[#This Row],[Hours]],\"\")","v":""},null,null,null,null,null,{"$f":"IF(OR(AH596>0.001,AH596<-0.001),Table1[[#This Row],[Employee '#]],\" \")","v":" "},false,{"$f":"SUMIF(Table1[[#This Row],[Total Wage Diff bonus]:[Bank Bonus]],\"<> \")","v":0},{"$f":"IF(AA596>0, Table1[[#This Row],[Column4]], IF(AB596>0,Table1[[#This Row],[Column4]],IF(X596>0,\"1000\")))","v":false}]
[null,null,null,null,null,null,null,null,null,null,null,null,null,null,null,null,0,null,null,null,null,null,null,null,{"$f":"IF(Table1[[#This Row],[Wage differential Bonus                            - NotePay Rate you are bonusing to]]>0, Table1[[#This Row],[Wage differential Bonus                            - NotePay Rate you are bonusing to]]-Table1[[#This Row],[Pay Rate]], \"\")","v":""},{"$f":"IF(Table1[[#This Row],[Wage differential Bonus                            - NotePay Rate you are bonusing to]]>0,Table1[[#This Row],[Bonus Rate]]*Table1[[#This Row],[Hours]],\"\")","v":""},null,null,null,null,null,{"$f":"IF(OR(AH597>0.001,AH597<-0.001),Table1[[#This Row],[Employee '#]],\" \")","v":" "},false,{"$f":"SUMIF(Table1[[#This Row],[Total Wage Diff bonus]:[Bank Bonus]],\"<> \")","v":0},{"$f":"IF(AA597>0, Table1[[#This Row],[Column4]], IF(AB597>0,Table1[[#This Row],[Column4]],IF(X597>0,\"1000\")))","v":false}]
[null,null,null,null,null,null,null,null,null,null,null,null,null,null,null,null,0,null,null,null,null,null,null,null,{"$f":"IF(Table1[[#This Row],[Wage differential Bonus                            - NotePay Rate you are bonusing to]]>0, Table1[[#This Row],[Wage differential Bonus                            - NotePay Rate you are bonusing to]]-Table1[[#This Row],[Pay Rate]], \"\")","v":""},{"$f":"IF(Table1[[#This Row],[Wage differential Bonus                            - NotePay Rate you are bonusing to]]>0,Table1[[#This Row],[Bonus Rate]]*Table1[[#This Row],[Hours]],\"\")","v":""},null,null,null,null,null,{"$f":"IF(OR(AH598>0.001,AH598<-0.001),Table1[[#This Row],[Employee '#]],\" \")","v":" "},false,{"$f":"SUMIF(Table1[[#This Row],[Total Wage Diff bonus]:[Bank Bonus]],\"<> \")","v":0},{"$f":"IF(AA598>0, Table1[[#This Row],[Column4]], IF(AB598>0,Table1[[#This Row],[Column4]],IF(X598>0,\"1000\")))","v":false}]
[null,null,null,null,null,null,null,null,null,null,null,null,null,null,null,null,0,null,null,null,null,null,null,null,{"$f":"IF(Table1[[#This Row],[Wage differential Bonus                            - NotePay Rate you are bonusing to]]>0, Table1[[#This Row],[Wage differential Bonus                            - NotePay Rate you are bonusing to]]-Table1[[#This Row],[Pay Rate]], \"\")","v":""},{"$f":"IF(Table1[[#This Row],[Wage differential Bonus                            - NotePay Rate you are bonusing to]]>0,Table1[[#This Row],[Bonus Rate]]*Table1[[#This Row],[Hours]],\"\")","v":""},null,null,null,null,null,{"$f":"IF(OR(AH599>0.001,AH599<-0.001),Table1[[#This Row],[Employee '#]],\" \")","v":" "},false,{"$f":"SUMIF(Table1[[#This Row],[Total Wage Diff bonus]:[Bank Bonus]],\"<> \")","v":0},{"$f":"IF(AA599>0, Table1[[#This Row],[Column4]], IF(AB599>0,Table1[[#This Row],[Column4]],IF(X599>0,\"1000\")))","v":false}]
[null,null,null,null,null,null,null,null,null,null,null,null,null,null,null,null,0,null,null,null,null,null,null,null,{"$f":"IF(Table1[[#This Row],[Wage differential Bonus                            - NotePay Rate you are bonusing to]]>0, Table1[[#This Row],[Wage differential Bonus                            - NotePay Rate you are bonusing to]]-Table1[[#This Row],[Pay Rate]], \"\")","v":""},{"$f":"IF(Table1[[#This Row],[Wage differential Bonus                            - NotePay Rate you are bonusing to]]>0,Table1[[#This Row],[Bonus Rate]]*Table1[[#This Row],[Hours]],\"\")","v":""},null,null,null,null,null,{"$f":"IF(OR(AH600>0.001,AH600<-0.001),Table1[[#This Row],[Employee '#]],\" \")","v":" "},false,{"$f":"SUMIF(Table1[[#This Row],[Total Wage Diff bonus]:[Bank Bonus]],\"<> \")","v":0},{"$f":"IF(AA600>0, Table1[[#This Row],[Column4]], IF(AB600>0,Table1[[#This Row],[Column4]],IF(X600>0,\"1000\")))","v":false}]
[null,null,null,null,null,null,null,null,null,null,null,null,null,null,null,null,0,null,null,null,null,null,null,null,{"$f":"IF(Table1[[#This Row],[Wage differential Bonus                            - NotePay Rate you are bonusing to]]>0, Table1[[#This Row],[Wage differential Bonus                            - NotePay Rate you are bonusing to]]-Table1[[#This Row],[Pay Rate]], \"\")","v":""},{"$f":"IF(Table1[[#This Row],[Wage differential Bonus                            - NotePay Rate you are bonusing to]]>0,Table1[[#This Row],[Bonus Rate]]*Table1[[#This Row],[Hours]],\"\")","v":""},null,null,null,null,null,{"$f":"IF(OR(AH601>0.001,AH601<-0.001),Table1[[#This Row],[Employee '#]],\" \")","v":" "},false,{"$f":"SUMIF(Table1[[#This Row],[Total Wage Diff bonus]:[Bank Bonus]],\"<> \")","v":0},{"$f":"IF(AA601>0, Table1[[#This Row],[Column4]], IF(AB601>0,Table1[[#This Row],[Column4]],IF(X601>0,\"1000\")))","v":false}]
[null,null,null,null,null,null,null,null,null,null,null,null,null,null,null,null,0,null,null,null,null,null,null,null,{"$f":"IF(Table1[[#This Row],[Wage differential Bonus                            - NotePay Rate you are bonusing to]]>0, Table1[[#This Row],[Wage differential Bonus                            - NotePay Rate you are bonusing to]]-Table1[[#This Row],[Pay Rate]], \"\")","v":""},{"$f":"IF(Table1[[#This Row],[Wage differential Bonus                            - NotePay Rate you are bonusing to]]>0,Table1[[#This Row],[Bonus Rate]]*Table1[[#This Row],[Hours]],\"\")","v":""},null,null,null,null,null,{"$f":"IF(OR(AH602>0.001,AH602<-0.001),Table1[[#This Row],[Employee '#]],\" \")","v":" "},false,{"$f":"SUMIF(Table1[[#This Row],[Total Wage Diff bonus]:[Bank Bonus]],\"<> \")","v":0},{"$f":"IF(AA602>0, Table1[[#This Row],[Column4]], IF(AB602>0,Table1[[#This Row],[Column4]],IF(X602>0,\"1000\")))","v":false}]
[null,null,null,null,null,null,null,null,null,null,null,null,null,null,null,null,0,null,null,null,null,null,null,null,{"$f":"IF(Table1[[#This Row],[Wage differential Bonus                            - NotePay Rate you are bonusing to]]>0, Table1[[#This Row],[Wage differential Bonus                            - NotePay Rate you are bonusing to]]-Table1[[#This Row],[Pay Rate]], \"\")","v":""},{"$f":"IF(Table1[[#This Row],[Wage differential Bonus                            - NotePay Rate you are bonusing to]]>0,Table1[[#This Row],[Bonus Rate]]*Table1[[#This Row],[Hours]],\"\")","v":""},null,null,null,null,null,{"$f":"IF(OR(AH603>0.001,AH603<-0.001),Table1[[#This Row],[Employee '#]],\" \")","v":" "},false,{"$f":"SUMIF(Table1[[#This Row],[Total Wage Diff bonus]:[Bank Bonus]],\"<> \")","v":0},{"$f":"IF(AA603>0, Table1[[#This Row],[Column4]], IF(AB603>0,Table1[[#This Row],[Column4]],IF(X603>0,\"1000\")))","v":false}]
[null,null,null,null,null,null,null,null,null,null,null,null,null,null,null,null,0,null,null,null,null,null,null,null,{"$f":"IF(Table1[[#This Row],[Wage differential Bonus                            - NotePay Rate you are bonusing to]]>0, Table1[[#This Row],[Wage differential Bonus                            - NotePay Rate you are bonusing to]]-Table1[[#This Row],[Pay Rate]], \"\")","v":""},{"$f":"IF(Table1[[#This Row],[Wage differential Bonus                            - NotePay Rate you are bonusing to]]>0,Table1[[#This Row],[Bonus Rate]]*Table1[[#This Row],[Hours]],\"\")","v":""},null,null,null,null,null,{"$f":"IF(OR(AH604>0.001,AH604<-0.001),Table1[[#This Row],[Employee '#]],\" \")","v":" "},false,{"$f":"SUMIF(Table1[[#This Row],[Total Wage Diff bonus]:[Bank Bonus]],\"<> \")","v":0},{"$f":"IF(AA604>0, Table1[[#This Row],[Column4]], IF(AB604>0,Table1[[#This Row],[Column4]],IF(X604>0,\"1000\")))","v":false}]
[null,null,null,null,null,null,null,null,null,null,null,null,null,null,null,null,0,null,null,null,null,null,null,null,{"$f":"IF(Table1[[#This Row],[Wage differential Bonus                            - NotePay Rate you are bonusing to]]>0, Table1[[#This Row],[Wage differential Bonus                            - NotePay Rate you are bonusing to]]-Table1[[#This Row],[Pay Rate]], \"\")","v":""},{"$f":"IF(Table1[[#This Row],[Wage differential Bonus                            - NotePay Rate you are bonusing to]]>0,Table1[[#This Row],[Bonus Rate]]*Table1[[#This Row],[Hours]],\"\")","v":""},null,null,null,null,null,{"$f":"IF(OR(AH605>0.001,AH605<-0.001),Table1[[#This Row],[Employee '#]],\" \")","v":" "},false,{"$f":"SUMIF(Table1[[#This Row],[Total Wage Diff bonus]:[Bank Bonus]],\"<> \")","v":0},{"$f":"IF(AA605>0, Table1[[#This Row],[Column4]], IF(AB605>0,Table1[[#This Row],[Column4]],IF(X605>0,\"1000\")))","v":false}]
[null,null,null,null,null,null,null,null,null,null,null,null,null,null,null,null,0,null,null,null,null,null,null,null,{"$f":"IF(Table1[[#This Row],[Wage differential Bonus                            - NotePay Rate you are bonusing to]]>0, Table1[[#This Row],[Wage differential Bonus                            - NotePay Rate you are bonusing to]]-Table1[[#This Row],[Pay Rate]], \"\")","v":""},{"$f":"IF(Table1[[#This Row],[Wage differential Bonus                            - NotePay Rate you are bonusing to]]>0,Table1[[#This Row],[Bonus Rate]]*Table1[[#This Row],[Hours]],\"\")","v":""},null,null,null,null,null,{"$f":"IF(OR(AH606>0.001,AH606<-0.001),Table1[[#This Row],[Employee '#]],\" \")","v":" "},false,{"$f":"SUMIF(Table1[[#This Row],[Total Wage Diff bonus]:[Bank Bonus]],\"<> \")","v":0},{"$f":"IF(AA606>0, Table1[[#This Row],[Column4]], IF(AB606>0,Table1[[#This Row],[Column4]],IF(X606>0,\"1000\")))","v":false}]
[null,null,null,null,null,null,null,null,null,null,null,null,null,null,null,null,0,null,null,null,null,null,null,null,{"$f":"IF(Table1[[#This Row],[Wage differential Bonus                            - NotePay Rate you are bonusing to]]>0, Table1[[#This Row],[Wage differential Bonus                            - NotePay Rate you are bonusing to]]-Table1[[#This Row],[Pay Rate]], \"\")","v":""},{"$f":"IF(Table1[[#This Row],[Wage differential Bonus                            - NotePay Rate you are bonusing to]]>0,Table1[[#This Row],[Bonus Rate]]*Table1[[#This Row],[Hours]],\"\")","v":""},null,null,null,null,null,{"$f":"IF(OR(AH607>0.001,AH607<-0.001),Table1[[#This Row],[Employee '#]],\" \")","v":" "},false,{"$f":"SUMIF(Table1[[#This Row],[Total Wage Diff bonus]:[Bank Bonus]],\"<> \")","v":0},{"$f":"IF(AA607>0, Table1[[#This Row],[Column4]], IF(AB607>0,Table1[[#This Row],[Column4]],IF(X607>0,\"1000\")))","v":false}]
[null,null,null,null,null,null,null,null,null,null,null,null,null,null,null,null,0,null,null,null,null,null,null,null,{"$f":"IF(Table1[[#This Row],[Wage differential Bonus                            - NotePay Rate you are bonusing to]]>0, Table1[[#This Row],[Wage differential Bonus                            - NotePay Rate you are bonusing to]]-Table1[[#This Row],[Pay Rate]], \"\")","v":""},{"$f":"IF(Table1[[#This Row],[Wage differential Bonus                            - NotePay Rate you are bonusing to]]>0,Table1[[#This Row],[Bonus Rate]]*Table1[[#This Row],[Hours]],\"\")","v":""},null,null,null,null,null,{"$f":"IF(OR(AH608>0.001,AH608<-0.001),Table1[[#This Row],[Employee '#]],\" \")","v":" "},false,{"$f":"SUMIF(Table1[[#This Row],[Total Wage Diff bonus]:[Bank Bonus]],\"<> \")","v":0},{"$f":"IF(AA608>0, Table1[[#This Row],[Column4]], IF(AB608>0,Table1[[#This Row],[Column4]],IF(X608>0,\"1000\")))","v":false}]
[null,null,null,null,null,null,null,null,null,null,null,null,null,null,null,null,0,null,null,null,null,null,null,null,{"$f":"IF(Table1[[#This Row],[Wage differential Bonus                            - NotePay Rate you are bonusing to]]>0, Table1[[#This Row],[Wage differential Bonus                            - NotePay Rate you are bonusing to]]-Table1[[#This Row],[Pay Rate]], \"\")","v":""},{"$f":"IF(Table1[[#This Row],[Wage differential Bonus                            - NotePay Rate you are bonusing to]]>0,Table1[[#This Row],[Bonus Rate]]*Table1[[#This Row],[Hours]],\"\")","v":""},null,null,null,null,null,{"$f":"IF(OR(AH609>0.001,AH609<-0.001),Table1[[#This Row],[Employee '#]],\" \")","v":" "},false,{"$f":"SUMIF(Table1[[#This Row],[Total Wage Diff bonus]:[Bank Bonus]],\"<> \")","v":0},{"$f":"IF(AA609>0, Table1[[#This Row],[Column4]], IF(AB609>0,Table1[[#This Row],[Column4]],IF(X609>0,\"1000\")))","v":false}]
[null,null,null,null,null,null,null,null,null,null,null,null,null,null,null,null,0,null,null,null,null,null,null,null,{"$f":"IF(Table1[[#This Row],[Wage differential Bonus                            - NotePay Rate you are bonusing to]]>0, Table1[[#This Row],[Wage differential Bonus                            - NotePay Rate you are bonusing to]]-Table1[[#This Row],[Pay Rate]], \"\")","v":""},{"$f":"IF(Table1[[#This Row],[Wage differential Bonus                            - NotePay Rate you are bonusing to]]>0,Table1[[#This Row],[Bonus Rate]]*Table1[[#This Row],[Hours]],\"\")","v":""},null,null,null,null,null,{"$f":"IF(OR(AH610>0.001,AH610<-0.001),Table1[[#This Row],[Employee '#]],\" \")","v":" "},false,{"$f":"SUMIF(Table1[[#This Row],[Total Wage Diff bonus]:[Bank Bonus]],\"<> \")","v":0},{"$f":"IF(AA610>0, Table1[[#This Row],[Column4]], IF(AB610>0,Table1[[#This Row],[Column4]],IF(X610>0,\"1000\")))","v":false}]
[null,null,null,null,null,null,null,null,null,null,null,null,null,null,null,null,0,null,null,null,null,null,null,null,{"$f":"IF(Table1[[#This Row],[Wage differential Bonus                            - NotePay Rate you are bonusing to]]>0, Table1[[#This Row],[Wage differential Bonus                            - NotePay Rate you are bonusing to]]-Table1[[#This Row],[Pay Rate]], \"\")","v":""},{"$f":"IF(Table1[[#This Row],[Wage differential Bonus                            - NotePay Rate you are bonusing to]]>0,Table1[[#This Row],[Bonus Rate]]*Table1[[#This Row],[Hours]],\"\")","v":""},null,null,null,null,null,{"$f":"IF(OR(AH611>0.001,AH611<-0.001),Table1[[#This Row],[Employee '#]],\" \")","v":" "},false,{"$f":"SUMIF(Table1[[#This Row],[Total Wage Diff bonus]:[Bank Bonus]],\"<> \")","v":0},{"$f":"IF(AA611>0, Table1[[#This Row],[Column4]], IF(AB611>0,Table1[[#This Row],[Column4]],IF(X611>0,\"1000\")))","v":false}]
[null,null,null,null,null,null,null,null,null,null,null,null,null,null,null,null,0,null,null,null,null,null,null,null,{"$f":"IF(Table1[[#This Row],[Wage differential Bonus                            - NotePay Rate you are bonusing to]]>0, Table1[[#This Row],[Wage differential Bonus                            - NotePay Rate you are bonusing to]]-Table1[[#This Row],[Pay Rate]], \"\")","v":""},{"$f":"IF(Table1[[#This Row],[Wage differential Bonus                            - NotePay Rate you are bonusing to]]>0,Table1[[#This Row],[Bonus Rate]]*Table1[[#This Row],[Hours]],\"\")","v":""},null,null,null,null,null,{"$f":"IF(OR(AH612>0.001,AH612<-0.001),Table1[[#This Row],[Employee '#]],\" \")","v":" "},false,{"$f":"SUMIF(Table1[[#This Row],[Total Wage Diff bonus]:[Bank Bonus]],\"<> \")","v":0},{"$f":"IF(AA612>0, Table1[[#This Row],[Column4]], IF(AB612>0,Table1[[#This Row],[Column4]],IF(X612>0,\"1000\")))","v":false}]
[null,null,null,null,null,null,null,null,null,null,null,null,null,null,null,null,0,null,null,null,null,null,null,null,{"$f":"IF(Table1[[#This Row],[Wage differential Bonus                            - NotePay Rate you are bonusing to]]>0, Table1[[#This Row],[Wage differential Bonus                            - NotePay Rate you are bonusing to]]-Table1[[#This Row],[Pay Rate]], \"\")","v":""},{"$f":"IF(Table1[[#This Row],[Wage differential Bonus                            - NotePay Rate you are bonusing to]]>0,Table1[[#This Row],[Bonus Rate]]*Table1[[#This Row],[Hours]],\"\")","v":""},null,null,null,null,null,{"$f":"IF(OR(AH613>0.001,AH613<-0.001),Table1[[#This Row],[Employee '#]],\" \")","v":" "},false,{"$f":"SUMIF(Table1[[#This Row],[Total Wage Diff bonus]:[Bank Bonus]],\"<> \")","v":0},{"$f":"IF(AA613>0, Table1[[#This Row],[Column4]], IF(AB613>0,Table1[[#This Row],[Column4]],IF(X613>0,\"1000\")))","v":false}]
[null,null,null,null,null,null,null,null,null,null,null,null,null,null,null,null,0,null,null,null,null,null,null,null,{"$f":"IF(Table1[[#This Row],[Wage differential Bonus                            - NotePay Rate you are bonusing to]]>0, Table1[[#This Row],[Wage differential Bonus                            - NotePay Rate you are bonusing to]]-Table1[[#This Row],[Pay Rate]], \"\")","v":""},{"$f":"IF(Table1[[#This Row],[Wage differential Bonus                            - NotePay Rate you are bonusing to]]>0,Table1[[#This Row],[Bonus Rate]]*Table1[[#This Row],[Hours]],\"\")","v":""},null,null,null,null,null,{"$f":"IF(OR(AH614>0.001,AH614<-0.001),Table1[[#This Row],[Employee '#]],\" \")","v":" "},false,{"$f":"SUMIF(Table1[[#This Row],[Total Wage Diff bonus]:[Bank Bonus]],\"<> \")","v":0},{"$f":"IF(AA614>0, Table1[[#This Row],[Column4]], IF(AB614>0,Table1[[#This Row],[Column4]],IF(X614>0,\"1000\")))","v":false}]
[null,null,null,null,null,null,null,null,null,null,null,null,null,null,null,null,0,null,null,null,null,null,null,null,{"$f":"IF(Table1[[#This Row],[Wage differential Bonus                            - NotePay Rate you are bonusing to]]>0, Table1[[#This Row],[Wage differential Bonus                            - NotePay Rate you are bonusing to]]-Table1[[#This Row],[Pay Rate]], \"\")","v":""},{"$f":"IF(Table1[[#This Row],[Wage differential Bonus                            - NotePay Rate you are bonusing to]]>0,Table1[[#This Row],[Bonus Rate]]*Table1[[#This Row],[Hours]],\"\")","v":""},null,null,null,null,null,{"$f":"IF(OR(AH615>0.001,AH615<-0.001),Table1[[#This Row],[Employee '#]],\" \")","v":" "},false,{"$f":"SUMIF(Table1[[#This Row],[Total Wage Diff bonus]:[Bank Bonus]],\"<> \")","v":0},{"$f":"IF(AA615>0, Table1[[#This Row],[Column4]], IF(AB615>0,Table1[[#This Row],[Column4]],IF(X615>0,\"1000\")))","v":false}]
[null,null,null,null,null,null,null,null,null,null,null,null,null,null,null,null,0,null,null,null,null,null,null,null,{"$f":"IF(Table1[[#This Row],[Wage differential Bonus                            - NotePay Rate you are bonusing to]]>0, Table1[[#This Row],[Wage differential Bonus                            - NotePay Rate you are bonusing to]]-Table1[[#This Row],[Pay Rate]], \"\")","v":""},{"$f":"IF(Table1[[#This Row],[Wage differential Bonus                            - NotePay Rate you are bonusing to]]>0,Table1[[#This Row],[Bonus Rate]]*Table1[[#This Row],[Hours]],\"\")","v":""},null,null,null,null,null,{"$f":"IF(OR(AH616>0.001,AH616<-0.001),Table1[[#This Row],[Employee '#]],\" \")","v":" "},false,{"$f":"SUMIF(Table1[[#This Row],[Total Wage Diff bonus]:[Bank Bonus]],\"<> \")","v":0},{"$f":"IF(AA616>0, Table1[[#This Row],[Column4]], IF(AB616>0,Table1[[#This Row],[Column4]],IF(X616>0,\"1000\")))","v":false}]
[null,null,null,null,null,null,null,null,null,null,null,null,null,null,null,null,0,null,null,null,null,null,null,null,{"$f":"IF(Table1[[#This Row],[Wage differential Bonus                            - NotePay Rate you are bonusing to]]>0, Table1[[#This Row],[Wage differential Bonus                            - NotePay Rate you are bonusing to]]-Table1[[#This Row],[Pay Rate]], \"\")","v":""},{"$f":"IF(Table1[[#This Row],[Wage differential Bonus                            - NotePay Rate you are bonusing to]]>0,Table1[[#This Row],[Bonus Rate]]*Table1[[#This Row],[Hours]],\"\")","v":""},null,null,null,null,null,{"$f":"IF(OR(AH617>0.001,AH617<-0.001),Table1[[#This Row],[Employee '#]],\" \")","v":" "},false,{"$f":"SUMIF(Table1[[#This Row],[Total Wage Diff bonus]:[Bank Bonus]],\"<> \")","v":0},{"$f":"IF(AA617>0, Table1[[#This Row],[Column4]], IF(AB617>0,Table1[[#This Row],[Column4]],IF(X617>0,\"1000\")))","v":false}]
[null,null,null,null,null,null,null,null,null,null,null,null,null,null,null,null,0,null,null,null,null,null,null,null,{"$f":"IF(Table1[[#This Row],[Wage differential Bonus                            - NotePay Rate you are bonusing to]]>0, Table1[[#This Row],[Wage differential Bonus                            - NotePay Rate you are bonusing to]]-Table1[[#This Row],[Pay Rate]], \"\")","v":""},{"$f":"IF(Table1[[#This Row],[Wage differential Bonus                            - NotePay Rate you are bonusing to]]>0,Table1[[#This Row],[Bonus Rate]]*Table1[[#This Row],[Hours]],\"\")","v":""},null,null,null,null,null,{"$f":"IF(OR(AH618>0.001,AH618<-0.001),Table1[[#This Row],[Employee '#]],\" \")","v":" "},false,{"$f":"SUMIF(Table1[[#This Row],[Total Wage Diff bonus]:[Bank Bonus]],\"<> \")","v":0},{"$f":"IF(AA618>0, Table1[[#This Row],[Column4]], IF(AB618>0,Table1[[#This Row],[Column4]],IF(X618>0,\"1000\")))","v":false}]
[null,null,null,null,null,null,null,null,null,null,null,null,null,null,null,null,0,null,null,null,null,null,null,null,{"$f":"IF(Table1[[#This Row],[Wage differential Bonus                            - NotePay Rate you are bonusing to]]>0, Table1[[#This Row],[Wage differential Bonus                            - NotePay Rate you are bonusing to]]-Table1[[#This Row],[Pay Rate]], \"\")","v":""},{"$f":"IF(Table1[[#This Row],[Wage differential Bonus                            - NotePay Rate you are bonusing to]]>0,Table1[[#This Row],[Bonus Rate]]*Table1[[#This Row],[Hours]],\"\")","v":""},null,null,null,null,null,{"$f":"IF(OR(AH619>0.001,AH619<-0.001),Table1[[#This Row],[Employee '#]],\" \")","v":" "},false,{"$f":"SUMIF(Table1[[#This Row],[Total Wage Diff bonus]:[Bank Bonus]],\"<> \")","v":0},{"$f":"IF(AA619>0, Table1[[#This Row],[Column4]], IF(AB619>0,Table1[[#This Row],[Column4]],IF(X619>0,\"1000\")))","v":false}]
[null,null,null,null,null,null,null,null,null,null,null,null,null,null,null,null,0,null,null,null,null,null,null,null,{"$f":"IF(Table1[[#This Row],[Wage differential Bonus                            - NotePay Rate you are bonusing to]]>0, Table1[[#This Row],[Wage differential Bonus                            - NotePay Rate you are bonusing to]]-Table1[[#This Row],[Pay Rate]], \"\")","v":""},{"$f":"IF(Table1[[#This Row],[Wage differential Bonus                            - NotePay Rate you are bonusing to]]>0,Table1[[#This Row],[Bonus Rate]]*Table1[[#This Row],[Hours]],\"\")","v":""},null,null,null,null,null,{"$f":"IF(OR(AH620>0.001,AH620<-0.001),Table1[[#This Row],[Employee '#]],\" \")","v":" "},false,{"$f":"SUMIF(Table1[[#This Row],[Total Wage Diff bonus]:[Bank Bonus]],\"<> \")","v":0},{"$f":"IF(AA620>0, Table1[[#This Row],[Column4]], IF(AB620>0,Table1[[#This Row],[Column4]],IF(X620>0,\"1000\")))","v":false}]
[null,null,null,null,null,null,null,null,null,null,null,null,null,null,null,null,0,null,null,null,null,null,null,null,{"$f":"IF(Table1[[#This Row],[Wage differential Bonus                            - NotePay Rate you are bonusing to]]>0, Table1[[#This Row],[Wage differential Bonus                            - NotePay Rate you are bonusing to]]-Table1[[#This Row],[Pay Rate]], \"\")","v":""},{"$f":"IF(Table1[[#This Row],[Wage differential Bonus                            - NotePay Rate you are bonusing to]]>0,Table1[[#This Row],[Bonus Rate]]*Table1[[#This Row],[Hours]],\"\")","v":""},null,null,null,null,null,{"$f":"IF(OR(AH621>0.001,AH621<-0.001),Table1[[#This Row],[Employee '#]],\" \")","v":" "},false,{"$f":"SUMIF(Table1[[#This Row],[Total Wage Diff bonus]:[Bank Bonus]],\"<> \")","v":0},{"$f":"IF(AA621>0, Table1[[#This Row],[Column4]], IF(AB621>0,Table1[[#This Row],[Column4]],IF(X621>0,\"1000\")))","v":false}]
[null,null,null,null,null,null,null,null,null,null,null,null,null,null,null,null,0,null,null,null,null,null,null,null,{"$f":"IF(Table1[[#This Row],[Wage differential Bonus                            - NotePay Rate you are bonusing to]]>0, Table1[[#This Row],[Wage differential Bonus                            - NotePay Rate you are bonusing to]]-Table1[[#This Row],[Pay Rate]], \"\")","v":""},{"$f":"IF(Table1[[#This Row],[Wage differential Bonus                            - NotePay Rate you are bonusing to]]>0,Table1[[#This Row],[Bonus Rate]]*Table1[[#This Row],[Hours]],\"\")","v":""},null,null,null,null,null,{"$f":"IF(OR(AH622>0.001,AH622<-0.001),Table1[[#This Row],[Employee '#]],\" \")","v":" "},false,{"$f":"SUMIF(Table1[[#This Row],[Total Wage Diff bonus]:[Bank Bonus]],\"<> \")","v":0},{"$f":"IF(AA622>0, Table1[[#This Row],[Column4]], IF(AB622>0,Table1[[#This Row],[Column4]],IF(X622>0,\"1000\")))","v":false}]
[null,null,null,null,null,null,null,null,null,null,null,null,null,null,null,null,0,null,null,null,null,null,null,null,{"$f":"IF(Table1[[#This Row],[Wage differential Bonus                            - NotePay Rate you are bonusing to]]>0, Table1[[#This Row],[Wage differential Bonus                            - NotePay Rate you are bonusing to]]-Table1[[#This Row],[Pay Rate]], \"\")","v":""},{"$f":"IF(Table1[[#This Row],[Wage differential Bonus                            - NotePay Rate you are bonusing to]]>0,Table1[[#This Row],[Bonus Rate]]*Table1[[#This Row],[Hours]],\"\")","v":""},null,null,null,null,null,{"$f":"IF(OR(AH623>0.001,AH623<-0.001),Table1[[#This Row],[Employee '#]],\" \")","v":" "},false,{"$f":"SUMIF(Table1[[#This Row],[Total Wage Diff bonus]:[Bank Bonus]],\"<> \")","v":0},{"$f":"IF(AA623>0, Table1[[#This Row],[Column4]], IF(AB623>0,Table1[[#This Row],[Column4]],IF(X623>0,\"1000\")))","v":false}]
[null,null,null,null,null,null,null,null,null,null,null,null,null,null,null,null,0,null,null,null,null,null,null,null,{"$f":"IF(Table1[[#This Row],[Wage differential Bonus                            - NotePay Rate you are bonusing to]]>0, Table1[[#This Row],[Wage differential Bonus                            - NotePay Rate you are bonusing to]]-Table1[[#This Row],[Pay Rate]], \"\")","v":""},{"$f":"IF(Table1[[#This Row],[Wage differential Bonus                            - NotePay Rate you are bonusing to]]>0,Table1[[#This Row],[Bonus Rate]]*Table1[[#This Row],[Hours]],\"\")","v":""},null,null,null,null,null,{"$f":"IF(OR(AH624>0.001,AH624<-0.001),Table1[[#This Row],[Employee '#]],\" \")","v":" "},false,{"$f":"SUMIF(Table1[[#This Row],[Total Wage Diff bonus]:[Bank Bonus]],\"<> \")","v":0},{"$f":"IF(AA624>0, Table1[[#This Row],[Column4]], IF(AB624>0,Table1[[#This Row],[Column4]],IF(X624>0,\"1000\")))","v":false}]
[null,null,null,null,null,null,null,null,null,null,null,null,null,null,null,null,0,null,null,null,null,null,null,null,{"$f":"IF(Table1[[#This Row],[Wage differential Bonus                            - NotePay Rate you are bonusing to]]>0, Table1[[#This Row],[Wage differential Bonus                            - NotePay Rate you are bonusing to]]-Table1[[#This Row],[Pay Rate]], \"\")","v":""},{"$f":"IF(Table1[[#This Row],[Wage differential Bonus                            - NotePay Rate you are bonusing to]]>0,Table1[[#This Row],[Bonus Rate]]*Table1[[#This Row],[Hours]],\"\")","v":""},null,null,null,null,null,{"$f":"IF(OR(AH625>0.001,AH625<-0.001),Table1[[#This Row],[Employee '#]],\" \")","v":" "},false,{"$f":"SUMIF(Table1[[#This Row],[Total Wage Diff bonus]:[Bank Bonus]],\"<> \")","v":0},{"$f":"IF(AA625>0, Table1[[#This Row],[Column4]], IF(AB625>0,Table1[[#This Row],[Column4]],IF(X625>0,\"1000\")))","v":false}]
[null,null,null,null,null,null,null,null,null,null,null,null,null,null,null,null,0,null,null,null,null,null,null,null,{"$f":"IF(Table1[[#This Row],[Wage differential Bonus                            - NotePay Rate you are bonusing to]]>0, Table1[[#This Row],[Wage differential Bonus                            - NotePay Rate you are bonusing to]]-Table1[[#This Row],[Pay Rate]], \"\")","v":""},{"$f":"IF(Table1[[#This Row],[Wage differential Bonus                            - NotePay Rate you are bonusing to]]>0,Table1[[#This Row],[Bonus Rate]]*Table1[[#This Row],[Hours]],\"\")","v":""},null,null,null,null,null,{"$f":"IF(OR(AH626>0.001,AH626<-0.001),Table1[[#This Row],[Employee '#]],\" \")","v":" "},false,{"$f":"SUMIF(Table1[[#This Row],[Total Wage Diff bonus]:[Bank Bonus]],\"<> \")","v":0},{"$f":"IF(AA626>0, Table1[[#This Row],[Column4]], IF(AB626>0,Table1[[#This Row],[Column4]],IF(X626>0,\"1000\")))","v":false}]
[null,null,null,null,null,null,null,null,null,null,null,null,null,null,null,null,0,null,null,null,null,null,null,null,{"$f":"IF(Table1[[#This Row],[Wage differential Bonus                            - NotePay Rate you are bonusing to]]>0, Table1[[#This Row],[Wage differential Bonus                            - NotePay Rate you are bonusing to]]-Table1[[#This Row],[Pay Rate]], \"\")","v":""},{"$f":"IF(Table1[[#This Row],[Wage differential Bonus                            - NotePay Rate you are bonusing to]]>0,Table1[[#This Row],[Bonus Rate]]*Table1[[#This Row],[Hours]],\"\")","v":""},null,null,null,null,null,{"$f":"IF(OR(AH627>0.001,AH627<-0.001),Table1[[#This Row],[Employee '#]],\" \")","v":" "},false,{"$f":"SUMIF(Table1[[#This Row],[Total Wage Diff bonus]:[Bank Bonus]],\"<> \")","v":0},{"$f":"IF(AA627>0, Table1[[#This Row],[Column4]], IF(AB627>0,Table1[[#This Row],[Column4]],IF(X627>0,\"1000\")))","v":false}]
[null,null,null,null,null,null,null,null,null,null,null,null,null,null,null,null,0,null,null,null,null,null,null,null,{"$f":"IF(Table1[[#This Row],[Wage differential Bonus                            - NotePay Rate you are bonusing to]]>0, Table1[[#This Row],[Wage differential Bonus                            - NotePay Rate you are bonusing to]]-Table1[[#This Row],[Pay Rate]], \"\")","v":""},{"$f":"IF(Table1[[#This Row],[Wage differential Bonus                            - NotePay Rate you are bonusing to]]>0,Table1[[#This Row],[Bonus Rate]]*Table1[[#This Row],[Hours]],\"\")","v":""},null,null,null,null,null,{"$f":"IF(OR(AH628>0.001,AH628<-0.001),Table1[[#This Row],[Employee '#]],\" \")","v":" "},false,{"$f":"SUMIF(Table1[[#This Row],[Total Wage Diff bonus]:[Bank Bonus]],\"<> \")","v":0},{"$f":"IF(AA628>0, Table1[[#This Row],[Column4]], IF(AB628>0,Table1[[#This Row],[Column4]],IF(X628>0,\"1000\")))","v":false}]
[null,null,null,null,null,null,null,null,null,null,null,null,null,null,null,null,0,null,null,null,null,null,null,null,{"$f":"IF(Table1[[#This Row],[Wage differential Bonus                            - NotePay Rate you are bonusing to]]>0, Table1[[#This Row],[Wage differential Bonus                            - NotePay Rate you are bonusing to]]-Table1[[#This Row],[Pay Rate]], \"\")","v":""},{"$f":"IF(Table1[[#This Row],[Wage differential Bonus                            - NotePay Rate you are bonusing to]]>0,Table1[[#This Row],[Bonus Rate]]*Table1[[#This Row],[Hours]],\"\")","v":""},null,null,null,null,null,{"$f":"IF(OR(AH629>0.001,AH629<-0.001),Table1[[#This Row],[Employee '#]],\" \")","v":" "},false,{"$f":"SUMIF(Table1[[#This Row],[Total Wage Diff bonus]:[Bank Bonus]],\"<> \")","v":0},{"$f":"IF(AA629>0, Table1[[#This Row],[Column4]], IF(AB629>0,Table1[[#This Row],[Column4]],IF(X629>0,\"1000\")))","v":false}]
[null,null,null,null,null,null,null,null,null,null,null,null,null,null,null,null,0,null,null,null,null,null,null,null,{"$f":"IF(Table1[[#This Row],[Wage differential Bonus                            - NotePay Rate you are bonusing to]]>0, Table1[[#This Row],[Wage differential Bonus                            - NotePay Rate you are bonusing to]]-Table1[[#This Row],[Pay Rate]], \"\")","v":""},{"$f":"IF(Table1[[#This Row],[Wage differential Bonus                            - NotePay Rate you are bonusing to]]>0,Table1[[#This Row],[Bonus Rate]]*Table1[[#This Row],[Hours]],\"\")","v":""},null,null,null,null,null,{"$f":"IF(OR(AH630>0.001,AH630<-0.001),Table1[[#This Row],[Employee '#]],\" \")","v":" "},false,{"$f":"SUMIF(Table1[[#This Row],[Total Wage Diff bonus]:[Bank Bonus]],\"<> \")","v":0},{"$f":"IF(AA630>0, Table1[[#This Row],[Column4]], IF(AB630>0,Table1[[#This Row],[Column4]],IF(X630>0,\"1000\")))","v":false}]
[null,null,null,null,null,null,null,null,null,null,null,null,null,null,null,null,0,null,null,null,null,null,null,null,{"$f":"IF(Table1[[#This Row],[Wage differential Bonus                            - NotePay Rate you are bonusing to]]>0, Table1[[#This Row],[Wage differential Bonus                            - NotePay Rate you are bonusing to]]-Table1[[#This Row],[Pay Rate]], \"\")","v":""},{"$f":"IF(Table1[[#This Row],[Wage differential Bonus                            - NotePay Rate you are bonusing to]]>0,Table1[[#This Row],[Bonus Rate]]*Table1[[#This Row],[Hours]],\"\")","v":""},null,null,null,null,null,{"$f":"IF(OR(AH631>0.001,AH631<-0.001),Table1[[#This Row],[Employee '#]],\" \")","v":" "},false,{"$f":"SUMIF(Table1[[#This Row],[Total Wage Diff bonus]:[Bank Bonus]],\"<> \")","v":0},{"$f":"IF(AA631>0, Table1[[#This Row],[Column4]], IF(AB631>0,Table1[[#This Row],[Column4]],IF(X631>0,\"1000\")))","v":false}]
[null,null,null,null,null,null,null,null,null,null,null,null,null,null,null,null,0,null,null,null,null,null,null,null,{"$f":"IF(Table1[[#This Row],[Wage differential Bonus                            - NotePay Rate you are bonusing to]]>0, Table1[[#This Row],[Wage differential Bonus                            - NotePay Rate you are bonusing to]]-Table1[[#This Row],[Pay Rate]], \"\")","v":""},{"$f":"IF(Table1[[#This Row],[Wage differential Bonus                            - NotePay Rate you are bonusing to]]>0,Table1[[#This Row],[Bonus Rate]]*Table1[[#This Row],[Hours]],\"\")","v":""},null,null,null,null,null,{"$f":"IF(OR(AH632>0.001,AH632<-0.001),Table1[[#This Row],[Employee '#]],\" \")","v":" "},false,{"$f":"SUMIF(Table1[[#This Row],[Total Wage Diff bonus]:[Bank Bonus]],\"<> \")","v":0},{"$f":"IF(AA632>0, Table1[[#This Row],[Column4]], IF(AB632>0,Table1[[#This Row],[Column4]],IF(X632>0,\"1000\")))","v":false}]
[null,null,null,null,null,null,null,null,null,null,null,null,null,null,null,null,0,null,null,null,null,null,null,null,{"$f":"IF(Table1[[#This Row],[Wage differential Bonus                            - NotePay Rate you are bonusing to]]>0, Table1[[#This Row],[Wage differential Bonus                            - NotePay Rate you are bonusing to]]-Table1[[#This Row],[Pay Rate]], \"\")","v":""},{"$f":"IF(Table1[[#This Row],[Wage differential Bonus                            - NotePay Rate you are bonusing to]]>0,Table1[[#This Row],[Bonus Rate]]*Table1[[#This Row],[Hours]],\"\")","v":""},null,null,null,null,null,{"$f":"IF(OR(AH633>0.001,AH633<-0.001),Table1[[#This Row],[Employee '#]],\" \")","v":" "},false,{"$f":"SUMIF(Table1[[#This Row],[Total Wage Diff bonus]:[Bank Bonus]],\"<> \")","v":0},{"$f":"IF(AA633>0, Table1[[#This Row],[Column4]], IF(AB633>0,Table1[[#This Row],[Column4]],IF(X633>0,\"1000\")))","v":false}]
[null,null,null,null,null,null,null,null,null,null,null,null,null,null,null,null,0,null,null,null,null,null,null,null,{"$f":"IF(Table1[[#This Row],[Wage differential Bonus                            - NotePay Rate you are bonusing to]]>0, Table1[[#This Row],[Wage differential Bonus                            - NotePay Rate you are bonusing to]]-Table1[[#This Row],[Pay Rate]], \"\")","v":""},{"$f":"IF(Table1[[#This Row],[Wage differential Bonus                            - NotePay Rate you are bonusing to]]>0,Table1[[#This Row],[Bonus Rate]]*Table1[[#This Row],[Hours]],\"\")","v":""},null,null,null,null,null,{"$f":"IF(OR(AH634>0.001,AH634<-0.001),Table1[[#This Row],[Employee '#]],\" \")","v":" "},false,{"$f":"SUMIF(Table1[[#This Row],[Total Wage Diff bonus]:[Bank Bonus]],\"<> \")","v":0},{"$f":"IF(AA634>0, Table1[[#This Row],[Column4]], IF(AB634>0,Table1[[#This Row],[Column4]],IF(X634>0,\"1000\")))","v":false}]
[null,null,null,null,null,null,null,null,null,null,null,null,null,null,null,null,0,null,null,null,null,null,null,null,{"$f":"IF(Table1[[#This Row],[Wage differential Bonus                            - NotePay Rate you are bonusing to]]>0, Table1[[#This Row],[Wage differential Bonus                            - NotePay Rate you are bonusing to]]-Table1[[#This Row],[Pay Rate]], \"\")","v":""},{"$f":"IF(Table1[[#This Row],[Wage differential Bonus                            - NotePay Rate you are bonusing to]]>0,Table1[[#This Row],[Bonus Rate]]*Table1[[#This Row],[Hours]],\"\")","v":""},null,null,null,null,null,{"$f":"IF(OR(AH635>0.001,AH635<-0.001),Table1[[#This Row],[Employee '#]],\" \")","v":" "},false,{"$f":"SUMIF(Table1[[#This Row],[Total Wage Diff bonus]:[Bank Bonus]],\"<> \")","v":0},{"$f":"IF(AA635>0, Table1[[#This Row],[Column4]], IF(AB635>0,Table1[[#This Row],[Column4]],IF(X635>0,\"1000\")))","v":false}]
[null,null,null,null,null,null,null,null,null,null,null,null,null,null,null,null,0,null,null,null,null,null,null,null,{"$f":"IF(Table1[[#This Row],[Wage differential Bonus                            - NotePay Rate you are bonusing to]]>0, Table1[[#This Row],[Wage differential Bonus                            - NotePay Rate you are bonusing to]]-Table1[[#This Row],[Pay Rate]], \"\")","v":""},{"$f":"IF(Table1[[#This Row],[Wage differential Bonus                            - NotePay Rate you are bonusing to]]>0,Table1[[#This Row],[Bonus Rate]]*Table1[[#This Row],[Hours]],\"\")","v":""},null,null,null,null,null,{"$f":"IF(OR(AH636>0.001,AH636<-0.001),Table1[[#This Row],[Employee '#]],\" \")","v":" "},false,{"$f":"SUMIF(Table1[[#This Row],[Total Wage Diff bonus]:[Bank Bonus]],\"<> \")","v":0},{"$f":"IF(AA636>0, Table1[[#This Row],[Column4]], IF(AB636>0,Table1[[#This Row],[Column4]],IF(X636>0,\"1000\")))","v":false}]
[null,null,null,null,null,null,null,null,null,null,null,null,null,null,null,null,0,null,null,null,null,null,null,null,{"$f":"IF(Table1[[#This Row],[Wage differential Bonus                            - NotePay Rate you are bonusing to]]>0, Table1[[#This Row],[Wage differential Bonus                            - NotePay Rate you are bonusing to]]-Table1[[#This Row],[Pay Rate]], \"\")","v":""},{"$f":"IF(Table1[[#This Row],[Wage differential Bonus                            - NotePay Rate you are bonusing to]]>0,Table1[[#This Row],[Bonus Rate]]*Table1[[#This Row],[Hours]],\"\")","v":""},null,null,null,null,null,{"$f":"IF(OR(AH637>0.001,AH637<-0.001),Table1[[#This Row],[Employee '#]],\" \")","v":" "},false,{"$f":"SUMIF(Table1[[#This Row],[Total Wage Diff bonus]:[Bank Bonus]],\"<> \")","v":0},{"$f":"IF(AA637>0, Table1[[#This Row],[Column4]], IF(AB637>0,Table1[[#This Row],[Column4]],IF(X637>0,\"1000\")))","v":false}]
[null,null,null,null,null,null,null,null,null,null,null,null,null,null,null,null,0,null,null,null,null,null,null,null,{"$f":"IF(Table1[[#This Row],[Wage differential Bonus                            - NotePay Rate you are bonusing to]]>0, Table1[[#This Row],[Wage differential Bonus                            - NotePay Rate you are bonusing to]]-Table1[[#This Row],[Pay Rate]], \"\")","v":""},{"$f":"IF(Table1[[#This Row],[Wage differential Bonus                            - NotePay Rate you are bonusing to]]>0,Table1[[#This Row],[Bonus Rate]]*Table1[[#This Row],[Hours]],\"\")","v":""},null,null,null,null,null,{"$f":"IF(OR(AH638>0.001,AH638<-0.001),Table1[[#This Row],[Employee '#]],\" \")","v":" "},false,{"$f":"SUMIF(Table1[[#This Row],[Total Wage Diff bonus]:[Bank Bonus]],\"<> \")","v":0},{"$f":"IF(AA638>0, Table1[[#This Row],[Column4]], IF(AB638>0,Table1[[#This Row],[Column4]],IF(X638>0,\"1000\")))","v":false}]
[null,null,null,null,null,null,null,null,null,null,null,null,null,null,null,null,0,null,null,null,null,null,null,null,{"$f":"IF(Table1[[#This Row],[Wage differential Bonus                            - NotePay Rate you are bonusing to]]>0, Table1[[#This Row],[Wage differential Bonus                            - NotePay Rate you are bonusing to]]-Table1[[#This Row],[Pay Rate]], \"\")","v":""},{"$f":"IF(Table1[[#This Row],[Wage differential Bonus                            - NotePay Rate you are bonusing to]]>0,Table1[[#This Row],[Bonus Rate]]*Table1[[#This Row],[Hours]],\"\")","v":""},null,null,null,null,null,{"$f":"IF(OR(AH639>0.001,AH639<-0.001),Table1[[#This Row],[Employee '#]],\" \")","v":" "},false,{"$f":"SUMIF(Table1[[#This Row],[Total Wage Diff bonus]:[Bank Bonus]],\"<> \")","v":0},{"$f":"IF(AA639>0, Table1[[#This Row],[Column4]], IF(AB639>0,Table1[[#This Row],[Column4]],IF(X639>0,\"1000\")))","v":false}]
[null,null,null,null,null,null,null,null,null,null,null,null,null,null,null,null,0,null,null,null,null,null,null,null,{"$f":"IF(Table1[[#This Row],[Wage differential Bonus                            - NotePay Rate you are bonusing to]]>0, Table1[[#This Row],[Wage differential Bonus                            - NotePay Rate you are bonusing to]]-Table1[[#This Row],[Pay Rate]], \"\")","v":""},{"$f":"IF(Table1[[#This Row],[Wage differential Bonus                            - NotePay Rate you are bonusing to]]>0,Table1[[#This Row],[Bonus Rate]]*Table1[[#This Row],[Hours]],\"\")","v":""},null,null,null,null,null,{"$f":"IF(OR(AH640>0.001,AH640<-0.001),Table1[[#This Row],[Employee '#]],\" \")","v":" "},false,{"$f":"SUMIF(Table1[[#This Row],[Total Wage Diff bonus]:[Bank Bonus]],\"<> \")","v":0},{"$f":"IF(AA640>0, Table1[[#This Row],[Column4]], IF(AB640>0,Table1[[#This Row],[Column4]],IF(X640>0,\"1000\")))","v":false}]
[null,null,null,null,null,null,null,null,null,null,null,null,null,null,null,null,0,null,null,null,null,null,null,null,{"$f":"IF(Table1[[#This Row],[Wage differential Bonus                            - NotePay Rate you are bonusing to]]>0, Table1[[#This Row],[Wage differential Bonus                            - NotePay Rate you are bonusing to]]-Table1[[#This Row],[Pay Rate]], \"\")","v":""},{"$f":"IF(Table1[[#This Row],[Wage differential Bonus                            - NotePay Rate you are bonusing to]]>0,Table1[[#This Row],[Bonus Rate]]*Table1[[#This Row],[Hours]],\"\")","v":""},null,null,null,null,null,{"$f":"IF(OR(AH641>0.001,AH641<-0.001),Table1[[#This Row],[Employee '#]],\" \")","v":" "},false,{"$f":"SUMIF(Table1[[#This Row],[Total Wage Diff bonus]:[Bank Bonus]],\"<> \")","v":0},{"$f":"IF(AA641>0, Table1[[#This Row],[Column4]], IF(AB641>0,Table1[[#This Row],[Column4]],IF(X641>0,\"1000\")))","v":false}]
[null,null,null,null,null,null,null,null,null,null,null,null,null,null,null,null,0,null,null,null,null,null,null,null,{"$f":"IF(Table1[[#This Row],[Wage differential Bonus                            - NotePay Rate you are bonusing to]]>0, Table1[[#This Row],[Wage differential Bonus                            - NotePay Rate you are bonusing to]]-Table1[[#This Row],[Pay Rate]], \"\")","v":""},{"$f":"IF(Table1[[#This Row],[Wage differential Bonus                            - NotePay Rate you are bonusing to]]>0,Table1[[#This Row],[Bonus Rate]]*Table1[[#This Row],[Hours]],\"\")","v":""},null,null,null,null,null,{"$f":"IF(OR(AH642>0.001,AH642<-0.001),Table1[[#This Row],[Employee '#]],\" \")","v":" "},false,{"$f":"SUMIF(Table1[[#This Row],[Total Wage Diff bonus]:[Bank Bonus]],\"<> \")","v":0},{"$f":"IF(AA642>0, Table1[[#This Row],[Column4]], IF(AB642>0,Table1[[#This Row],[Column4]],IF(X642>0,\"1000\")))","v":false}]
[null,null,null,null,null,null,null,null,null,null,null,null,null,null,null,null,0,null,null,null,null,null,null,null,{"$f":"IF(Table1[[#This Row],[Wage differential Bonus                            - NotePay Rate you are bonusing to]]>0, Table1[[#This Row],[Wage differential Bonus                            - NotePay Rate you are bonusing to]]-Table1[[#This Row],[Pay Rate]], \"\")","v":""},{"$f":"IF(Table1[[#This Row],[Wage differential Bonus                            - NotePay Rate you are bonusing to]]>0,Table1[[#This Row],[Bonus Rate]]*Table1[[#This Row],[Hours]],\"\")","v":""},null,null,null,null,null,{"$f":"IF(OR(AH643>0.001,AH643<-0.001),Table1[[#This Row],[Employee '#]],\" \")","v":" "},false,{"$f":"SUMIF(Table1[[#This Row],[Total Wage Diff bonus]:[Bank Bonus]],\"<> \")","v":0},{"$f":"IF(AA643>0, Table1[[#This Row],[Column4]], IF(AB643>0,Table1[[#This Row],[Column4]],IF(X643>0,\"1000\")))","v":false}]
[null,null,null,null,null,null,null,null,null,null,null,null,null,null,null,null,{"$f":"L644+P644","v":0},null,null,null,null,null,null,null,{"$f":"IF(Table1[[#This Row],[Wage differential Bonus                            - NotePay Rate you are bonusing to]]>0, Table1[[#This Row],[Wage differential Bonus                            - NotePay Rate you are bonusing to]]-Table1[[#This Row],[Pay Rate]], \"\")","v":""},{"$f":"IF(Table1[[#This Row],[Wage differential Bonus                            - NotePay Rate you are bonusing to]]>0,Table1[[#This Row],[Bonus Rate]]*Table1[[#This Row],[Hours]],\"\")","v":""},null,null,null,null,null,{"$f":"IF(OR(AH644>0.001,AH644<-0.001),Table1[[#This Row],[Employee '#]],\" \")","v":" "},{"$f":"IF(AA644>0, \"28\", IF(AB644>0,\"53\",IF(X644>0,\"20\")))","v":false},{"$f":"SUMIF(Table1[[#This Row],[Total Wage Diff bonus]:[Bank Bonus]],\"<> \")","v":0},{"$f":"IF(AA644>0, Table1[[#This Row],[Column4]], IF(AB644>0,Table1[[#This Row],[Column4]],IF(X644>0,\"1000\")))","v":false}]
[null,null,null,null,null,null,null,null,null,null,null,null,null,null,null,null,0,null,null,null,null,null,null,null,{"$f":"IF(Table1[[#This Row],[Wage differential Bonus                            - NotePay Rate you are bonusing to]]>0, Table1[[#This Row],[Wage differential Bonus                            - NotePay Rate you are bonusing to]]-Table1[[#This Row],[Pay Rate]], \"\")","v":""},{"$f":"IF(Table1[[#This Row],[Wage differential Bonus                            - NotePay Rate you are bonusing to]]>0,Table1[[#This Row],[Bonus Rate]]*Table1[[#This Row],[Hours]],\"\")","v":""},null,null,null,null,null,{"$f":"IF(OR(AH645>0.001,AH645<-0.001),Table1[[#This Row],[Employee '#]],\" \")","v":" "},false,{"$f":"SUMIF(Table1[[#This Row],[Total Wage Diff bonus]:[Bank Bonus]],\"<> \")","v":0},{"$f":"IF(AA645>0, Table1[[#This Row],[Column4]], IF(AB645>0,Table1[[#This Row],[Column4]],IF(X645>0,\"1000\")))","v":false}]
[null,null,null,null,null,null,null,null,null,null,null,null,null,null,null,null,0,null,null,null,null,null,null,null,{"$f":"IF(Table1[[#This Row],[Wage differential Bonus                            - NotePay Rate you are bonusing to]]>0, Table1[[#This Row],[Wage differential Bonus                            - NotePay Rate you are bonusing to]]-Table1[[#This Row],[Pay Rate]], \"\")","v":""},{"$f":"IF(Table1[[#This Row],[Wage differential Bonus                            - NotePay Rate you are bonusing to]]>0,Table1[[#This Row],[Bonus Rate]]*Table1[[#This Row],[Hours]],\"\")","v":""},null,null,null,null,null,{"$f":"IF(OR(AH646>0.001,AH646<-0.001),Table1[[#This Row],[Employee '#]],\" \")","v":" "},false,{"$f":"SUMIF(Table1[[#This Row],[Total Wage Diff bonus]:[Bank Bonus]],\"<> \")","v":0},{"$f":"IF(AA646>0, Table1[[#This Row],[Column4]], IF(AB646>0,Table1[[#This Row],[Column4]],IF(X646>0,\"1000\")))","v":false}]
[null,null,null,null,null,null,null,null,null,null,null,null,null,null,null,null,0,null,null,null,null,null,null,null,{"$f":"IF(Table1[[#This Row],[Wage differential Bonus                            - NotePay Rate you are bonusing to]]>0, Table1[[#This Row],[Wage differential Bonus                            - NotePay Rate you are bonusing to]]-Table1[[#This Row],[Pay Rate]], \"\")","v":""},{"$f":"IF(Table1[[#This Row],[Wage differential Bonus                            - NotePay Rate you are bonusing to]]>0,Table1[[#This Row],[Bonus Rate]]*Table1[[#This Row],[Hours]],\"\")","v":""},null,null,null,null,null,{"$f":"IF(OR(AH647>0.001,AH647<-0.001),Table1[[#This Row],[Employee '#]],\" \")","v":" "},false,{"$f":"SUMIF(Table1[[#This Row],[Total Wage Diff bonus]:[Bank Bonus]],\"<> \")","v":0},{"$f":"IF(AA647>0, Table1[[#This Row],[Column4]], IF(AB647>0,Table1[[#This Row],[Column4]],IF(X647>0,\"1000\")))","v":false}]
[null,null,null,null,null,null,null,null,null,null,null,null,null,null,null,null,0,null,null,null,null,null,null,null,{"$f":"IF(Table1[[#This Row],[Wage differential Bonus                            - NotePay Rate you are bonusing to]]>0, Table1[[#This Row],[Wage differential Bonus                            - NotePay Rate you are bonusing to]]-Table1[[#This Row],[Pay Rate]], \"\")","v":""},{"$f":"IF(Table1[[#This Row],[Wage differential Bonus                            - NotePay Rate you are bonusing to]]>0,Table1[[#This Row],[Bonus Rate]]*Table1[[#This Row],[Hours]],\"\")","v":""},null,null,null,null,null,{"$f":"IF(OR(AH648>0.001,AH648<-0.001),Table1[[#This Row],[Employee '#]],\" \")","v":" "},false,{"$f":"SUMIF(Table1[[#This Row],[Total Wage Diff bonus]:[Bank Bonus]],\"<> \")","v":0},{"$f":"IF(AA648>0, Table1[[#This Row],[Column4]], IF(AB648>0,Table1[[#This Row],[Column4]],IF(X648>0,\"1000\")))","v":false}]
[null,null,null,null,null,null,null,null,null,null,null,null,null,null,null,null,0,null,null,null,null,null,null,null,{"$f":"IF(Table1[[#This Row],[Wage differential Bonus                            - NotePay Rate you are bonusing to]]>0, Table1[[#This Row],[Wage differential Bonus                            - NotePay Rate you are bonusing to]]-Table1[[#This Row],[Pay Rate]], \"\")","v":""},{"$f":"IF(Table1[[#This Row],[Wage differential Bonus                            - NotePay Rate you are bonusing to]]>0,Table1[[#This Row],[Bonus Rate]]*Table1[[#This Row],[Hours]],\"\")","v":""},null,null,null,null,null,{"$f":"IF(OR(AH649>0.001,AH649<-0.001),Table1[[#This Row],[Employee '#]],\" \")","v":" "},false,{"$f":"SUMIF(Table1[[#This Row],[Total Wage Diff bonus]:[Bank Bonus]],\"<> \")","v":0},{"$f":"IF(AA649>0, Table1[[#This Row],[Column4]], IF(AB649>0,Table1[[#This Row],[Column4]],IF(X649>0,\"1000\")))","v":false}]
[null,null,null,null,null,null,null,null,null,null,null,null,null,null,null,null,0,null,null,null,null,null,null,null,{"$f":"IF(Table1[[#This Row],[Wage differential Bonus                            - NotePay Rate you are bonusing to]]>0, Table1[[#This Row],[Wage differential Bonus                            - NotePay Rate you are bonusing to]]-Table1[[#This Row],[Pay Rate]], \"\")","v":""},{"$f":"IF(Table1[[#This Row],[Wage differential Bonus                            - NotePay Rate you are bonusing to]]>0,Table1[[#This Row],[Bonus Rate]]*Table1[[#This Row],[Hours]],\"\")","v":""},null,null,null,null,null,{"$f":"IF(OR(AH650>0.001,AH650<-0.001),Table1[[#This Row],[Employee '#]],\" \")","v":" "},false,{"$f":"SUMIF(Table1[[#This Row],[Total Wage Diff bonus]:[Bank Bonus]],\"<> \")","v":0},{"$f":"IF(AA650>0, Table1[[#This Row],[Column4]], IF(AB650>0,Table1[[#This Row],[Column4]],IF(X650>0,\"1000\")))","v":false}]
[null,null,null,null,null,null,null,null,null,null,null,null,null,null,null,null,0,null,null,null,null,null,null,null,{"$f":"IF(Table1[[#This Row],[Wage differential Bonus                            - NotePay Rate you are bonusing to]]>0, Table1[[#This Row],[Wage differential Bonus                            - NotePay Rate you are bonusing to]]-Table1[[#This Row],[Pay Rate]], \"\")","v":""},{"$f":"IF(Table1[[#This Row],[Wage differential Bonus                            - NotePay Rate you are bonusing to]]>0,Table1[[#This Row],[Bonus Rate]]*Table1[[#This Row],[Hours]],\"\")","v":""},null,null,null,null,null,{"$f":"IF(OR(AH651>0.001,AH651<-0.001),Table1[[#This Row],[Employee '#]],\" \")","v":" "},false,{"$f":"SUMIF(Table1[[#This Row],[Total Wage Diff bonus]:[Bank Bonus]],\"<> \")","v":0},{"$f":"IF(AA651>0, Table1[[#This Row],[Column4]], IF(AB651>0,Table1[[#This Row],[Column4]],IF(X651>0,\"1000\")))","v":false}]
[null,null,null,null,null,null,null,null,null,null,null,null,null,null,null,null,0,null,null,null,null,null,null,null,{"$f":"IF(Table1[[#This Row],[Wage differential Bonus                            - NotePay Rate you are bonusing to]]>0, Table1[[#This Row],[Wage differential Bonus                            - NotePay Rate you are bonusing to]]-Table1[[#This Row],[Pay Rate]], \"\")","v":""},{"$f":"IF(Table1[[#This Row],[Wage differential Bonus                            - NotePay Rate you are bonusing to]]>0,Table1[[#This Row],[Bonus Rate]]*Table1[[#This Row],[Hours]],\"\")","v":""},null,null,null,null,null,{"$f":"IF(OR(AH652>0.001,AH652<-0.001),Table1[[#This Row],[Employee '#]],\" \")","v":" "},false,{"$f":"SUMIF(Table1[[#This Row],[Total Wage Diff bonus]:[Bank Bonus]],\"<> \")","v":0},{"$f":"IF(AA652>0, Table1[[#This Row],[Column4]], IF(AB652>0,Table1[[#This Row],[Column4]],IF(X652>0,\"1000\")))","v":false}]
[null,null,null,null,null,null,null,null,null,null,null,null,null,null,null,null,0,null,null,null,null,null,null,null,{"$f":"IF(Table1[[#This Row],[Wage differential Bonus                            - NotePay Rate you are bonusing to]]>0, Table1[[#This Row],[Wage differential Bonus                            - NotePay Rate you are bonusing to]]-Table1[[#This Row],[Pay Rate]], \"\")","v":""},{"$f":"IF(Table1[[#This Row],[Wage differential Bonus                            - NotePay Rate you are bonusing to]]>0,Table1[[#This Row],[Bonus Rate]]*Table1[[#This Row],[Hours]],\"\")","v":""},null,null,null,null,null,{"$f":"IF(OR(AH653>0.001,AH653<-0.001),Table1[[#This Row],[Employee '#]],\" \")","v":" "},false,{"$f":"SUMIF(Table1[[#This Row],[Total Wage Diff bonus]:[Bank Bonus]],\"<> \")","v":0},{"$f":"IF(AA653>0, Table1[[#This Row],[Column4]], IF(AB653>0,Table1[[#This Row],[Column4]],IF(X653>0,\"1000\")))","v":false}]
[null,null,null,null,null,null,null,null,null,null,null,null,null,null,null,null,0,null,null,null,null,null,null,null,{"$f":"IF(Table1[[#This Row],[Wage differential Bonus                            - NotePay Rate you are bonusing to]]>0, Table1[[#This Row],[Wage differential Bonus                            - NotePay Rate you are bonusing to]]-Table1[[#This Row],[Pay Rate]], \"\")","v":""},{"$f":"IF(Table1[[#This Row],[Wage differential Bonus                            - NotePay Rate you are bonusing to]]>0,Table1[[#This Row],[Bonus Rate]]*Table1[[#This Row],[Hours]],\"\")","v":""},null,null,null,null,null,{"$f":"IF(OR(AH654>0.001,AH654<-0.001),Table1[[#This Row],[Employee '#]],\" \")","v":" "},false,{"$f":"SUMIF(Table1[[#This Row],[Total Wage Diff bonus]:[Bank Bonus]],\"<> \")","v":0},{"$f":"IF(AA654>0, Table1[[#This Row],[Column4]], IF(AB654>0,Table1[[#This Row],[Column4]],IF(X654>0,\"1000\")))","v":false}]
[null,null,null,null,null,null,null,null,null,null,null,null,null,null,null,null,0,null,null,null,null,null,null,null,{"$f":"IF(Table1[[#This Row],[Wage differential Bonus                            - NotePay Rate you are bonusing to]]>0, Table1[[#This Row],[Wage differential Bonus                            - NotePay Rate you are bonusing to]]-Table1[[#This Row],[Pay Rate]], \"\")","v":""},{"$f":"IF(Table1[[#This Row],[Wage differential Bonus                            - NotePay Rate you are bonusing to]]>0,Table1[[#This Row],[Bonus Rate]]*Table1[[#This Row],[Hours]],\"\")","v":""},null,null,null,null,null,{"$f":"IF(OR(AH655>0.001,AH655<-0.001),Table1[[#This Row],[Employee '#]],\" \")","v":" "},false,{"$f":"SUMIF(Table1[[#This Row],[Total Wage Diff bonus]:[Bank Bonus]],\"<> \")","v":0},{"$f":"IF(AA655>0, Table1[[#This Row],[Column4]], IF(AB655>0,Table1[[#This Row],[Column4]],IF(X655>0,\"1000\")))","v":false}]
[null,null,null,null,null,null,null,null,null,null,null,null,null,null,null,null,0,null,null,null,null,null,null,null,{"$f":"IF(Table1[[#This Row],[Wage differential Bonus                            - NotePay Rate you are bonusing to]]>0, Table1[[#This Row],[Wage differential Bonus                            - NotePay Rate you are bonusing to]]-Table1[[#This Row],[Pay Rate]], \"\")","v":""},{"$f":"IF(Table1[[#This Row],[Wage differential Bonus                            - NotePay Rate you are bonusing to]]>0,Table1[[#This Row],[Bonus Rate]]*Table1[[#This Row],[Hours]],\"\")","v":""},null,null,null,null,null,{"$f":"IF(OR(AH656>0.001,AH656<-0.001),Table1[[#This Row],[Employee '#]],\" \")","v":" "},false,{"$f":"SUMIF(Table1[[#This Row],[Total Wage Diff bonus]:[Bank Bonus]],\"<> \")","v":0},{"$f":"IF(AA656>0, Table1[[#This Row],[Column4]], IF(AB656>0,Table1[[#This Row],[Column4]],IF(X656>0,\"1000\")))","v":false}]
[null,null,null,null,null,null,null,null,null,null,null,null,null,null,null,null,0,null,null,null,null,null,null,null,{"$f":"IF(Table1[[#This Row],[Wage differential Bonus                            - NotePay Rate you are bonusing to]]>0, Table1[[#This Row],[Wage differential Bonus                            - NotePay Rate you are bonusing to]]-Table1[[#This Row],[Pay Rate]], \"\")","v":""},{"$f":"IF(Table1[[#This Row],[Wage differential Bonus                            - NotePay Rate you are bonusing to]]>0,Table1[[#This Row],[Bonus Rate]]*Table1[[#This Row],[Hours]],\"\")","v":""},null,null,null,null,null,{"$f":"IF(OR(AH657>0.001,AH657<-0.001),Table1[[#This Row],[Employee '#]],\" \")","v":" "},false,{"$f":"SUMIF(Table1[[#This Row],[Total Wage Diff bonus]:[Bank Bonus]],\"<> \")","v":0},{"$f":"IF(AA657>0, Table1[[#This Row],[Column4]], IF(AB657>0,Table1[[#This Row],[Column4]],IF(X657>0,\"1000\")))","v":false}]
[null,null,null,null,null,null,null,null,null,null,null,null,null,null,null,null,0,null,null,null,null,null,null,null,{"$f":"IF(Table1[[#This Row],[Wage differential Bonus                            - NotePay Rate you are bonusing to]]>0, Table1[[#This Row],[Wage differential Bonus                            - NotePay Rate you are bonusing to]]-Table1[[#This Row],[Pay Rate]], \"\")","v":""},{"$f":"IF(Table1[[#This Row],[Wage differential Bonus                            - NotePay Rate you are bonusing to]]>0,Table1[[#This Row],[Bonus Rate]]*Table1[[#This Row],[Hours]],\"\")","v":""},null,null,null,null,null,{"$f":"IF(OR(AH658>0.001,AH658<-0.001),Table1[[#This Row],[Employee '#]],\" \")","v":" "},false,{"$f":"SUMIF(Table1[[#This Row],[Total Wage Diff bonus]:[Bank Bonus]],\"<> \")","v":0},{"$f":"IF(AA658>0, Table1[[#This Row],[Column4]], IF(AB658>0,Table1[[#This Row],[Column4]],IF(X658>0,\"1000\")))","v":false}]
[null,null,null,null,null,null,null,null,null,null,null,null,null,null,null,null,0,null,null,null,null,null,null,null,{"$f":"IF(Table1[[#This Row],[Wage differential Bonus                            - NotePay Rate you are bonusing to]]>0, Table1[[#This Row],[Wage differential Bonus                            - NotePay Rate you are bonusing to]]-Table1[[#This Row],[Pay Rate]], \"\")","v":""},{"$f":"IF(Table1[[#This Row],[Wage differential Bonus                            - NotePay Rate you are bonusing to]]>0,Table1[[#This Row],[Bonus Rate]]*Table1[[#This Row],[Hours]],\"\")","v":""},null,null,null,null,null,{"$f":"IF(OR(AH659>0.001,AH659<-0.001),Table1[[#This Row],[Employee '#]],\" \")","v":" "},false,{"$f":"SUMIF(Table1[[#This Row],[Total Wage Diff bonus]:[Bank Bonus]],\"<> \")","v":0},{"$f":"IF(AA659>0, Table1[[#This Row],[Column4]], IF(AB659>0,Table1[[#This Row],[Column4]],IF(X659>0,\"1000\")))","v":false}]
[null,null,null,null,null,null,null,null,null,null,null,null,null,null,null,null,0,null,null,null,null,null,null,null,{"$f":"IF(Table1[[#This Row],[Wage differential Bonus                            - NotePay Rate you are bonusing to]]>0, Table1[[#This Row],[Wage differential Bonus                            - NotePay Rate you are bonusing to]]-Table1[[#This Row],[Pay Rate]], \"\")","v":""},{"$f":"IF(Table1[[#This Row],[Wage differential Bonus                            - NotePay Rate you are bonusing to]]>0,Table1[[#This Row],[Bonus Rate]]*Table1[[#This Row],[Hours]],\"\")","v":""},null,null,null,null,null,{"$f":"IF(OR(AH660>0.001,AH660<-0.001),Table1[[#This Row],[Employee '#]],\" \")","v":" "},false,{"$f":"SUMIF(Table1[[#This Row],[Total Wage Diff bonus]:[Bank Bonus]],\"<> \")","v":0},{"$f":"IF(AA660>0, Table1[[#This Row],[Column4]], IF(AB660>0,Table1[[#This Row],[Column4]],IF(X660>0,\"1000\")))","v":false}]
[null,null,null,null,null,null,null,null,null,null,null,null,null,null,null,null,0,null,null,null,null,null,null,null,{"$f":"IF(Table1[[#This Row],[Wage differential Bonus                            - NotePay Rate you are bonusing to]]>0, Table1[[#This Row],[Wage differential Bonus                            - NotePay Rate you are bonusing to]]-Table1[[#This Row],[Pay Rate]], \"\")","v":""},{"$f":"IF(Table1[[#This Row],[Wage differential Bonus                            - NotePay Rate you are bonusing to]]>0,Table1[[#This Row],[Bonus Rate]]*Table1[[#This Row],[Hours]],\"\")","v":""},null,null,null,null,null,{"$f":"IF(OR(AH661>0.001,AH661<-0.001),Table1[[#This Row],[Employee '#]],\" \")","v":" "},false,{"$f":"SUMIF(Table1[[#This Row],[Total Wage Diff bonus]:[Bank Bonus]],\"<> \")","v":0},{"$f":"IF(AA661>0, Table1[[#This Row],[Column4]], IF(AB661>0,Table1[[#This Row],[Column4]],IF(X661>0,\"1000\")))","v":false}]
[null,null,null,null,null,null,null,null,null,null,null,null,null,null,null,null,0,null,null,null,null,null,null,null,{"$f":"IF(Table1[[#This Row],[Wage differential Bonus                            - NotePay Rate you are bonusing to]]>0, Table1[[#This Row],[Wage differential Bonus                            - NotePay Rate you are bonusing to]]-Table1[[#This Row],[Pay Rate]], \"\")","v":""},{"$f":"IF(Table1[[#This Row],[Wage differential Bonus                            - NotePay Rate you are bonusing to]]>0,Table1[[#This Row],[Bonus Rate]]*Table1[[#This Row],[Hours]],\"\")","v":""},null,null,null,null,null,{"$f":"IF(OR(AH662>0.001,AH662<-0.001),Table1[[#This Row],[Employee '#]],\" \")","v":" "},false,{"$f":"SUMIF(Table1[[#This Row],[Total Wage Diff bonus]:[Bank Bonus]],\"<> \")","v":0},{"$f":"IF(AA662>0, Table1[[#This Row],[Column4]], IF(AB662>0,Table1[[#This Row],[Column4]],IF(X662>0,\"1000\")))","v":false}]
[null,null,null,null,null,null,null,null,null,null,null,null,null,null,null,null,0,null,null,null,null,null,null,null,{"$f":"IF(Table1[[#This Row],[Wage differential Bonus                            - NotePay Rate you are bonusing to]]>0, Table1[[#This Row],[Wage differential Bonus                            - NotePay Rate you are bonusing to]]-Table1[[#This Row],[Pay Rate]], \"\")","v":""},{"$f":"IF(Table1[[#This Row],[Wage differential Bonus                            - NotePay Rate you are bonusing to]]>0,Table1[[#This Row],[Bonus Rate]]*Table1[[#This Row],[Hours]],\"\")","v":""},null,null,null,null,null,{"$f":"IF(OR(AH663>0.001,AH663<-0.001),Table1[[#This Row],[Employee '#]],\" \")","v":" "},false,{"$f":"SUMIF(Table1[[#This Row],[Total Wage Diff bonus]:[Bank Bonus]],\"<> \")","v":0},{"$f":"IF(AA663>0, Table1[[#This Row],[Column4]], IF(AB663>0,Table1[[#This Row],[Column4]],IF(X663>0,\"1000\")))","v":false}]
[null,null,null,null,null,null,null,null,null,null,null,null,null,null,null,null,0,null,null,null,null,null,null,null,{"$f":"IF(Table1[[#This Row],[Wage differential Bonus                            - NotePay Rate you are bonusing to]]>0, Table1[[#This Row],[Wage differential Bonus                            - NotePay Rate you are bonusing to]]-Table1[[#This Row],[Pay Rate]], \"\")","v":""},{"$f":"IF(Table1[[#This Row],[Wage differential Bonus                            - NotePay Rate you are bonusing to]]>0,Table1[[#This Row],[Bonus Rate]]*Table1[[#This Row],[Hours]],\"\")","v":""},null,null,null,null,null,{"$f":"IF(OR(AH664>0.001,AH664<-0.001),Table1[[#This Row],[Employee '#]],\" \")","v":" "},false,{"$f":"SUMIF(Table1[[#This Row],[Total Wage Diff bonus]:[Bank Bonus]],\"<> \")","v":0},{"$f":"IF(AA664>0, Table1[[#This Row],[Column4]], IF(AB664>0,Table1[[#This Row],[Column4]],IF(X664>0,\"1000\")))","v":false}]
[null,null,null,null,null,null,null,null,null,null,null,null,null,null,null,null,0,null,null,null,null,null,null,null,{"$f":"IF(Table1[[#This Row],[Wage differential Bonus                            - NotePay Rate you are bonusing to]]>0, Table1[[#This Row],[Wage differential Bonus                            - NotePay Rate you are bonusing to]]-Table1[[#This Row],[Pay Rate]], \"\")","v":""},{"$f":"IF(Table1[[#This Row],[Wage differential Bonus                            - NotePay Rate you are bonusing to]]>0,Table1[[#This Row],[Bonus Rate]]*Table1[[#This Row],[Hours]],\"\")","v":""},null,null,null,null,null,{"$f":"IF(OR(AH665>0.001,AH665<-0.001),Table1[[#This Row],[Employee '#]],\" \")","v":" "},false,{"$f":"SUMIF(Table1[[#This Row],[Total Wage Diff bonus]:[Bank Bonus]],\"<> \")","v":0},{"$f":"IF(AA665>0, Table1[[#This Row],[Column4]], IF(AB665>0,Table1[[#This Row],[Column4]],IF(X665>0,\"1000\")))","v":false}]
[null,null,null,null,null,null,null,null,null,null,null,null,null,null,null,null,0,null,null,null,null,null,null,null,{"$f":"IF(Table1[[#This Row],[Wage differential Bonus                            - NotePay Rate you are bonusing to]]>0, Table1[[#This Row],[Wage differential Bonus                            - NotePay Rate you are bonusing to]]-Table1[[#This Row],[Pay Rate]], \"\")","v":""},{"$f":"IF(Table1[[#This Row],[Wage differential Bonus                            - NotePay Rate you are bonusing to]]>0,Table1[[#This Row],[Bonus Rate]]*Table1[[#This Row],[Hours]],\"\")","v":""},null,null,null,null,null,{"$f":"IF(OR(AH666>0.001,AH666<-0.001),Table1[[#This Row],[Employee '#]],\" \")","v":" "},false,{"$f":"SUMIF(Table1[[#This Row],[Total Wage Diff bonus]:[Bank Bonus]],\"<> \")","v":0},{"$f":"IF(AA666>0, Table1[[#This Row],[Column4]], IF(AB666>0,Table1[[#This Row],[Column4]],IF(X666>0,\"1000\")))","v":false}]
[null,null,null,null,null,null,null,null,null,null,null,null,null,null,null,null,0,null,null,null,null,null,null,null,{"$f":"IF(Table1[[#This Row],[Wage differential Bonus                            - NotePay Rate you are bonusing to]]>0, Table1[[#This Row],[Wage differential Bonus                            - NotePay Rate you are bonusing to]]-Table1[[#This Row],[Pay Rate]], \"\")","v":""},{"$f":"IF(Table1[[#This Row],[Wage differential Bonus                            - NotePay Rate you are bonusing to]]>0,Table1[[#This Row],[Bonus Rate]]*Table1[[#This Row],[Hours]],\"\")","v":""},null,null,null,null,null,{"$f":"IF(OR(AH667>0.001,AH667<-0.001),Table1[[#This Row],[Employee '#]],\" \")","v":" "},false,{"$f":"SUMIF(Table1[[#This Row],[Total Wage Diff bonus]:[Bank Bonus]],\"<> \")","v":0},{"$f":"IF(AA667>0, Table1[[#This Row],[Column4]], IF(AB667>0,Table1[[#This Row],[Column4]],IF(X667>0,\"1000\")))","v":false}]
[null,null,null,null,null,null,null,null,null,null,null,null,null,null,null,null,0,null,null,null,null,null,null,null,{"$f":"IF(Table1[[#This Row],[Wage differential Bonus                            - NotePay Rate you are bonusing to]]>0, Table1[[#This Row],[Wage differential Bonus                            - NotePay Rate you are bonusing to]]-Table1[[#This Row],[Pay Rate]], \"\")","v":""},{"$f":"IF(Table1[[#This Row],[Wage differential Bonus                            - NotePay Rate you are bonusing to]]>0,Table1[[#This Row],[Bonus Rate]]*Table1[[#This Row],[Hours]],\"\")","v":""},null,null,null,null,null,{"$f":"IF(OR(AH668>0.001,AH668<-0.001),Table1[[#This Row],[Employee '#]],\" \")","v":" "},false,{"$f":"SUMIF(Table1[[#This Row],[Total Wage Diff bonus]:[Bank Bonus]],\"<> \")","v":0},{"$f":"IF(AA668>0, Table1[[#This Row],[Column4]], IF(AB668>0,Table1[[#This Row],[Column4]],IF(X668>0,\"1000\")))","v":false}]
[null,null,null,null,null,null,null,null,null,null,null,null,null,null,null,null,0,null,null,null,null,null,null,null,{"$f":"IF(Table1[[#This Row],[Wage differential Bonus                            - NotePay Rate you are bonusing to]]>0, Table1[[#This Row],[Wage differential Bonus                            - NotePay Rate you are bonusing to]]-Table1[[#This Row],[Pay Rate]], \"\")","v":""},{"$f":"IF(Table1[[#This Row],[Wage differential Bonus                            - NotePay Rate you are bonusing to]]>0,Table1[[#This Row],[Bonus Rate]]*Table1[[#This Row],[Hours]],\"\")","v":""},null,null,null,null,null,{"$f":"IF(OR(AH669>0.001,AH669<-0.001),Table1[[#This Row],[Employee '#]],\" \")","v":" "},false,{"$f":"SUMIF(Table1[[#This Row],[Total Wage Diff bonus]:[Bank Bonus]],\"<> \")","v":0},{"$f":"IF(AA669>0, Table1[[#This Row],[Column4]], IF(AB669>0,Table1[[#This Row],[Column4]],IF(X669>0,\"1000\")))","v":false}]
[null,null,null,null,null,null,null,null,null,null,null,null,null,null,null,null,0,null,null,null,null,null,null,null,{"$f":"IF(Table1[[#This Row],[Wage differential Bonus                            - NotePay Rate you are bonusing to]]>0, Table1[[#This Row],[Wage differential Bonus                            - NotePay Rate you are bonusing to]]-Table1[[#This Row],[Pay Rate]], \"\")","v":""},{"$f":"IF(Table1[[#This Row],[Wage differential Bonus                            - NotePay Rate you are bonusing to]]>0,Table1[[#This Row],[Bonus Rate]]*Table1[[#This Row],[Hours]],\"\")","v":""},null,null,null,null,null,{"$f":"IF(OR(AH670>0.001,AH670<-0.001),Table1[[#This Row],[Employee '#]],\" \")","v":" "},false,{"$f":"SUMIF(Table1[[#This Row],[Total Wage Diff bonus]:[Bank Bonus]],\"<> \")","v":0},{"$f":"IF(AA670>0, Table1[[#This Row],[Column4]], IF(AB670>0,Table1[[#This Row],[Column4]],IF(X670>0,\"1000\")))","v":false}]
[null,null,null,null,null,null,null,null,null,null,null,null,null,null,null,null,0,null,null,null,null,null,null,null,{"$f":"IF(Table1[[#This Row],[Wage differential Bonus                            - NotePay Rate you are bonusing to]]>0, Table1[[#This Row],[Wage differential Bonus                            - NotePay Rate you are bonusing to]]-Table1[[#This Row],[Pay Rate]], \"\")","v":""},{"$f":"IF(Table1[[#This Row],[Wage differential Bonus                            - NotePay Rate you are bonusing to]]>0,Table1[[#This Row],[Bonus Rate]]*Table1[[#This Row],[Hours]],\"\")","v":""},null,null,null,null,null,{"$f":"IF(OR(AH671>0.001,AH671<-0.001),Table1[[#This Row],[Employee '#]],\" \")","v":" "},false,{"$f":"SUMIF(Table1[[#This Row],[Total Wage Diff bonus]:[Bank Bonus]],\"<> \")","v":0},{"$f":"IF(AA671>0, Table1[[#This Row],[Column4]], IF(AB671>0,Table1[[#This Row],[Column4]],IF(X671>0,\"1000\")))","v":false}]
[null,null,null,null,null,null,null,null,null,null,null,null,null,null,null,null,0,null,null,null,null,null,null,null,{"$f":"IF(Table1[[#This Row],[Wage differential Bonus                            - NotePay Rate you are bonusing to]]>0, Table1[[#This Row],[Wage differential Bonus                            - NotePay Rate you are bonusing to]]-Table1[[#This Row],[Pay Rate]], \"\")","v":""},{"$f":"IF(Table1[[#This Row],[Wage differential Bonus                            - NotePay Rate you are bonusing to]]>0,Table1[[#This Row],[Bonus Rate]]*Table1[[#This Row],[Hours]],\"\")","v":""},null,null,null,null,null,{"$f":"IF(OR(AH672>0.001,AH672<-0.001),Table1[[#This Row],[Employee '#]],\" \")","v":" "},false,{"$f":"SUMIF(Table1[[#This Row],[Total Wage Diff bonus]:[Bank Bonus]],\"<> \")","v":0},{"$f":"IF(AA672>0, Table1[[#This Row],[Column4]], IF(AB672>0,Table1[[#This Row],[Column4]],IF(X672>0,\"1000\")))","v":false}]
[null,null,null,null,null,null,null,null,null,null,null,null,null,null,null,null,0,null,null,null,null,null,null,null,{"$f":"IF(Table1[[#This Row],[Wage differential Bonus                            - NotePay Rate you are bonusing to]]>0, Table1[[#This Row],[Wage differential Bonus                            - NotePay Rate you are bonusing to]]-Table1[[#This Row],[Pay Rate]], \"\")","v":""},{"$f":"IF(Table1[[#This Row],[Wage differential Bonus                            - NotePay Rate you are bonusing to]]>0,Table1[[#This Row],[Bonus Rate]]*Table1[[#This Row],[Hours]],\"\")","v":""},null,null,null,null,null,{"$f":"IF(OR(AH673>0.001,AH673<-0.001),Table1[[#This Row],[Employee '#]],\" \")","v":" "},false,{"$f":"SUMIF(Table1[[#This Row],[Total Wage Diff bonus]:[Bank Bonus]],\"<> \")","v":0},{"$f":"IF(AA673>0, Table1[[#This Row],[Column4]], IF(AB673>0,Table1[[#This Row],[Column4]],IF(X673>0,\"1000\")))","v":false}]
[null,null,null,null,null,null,null,null,null,null,null,null,null,null,null,null,0,null,null,null,null,null,null,null,{"$f":"IF(Table1[[#This Row],[Wage differential Bonus                            - NotePay Rate you are bonusing to]]>0, Table1[[#This Row],[Wage differential Bonus                            - NotePay Rate you are bonusing to]]-Table1[[#This Row],[Pay Rate]], \"\")","v":""},{"$f":"IF(Table1[[#This Row],[Wage differential Bonus                            - NotePay Rate you are bonusing to]]>0,Table1[[#This Row],[Bonus Rate]]*Table1[[#This Row],[Hours]],\"\")","v":""},null,null,null,null,null,{"$f":"IF(OR(AH674>0.001,AH674<-0.001),Table1[[#This Row],[Employee '#]],\" \")","v":" "},false,{"$f":"SUMIF(Table1[[#This Row],[Total Wage Diff bonus]:[Bank Bonus]],\"<> \")","v":0},{"$f":"IF(AA674>0, Table1[[#This Row],[Column4]], IF(AB674>0,Table1[[#This Row],[Column4]],IF(X674>0,\"1000\")))","v":false}]
[null,null,null,null,null,null,null,null,null,null,null,null,null,null,null,null,0,null,null,null,null,null,null,null,{"$f":"IF(Table1[[#This Row],[Wage differential Bonus                            - NotePay Rate you are bonusing to]]>0, Table1[[#This Row],[Wage differential Bonus                            - NotePay Rate you are bonusing to]]-Table1[[#This Row],[Pay Rate]], \"\")","v":""},{"$f":"IF(Table1[[#This Row],[Wage differential Bonus                            - NotePay Rate you are bonusing to]]>0,Table1[[#This Row],[Bonus Rate]]*Table1[[#This Row],[Hours]],\"\")","v":""},null,null,null,null,null,{"$f":"IF(OR(AH675>0.001,AH675<-0.001),Table1[[#This Row],[Employee '#]],\" \")","v":" "},false,{"$f":"SUMIF(Table1[[#This Row],[Total Wage Diff bonus]:[Bank Bonus]],\"<> \")","v":0},{"$f":"IF(AA675>0, Table1[[#This Row],[Column4]], IF(AB675>0,Table1[[#This Row],[Column4]],IF(X675>0,\"1000\")))","v":false}]
[null,null,null,null,null,null,null,null,null,null,null,null,null,null,null,null,0,null,null,null,null,null,null,null,{"$f":"IF(Table1[[#This Row],[Wage differential Bonus                            - NotePay Rate you are bonusing to]]>0, Table1[[#This Row],[Wage differential Bonus                            - NotePay Rate you are bonusing to]]-Table1[[#This Row],[Pay Rate]], \"\")","v":""},{"$f":"IF(Table1[[#This Row],[Wage differential Bonus                            - NotePay Rate you are bonusing to]]>0,Table1[[#This Row],[Bonus Rate]]*Table1[[#This Row],[Hours]],\"\")","v":""},null,null,null,null,null,{"$f":"IF(OR(AH676>0.001,AH676<-0.001),Table1[[#This Row],[Employee '#]],\" \")","v":" "},false,{"$f":"SUMIF(Table1[[#This Row],[Total Wage Diff bonus]:[Bank Bonus]],\"<> \")","v":0},{"$f":"IF(AA676>0, Table1[[#This Row],[Column4]], IF(AB676>0,Table1[[#This Row],[Column4]],IF(X676>0,\"1000\")))","v":false}]
[null,null,null,null,null,null,null,null,null,null,null,null,null,null,null,null,0,null,null,null,null,null,null,null,{"$f":"IF(Table1[[#This Row],[Wage differential Bonus                            - NotePay Rate you are bonusing to]]>0, Table1[[#This Row],[Wage differential Bonus                            - NotePay Rate you are bonusing to]]-Table1[[#This Row],[Pay Rate]], \"\")","v":""},{"$f":"IF(Table1[[#This Row],[Wage differential Bonus                            - NotePay Rate you are bonusing to]]>0,Table1[[#This Row],[Bonus Rate]]*Table1[[#This Row],[Hours]],\"\")","v":""},null,null,null,null,null,{"$f":"IF(OR(AH677>0.001,AH677<-0.001),Table1[[#This Row],[Employee '#]],\" \")","v":" "},false,{"$f":"SUMIF(Table1[[#This Row],[Total Wage Diff bonus]:[Bank Bonus]],\"<> \")","v":0},{"$f":"IF(AA677>0, Table1[[#This Row],[Column4]], IF(AB677>0,Table1[[#This Row],[Column4]],IF(X677>0,\"1000\")))","v":false}]
[null,null,null,null,null,null,null,null,null,null,null,null,null,null,null,null,0,null,null,null,null,null,null,null,{"$f":"IF(Table1[[#This Row],[Wage differential Bonus                            - NotePay Rate you are bonusing to]]>0, Table1[[#This Row],[Wage differential Bonus                            - NotePay Rate you are bonusing to]]-Table1[[#This Row],[Pay Rate]], \"\")","v":""},{"$f":"IF(Table1[[#This Row],[Wage differential Bonus                            - NotePay Rate you are bonusing to]]>0,Table1[[#This Row],[Bonus Rate]]*Table1[[#This Row],[Hours]],\"\")","v":""},null,null,null,null,null,{"$f":"IF(OR(AH678>0.001,AH678<-0.001),Table1[[#This Row],[Employee '#]],\" \")","v":" "},false,{"$f":"SUMIF(Table1[[#This Row],[Total Wage Diff bonus]:[Bank Bonus]],\"<> \")","v":0},{"$f":"IF(AA678>0, Table1[[#This Row],[Column4]], IF(AB678>0,Table1[[#This Row],[Column4]],IF(X678>0,\"1000\")))","v":false}]
[null,null,null,null,null,null,null,null,null,null,null,null,null,null,null,null,0,null,null,null,null,null,null,null,{"$f":"IF(Table1[[#This Row],[Wage differential Bonus                            - NotePay Rate you are bonusing to]]>0, Table1[[#This Row],[Wage differential Bonus                            - NotePay Rate you are bonusing to]]-Table1[[#This Row],[Pay Rate]], \"\")","v":""},{"$f":"IF(Table1[[#This Row],[Wage differential Bonus                            - NotePay Rate you are bonusing to]]>0,Table1[[#This Row],[Bonus Rate]]*Table1[[#This Row],[Hours]],\"\")","v":""},null,null,null,null,null,{"$f":"IF(OR(AH679>0.001,AH679<-0.001),Table1[[#This Row],[Employee '#]],\" \")","v":" "},false,{"$f":"SUMIF(Table1[[#This Row],[Total Wage Diff bonus]:[Bank Bonus]],\"<> \")","v":0},{"$f":"IF(AA679>0, Table1[[#This Row],[Column4]], IF(AB679>0,Table1[[#This Row],[Column4]],IF(X679>0,\"1000\")))","v":false}]
[null,null,null,null,null,null,null,null,null,null,null,null,null,null,null,null,0,null,null,null,null,null,null,null,{"$f":"IF(Table1[[#This Row],[Wage differential Bonus                            - NotePay Rate you are bonusing to]]>0, Table1[[#This Row],[Wage differential Bonus                            - NotePay Rate you are bonusing to]]-Table1[[#This Row],[Pay Rate]], \"\")","v":""},{"$f":"IF(Table1[[#This Row],[Wage differential Bonus                            - NotePay Rate you are bonusing to]]>0,Table1[[#This Row],[Bonus Rate]]*Table1[[#This Row],[Hours]],\"\")","v":""},null,null,null,null,null,{"$f":"IF(OR(AH680>0.001,AH680<-0.001),Table1[[#This Row],[Employee '#]],\" \")","v":" "},false,{"$f":"SUMIF(Table1[[#This Row],[Total Wage Diff bonus]:[Bank Bonus]],\"<> \")","v":0},{"$f":"IF(AA680>0, Table1[[#This Row],[Column4]], IF(AB680>0,Table1[[#This Row],[Column4]],IF(X680>0,\"1000\")))","v":false}]
[null,null,null,null,null,null,null,null,null,null,null,null,null,null,null,null,0,null,null,null,null,null,null,null,{"$f":"IF(Table1[[#This Row],[Wage differential Bonus                            - NotePay Rate you are bonusing to]]>0, Table1[[#This Row],[Wage differential Bonus                            - NotePay Rate you are bonusing to]]-Table1[[#This Row],[Pay Rate]], \"\")","v":""},{"$f":"IF(Table1[[#This Row],[Wage differential Bonus                            - NotePay Rate you are bonusing to]]>0,Table1[[#This Row],[Bonus Rate]]*Table1[[#This Row],[Hours]],\"\")","v":""},null,null,null,null,null,{"$f":"IF(OR(AH681>0.001,AH681<-0.001),Table1[[#This Row],[Employee '#]],\" \")","v":" "},false,{"$f":"SUMIF(Table1[[#This Row],[Total Wage Diff bonus]:[Bank Bonus]],\"<> \")","v":0},{"$f":"IF(AA681>0, Table1[[#This Row],[Column4]], IF(AB681>0,Table1[[#This Row],[Column4]],IF(X681>0,\"1000\")))","v":false}]
[null,null,null,null,null,null,null,null,null,null,null,null,null,null,null,null,0,null,null,null,null,null,null,null,{"$f":"IF(Table1[[#This Row],[Wage differential Bonus                            - NotePay Rate you are bonusing to]]>0, Table1[[#This Row],[Wage differential Bonus                            - NotePay Rate you are bonusing to]]-Table1[[#This Row],[Pay Rate]], \"\")","v":""},{"$f":"IF(Table1[[#This Row],[Wage differential Bonus                            - NotePay Rate you are bonusing to]]>0,Table1[[#This Row],[Bonus Rate]]*Table1[[#This Row],[Hours]],\"\")","v":""},null,null,null,null,null,{"$f":"IF(OR(AH682>0.001,AH682<-0.001),Table1[[#This Row],[Employee '#]],\" \")","v":" "},false,{"$f":"SUMIF(Table1[[#This Row],[Total Wage Diff bonus]:[Bank Bonus]],\"<> \")","v":0},{"$f":"IF(AA682>0, Table1[[#This Row],[Column4]], IF(AB682>0,Table1[[#This Row],[Column4]],IF(X682>0,\"1000\")))","v":false}]
[null,null,null,null,null,null,null,null,null,null,null,null,null,null,null,null,0,null,null,null,null,null,null,null,{"$f":"IF(Table1[[#This Row],[Wage differential Bonus                            - NotePay Rate you are bonusing to]]>0, Table1[[#This Row],[Wage differential Bonus                            - NotePay Rate you are bonusing to]]-Table1[[#This Row],[Pay Rate]], \"\")","v":""},{"$f":"IF(Table1[[#This Row],[Wage differential Bonus                            - NotePay Rate you are bonusing to]]>0,Table1[[#This Row],[Bonus Rate]]*Table1[[#This Row],[Hours]],\"\")","v":""},null,null,null,null,null,{"$f":"IF(OR(AH683>0.001,AH683<-0.001),Table1[[#This Row],[Employee '#]],\" \")","v":" "},false,{"$f":"SUMIF(Table1[[#This Row],[Total Wage Diff bonus]:[Bank Bonus]],\"<> \")","v":0},{"$f":"IF(AA683>0, Table1[[#This Row],[Column4]], IF(AB683>0,Table1[[#This Row],[Column4]],IF(X683>0,\"1000\")))","v":false}]
[null,null,null,null,null,null,null,null,null,null,null,null,null,null,null,null,0,null,null,null,null,null,null,null,{"$f":"IF(Table1[[#This Row],[Wage differential Bonus                            - NotePay Rate you are bonusing to]]>0, Table1[[#This Row],[Wage differential Bonus                            - NotePay Rate you are bonusing to]]-Table1[[#This Row],[Pay Rate]], \"\")","v":""},{"$f":"IF(Table1[[#This Row],[Wage differential Bonus                            - NotePay Rate you are bonusing to]]>0,Table1[[#This Row],[Bonus Rate]]*Table1[[#This Row],[Hours]],\"\")","v":""},null,null,null,null,null,{"$f":"IF(OR(AH684>0.001,AH684<-0.001),Table1[[#This Row],[Employee '#]],\" \")","v":" "},false,{"$f":"SUMIF(Table1[[#This Row],[Total Wage Diff bonus]:[Bank Bonus]],\"<> \")","v":0},{"$f":"IF(AA684>0, Table1[[#This Row],[Column4]], IF(AB684>0,Table1[[#This Row],[Column4]],IF(X684>0,\"1000\")))","v":false}]
[null,null,null,null,null,null,null,null,null,null,null,null,null,null,null,null,0,null,null,null,null,null,null,null,{"$f":"IF(Table1[[#This Row],[Wage differential Bonus                            - NotePay Rate you are bonusing to]]>0, Table1[[#This Row],[Wage differential Bonus                            - NotePay Rate you are bonusing to]]-Table1[[#This Row],[Pay Rate]], \"\")","v":""},{"$f":"IF(Table1[[#This Row],[Wage differential Bonus                            - NotePay Rate you are bonusing to]]>0,Table1[[#This Row],[Bonus Rate]]*Table1[[#This Row],[Hours]],\"\")","v":""},null,null,null,null,null,{"$f":"IF(OR(AH685>0.001,AH685<-0.001),Table1[[#This Row],[Employee '#]],\" \")","v":" "},false,{"$f":"SUMIF(Table1[[#This Row],[Total Wage Diff bonus]:[Bank Bonus]],\"<> \")","v":0},{"$f":"IF(AA685>0, Table1[[#This Row],[Column4]], IF(AB685>0,Table1[[#This Row],[Column4]],IF(X685>0,\"1000\")))","v":false}]
[null,null,null,null,null,null,null,null,null,null,null,null,null,null,null,null,0,null,null,null,null,null,null,null,{"$f":"IF(Table1[[#This Row],[Wage differential Bonus                            - NotePay Rate you are bonusing to]]>0, Table1[[#This Row],[Wage differential Bonus                            - NotePay Rate you are bonusing to]]-Table1[[#This Row],[Pay Rate]], \"\")","v":""},{"$f":"IF(Table1[[#This Row],[Wage differential Bonus                            - NotePay Rate you are bonusing to]]>0,Table1[[#This Row],[Bonus Rate]]*Table1[[#This Row],[Hours]],\"\")","v":""},null,null,null,null,null,{"$f":"IF(OR(AH686>0.001,AH686<-0.001),Table1[[#This Row],[Employee '#]],\" \")","v":" "},false,{"$f":"SUMIF(Table1[[#This Row],[Total Wage Diff bonus]:[Bank Bonus]],\"<> \")","v":0},{"$f":"IF(AA686>0, Table1[[#This Row],[Column4]], IF(AB686>0,Table1[[#This Row],[Column4]],IF(X686>0,\"1000\")))","v":false}]
[null,null,null,null,null,null,null,null,null,null,null,null,null,null,null,null,0,null,null,null,null,null,null,null,{"$f":"IF(Table1[[#This Row],[Wage differential Bonus                            - NotePay Rate you are bonusing to]]>0, Table1[[#This Row],[Wage differential Bonus                            - NotePay Rate you are bonusing to]]-Table1[[#This Row],[Pay Rate]], \"\")","v":""},{"$f":"IF(Table1[[#This Row],[Wage differential Bonus                            - NotePay Rate you are bonusing to]]>0,Table1[[#This Row],[Bonus Rate]]*Table1[[#This Row],[Hours]],\"\")","v":""},null,null,null,null,null,{"$f":"IF(OR(AH687>0.001,AH687<-0.001),Table1[[#This Row],[Employee '#]],\" \")","v":" "},false,{"$f":"SUMIF(Table1[[#This Row],[Total Wage Diff bonus]:[Bank Bonus]],\"<> \")","v":0},{"$f":"IF(AA687>0, Table1[[#This Row],[Column4]], IF(AB687>0,Table1[[#This Row],[Column4]],IF(X687>0,\"1000\")))","v":false}]
[null,null,null,null,null,null,null,null,null,null,null,null,null,null,null,null,0,null,null,null,null,null,null,null,{"$f":"IF(Table1[[#This Row],[Wage differential Bonus                            - NotePay Rate you are bonusing to]]>0, Table1[[#This Row],[Wage differential Bonus                            - NotePay Rate you are bonusing to]]-Table1[[#This Row],[Pay Rate]], \"\")","v":""},{"$f":"IF(Table1[[#This Row],[Wage differential Bonus                            - NotePay Rate you are bonusing to]]>0,Table1[[#This Row],[Bonus Rate]]*Table1[[#This Row],[Hours]],\"\")","v":""},null,null,null,null,null,{"$f":"IF(OR(AH688>0.001,AH688<-0.001),Table1[[#This Row],[Employee '#]],\" \")","v":" "},false,{"$f":"SUMIF(Table1[[#This Row],[Total Wage Diff bonus]:[Bank Bonus]],\"<> \")","v":0},{"$f":"IF(AA688>0, Table1[[#This Row],[Column4]], IF(AB688>0,Table1[[#This Row],[Column4]],IF(X688>0,\"1000\")))","v":false}]
[null,null,null,null,null,null,null,null,null,null,null,null,null,null,null,null,0,null,null,null,null,null,null,null,{"$f":"IF(Table1[[#This Row],[Wage differential Bonus                            - NotePay Rate you are bonusing to]]>0, Table1[[#This Row],[Wage differential Bonus                            - NotePay Rate you are bonusing to]]-Table1[[#This Row],[Pay Rate]], \"\")","v":""},{"$f":"IF(Table1[[#This Row],[Wage differential Bonus                            - NotePay Rate you are bonusing to]]>0,Table1[[#This Row],[Bonus Rate]]*Table1[[#This Row],[Hours]],\"\")","v":""},null,null,null,null,null,{"$f":"IF(OR(AH689>0.001,AH689<-0.001),Table1[[#This Row],[Employee '#]],\" \")","v":" "},false,{"$f":"SUMIF(Table1[[#This Row],[Total Wage Diff bonus]:[Bank Bonus]],\"<> \")","v":0},{"$f":"IF(AA689>0, Table1[[#This Row],[Column4]], IF(AB689>0,Table1[[#This Row],[Column4]],IF(X689>0,\"1000\")))","v":false}]
[null,null,null,null,null,null,null,null,null,null,null,null,null,null,null,null,0,null,null,null,null,null,null,null,{"$f":"IF(Table1[[#This Row],[Wage differential Bonus                            - NotePay Rate you are bonusing to]]>0, Table1[[#This Row],[Wage differential Bonus                            - NotePay Rate you are bonusing to]]-Table1[[#This Row],[Pay Rate]], \"\")","v":""},{"$f":"IF(Table1[[#This Row],[Wage differential Bonus                            - NotePay Rate you are bonusing to]]>0,Table1[[#This Row],[Bonus Rate]]*Table1[[#This Row],[Hours]],\"\")","v":""},null,null,null,null,null,{"$f":"IF(OR(AH690>0.001,AH690<-0.001),Table1[[#This Row],[Employee '#]],\" \")","v":" "},false,{"$f":"SUMIF(Table1[[#This Row],[Total Wage Diff bonus]:[Bank Bonus]],\"<> \")","v":0},{"$f":"IF(AA690>0, Table1[[#This Row],[Column4]], IF(AB690>0,Table1[[#This Row],[Column4]],IF(X690>0,\"1000\")))","v":false}]
[null,null,null,null,null,null,null,null,null,null,null,null,null,null,null,null,0,null,null,null,null,null,null,null,{"$f":"IF(Table1[[#This Row],[Wage differential Bonus                            - NotePay Rate you are bonusing to]]>0, Table1[[#This Row],[Wage differential Bonus                            - NotePay Rate you are bonusing to]]-Table1[[#This Row],[Pay Rate]], \"\")","v":""},{"$f":"IF(Table1[[#This Row],[Wage differential Bonus                            - NotePay Rate you are bonusing to]]>0,Table1[[#This Row],[Bonus Rate]]*Table1[[#This Row],[Hours]],\"\")","v":""},null,null,null,null,null,{"$f":"IF(OR(AH691>0.001,AH691<-0.001),Table1[[#This Row],[Employee '#]],\" \")","v":" "},false,{"$f":"SUMIF(Table1[[#This Row],[Total Wage Diff bonus]:[Bank Bonus]],\"<> \")","v":0},{"$f":"IF(AA691>0, Table1[[#This Row],[Column4]], IF(AB691>0,Table1[[#This Row],[Column4]],IF(X691>0,\"1000\")))","v":false}]
[null,null,null,null,null,null,null,null,null,null,null,null,null,null,null,null,0,null,null,null,null,null,null,null,{"$f":"IF(Table1[[#This Row],[Wage differential Bonus                            - NotePay Rate you are bonusing to]]>0, Table1[[#This Row],[Wage differential Bonus                            - NotePay Rate you are bonusing to]]-Table1[[#This Row],[Pay Rate]], \"\")","v":""},{"$f":"IF(Table1[[#This Row],[Wage differential Bonus                            - NotePay Rate you are bonusing to]]>0,Table1[[#This Row],[Bonus Rate]]*Table1[[#This Row],[Hours]],\"\")","v":""},null,null,null,null,null,{"$f":"IF(OR(AH692>0.001,AH692<-0.001),Table1[[#This Row],[Employee '#]],\" \")","v":" "},false,{"$f":"SUMIF(Table1[[#This Row],[Total Wage Diff bonus]:[Bank Bonus]],\"<> \")","v":0},{"$f":"IF(AA692>0, Table1[[#This Row],[Column4]], IF(AB692>0,Table1[[#This Row],[Column4]],IF(X692>0,\"1000\")))","v":false}]
[null,null,null,null,null,null,null,null,null,null,null,null,null,null,null,null,0,null,null,null,null,null,null,null,{"$f":"IF(Table1[[#This Row],[Wage differential Bonus                            - NotePay Rate you are bonusing to]]>0, Table1[[#This Row],[Wage differential Bonus                            - NotePay Rate you are bonusing to]]-Table1[[#This Row],[Pay Rate]], \"\")","v":""},{"$f":"IF(Table1[[#This Row],[Wage differential Bonus                            - NotePay Rate you are bonusing to]]>0,Table1[[#This Row],[Bonus Rate]]*Table1[[#This Row],[Hours]],\"\")","v":""},null,null,null,null,null,{"$f":"IF(OR(AH693>0.001,AH693<-0.001),Table1[[#This Row],[Employee '#]],\" \")","v":" "},false,{"$f":"SUMIF(Table1[[#This Row],[Total Wage Diff bonus]:[Bank Bonus]],\"<> \")","v":0},{"$f":"IF(AA693>0, Table1[[#This Row],[Column4]], IF(AB693>0,Table1[[#This Row],[Column4]],IF(X693>0,\"1000\")))","v":false}]
[null,null,null,null,null,null,null,null,null,null,null,null,null,null,null,null,0,null,null,null,null,null,null,null,{"$f":"IF(Table1[[#This Row],[Wage differential Bonus                            - NotePay Rate you are bonusing to]]>0, Table1[[#This Row],[Wage differential Bonus                            - NotePay Rate you are bonusing to]]-Table1[[#This Row],[Pay Rate]], \"\")","v":""},{"$f":"IF(Table1[[#This Row],[Wage differential Bonus                            - NotePay Rate you are bonusing to]]>0,Table1[[#This Row],[Bonus Rate]]*Table1[[#This Row],[Hours]],\"\")","v":""},null,null,null,null,null,{"$f":"IF(OR(AH694>0.001,AH694<-0.001),Table1[[#This Row],[Employee '#]],\" \")","v":" "},false,{"$f":"SUMIF(Table1[[#This Row],[Total Wage Diff bonus]:[Bank Bonus]],\"<> \")","v":0},{"$f":"IF(AA694>0, Table1[[#This Row],[Column4]], IF(AB694>0,Table1[[#This Row],[Column4]],IF(X694>0,\"1000\")))","v":false}]
[null,null,null,null,null,null,null,null,null,null,null,null,null,null,null,null,0,null,null,null,null,null,null,null,{"$f":"IF(Table1[[#This Row],[Wage differential Bonus                            - NotePay Rate you are bonusing to]]>0, Table1[[#This Row],[Wage differential Bonus                            - NotePay Rate you are bonusing to]]-Table1[[#This Row],[Pay Rate]], \"\")","v":""},{"$f":"IF(Table1[[#This Row],[Wage differential Bonus                            - NotePay Rate you are bonusing to]]>0,Table1[[#This Row],[Bonus Rate]]*Table1[[#This Row],[Hours]],\"\")","v":""},null,null,null,null,null,{"$f":"IF(OR(AH695>0.001,AH695<-0.001),Table1[[#This Row],[Employee '#]],\" \")","v":" "},false,{"$f":"SUMIF(Table1[[#This Row],[Total Wage Diff bonus]:[Bank Bonus]],\"<> \")","v":0},{"$f":"IF(AA695>0, Table1[[#This Row],[Column4]], IF(AB695>0,Table1[[#This Row],[Column4]],IF(X695>0,\"1000\")))","v":false}]
[null,null,null,null,null,null,null,null,null,null,null,null,null,null,null,null,0,null,null,null,null,null,null,null,{"$f":"IF(Table1[[#This Row],[Wage differential Bonus                            - NotePay Rate you are bonusing to]]>0, Table1[[#This Row],[Wage differential Bonus                            - NotePay Rate you are bonusing to]]-Table1[[#This Row],[Pay Rate]], \"\")","v":""},{"$f":"IF(Table1[[#This Row],[Wage differential Bonus                            - NotePay Rate you are bonusing to]]>0,Table1[[#This Row],[Bonus Rate]]*Table1[[#This Row],[Hours]],\"\")","v":""},null,null,null,null,null,{"$f":"IF(OR(AH696>0.001,AH696<-0.001),Table1[[#This Row],[Employee '#]],\" \")","v":" "},false,{"$f":"SUMIF(Table1[[#This Row],[Total Wage Diff bonus]:[Bank Bonus]],\"<> \")","v":0},{"$f":"IF(AA696>0, Table1[[#This Row],[Column4]], IF(AB696>0,Table1[[#This Row],[Column4]],IF(X696>0,\"1000\")))","v":false}]
[null,null,null,null,null,null,null,null,null,null,null,null,null,null,null,null,0,null,null,null,null,null,null,null,{"$f":"IF(Table1[[#This Row],[Wage differential Bonus                            - NotePay Rate you are bonusing to]]>0, Table1[[#This Row],[Wage differential Bonus                            - NotePay Rate you are bonusing to]]-Table1[[#This Row],[Pay Rate]], \"\")","v":""},{"$f":"IF(Table1[[#This Row],[Wage differential Bonus                            - NotePay Rate you are bonusing to]]>0,Table1[[#This Row],[Bonus Rate]]*Table1[[#This Row],[Hours]],\"\")","v":""},null,null,null,null,null,{"$f":"IF(OR(AH697>0.001,AH697<-0.001),Table1[[#This Row],[Employee '#]],\" \")","v":" "},false,{"$f":"SUMIF(Table1[[#This Row],[Total Wage Diff bonus]:[Bank Bonus]],\"<> \")","v":0},{"$f":"IF(AA697>0, Table1[[#This Row],[Column4]], IF(AB697>0,Table1[[#This Row],[Column4]],IF(X697>0,\"1000\")))","v":false}]
[null,null,null,null,null,null,null,null,null,null,null,null,null,null,null,null,0,null,null,null,null,null,null,null,{"$f":"IF(Table1[[#This Row],[Wage differential Bonus                            - NotePay Rate you are bonusing to]]>0, Table1[[#This Row],[Wage differential Bonus                            - NotePay Rate you are bonusing to]]-Table1[[#This Row],[Pay Rate]], \"\")","v":""},{"$f":"IF(Table1[[#This Row],[Wage differential Bonus                            - NotePay Rate you are bonusing to]]>0,Table1[[#This Row],[Bonus Rate]]*Table1[[#This Row],[Hours]],\"\")","v":""},null,null,null,null,null,{"$f":"IF(OR(AH698>0.001,AH698<-0.001),Table1[[#This Row],[Employee '#]],\" \")","v":" "},false,{"$f":"SUMIF(Table1[[#This Row],[Total Wage Diff bonus]:[Bank Bonus]],\"<> \")","v":0},{"$f":"IF(AA698>0, Table1[[#This Row],[Column4]], IF(AB698>0,Table1[[#This Row],[Column4]],IF(X698>0,\"1000\")))","v":false}]
[null,null,null,null,null,null,null,null,null,null,null,null,null,null,null,null,0,null,null,null,null,null,null,null,{"$f":"IF(Table1[[#This Row],[Wage differential Bonus                            - NotePay Rate you are bonusing to]]>0, Table1[[#This Row],[Wage differential Bonus                            - NotePay Rate you are bonusing to]]-Table1[[#This Row],[Pay Rate]], \"\")","v":""},{"$f":"IF(Table1[[#This Row],[Wage differential Bonus                            - NotePay Rate you are bonusing to]]>0,Table1[[#This Row],[Bonus Rate]]*Table1[[#This Row],[Hours]],\"\")","v":""},null,null,null,null,null,{"$f":"IF(OR(AH699>0.001,AH699<-0.001),Table1[[#This Row],[Employee '#]],\" \")","v":" "},false,{"$f":"SUMIF(Table1[[#This Row],[Total Wage Diff bonus]:[Bank Bonus]],\"<> \")","v":0},{"$f":"IF(AA699>0, Table1[[#This Row],[Column4]], IF(AB699>0,Table1[[#This Row],[Column4]],IF(X699>0,\"1000\")))","v":false}]
[null,null,null,null,null,null,null,null,null,null,null,null,null,null,null,null,0,null,null,null,null,null,null,null,{"$f":"IF(Table1[[#This Row],[Wage differential Bonus                            - NotePay Rate you are bonusing to]]>0, Table1[[#This Row],[Wage differential Bonus                            - NotePay Rate you are bonusing to]]-Table1[[#This Row],[Pay Rate]], \"\")","v":""},{"$f":"IF(Table1[[#This Row],[Wage differential Bonus                            - NotePay Rate you are bonusing to]]>0,Table1[[#This Row],[Bonus Rate]]*Table1[[#This Row],[Hours]],\"\")","v":""},null,null,null,null,null,{"$f":"IF(OR(AH700>0.001,AH700<-0.001),Table1[[#This Row],[Employee '#]],\" \")","v":" "},false,{"$f":"SUMIF(Table1[[#This Row],[Total Wage Diff bonus]:[Bank Bonus]],\"<> \")","v":0},{"$f":"IF(AA700>0, Table1[[#This Row],[Column4]], IF(AB700>0,Table1[[#This Row],[Column4]],IF(X700>0,\"1000\")))","v":false}]
[null,null,null,null,null,null,null,null,null,null,null,null,null,null,null,null,0,null,null,null,null,null,null,null,{"$f":"IF(Table1[[#This Row],[Wage differential Bonus                            - NotePay Rate you are bonusing to]]>0, Table1[[#This Row],[Wage differential Bonus                            - NotePay Rate you are bonusing to]]-Table1[[#This Row],[Pay Rate]], \"\")","v":""},{"$f":"IF(Table1[[#This Row],[Wage differential Bonus                            - NotePay Rate you are bonusing to]]>0,Table1[[#This Row],[Bonus Rate]]*Table1[[#This Row],[Hours]],\"\")","v":""},null,null,null,null,null,{"$f":"IF(OR(AH701>0.001,AH701<-0.001),Table1[[#This Row],[Employee '#]],\" \")","v":" "},false,{"$f":"SUMIF(Table1[[#This Row],[Total Wage Diff bonus]:[Bank Bonus]],\"<> \")","v":0},{"$f":"IF(AA701>0, Table1[[#This Row],[Column4]], IF(AB701>0,Table1[[#This Row],[Column4]],IF(X701>0,\"1000\")))","v":false}]
[null,null,null,null,null,null,null,null,null,null,null,null,null,null,null,null,0,null,null,null,null,null,null,null,{"$f":"IF(Table1[[#This Row],[Wage differential Bonus                            - NotePay Rate you are bonusing to]]>0, Table1[[#This Row],[Wage differential Bonus                            - NotePay Rate you are bonusing to]]-Table1[[#This Row],[Pay Rate]], \"\")","v":""},{"$f":"IF(Table1[[#This Row],[Wage differential Bonus                            - NotePay Rate you are bonusing to]]>0,Table1[[#This Row],[Bonus Rate]]*Table1[[#This Row],[Hours]],\"\")","v":""},null,null,null,null,null,{"$f":"IF(OR(AH702>0.001,AH702<-0.001),Table1[[#This Row],[Employee '#]],\" \")","v":" "},false,{"$f":"SUMIF(Table1[[#This Row],[Total Wage Diff bonus]:[Bank Bonus]],\"<> \")","v":0},{"$f":"IF(AA702>0, Table1[[#This Row],[Column4]], IF(AB702>0,Table1[[#This Row],[Column4]],IF(X702>0,\"1000\")))","v":false}]
[null,null,null,null,null,null,null,null,null,null,null,null,null,null,null,null,0,null,null,null,null,null,null,null,{"$f":"IF(Table1[[#This Row],[Wage differential Bonus                            - NotePay Rate you are bonusing to]]>0, Table1[[#This Row],[Wage differential Bonus                            - NotePay Rate you are bonusing to]]-Table1[[#This Row],[Pay Rate]], \"\")","v":""},{"$f":"IF(Table1[[#This Row],[Wage differential Bonus                            - NotePay Rate you are bonusing to]]>0,Table1[[#This Row],[Bonus Rate]]*Table1[[#This Row],[Hours]],\"\")","v":""},null,null,null,null,null,{"$f":"IF(OR(AH703>0.001,AH703<-0.001),Table1[[#This Row],[Employee '#]],\" \")","v":" "},false,{"$f":"SUMIF(Table1[[#This Row],[Total Wage Diff bonus]:[Bank Bonus]],\"<> \")","v":0},{"$f":"IF(AA703>0, Table1[[#This Row],[Column4]], IF(AB703>0,Table1[[#This Row],[Column4]],IF(X703>0,\"1000\")))","v":false}]
[null,null,null,null,null,null,null,null,null,null,null,null,null,null,null,null,0,null,null,null,null,null,null,null,{"$f":"IF(Table1[[#This Row],[Wage differential Bonus                            - NotePay Rate you are bonusing to]]>0, Table1[[#This Row],[Wage differential Bonus                            - NotePay Rate you are bonusing to]]-Table1[[#This Row],[Pay Rate]], \"\")","v":""},{"$f":"IF(Table1[[#This Row],[Wage differential Bonus                            - NotePay Rate you are bonusing to]]>0,Table1[[#This Row],[Bonus Rate]]*Table1[[#This Row],[Hours]],\"\")","v":""},null,null,null,null,null,{"$f":"IF(OR(AH704>0.001,AH704<-0.001),Table1[[#This Row],[Employee '#]],\" \")","v":" "},false,{"$f":"SUMIF(Table1[[#This Row],[Total Wage Diff bonus]:[Bank Bonus]],\"<> \")","v":0},{"$f":"IF(AA704>0, Table1[[#This Row],[Column4]], IF(AB704>0,Table1[[#This Row],[Column4]],IF(X704>0,\"1000\")))","v":false}]
[null,null,null,null,null,null,null,null,null,null,null,null,null,null,null,null,0,null,null,null,null,null,null,null,{"$f":"IF(Table1[[#This Row],[Wage differential Bonus                            - NotePay Rate you are bonusing to]]>0, Table1[[#This Row],[Wage differential Bonus                            - NotePay Rate you are bonusing to]]-Table1[[#This Row],[Pay Rate]], \"\")","v":""},{"$f":"IF(Table1[[#This Row],[Wage differential Bonus                            - NotePay Rate you are bonusing to]]>0,Table1[[#This Row],[Bonus Rate]]*Table1[[#This Row],[Hours]],\"\")","v":""},null,null,null,null,null,{"$f":"IF(OR(AH705>0.001,AH705<-0.001),Table1[[#This Row],[Employee '#]],\" \")","v":" "},false,{"$f":"SUMIF(Table1[[#This Row],[Total Wage Diff bonus]:[Bank Bonus]],\"<> \")","v":0},{"$f":"IF(AA705>0, Table1[[#This Row],[Column4]], IF(AB705>0,Table1[[#This Row],[Column4]],IF(X705>0,\"1000\")))","v":false}]
[null,null,null,null,null,null,null,null,null,null,null,null,null,null,null,null,0,null,null,null,null,null,null,null,{"$f":"IF(Table1[[#This Row],[Wage differential Bonus                            - NotePay Rate you are bonusing to]]>0, Table1[[#This Row],[Wage differential Bonus                            - NotePay Rate you are bonusing to]]-Table1[[#This Row],[Pay Rate]], \"\")","v":""},{"$f":"IF(Table1[[#This Row],[Wage differential Bonus                            - NotePay Rate you are bonusing to]]>0,Table1[[#This Row],[Bonus Rate]]*Table1[[#This Row],[Hours]],\"\")","v":""},null,null,null,null,null,{"$f":"IF(OR(AH706>0.001,AH706<-0.001),Table1[[#This Row],[Employee '#]],\" \")","v":" "},false,{"$f":"SUMIF(Table1[[#This Row],[Total Wage Diff bonus]:[Bank Bonus]],\"<> \")","v":0},{"$f":"IF(AA706>0, Table1[[#This Row],[Column4]], IF(AB706>0,Table1[[#This Row],[Column4]],IF(X706>0,\"1000\")))","v":false}]
[null,null,null,null,null,null,null,null,null,null,null,null,null,null,null,null,0,null,null,null,null,null,null,null,{"$f":"IF(Table1[[#This Row],[Wage differential Bonus                            - NotePay Rate you are bonusing to]]>0, Table1[[#This Row],[Wage differential Bonus                            - NotePay Rate you are bonusing to]]-Table1[[#This Row],[Pay Rate]], \"\")","v":""},{"$f":"IF(Table1[[#This Row],[Wage differential Bonus                            - NotePay Rate you are bonusing to]]>0,Table1[[#This Row],[Bonus Rate]]*Table1[[#This Row],[Hours]],\"\")","v":""},null,null,null,null,null,{"$f":"IF(OR(AH707>0.001,AH707<-0.001),Table1[[#This Row],[Employee '#]],\" \")","v":" "},false,{"$f":"SUMIF(Table1[[#This Row],[Total Wage Diff bonus]:[Bank Bonus]],\"<> \")","v":0},{"$f":"IF(AA707>0, Table1[[#This Row],[Column4]], IF(AB707>0,Table1[[#This Row],[Column4]],IF(X707>0,\"1000\")))","v":false}]
[null,null,null,null,null,null,null,null,null,null,null,null,null,null,null,null,{"$f":"L708+P708","v":0},null,null,null,null,null,null,null,{"$f":"IF(Table1[[#This Row],[Wage differential Bonus                            - NotePay Rate you are bonusing to]]>0, Table1[[#This Row],[Wage differential Bonus                            - NotePay Rate you are bonusing to]]-Table1[[#This Row],[Pay Rate]], \"\")","v":""},{"$f":"IF(Table1[[#This Row],[Wage differential Bonus                            - NotePay Rate you are bonusing to]]>0,Table1[[#This Row],[Bonus Rate]]*Table1[[#This Row],[Hours]],\"\")","v":""},null,null,null,null,null,{"$f":"IF(OR(AH708>0.001,AH708<-0.001),Table1[[#This Row],[Employee '#]],\" \")","v":" "},{"$f":"IF(AA708>0, \"28\", IF(AB708>0,\"53\",IF(X708>0,\"20\")))","v":false},{"$f":"SUMIF(Table1[[#This Row],[Total Wage Diff bonus]:[Bank Bonus]],\"<> \")","v":0},{"$f":"IF(AA708>0, Table1[[#This Row],[Column4]], IF(AB708>0,Table1[[#This Row],[Column4]],IF(X708>0,\"1000\")))","v":false}]
[null,null,null,null,null,null,null,null,null,null,null,null,null,null,null,null,0,null,null,null,null,null,null,null,{"$f":"IF(Table1[[#This Row],[Wage differential Bonus                            - NotePay Rate you are bonusing to]]>0, Table1[[#This Row],[Wage differential Bonus                            - NotePay Rate you are bonusing to]]-Table1[[#This Row],[Pay Rate]], \"\")","v":""},{"$f":"IF(Table1[[#This Row],[Wage differential Bonus                            - NotePay Rate you are bonusing to]]>0,Table1[[#This Row],[Bonus Rate]]*Table1[[#This Row],[Hours]],\"\")","v":""},null,null,null,null,null,{"$f":"IF(OR(AH709>0.001,AH709<-0.001),Table1[[#This Row],[Employee '#]],\" \")","v":" "},false,{"$f":"SUMIF(Table1[[#This Row],[Total Wage Diff bonus]:[Bank Bonus]],\"<> \")","v":0},{"$f":"IF(AA709>0, Table1[[#This Row],[Column4]], IF(AB709>0,Table1[[#This Row],[Column4]],IF(X709>0,\"1000\")))","v":false}]
[null,null,null,null,null,null,null,null,null,null,null,null,null,null,null,null,0,null,null,null,null,null,null,null,{"$f":"IF(Table1[[#This Row],[Wage differential Bonus                            - NotePay Rate you are bonusing to]]>0, Table1[[#This Row],[Wage differential Bonus                            - NotePay Rate you are bonusing to]]-Table1[[#This Row],[Pay Rate]], \"\")","v":""},{"$f":"IF(Table1[[#This Row],[Wage differential Bonus                            - NotePay Rate you are bonusing to]]>0,Table1[[#This Row],[Bonus Rate]]*Table1[[#This Row],[Hours]],\"\")","v":""},null,null,null,null,null,{"$f":"IF(OR(AH710>0.001,AH710<-0.001),Table1[[#This Row],[Employee '#]],\" \")","v":" "},false,{"$f":"SUMIF(Table1[[#This Row],[Total Wage Diff bonus]:[Bank Bonus]],\"<> \")","v":0},{"$f":"IF(AA710>0, Table1[[#This Row],[Column4]], IF(AB710>0,Table1[[#This Row],[Column4]],IF(X710>0,\"1000\")))","v":false}]
[null,null,null,null,null,null,null,null,null,null,null,null,null,null,null,null,0,null,null,null,null,null,null,null,{"$f":"IF(Table1[[#This Row],[Wage differential Bonus                            - NotePay Rate you are bonusing to]]>0, Table1[[#This Row],[Wage differential Bonus                            - NotePay Rate you are bonusing to]]-Table1[[#This Row],[Pay Rate]], \"\")","v":""},{"$f":"IF(Table1[[#This Row],[Wage differential Bonus                            - NotePay Rate you are bonusing to]]>0,Table1[[#This Row],[Bonus Rate]]*Table1[[#This Row],[Hours]],\"\")","v":""},null,null,null,null,null,{"$f":"IF(OR(AH711>0.001,AH711<-0.001),Table1[[#This Row],[Employee '#]],\" \")","v":" "},false,{"$f":"SUMIF(Table1[[#This Row],[Total Wage Diff bonus]:[Bank Bonus]],\"<> \")","v":0},{"$f":"IF(AA711>0, Table1[[#This Row],[Column4]], IF(AB711>0,Table1[[#This Row],[Column4]],IF(X711>0,\"1000\")))","v":false}]
[null,null,null,null,null,null,null,null,null,null,null,null,null,null,null,null,0,null,null,null,null,null,null,null,{"$f":"IF(Table1[[#This Row],[Wage differential Bonus                            - NotePay Rate you are bonusing to]]>0, Table1[[#This Row],[Wage differential Bonus                            - NotePay Rate you are bonusing to]]-Table1[[#This Row],[Pay Rate]], \"\")","v":""},{"$f":"IF(Table1[[#This Row],[Wage differential Bonus                            - NotePay Rate you are bonusing to]]>0,Table1[[#This Row],[Bonus Rate]]*Table1[[#This Row],[Hours]],\"\")","v":""},null,null,null,null,null,{"$f":"IF(OR(AH712>0.001,AH712<-0.001),Table1[[#This Row],[Employee '#]],\" \")","v":" "},false,{"$f":"SUMIF(Table1[[#This Row],[Total Wage Diff bonus]:[Bank Bonus]],\"<> \")","v":0},{"$f":"IF(AA712>0, Table1[[#This Row],[Column4]], IF(AB712>0,Table1[[#This Row],[Column4]],IF(X712>0,\"1000\")))","v":false}]
[null,null,null,null,null,null,null,null,null,null,null,null,null,null,null,null,0,null,null,null,null,null,null,null,{"$f":"IF(Table1[[#This Row],[Wage differential Bonus                            - NotePay Rate you are bonusing to]]>0, Table1[[#This Row],[Wage differential Bonus                            - NotePay Rate you are bonusing to]]-Table1[[#This Row],[Pay Rate]], \"\")","v":""},{"$f":"IF(Table1[[#This Row],[Wage differential Bonus                            - NotePay Rate you are bonusing to]]>0,Table1[[#This Row],[Bonus Rate]]*Table1[[#This Row],[Hours]],\"\")","v":""},null,null,null,null,null,{"$f":"IF(OR(AH713>0.001,AH713<-0.001),Table1[[#This Row],[Employee '#]],\" \")","v":" "},false,{"$f":"SUMIF(Table1[[#This Row],[Total Wage Diff bonus]:[Bank Bonus]],\"<> \")","v":0},{"$f":"IF(AA713>0, Table1[[#This Row],[Column4]], IF(AB713>0,Table1[[#This Row],[Column4]],IF(X713>0,\"1000\")))","v":false}]
[null,null,null,null,null,null,null,null,null,null,null,null,null,null,null,null,0,null,null,null,null,null,null,null,{"$f":"IF(Table1[[#This Row],[Wage differential Bonus                            - NotePay Rate you are bonusing to]]>0, Table1[[#This Row],[Wage differential Bonus                            - NotePay Rate you are bonusing to]]-Table1[[#This Row],[Pay Rate]], \"\")","v":""},{"$f":"IF(Table1[[#This Row],[Wage differential Bonus                            - NotePay Rate you are bonusing to]]>0,Table1[[#This Row],[Bonus Rate]]*Table1[[#This Row],[Hours]],\"\")","v":""},null,null,null,null,null,{"$f":"IF(OR(AH714>0.001,AH714<-0.001),Table1[[#This Row],[Employee '#]],\" \")","v":" "},false,{"$f":"SUMIF(Table1[[#This Row],[Total Wage Diff bonus]:[Bank Bonus]],\"<> \")","v":0},{"$f":"IF(AA714>0, Table1[[#This Row],[Column4]], IF(AB714>0,Table1[[#This Row],[Column4]],IF(X714>0,\"1000\")))","v":false}]
[null,null,null,null,null,null,null,null,null,null,null,null,null,null,null,null,0,null,null,null,null,null,null,null,{"$f":"IF(Table1[[#This Row],[Wage differential Bonus                            - NotePay Rate you are bonusing to]]>0, Table1[[#This Row],[Wage differential Bonus                            - NotePay Rate you are bonusing to]]-Table1[[#This Row],[Pay Rate]], \"\")","v":""},{"$f":"IF(Table1[[#This Row],[Wage differential Bonus                            - NotePay Rate you are bonusing to]]>0,Table1[[#This Row],[Bonus Rate]]*Table1[[#This Row],[Hours]],\"\")","v":""},null,null,null,null,null,{"$f":"IF(OR(AH715>0.001,AH715<-0.001),Table1[[#This Row],[Employee '#]],\" \")","v":" "},false,{"$f":"SUMIF(Table1[[#This Row],[Total Wage Diff bonus]:[Bank Bonus]],\"<> \")","v":0},{"$f":"IF(AA715>0, Table1[[#This Row],[Column4]], IF(AB715>0,Table1[[#This Row],[Column4]],IF(X715>0,\"1000\")))","v":false}]
[null,null,null,null,null,null,null,null,null,null,null,null,null,null,null,null,0,null,null,null,null,null,null,null,{"$f":"IF(Table1[[#This Row],[Wage differential Bonus                            - NotePay Rate you are bonusing to]]>0, Table1[[#This Row],[Wage differential Bonus                            - NotePay Rate you are bonusing to]]-Table1[[#This Row],[Pay Rate]], \"\")","v":""},{"$f":"IF(Table1[[#This Row],[Wage differential Bonus                            - NotePay Rate you are bonusing to]]>0,Table1[[#This Row],[Bonus Rate]]*Table1[[#This Row],[Hours]],\"\")","v":""},null,null,null,null,null,{"$f":"IF(OR(AH716>0.001,AH716<-0.001),Table1[[#This Row],[Employee '#]],\" \")","v":" "},false,{"$f":"SUMIF(Table1[[#This Row],[Total Wage Diff bonus]:[Bank Bonus]],\"<> \")","v":0},{"$f":"IF(AA716>0, Table1[[#This Row],[Column4]], IF(AB716>0,Table1[[#This Row],[Column4]],IF(X716>0,\"1000\")))","v":false}]
[null,null,null,null,null,null,null,null,null,null,null,null,null,null,null,null,0,null,null,null,null,null,null,null,{"$f":"IF(Table1[[#This Row],[Wage differential Bonus                            - NotePay Rate you are bonusing to]]>0, Table1[[#This Row],[Wage differential Bonus                            - NotePay Rate you are bonusing to]]-Table1[[#This Row],[Pay Rate]], \"\")","v":""},{"$f":"IF(Table1[[#This Row],[Wage differential Bonus                            - NotePay Rate you are bonusing to]]>0,Table1[[#This Row],[Bonus Rate]]*Table1[[#This Row],[Hours]],\"\")","v":""},null,null,null,null,null,{"$f":"IF(OR(AH717>0.001,AH717<-0.001),Table1[[#This Row],[Employee '#]],\" \")","v":" "},false,{"$f":"SUMIF(Table1[[#This Row],[Total Wage Diff bonus]:[Bank Bonus]],\"<> \")","v":0},{"$f":"IF(AA717>0, Table1[[#This Row],[Column4]], IF(AB717>0,Table1[[#This Row],[Column4]],IF(X717>0,\"1000\")))","v":false}]
[null,null,null,null,null,null,null,null,null,null,null,null,null,null,null,null,0,null,null,null,null,null,null,null,{"$f":"IF(Table1[[#This Row],[Wage differential Bonus                            - NotePay Rate you are bonusing to]]>0, Table1[[#This Row],[Wage differential Bonus                            - NotePay Rate you are bonusing to]]-Table1[[#This Row],[Pay Rate]], \"\")","v":""},{"$f":"IF(Table1[[#This Row],[Wage differential Bonus                            - NotePay Rate you are bonusing to]]>0,Table1[[#This Row],[Bonus Rate]]*Table1[[#This Row],[Hours]],\"\")","v":""},null,null,null,null,null,{"$f":"IF(OR(AH718>0.001,AH718<-0.001),Table1[[#This Row],[Employee '#]],\" \")","v":" "},false,{"$f":"SUMIF(Table1[[#This Row],[Total Wage Diff bonus]:[Bank Bonus]],\"<> \")","v":0},{"$f":"IF(AA718>0, Table1[[#This Row],[Column4]], IF(AB718>0,Table1[[#This Row],[Column4]],IF(X718>0,\"1000\")))","v":false}]
[null,null,null,null,null,null,null,null,null,null,null,null,null,null,null,null,0,null,null,null,null,null,null,null,{"$f":"IF(Table1[[#This Row],[Wage differential Bonus                            - NotePay Rate you are bonusing to]]>0, Table1[[#This Row],[Wage differential Bonus                            - NotePay Rate you are bonusing to]]-Table1[[#This Row],[Pay Rate]], \"\")","v":""},{"$f":"IF(Table1[[#This Row],[Wage differential Bonus                            - NotePay Rate you are bonusing to]]>0,Table1[[#This Row],[Bonus Rate]]*Table1[[#This Row],[Hours]],\"\")","v":""},null,null,null,null,null,{"$f":"IF(OR(AH719>0.001,AH719<-0.001),Table1[[#This Row],[Employee '#]],\" \")","v":" "},false,{"$f":"SUMIF(Table1[[#This Row],[Total Wage Diff bonus]:[Bank Bonus]],\"<> \")","v":0},{"$f":"IF(AA719>0, Table1[[#This Row],[Column4]], IF(AB719>0,Table1[[#This Row],[Column4]],IF(X719>0,\"1000\")))","v":false}]
[null,null,null,null,null,null,null,null,null,null,null,null,null,null,null,null,0,null,null,null,null,null,null,null,{"$f":"IF(Table1[[#This Row],[Wage differential Bonus                            - NotePay Rate you are bonusing to]]>0, Table1[[#This Row],[Wage differential Bonus                            - NotePay Rate you are bonusing to]]-Table1[[#This Row],[Pay Rate]], \"\")","v":""},{"$f":"IF(Table1[[#This Row],[Wage differential Bonus                            - NotePay Rate you are bonusing to]]>0,Table1[[#This Row],[Bonus Rate]]*Table1[[#This Row],[Hours]],\"\")","v":""},null,null,null,null,null,{"$f":"IF(OR(AH720>0.001,AH720<-0.001),Table1[[#This Row],[Employee '#]],\" \")","v":" "},false,{"$f":"SUMIF(Table1[[#This Row],[Total Wage Diff bonus]:[Bank Bonus]],\"<> \")","v":0},{"$f":"IF(AA720>0, Table1[[#This Row],[Column4]], IF(AB720>0,Table1[[#This Row],[Column4]],IF(X720>0,\"1000\")))","v":false}]
[null,null,null,null,null,null,null,null,null,null,null,null,null,null,null,null,0,null,null,null,null,null,null,null,{"$f":"IF(Table1[[#This Row],[Wage differential Bonus                            - NotePay Rate you are bonusing to]]>0, Table1[[#This Row],[Wage differential Bonus                            - NotePay Rate you are bonusing to]]-Table1[[#This Row],[Pay Rate]], \"\")","v":""},{"$f":"IF(Table1[[#This Row],[Wage differential Bonus                            - NotePay Rate you are bonusing to]]>0,Table1[[#This Row],[Bonus Rate]]*Table1[[#This Row],[Hours]],\"\")","v":""},null,null,null,null,null,{"$f":"IF(OR(AH721>0.001,AH721<-0.001),Table1[[#This Row],[Employee '#]],\" \")","v":" "},false,{"$f":"SUMIF(Table1[[#This Row],[Total Wage Diff bonus]:[Bank Bonus]],\"<> \")","v":0},{"$f":"IF(AA721>0, Table1[[#This Row],[Column4]], IF(AB721>0,Table1[[#This Row],[Column4]],IF(X721>0,\"1000\")))","v":false}]
[null,null,null,null,null,null,null,null,null,null,null,null,null,null,null,null,0,null,null,null,null,null,null,null,{"$f":"IF(Table1[[#This Row],[Wage differential Bonus                            - NotePay Rate you are bonusing to]]>0, Table1[[#This Row],[Wage differential Bonus                            - NotePay Rate you are bonusing to]]-Table1[[#This Row],[Pay Rate]], \"\")","v":""},{"$f":"IF(Table1[[#This Row],[Wage differential Bonus                            - NotePay Rate you are bonusing to]]>0,Table1[[#This Row],[Bonus Rate]]*Table1[[#This Row],[Hours]],\"\")","v":""},null,null,null,null,null,{"$f":"IF(OR(AH722>0.001,AH722<-0.001),Table1[[#This Row],[Employee '#]],\" \")","v":" "},false,{"$f":"SUMIF(Table1[[#This Row],[Total Wage Diff bonus]:[Bank Bonus]],\"<> \")","v":0},{"$f":"IF(AA722>0, Table1[[#This Row],[Column4]], IF(AB722>0,Table1[[#This Row],[Column4]],IF(X722>0,\"1000\")))","v":false}]
[null,null,null,null,null,null,null,null,null,null,null,null,null,null,null,null,0,null,null,null,null,null,null,null,{"$f":"IF(Table1[[#This Row],[Wage differential Bonus                            - NotePay Rate you are bonusing to]]>0, Table1[[#This Row],[Wage differential Bonus                            - NotePay Rate you are bonusing to]]-Table1[[#This Row],[Pay Rate]], \"\")","v":""},{"$f":"IF(Table1[[#This Row],[Wage differential Bonus                            - NotePay Rate you are bonusing to]]>0,Table1[[#This Row],[Bonus Rate]]*Table1[[#This Row],[Hours]],\"\")","v":""},null,null,null,null,null,{"$f":"IF(OR(AH723>0.001,AH723<-0.001),Table1[[#This Row],[Employee '#]],\" \")","v":" "},false,{"$f":"SUMIF(Table1[[#This Row],[Total Wage Diff bonus]:[Bank Bonus]],\"<> \")","v":0},{"$f":"IF(AA723>0, Table1[[#This Row],[Column4]], IF(AB723>0,Table1[[#This Row],[Column4]],IF(X723>0,\"1000\")))","v":false}]
[null,null,null,null,null,null,null,null,null,null,null,null,null,null,null,null,0,null,null,null,null,null,null,null,{"$f":"IF(Table1[[#This Row],[Wage differential Bonus                            - NotePay Rate you are bonusing to]]>0, Table1[[#This Row],[Wage differential Bonus                            - NotePay Rate you are bonusing to]]-Table1[[#This Row],[Pay Rate]], \"\")","v":""},{"$f":"IF(Table1[[#This Row],[Wage differential Bonus                            - NotePay Rate you are bonusing to]]>0,Table1[[#This Row],[Bonus Rate]]*Table1[[#This Row],[Hours]],\"\")","v":""},null,null,null,null,null,{"$f":"IF(OR(AH724>0.001,AH724<-0.001),Table1[[#This Row],[Employee '#]],\" \")","v":" "},false,{"$f":"SUMIF(Table1[[#This Row],[Total Wage Diff bonus]:[Bank Bonus]],\"<> \")","v":0},{"$f":"IF(AA724>0, Table1[[#This Row],[Column4]], IF(AB724>0,Table1[[#This Row],[Column4]],IF(X724>0,\"1000\")))","v":false}]
[null,null,null,null,null,null,null,null,null,null,null,null,null,null,null,null,0,null,null,null,null,null,null,null,{"$f":"IF(Table1[[#This Row],[Wage differential Bonus                            - NotePay Rate you are bonusing to]]>0, Table1[[#This Row],[Wage differential Bonus                            - NotePay Rate you are bonusing to]]-Table1[[#This Row],[Pay Rate]], \"\")","v":""},{"$f":"IF(Table1[[#This Row],[Wage differential Bonus                            - NotePay Rate you are bonusing to]]>0,Table1[[#This Row],[Bonus Rate]]*Table1[[#This Row],[Hours]],\"\")","v":""},null,null,null,null,null,{"$f":"IF(OR(AH725>0.001,AH725<-0.001),Table1[[#This Row],[Employee '#]],\" \")","v":" "},false,{"$f":"SUMIF(Table1[[#This Row],[Total Wage Diff bonus]:[Bank Bonus]],\"<> \")","v":0},{"$f":"IF(AA725>0, Table1[[#This Row],[Column4]], IF(AB725>0,Table1[[#This Row],[Column4]],IF(X725>0,\"1000\")))","v":false}]
[null,null,null,null,null,null,null,null,null,null,null,null,null,null,null,null,0,null,null,null,null,null,null,null,{"$f":"IF(Table1[[#This Row],[Wage differential Bonus                            - NotePay Rate you are bonusing to]]>0, Table1[[#This Row],[Wage differential Bonus                            - NotePay Rate you are bonusing to]]-Table1[[#This Row],[Pay Rate]], \"\")","v":""},{"$f":"IF(Table1[[#This Row],[Wage differential Bonus                            - NotePay Rate you are bonusing to]]>0,Table1[[#This Row],[Bonus Rate]]*Table1[[#This Row],[Hours]],\"\")","v":""},null,null,null,null,null,{"$f":"IF(OR(AH726>0.001,AH726<-0.001),Table1[[#This Row],[Employee '#]],\" \")","v":" "},false,{"$f":"SUMIF(Table1[[#This Row],[Total Wage Diff bonus]:[Bank Bonus]],\"<> \")","v":0},{"$f":"IF(AA726>0, Table1[[#This Row],[Column4]], IF(AB726>0,Table1[[#This Row],[Column4]],IF(X726>0,\"1000\")))","v":false}]
[null,null,null,null,null,null,null,null,null,null,null,null,null,null,null,null,0,null,null,null,null,null,null,null,{"$f":"IF(Table1[[#This Row],[Wage differential Bonus                            - NotePay Rate you are bonusing to]]>0, Table1[[#This Row],[Wage differential Bonus                            - NotePay Rate you are bonusing to]]-Table1[[#This Row],[Pay Rate]], \"\")","v":""},{"$f":"IF(Table1[[#This Row],[Wage differential Bonus                            - NotePay Rate you are bonusing to]]>0,Table1[[#This Row],[Bonus Rate]]*Table1[[#This Row],[Hours]],\"\")","v":""},null,null,null,null,null,{"$f":"IF(OR(AH727>0.001,AH727<-0.001),Table1[[#This Row],[Employee '#]],\" \")","v":" "},false,{"$f":"SUMIF(Table1[[#This Row],[Total Wage Diff bonus]:[Bank Bonus]],\"<> \")","v":0},{"$f":"IF(AA727>0, Table1[[#This Row],[Column4]], IF(AB727>0,Table1[[#This Row],[Column4]],IF(X727>0,\"1000\")))","v":false}]
[null,null,null,null,null,null,null,null,null,null,null,null,null,null,null,null,0,null,null,null,null,null,null,null,{"$f":"IF(Table1[[#This Row],[Wage differential Bonus                            - NotePay Rate you are bonusing to]]>0, Table1[[#This Row],[Wage differential Bonus                            - NotePay Rate you are bonusing to]]-Table1[[#This Row],[Pay Rate]], \"\")","v":""},{"$f":"IF(Table1[[#This Row],[Wage differential Bonus                            - NotePay Rate you are bonusing to]]>0,Table1[[#This Row],[Bonus Rate]]*Table1[[#This Row],[Hours]],\"\")","v":""},null,null,null,null,null,{"$f":"IF(OR(AH728>0.001,AH728<-0.001),Table1[[#This Row],[Employee '#]],\" \")","v":" "},false,{"$f":"SUMIF(Table1[[#This Row],[Total Wage Diff bonus]:[Bank Bonus]],\"<> \")","v":0},{"$f":"IF(AA728>0, Table1[[#This Row],[Column4]], IF(AB728>0,Table1[[#This Row],[Column4]],IF(X728>0,\"1000\")))","v":false}]
[null,null,null,null,null,null,null,null,null,null,null,null,null,null,null,null,0,null,null,null,null,null,null,null,{"$f":"IF(Table1[[#This Row],[Wage differential Bonus                            - NotePay Rate you are bonusing to]]>0, Table1[[#This Row],[Wage differential Bonus                            - NotePay Rate you are bonusing to]]-Table1[[#This Row],[Pay Rate]], \"\")","v":""},{"$f":"IF(Table1[[#This Row],[Wage differential Bonus                            - NotePay Rate you are bonusing to]]>0,Table1[[#This Row],[Bonus Rate]]*Table1[[#This Row],[Hours]],\"\")","v":""},null,null,null,null,null,{"$f":"IF(OR(AH729>0.001,AH729<-0.001),Table1[[#This Row],[Employee '#]],\" \")","v":" "},false,{"$f":"SUMIF(Table1[[#This Row],[Total Wage Diff bonus]:[Bank Bonus]],\"<> \")","v":0},{"$f":"IF(AA729>0, Table1[[#This Row],[Column4]], IF(AB729>0,Table1[[#This Row],[Column4]],IF(X729>0,\"1000\")))","v":false}]
[null,null,null,null,null,null,null,null,null,null,null,null,null,null,null,null,0,null,null,null,null,null,null,null,{"$f":"IF(Table1[[#This Row],[Wage differential Bonus                            - NotePay Rate you are bonusing to]]>0, Table1[[#This Row],[Wage differential Bonus                            - NotePay Rate you are bonusing to]]-Table1[[#This Row],[Pay Rate]], \"\")","v":""},{"$f":"IF(Table1[[#This Row],[Wage differential Bonus                            - NotePay Rate you are bonusing to]]>0,Table1[[#This Row],[Bonus Rate]]*Table1[[#This Row],[Hours]],\"\")","v":""},null,null,null,null,null,{"$f":"IF(OR(AH730>0.001,AH730<-0.001),Table1[[#This Row],[Employee '#]],\" \")","v":" "},false,{"$f":"SUMIF(Table1[[#This Row],[Total Wage Diff bonus]:[Bank Bonus]],\"<> \")","v":0},{"$f":"IF(AA730>0, Table1[[#This Row],[Column4]], IF(AB730>0,Table1[[#This Row],[Column4]],IF(X730>0,\"1000\")))","v":false}]
[null,null,null,null,null,null,null,null,null,null,null,null,null,null,null,null,0,null,null,null,null,null,null,null,{"$f":"IF(Table1[[#This Row],[Wage differential Bonus                            - NotePay Rate you are bonusing to]]>0, Table1[[#This Row],[Wage differential Bonus                            - NotePay Rate you are bonusing to]]-Table1[[#This Row],[Pay Rate]], \"\")","v":""},{"$f":"IF(Table1[[#This Row],[Wage differential Bonus                            - NotePay Rate you are bonusing to]]>0,Table1[[#This Row],[Bonus Rate]]*Table1[[#This Row],[Hours]],\"\")","v":""},null,null,null,null,null,{"$f":"IF(OR(AH731>0.001,AH731<-0.001),Table1[[#This Row],[Employee '#]],\" \")","v":" "},false,{"$f":"SUMIF(Table1[[#This Row],[Total Wage Diff bonus]:[Bank Bonus]],\"<> \")","v":0},{"$f":"IF(AA731>0, Table1[[#This Row],[Column4]], IF(AB731>0,Table1[[#This Row],[Column4]],IF(X731>0,\"1000\")))","v":false}]
[null,null,null,null,null,null,null,null,null,null,null,null,null,null,null,null,0,null,null,null,null,null,null,null,{"$f":"IF(Table1[[#This Row],[Wage differential Bonus                            - NotePay Rate you are bonusing to]]>0, Table1[[#This Row],[Wage differential Bonus                            - NotePay Rate you are bonusing to]]-Table1[[#This Row],[Pay Rate]], \"\")","v":""},{"$f":"IF(Table1[[#This Row],[Wage differential Bonus                            - NotePay Rate you are bonusing to]]>0,Table1[[#This Row],[Bonus Rate]]*Table1[[#This Row],[Hours]],\"\")","v":""},null,null,null,null,null,{"$f":"IF(OR(AH732>0.001,AH732<-0.001),Table1[[#This Row],[Employee '#]],\" \")","v":" "},false,{"$f":"SUMIF(Table1[[#This Row],[Total Wage Diff bonus]:[Bank Bonus]],\"<> \")","v":0},{"$f":"IF(AA732>0, Table1[[#This Row],[Column4]], IF(AB732>0,Table1[[#This Row],[Column4]],IF(X732>0,\"1000\")))","v":false}]
[null,null,null,null,null,null,null,null,null,null,null,null,null,null,null,null,0,null,null,null,null,null,null,null,{"$f":"IF(Table1[[#This Row],[Wage differential Bonus                            - NotePay Rate you are bonusing to]]>0, Table1[[#This Row],[Wage differential Bonus                            - NotePay Rate you are bonusing to]]-Table1[[#This Row],[Pay Rate]], \"\")","v":""},{"$f":"IF(Table1[[#This Row],[Wage differential Bonus                            - NotePay Rate you are bonusing to]]>0,Table1[[#This Row],[Bonus Rate]]*Table1[[#This Row],[Hours]],\"\")","v":""},null,null,null,null,null,{"$f":"IF(OR(AH733>0.001,AH733<-0.001),Table1[[#This Row],[Employee '#]],\" \")","v":" "},false,{"$f":"SUMIF(Table1[[#This Row],[Total Wage Diff bonus]:[Bank Bonus]],\"<> \")","v":0},{"$f":"IF(AA733>0, Table1[[#This Row],[Column4]], IF(AB733>0,Table1[[#This Row],[Column4]],IF(X733>0,\"1000\")))","v":false}]
[null,null,null,null,null,null,null,null,null,null,null,null,null,null,null,null,0,null,null,null,null,null,null,null,{"$f":"IF(Table1[[#This Row],[Wage differential Bonus                            - NotePay Rate you are bonusing to]]>0, Table1[[#This Row],[Wage differential Bonus                            - NotePay Rate you are bonusing to]]-Table1[[#This Row],[Pay Rate]], \"\")","v":""},{"$f":"IF(Table1[[#This Row],[Wage differential Bonus                            - NotePay Rate you are bonusing to]]>0,Table1[[#This Row],[Bonus Rate]]*Table1[[#This Row],[Hours]],\"\")","v":""},null,null,null,null,null,{"$f":"IF(OR(AH734>0.001,AH734<-0.001),Table1[[#This Row],[Employee '#]],\" \")","v":" "},false,{"$f":"SUMIF(Table1[[#This Row],[Total Wage Diff bonus]:[Bank Bonus]],\"<> \")","v":0},{"$f":"IF(AA734>0, Table1[[#This Row],[Column4]], IF(AB734>0,Table1[[#This Row],[Column4]],IF(X734>0,\"1000\")))","v":false}]
[null,null,null,null,null,null,null,null,null,null,null,null,null,null,null,null,0,null,null,null,null,null,null,null,{"$f":"IF(Table1[[#This Row],[Wage differential Bonus                            - NotePay Rate you are bonusing to]]>0, Table1[[#This Row],[Wage differential Bonus                            - NotePay Rate you are bonusing to]]-Table1[[#This Row],[Pay Rate]], \"\")","v":""},{"$f":"IF(Table1[[#This Row],[Wage differential Bonus                            - NotePay Rate you are bonusing to]]>0,Table1[[#This Row],[Bonus Rate]]*Table1[[#This Row],[Hours]],\"\")","v":""},null,null,null,null,null,{"$f":"IF(OR(AH735>0.001,AH735<-0.001),Table1[[#This Row],[Employee '#]],\" \")","v":" "},false,{"$f":"SUMIF(Table1[[#This Row],[Total Wage Diff bonus]:[Bank Bonus]],\"<> \")","v":0},{"$f":"IF(AA735>0, Table1[[#This Row],[Column4]], IF(AB735>0,Table1[[#This Row],[Column4]],IF(X735>0,\"1000\")))","v":false}]
[null,null,null,null,null,null,null,null,null,null,null,null,null,null,null,null,0,null,null,null,null,null,null,null,{"$f":"IF(Table1[[#This Row],[Wage differential Bonus                            - NotePay Rate you are bonusing to]]>0, Table1[[#This Row],[Wage differential Bonus                            - NotePay Rate you are bonusing to]]-Table1[[#This Row],[Pay Rate]], \"\")","v":""},{"$f":"IF(Table1[[#This Row],[Wage differential Bonus                            - NotePay Rate you are bonusing to]]>0,Table1[[#This Row],[Bonus Rate]]*Table1[[#This Row],[Hours]],\"\")","v":""},null,null,null,null,null,{"$f":"IF(OR(AH736>0.001,AH736<-0.001),Table1[[#This Row],[Employee '#]],\" \")","v":" "},false,{"$f":"SUMIF(Table1[[#This Row],[Total Wage Diff bonus]:[Bank Bonus]],\"<> \")","v":0},{"$f":"IF(AA736>0, Table1[[#This Row],[Column4]], IF(AB736>0,Table1[[#This Row],[Column4]],IF(X736>0,\"1000\")))","v":false}]
[null,null,null,null,null,null,null,null,null,null,null,null,null,null,null,null,0,null,null,null,null,null,null,null,{"$f":"IF(Table1[[#This Row],[Wage differential Bonus                            - NotePay Rate you are bonusing to]]>0, Table1[[#This Row],[Wage differential Bonus                            - NotePay Rate you are bonusing to]]-Table1[[#This Row],[Pay Rate]], \"\")","v":""},{"$f":"IF(Table1[[#This Row],[Wage differential Bonus                            - NotePay Rate you are bonusing to]]>0,Table1[[#This Row],[Bonus Rate]]*Table1[[#This Row],[Hours]],\"\")","v":""},null,null,null,null,null,{"$f":"IF(OR(AH737>0.001,AH737<-0.001),Table1[[#This Row],[Employee '#]],\" \")","v":" "},false,{"$f":"SUMIF(Table1[[#This Row],[Total Wage Diff bonus]:[Bank Bonus]],\"<> \")","v":0},{"$f":"IF(AA737>0, Table1[[#This Row],[Column4]], IF(AB737>0,Table1[[#This Row],[Column4]],IF(X737>0,\"1000\")))","v":false}]
[null,null,null,null,null,null,null,null,null,null,null,null,null,null,null,null,0,null,null,null,null,null,null,null,{"$f":"IF(Table1[[#This Row],[Wage differential Bonus                            - NotePay Rate you are bonusing to]]>0, Table1[[#This Row],[Wage differential Bonus                            - NotePay Rate you are bonusing to]]-Table1[[#This Row],[Pay Rate]], \"\")","v":""},{"$f":"IF(Table1[[#This Row],[Wage differential Bonus                            - NotePay Rate you are bonusing to]]>0,Table1[[#This Row],[Bonus Rate]]*Table1[[#This Row],[Hours]],\"\")","v":""},null,null,null,null,null,{"$f":"IF(OR(AH738>0.001,AH738<-0.001),Table1[[#This Row],[Employee '#]],\" \")","v":" "},false,{"$f":"SUMIF(Table1[[#This Row],[Total Wage Diff bonus]:[Bank Bonus]],\"<> \")","v":0},{"$f":"IF(AA738>0, Table1[[#This Row],[Column4]], IF(AB738>0,Table1[[#This Row],[Column4]],IF(X738>0,\"1000\")))","v":false}]
[null,null,null,null,null,null,null,null,null,null,null,null,null,null,null,null,0,null,null,null,null,null,null,null,{"$f":"IF(Table1[[#This Row],[Wage differential Bonus                            - NotePay Rate you are bonusing to]]>0, Table1[[#This Row],[Wage differential Bonus                            - NotePay Rate you are bonusing to]]-Table1[[#This Row],[Pay Rate]], \"\")","v":""},{"$f":"IF(Table1[[#This Row],[Wage differential Bonus                            - NotePay Rate you are bonusing to]]>0,Table1[[#This Row],[Bonus Rate]]*Table1[[#This Row],[Hours]],\"\")","v":""},null,null,null,null,null,{"$f":"IF(OR(AH739>0.001,AH739<-0.001),Table1[[#This Row],[Employee '#]],\" \")","v":" "},false,{"$f":"SUMIF(Table1[[#This Row],[Total Wage Diff bonus]:[Bank Bonus]],\"<> \")","v":0},{"$f":"IF(AA739>0, Table1[[#This Row],[Column4]], IF(AB739>0,Table1[[#This Row],[Column4]],IF(X739>0,\"1000\")))","v":false}]
[null,null,null,null,null,null,null,null,null,null,null,null,null,null,null,null,0,null,null,null,null,null,null,null,{"$f":"IF(Table1[[#This Row],[Wage differential Bonus                            - NotePay Rate you are bonusing to]]>0, Table1[[#This Row],[Wage differential Bonus                            - NotePay Rate you are bonusing to]]-Table1[[#This Row],[Pay Rate]], \"\")","v":""},{"$f":"IF(Table1[[#This Row],[Wage differential Bonus                            - NotePay Rate you are bonusing to]]>0,Table1[[#This Row],[Bonus Rate]]*Table1[[#This Row],[Hours]],\"\")","v":""},null,null,null,null,null,{"$f":"IF(OR(AH740>0.001,AH740<-0.001),Table1[[#This Row],[Employee '#]],\" \")","v":" "},false,{"$f":"SUMIF(Table1[[#This Row],[Total Wage Diff bonus]:[Bank Bonus]],\"<> \")","v":0},{"$f":"IF(AA740>0, Table1[[#This Row],[Column4]], IF(AB740>0,Table1[[#This Row],[Column4]],IF(X740>0,\"1000\")))","v":false}]
[null,null,null,null,null,null,null,null,null,null,null,null,null,null,null,null,0,null,null,null,null,null,null,null,{"$f":"IF(Table1[[#This Row],[Wage differential Bonus                            - NotePay Rate you are bonusing to]]>0, Table1[[#This Row],[Wage differential Bonus                            - NotePay Rate you are bonusing to]]-Table1[[#This Row],[Pay Rate]], \"\")","v":""},{"$f":"IF(Table1[[#This Row],[Wage differential Bonus                            - NotePay Rate you are bonusing to]]>0,Table1[[#This Row],[Bonus Rate]]*Table1[[#This Row],[Hours]],\"\")","v":""},null,null,null,null,null,{"$f":"IF(OR(AH741>0.001,AH741<-0.001),Table1[[#This Row],[Employee '#]],\" \")","v":" "},false,{"$f":"SUMIF(Table1[[#This Row],[Total Wage Diff bonus]:[Bank Bonus]],\"<> \")","v":0},{"$f":"IF(AA741>0, Table1[[#This Row],[Column4]], IF(AB741>0,Table1[[#This Row],[Column4]],IF(X741>0,\"1000\")))","v":false}]
[null,null,null,null,null,null,null,null,null,null,null,null,null,null,null,null,0,null,null,null,null,null,null,null,{"$f":"IF(Table1[[#This Row],[Wage differential Bonus                            - NotePay Rate you are bonusing to]]>0, Table1[[#This Row],[Wage differential Bonus                            - NotePay Rate you are bonusing to]]-Table1[[#This Row],[Pay Rate]], \"\")","v":""},{"$f":"IF(Table1[[#This Row],[Wage differential Bonus                            - NotePay Rate you are bonusing to]]>0,Table1[[#This Row],[Bonus Rate]]*Table1[[#This Row],[Hours]],\"\")","v":""},null,null,null,null,null,{"$f":"IF(OR(AH742>0.001,AH742<-0.001),Table1[[#This Row],[Employee '#]],\" \")","v":" "},false,{"$f":"SUMIF(Table1[[#This Row],[Total Wage Diff bonus]:[Bank Bonus]],\"<> \")","v":0},{"$f":"IF(AA742>0, Table1[[#This Row],[Column4]], IF(AB742>0,Table1[[#This Row],[Column4]],IF(X742>0,\"1000\")))","v":false}]
[null,null,null,null,null,null,null,null,null,null,null,null,null,null,null,null,0,null,null,null,null,null,null,null,{"$f":"IF(Table1[[#This Row],[Wage differential Bonus                            - NotePay Rate you are bonusing to]]>0, Table1[[#This Row],[Wage differential Bonus                            - NotePay Rate you are bonusing to]]-Table1[[#This Row],[Pay Rate]], \"\")","v":""},{"$f":"IF(Table1[[#This Row],[Wage differential Bonus                            - NotePay Rate you are bonusing to]]>0,Table1[[#This Row],[Bonus Rate]]*Table1[[#This Row],[Hours]],\"\")","v":""},null,null,null,null,null,{"$f":"IF(OR(AH743>0.001,AH743<-0.001),Table1[[#This Row],[Employee '#]],\" \")","v":" "},false,{"$f":"SUMIF(Table1[[#This Row],[Total Wage Diff bonus]:[Bank Bonus]],\"<> \")","v":0},{"$f":"IF(AA743>0, Table1[[#This Row],[Column4]], IF(AB743>0,Table1[[#This Row],[Column4]],IF(X743>0,\"1000\")))","v":false}]
[null,null,null,null,null,null,null,null,null,null,null,null,null,null,null,null,0,null,null,null,null,null,null,null,{"$f":"IF(Table1[[#This Row],[Wage differential Bonus                            - NotePay Rate you are bonusing to]]>0, Table1[[#This Row],[Wage differential Bonus                            - NotePay Rate you are bonusing to]]-Table1[[#This Row],[Pay Rate]], \"\")","v":""},{"$f":"IF(Table1[[#This Row],[Wage differential Bonus                            - NotePay Rate you are bonusing to]]>0,Table1[[#This Row],[Bonus Rate]]*Table1[[#This Row],[Hours]],\"\")","v":""},null,null,null,null,null,{"$f":"IF(OR(AH744>0.001,AH744<-0.001),Table1[[#This Row],[Employee '#]],\" \")","v":" "},false,{"$f":"SUMIF(Table1[[#This Row],[Total Wage Diff bonus]:[Bank Bonus]],\"<> \")","v":0},{"$f":"IF(AA744>0, Table1[[#This Row],[Column4]], IF(AB744>0,Table1[[#This Row],[Column4]],IF(X744>0,\"1000\")))","v":false}]
[null,null,null,null,null,null,null,null,null,null,null,null,null,null,null,null,0,null,null,null,null,null,null,null,{"$f":"IF(Table1[[#This Row],[Wage differential Bonus                            - NotePay Rate you are bonusing to]]>0, Table1[[#This Row],[Wage differential Bonus                            - NotePay Rate you are bonusing to]]-Table1[[#This Row],[Pay Rate]], \"\")","v":""},{"$f":"IF(Table1[[#This Row],[Wage differential Bonus                            - NotePay Rate you are bonusing to]]>0,Table1[[#This Row],[Bonus Rate]]*Table1[[#This Row],[Hours]],\"\")","v":""},null,null,null,null,null,{"$f":"IF(OR(AH745>0.001,AH745<-0.001),Table1[[#This Row],[Employee '#]],\" \")","v":" "},false,{"$f":"SUMIF(Table1[[#This Row],[Total Wage Diff bonus]:[Bank Bonus]],\"<> \")","v":0},{"$f":"IF(AA745>0, Table1[[#This Row],[Column4]], IF(AB745>0,Table1[[#This Row],[Column4]],IF(X745>0,\"1000\")))","v":false}]
[null,null,null,null,null,null,null,null,null,null,null,null,null,null,null,null,0,null,null,null,null,null,null,null,{"$f":"IF(Table1[[#This Row],[Wage differential Bonus                            - NotePay Rate you are bonusing to]]>0, Table1[[#This Row],[Wage differential Bonus                            - NotePay Rate you are bonusing to]]-Table1[[#This Row],[Pay Rate]], \"\")","v":""},{"$f":"IF(Table1[[#This Row],[Wage differential Bonus                            - NotePay Rate you are bonusing to]]>0,Table1[[#This Row],[Bonus Rate]]*Table1[[#This Row],[Hours]],\"\")","v":""},null,null,null,null,null,{"$f":"IF(OR(AH746>0.001,AH746<-0.001),Table1[[#This Row],[Employee '#]],\" \")","v":" "},false,{"$f":"SUMIF(Table1[[#This Row],[Total Wage Diff bonus]:[Bank Bonus]],\"<> \")","v":0},{"$f":"IF(AA746>0, Table1[[#This Row],[Column4]], IF(AB746>0,Table1[[#This Row],[Column4]],IF(X746>0,\"1000\")))","v":false}]
[null,null,null,null,null,null,null,null,null,null,null,null,null,null,null,null,0,null,null,null,null,null,null,null,{"$f":"IF(Table1[[#This Row],[Wage differential Bonus                            - NotePay Rate you are bonusing to]]>0, Table1[[#This Row],[Wage differential Bonus                            - NotePay Rate you are bonusing to]]-Table1[[#This Row],[Pay Rate]], \"\")","v":""},{"$f":"IF(Table1[[#This Row],[Wage differential Bonus                            - NotePay Rate you are bonusing to]]>0,Table1[[#This Row],[Bonus Rate]]*Table1[[#This Row],[Hours]],\"\")","v":""},null,null,null,null,null,{"$f":"IF(OR(AH747>0.001,AH747<-0.001),Table1[[#This Row],[Employee '#]],\" \")","v":" "},false,{"$f":"SUMIF(Table1[[#This Row],[Total Wage Diff bonus]:[Bank Bonus]],\"<> \")","v":0},{"$f":"IF(AA747>0, Table1[[#This Row],[Column4]], IF(AB747>0,Table1[[#This Row],[Column4]],IF(X747>0,\"1000\")))","v":false}]
[null,null,null,null,null,null,null,null,null,null,null,null,null,null,null,null,0,null,null,null,null,null,null,null,{"$f":"IF(Table1[[#This Row],[Wage differential Bonus                            - NotePay Rate you are bonusing to]]>0, Table1[[#This Row],[Wage differential Bonus                            - NotePay Rate you are bonusing to]]-Table1[[#This Row],[Pay Rate]], \"\")","v":""},{"$f":"IF(Table1[[#This Row],[Wage differential Bonus                            - NotePay Rate you are bonusing to]]>0,Table1[[#This Row],[Bonus Rate]]*Table1[[#This Row],[Hours]],\"\")","v":""},null,null,null,null,null,{"$f":"IF(OR(AH748>0.001,AH748<-0.001),Table1[[#This Row],[Employee '#]],\" \")","v":" "},false,{"$f":"SUMIF(Table1[[#This Row],[Total Wage Diff bonus]:[Bank Bonus]],\"<> \")","v":0},{"$f":"IF(AA748>0, Table1[[#This Row],[Column4]], IF(AB748>0,Table1[[#This Row],[Column4]],IF(X748>0,\"1000\")))","v":false}]
[null,null,null,null,null,null,null,null,null,null,null,null,null,null,null,null,0,null,null,null,null,null,null,null,{"$f":"IF(Table1[[#This Row],[Wage differential Bonus                            - NotePay Rate you are bonusing to]]>0, Table1[[#This Row],[Wage differential Bonus                            - NotePay Rate you are bonusing to]]-Table1[[#This Row],[Pay Rate]], \"\")","v":""},{"$f":"IF(Table1[[#This Row],[Wage differential Bonus                            - NotePay Rate you are bonusing to]]>0,Table1[[#This Row],[Bonus Rate]]*Table1[[#This Row],[Hours]],\"\")","v":""},null,null,null,null,null,{"$f":"IF(OR(AH749>0.001,AH749<-0.001),Table1[[#This Row],[Employee '#]],\" \")","v":" "},false,{"$f":"SUMIF(Table1[[#This Row],[Total Wage Diff bonus]:[Bank Bonus]],\"<> \")","v":0},{"$f":"IF(AA749>0, Table1[[#This Row],[Column4]], IF(AB749>0,Table1[[#This Row],[Column4]],IF(X749>0,\"1000\")))","v":false}]
[null,null,null,null,null,null,null,null,null,null,null,null,null,null,null,null,0,null,null,null,null,null,null,null,{"$f":"IF(Table1[[#This Row],[Wage differential Bonus                            - NotePay Rate you are bonusing to]]>0, Table1[[#This Row],[Wage differential Bonus                            - NotePay Rate you are bonusing to]]-Table1[[#This Row],[Pay Rate]], \"\")","v":""},{"$f":"IF(Table1[[#This Row],[Wage differential Bonus                            - NotePay Rate you are bonusing to]]>0,Table1[[#This Row],[Bonus Rate]]*Table1[[#This Row],[Hours]],\"\")","v":""},null,null,null,null,null,{"$f":"IF(OR(AH750>0.001,AH750<-0.001),Table1[[#This Row],[Employee '#]],\" \")","v":" "},false,{"$f":"SUMIF(Table1[[#This Row],[Total Wage Diff bonus]:[Bank Bonus]],\"<> \")","v":0},{"$f":"IF(AA750>0, Table1[[#This Row],[Column4]], IF(AB750>0,Table1[[#This Row],[Column4]],IF(X750>0,\"1000\")))","v":false}]
[null,null,null,null,null,null,null,null,null,null,null,null,null,null,null,null,0,null,null,null,null,null,null,null,{"$f":"IF(Table1[[#This Row],[Wage differential Bonus                            - NotePay Rate you are bonusing to]]>0, Table1[[#This Row],[Wage differential Bonus                            - NotePay Rate you are bonusing to]]-Table1[[#This Row],[Pay Rate]], \"\")","v":""},{"$f":"IF(Table1[[#This Row],[Wage differential Bonus                            - NotePay Rate you are bonusing to]]>0,Table1[[#This Row],[Bonus Rate]]*Table1[[#This Row],[Hours]],\"\")","v":""},null,null,null,null,null,{"$f":"IF(OR(AH751>0.001,AH751<-0.001),Table1[[#This Row],[Employee '#]],\" \")","v":" "},false,{"$f":"SUMIF(Table1[[#This Row],[Total Wage Diff bonus]:[Bank Bonus]],\"<> \")","v":0},{"$f":"IF(AA751>0, Table1[[#This Row],[Column4]], IF(AB751>0,Table1[[#This Row],[Column4]],IF(X751>0,\"1000\")))","v":false}]
[null,null,null,null,null,null,null,null,null,null,null,null,null,null,null,null,0,null,null,null,null,null,null,null,{"$f":"IF(Table1[[#This Row],[Wage differential Bonus                            - NotePay Rate you are bonusing to]]>0, Table1[[#This Row],[Wage differential Bonus                            - NotePay Rate you are bonusing to]]-Table1[[#This Row],[Pay Rate]], \"\")","v":""},{"$f":"IF(Table1[[#This Row],[Wage differential Bonus                            - NotePay Rate you are bonusing to]]>0,Table1[[#This Row],[Bonus Rate]]*Table1[[#This Row],[Hours]],\"\")","v":""},null,null,null,null,null,{"$f":"IF(OR(AH752>0.001,AH752<-0.001),Table1[[#This Row],[Employee '#]],\" \")","v":" "},false,{"$f":"SUMIF(Table1[[#This Row],[Total Wage Diff bonus]:[Bank Bonus]],\"<> \")","v":0},{"$f":"IF(AA752>0, Table1[[#This Row],[Column4]], IF(AB752>0,Table1[[#This Row],[Column4]],IF(X752>0,\"1000\")))","v":false}]
[null,null,null,null,null,null,null,null,null,null,null,null,null,null,null,null,0,null,null,null,null,null,null,null,{"$f":"IF(Table1[[#This Row],[Wage differential Bonus                            - NotePay Rate you are bonusing to]]>0, Table1[[#This Row],[Wage differential Bonus                            - NotePay Rate you are bonusing to]]-Table1[[#This Row],[Pay Rate]], \"\")","v":""},{"$f":"IF(Table1[[#This Row],[Wage differential Bonus                            - NotePay Rate you are bonusing to]]>0,Table1[[#This Row],[Bonus Rate]]*Table1[[#This Row],[Hours]],\"\")","v":""},null,null,null,null,null,{"$f":"IF(OR(AH753>0.001,AH753<-0.001),Table1[[#This Row],[Employee '#]],\" \")","v":" "},false,{"$f":"SUMIF(Table1[[#This Row],[Total Wage Diff bonus]:[Bank Bonus]],\"<> \")","v":0},{"$f":"IF(AA753>0, Table1[[#This Row],[Column4]], IF(AB753>0,Table1[[#This Row],[Column4]],IF(X753>0,\"1000\")))","v":false}]
[null,null,null,null,null,null,null,null,null,null,null,null,null,null,null,null,0,null,null,null,null,null,null,null,{"$f":"IF(Table1[[#This Row],[Wage differential Bonus                            - NotePay Rate you are bonusing to]]>0, Table1[[#This Row],[Wage differential Bonus                            - NotePay Rate you are bonusing to]]-Table1[[#This Row],[Pay Rate]], \"\")","v":""},{"$f":"IF(Table1[[#This Row],[Wage differential Bonus                            - NotePay Rate you are bonusing to]]>0,Table1[[#This Row],[Bonus Rate]]*Table1[[#This Row],[Hours]],\"\")","v":""},null,null,null,null,null,{"$f":"IF(OR(AH754>0.001,AH754<-0.001),Table1[[#This Row],[Employee '#]],\" \")","v":" "},false,{"$f":"SUMIF(Table1[[#This Row],[Total Wage Diff bonus]:[Bank Bonus]],\"<> \")","v":0},{"$f":"IF(AA754>0, Table1[[#This Row],[Column4]], IF(AB754>0,Table1[[#This Row],[Column4]],IF(X754>0,\"1000\")))","v":false}]
[null,null,null,null,null,null,null,null,null,null,null,null,null,null,null,null,0,null,null,null,null,null,null,null,{"$f":"IF(Table1[[#This Row],[Wage differential Bonus                            - NotePay Rate you are bonusing to]]>0, Table1[[#This Row],[Wage differential Bonus                            - NotePay Rate you are bonusing to]]-Table1[[#This Row],[Pay Rate]], \"\")","v":""},{"$f":"IF(Table1[[#This Row],[Wage differential Bonus                            - NotePay Rate you are bonusing to]]>0,Table1[[#This Row],[Bonus Rate]]*Table1[[#This Row],[Hours]],\"\")","v":""},null,null,null,null,null,{"$f":"IF(OR(AH755>0.001,AH755<-0.001),Table1[[#This Row],[Employee '#]],\" \")","v":" "},false,{"$f":"SUMIF(Table1[[#This Row],[Total Wage Diff bonus]:[Bank Bonus]],\"<> \")","v":0},{"$f":"IF(AA755>0, Table1[[#This Row],[Column4]], IF(AB755>0,Table1[[#This Row],[Column4]],IF(X755>0,\"1000\")))","v":false}]
[null,null,null,null,null,null,null,null,null,null,null,null,null,null,null,null,0,null,null,null,null,null,null,null,{"$f":"IF(Table1[[#This Row],[Wage differential Bonus                            - NotePay Rate you are bonusing to]]>0, Table1[[#This Row],[Wage differential Bonus                            - NotePay Rate you are bonusing to]]-Table1[[#This Row],[Pay Rate]], \"\")","v":""},{"$f":"IF(Table1[[#This Row],[Wage differential Bonus                            - NotePay Rate you are bonusing to]]>0,Table1[[#This Row],[Bonus Rate]]*Table1[[#This Row],[Hours]],\"\")","v":""},null,null,null,null,null,{"$f":"IF(OR(AH756>0.001,AH756<-0.001),Table1[[#This Row],[Employee '#]],\" \")","v":" "},false,{"$f":"SUMIF(Table1[[#This Row],[Total Wage Diff bonus]:[Bank Bonus]],\"<> \")","v":0},{"$f":"IF(AA756>0, Table1[[#This Row],[Column4]], IF(AB756>0,Table1[[#This Row],[Column4]],IF(X756>0,\"1000\")))","v":false}]
[null,null,null,null,null,null,null,null,null,null,null,null,null,null,null,null,0,null,null,null,null,null,null,null,{"$f":"IF(Table1[[#This Row],[Wage differential Bonus                            - NotePay Rate you are bonusing to]]>0, Table1[[#This Row],[Wage differential Bonus                            - NotePay Rate you are bonusing to]]-Table1[[#This Row],[Pay Rate]], \"\")","v":""},{"$f":"IF(Table1[[#This Row],[Wage differential Bonus                            - NotePay Rate you are bonusing to]]>0,Table1[[#This Row],[Bonus Rate]]*Table1[[#This Row],[Hours]],\"\")","v":""},null,null,null,null,null,{"$f":"IF(OR(AH757>0.001,AH757<-0.001),Table1[[#This Row],[Employee '#]],\" \")","v":" "},false,{"$f":"SUMIF(Table1[[#This Row],[Total Wage Diff bonus]:[Bank Bonus]],\"<> \")","v":0},{"$f":"IF(AA757>0, Table1[[#This Row],[Column4]], IF(AB757>0,Table1[[#This Row],[Column4]],IF(X757>0,\"1000\")))","v":false}]
[null,null,null,null,null,null,null,null,null,null,null,null,null,null,null,null,0,null,null,null,null,null,null,null,{"$f":"IF(Table1[[#This Row],[Wage differential Bonus                            - NotePay Rate you are bonusing to]]>0, Table1[[#This Row],[Wage differential Bonus                            - NotePay Rate you are bonusing to]]-Table1[[#This Row],[Pay Rate]], \"\")","v":""},{"$f":"IF(Table1[[#This Row],[Wage differential Bonus                            - NotePay Rate you are bonusing to]]>0,Table1[[#This Row],[Bonus Rate]]*Table1[[#This Row],[Hours]],\"\")","v":""},null,null,null,null,null,{"$f":"IF(OR(AH758>0.001,AH758<-0.001),Table1[[#This Row],[Employee '#]],\" \")","v":" "},false,{"$f":"SUMIF(Table1[[#This Row],[Total Wage Diff bonus]:[Bank Bonus]],\"<> \")","v":0},{"$f":"IF(AA758>0, Table1[[#This Row],[Column4]], IF(AB758>0,Table1[[#This Row],[Column4]],IF(X758>0,\"1000\")))","v":false}]
[null,null,null,null,null,null,null,null,null,null,null,null,null,null,null,null,0,null,null,null,null,null,null,null,{"$f":"IF(Table1[[#This Row],[Wage differential Bonus                            - NotePay Rate you are bonusing to]]>0, Table1[[#This Row],[Wage differential Bonus                            - NotePay Rate you are bonusing to]]-Table1[[#This Row],[Pay Rate]], \"\")","v":""},{"$f":"IF(Table1[[#This Row],[Wage differential Bonus                            - NotePay Rate you are bonusing to]]>0,Table1[[#This Row],[Bonus Rate]]*Table1[[#This Row],[Hours]],\"\")","v":""},null,null,null,null,null,{"$f":"IF(OR(AH759>0.001,AH759<-0.001),Table1[[#This Row],[Employee '#]],\" \")","v":" "},false,{"$f":"SUMIF(Table1[[#This Row],[Total Wage Diff bonus]:[Bank Bonus]],\"<> \")","v":0},{"$f":"IF(AA759>0, Table1[[#This Row],[Column4]], IF(AB759>0,Table1[[#This Row],[Column4]],IF(X759>0,\"1000\")))","v":false}]
[null,null,null,null,null,null,null,null,null,null,null,null,null,null,null,null,0,null,null,null,null,null,null,null,{"$f":"IF(Table1[[#This Row],[Wage differential Bonus                            - NotePay Rate you are bonusing to]]>0, Table1[[#This Row],[Wage differential Bonus                            - NotePay Rate you are bonusing to]]-Table1[[#This Row],[Pay Rate]], \"\")","v":""},{"$f":"IF(Table1[[#This Row],[Wage differential Bonus                            - NotePay Rate you are bonusing to]]>0,Table1[[#This Row],[Bonus Rate]]*Table1[[#This Row],[Hours]],\"\")","v":""},null,null,null,null,null,{"$f":"IF(OR(AH760>0.001,AH760<-0.001),Table1[[#This Row],[Employee '#]],\" \")","v":" "},false,{"$f":"SUMIF(Table1[[#This Row],[Total Wage Diff bonus]:[Bank Bonus]],\"<> \")","v":0},{"$f":"IF(AA760>0, Table1[[#This Row],[Column4]], IF(AB760>0,Table1[[#This Row],[Column4]],IF(X760>0,\"1000\")))","v":false}]
[null,null,null,null,null,null,null,null,null,null,null,null,null,null,null,null,0,null,null,null,null,null,null,null,{"$f":"IF(Table1[[#This Row],[Wage differential Bonus                            - NotePay Rate you are bonusing to]]>0, Table1[[#This Row],[Wage differential Bonus                            - NotePay Rate you are bonusing to]]-Table1[[#This Row],[Pay Rate]], \"\")","v":""},{"$f":"IF(Table1[[#This Row],[Wage differential Bonus                            - NotePay Rate you are bonusing to]]>0,Table1[[#This Row],[Bonus Rate]]*Table1[[#This Row],[Hours]],\"\")","v":""},null,null,null,null,null,{"$f":"IF(OR(AH761>0.001,AH761<-0.001),Table1[[#This Row],[Employee '#]],\" \")","v":" "},false,{"$f":"SUMIF(Table1[[#This Row],[Total Wage Diff bonus]:[Bank Bonus]],\"<> \")","v":0},{"$f":"IF(AA761>0, Table1[[#This Row],[Column4]], IF(AB761>0,Table1[[#This Row],[Column4]],IF(X761>0,\"1000\")))","v":false}]
[null,null,null,null,null,null,null,null,null,null,null,null,null,null,null,null,0,null,null,null,null,null,null,null,{"$f":"IF(Table1[[#This Row],[Wage differential Bonus                            - NotePay Rate you are bonusing to]]>0, Table1[[#This Row],[Wage differential Bonus                            - NotePay Rate you are bonusing to]]-Table1[[#This Row],[Pay Rate]], \"\")","v":""},{"$f":"IF(Table1[[#This Row],[Wage differential Bonus                            - NotePay Rate you are bonusing to]]>0,Table1[[#This Row],[Bonus Rate]]*Table1[[#This Row],[Hours]],\"\")","v":""},null,null,null,null,null,{"$f":"IF(OR(AH762>0.001,AH762<-0.001),Table1[[#This Row],[Employee '#]],\" \")","v":" "},false,{"$f":"SUMIF(Table1[[#This Row],[Total Wage Diff bonus]:[Bank Bonus]],\"<> \")","v":0},{"$f":"IF(AA762>0, Table1[[#This Row],[Column4]], IF(AB762>0,Table1[[#This Row],[Column4]],IF(X762>0,\"1000\")))","v":false}]
[null,null,null,null,null,null,null,null,null,null,null,null,null,null,null,null,0,null,null,null,null,null,null,null,{"$f":"IF(Table1[[#This Row],[Wage differential Bonus                            - NotePay Rate you are bonusing to]]>0, Table1[[#This Row],[Wage differential Bonus                            - NotePay Rate you are bonusing to]]-Table1[[#This Row],[Pay Rate]], \"\")","v":""},{"$f":"IF(Table1[[#This Row],[Wage differential Bonus                            - NotePay Rate you are bonusing to]]>0,Table1[[#This Row],[Bonus Rate]]*Table1[[#This Row],[Hours]],\"\")","v":""},null,null,null,null,null,{"$f":"IF(OR(AH763>0.001,AH763<-0.001),Table1[[#This Row],[Employee '#]],\" \")","v":" "},false,{"$f":"SUMIF(Table1[[#This Row],[Total Wage Diff bonus]:[Bank Bonus]],\"<> \")","v":0},{"$f":"IF(AA763>0, Table1[[#This Row],[Column4]], IF(AB763>0,Table1[[#This Row],[Column4]],IF(X763>0,\"1000\")))","v":false}]
[null,null,null,null,null,null,null,null,null,null,null,null,null,null,null,null,0,null,null,null,null,null,null,null,{"$f":"IF(Table1[[#This Row],[Wage differential Bonus                            - NotePay Rate you are bonusing to]]>0, Table1[[#This Row],[Wage differential Bonus                            - NotePay Rate you are bonusing to]]-Table1[[#This Row],[Pay Rate]], \"\")","v":""},{"$f":"IF(Table1[[#This Row],[Wage differential Bonus                            - NotePay Rate you are bonusing to]]>0,Table1[[#This Row],[Bonus Rate]]*Table1[[#This Row],[Hours]],\"\")","v":""},null,null,null,null,null,{"$f":"IF(OR(AH764>0.001,AH764<-0.001),Table1[[#This Row],[Employee '#]],\" \")","v":" "},false,{"$f":"SUMIF(Table1[[#This Row],[Total Wage Diff bonus]:[Bank Bonus]],\"<> \")","v":0},{"$f":"IF(AA764>0, Table1[[#This Row],[Column4]], IF(AB764>0,Table1[[#This Row],[Column4]],IF(X764>0,\"1000\")))","v":false}]
[null,null,null,null,null,null,null,null,null,null,null,null,null,null,null,null,0,null,null,null,null,null,null,null,{"$f":"IF(Table1[[#This Row],[Wage differential Bonus                            - NotePay Rate you are bonusing to]]>0, Table1[[#This Row],[Wage differential Bonus                            - NotePay Rate you are bonusing to]]-Table1[[#This Row],[Pay Rate]], \"\")","v":""},{"$f":"IF(Table1[[#This Row],[Wage differential Bonus                            - NotePay Rate you are bonusing to]]>0,Table1[[#This Row],[Bonus Rate]]*Table1[[#This Row],[Hours]],\"\")","v":""},null,null,null,null,null,{"$f":"IF(OR(AH765>0.001,AH765<-0.001),Table1[[#This Row],[Employee '#]],\" \")","v":" "},false,{"$f":"SUMIF(Table1[[#This Row],[Total Wage Diff bonus]:[Bank Bonus]],\"<> \")","v":0},{"$f":"IF(AA765>0, Table1[[#This Row],[Column4]], IF(AB765>0,Table1[[#This Row],[Column4]],IF(X765>0,\"1000\")))","v":false}]
[null,null,null,null,null,null,null,null,null,null,null,null,null,null,null,null,0,null,null,null,null,null,null,null,{"$f":"IF(Table1[[#This Row],[Wage differential Bonus                            - NotePay Rate you are bonusing to]]>0, Table1[[#This Row],[Wage differential Bonus                            - NotePay Rate you are bonusing to]]-Table1[[#This Row],[Pay Rate]], \"\")","v":""},{"$f":"IF(Table1[[#This Row],[Wage differential Bonus                            - NotePay Rate you are bonusing to]]>0,Table1[[#This Row],[Bonus Rate]]*Table1[[#This Row],[Hours]],\"\")","v":""},null,null,null,null,null,{"$f":"IF(OR(AH766>0.001,AH766<-0.001),Table1[[#This Row],[Employee '#]],\" \")","v":" "},false,{"$f":"SUMIF(Table1[[#This Row],[Total Wage Diff bonus]:[Bank Bonus]],\"<> \")","v":0},{"$f":"IF(AA766>0, Table1[[#This Row],[Column4]], IF(AB766>0,Table1[[#This Row],[Column4]],IF(X766>0,\"1000\")))","v":false}]
[null,null,null,null,null,null,null,null,null,null,null,null,null,null,null,null,0,null,null,null,null,null,null,null,{"$f":"IF(Table1[[#This Row],[Wage differential Bonus                            - NotePay Rate you are bonusing to]]>0, Table1[[#This Row],[Wage differential Bonus                            - NotePay Rate you are bonusing to]]-Table1[[#This Row],[Pay Rate]], \"\")","v":""},{"$f":"IF(Table1[[#This Row],[Wage differential Bonus                            - NotePay Rate you are bonusing to]]>0,Table1[[#This Row],[Bonus Rate]]*Table1[[#This Row],[Hours]],\"\")","v":""},null,null,null,null,null,{"$f":"IF(OR(AH767>0.001,AH767<-0.001),Table1[[#This Row],[Employee '#]],\" \")","v":" "},false,{"$f":"SUMIF(Table1[[#This Row],[Total Wage Diff bonus]:[Bank Bonus]],\"<> \")","v":0},{"$f":"IF(AA767>0, Table1[[#This Row],[Column4]], IF(AB767>0,Table1[[#This Row],[Column4]],IF(X767>0,\"1000\")))","v":false}]
[null,null,null,null,null,null,null,null,null,null,null,null,null,null,null,null,0,null,null,null,null,null,null,null,{"$f":"IF(Table1[[#This Row],[Wage differential Bonus                            - NotePay Rate you are bonusing to]]>0, Table1[[#This Row],[Wage differential Bonus                            - NotePay Rate you are bonusing to]]-Table1[[#This Row],[Pay Rate]], \"\")","v":""},{"$f":"IF(Table1[[#This Row],[Wage differential Bonus                            - NotePay Rate you are bonusing to]]>0,Table1[[#This Row],[Bonus Rate]]*Table1[[#This Row],[Hours]],\"\")","v":""},null,null,null,null,null,{"$f":"IF(OR(AH768>0.001,AH768<-0.001),Table1[[#This Row],[Employee '#]],\" \")","v":" "},false,{"$f":"SUMIF(Table1[[#This Row],[Total Wage Diff bonus]:[Bank Bonus]],\"<> \")","v":0},{"$f":"IF(AA768>0, Table1[[#This Row],[Column4]], IF(AB768>0,Table1[[#This Row],[Column4]],IF(X768>0,\"1000\")))","v":false}]
[null,null,null,null,null,null,null,null,null,null,null,null,null,null,null,null,0,null,null,null,null,null,null,null,{"$f":"IF(Table1[[#This Row],[Wage differential Bonus                            - NotePay Rate you are bonusing to]]>0, Table1[[#This Row],[Wage differential Bonus                            - NotePay Rate you are bonusing to]]-Table1[[#This Row],[Pay Rate]], \"\")","v":""},{"$f":"IF(Table1[[#This Row],[Wage differential Bonus                            - NotePay Rate you are bonusing to]]>0,Table1[[#This Row],[Bonus Rate]]*Table1[[#This Row],[Hours]],\"\")","v":""},null,null,null,null,null,{"$f":"IF(OR(AH769>0.001,AH769<-0.001),Table1[[#This Row],[Employee '#]],\" \")","v":" "},false,{"$f":"SUMIF(Table1[[#This Row],[Total Wage Diff bonus]:[Bank Bonus]],\"<> \")","v":0},{"$f":"IF(AA769>0, Table1[[#This Row],[Column4]], IF(AB769>0,Table1[[#This Row],[Column4]],IF(X769>0,\"1000\")))","v":false}]
[null,null,null,null,null,null,null,null,null,null,null,null,null,null,null,null,0,null,null,null,null,null,null,null,{"$f":"IF(Table1[[#This Row],[Wage differential Bonus                            - NotePay Rate you are bonusing to]]>0, Table1[[#This Row],[Wage differential Bonus                            - NotePay Rate you are bonusing to]]-Table1[[#This Row],[Pay Rate]], \"\")","v":""},{"$f":"IF(Table1[[#This Row],[Wage differential Bonus                            - NotePay Rate you are bonusing to]]>0,Table1[[#This Row],[Bonus Rate]]*Table1[[#This Row],[Hours]],\"\")","v":""},null,null,null,null,null,{"$f":"IF(OR(AH770>0.001,AH770<-0.001),Table1[[#This Row],[Employee '#]],\" \")","v":" "},false,{"$f":"SUMIF(Table1[[#This Row],[Total Wage Diff bonus]:[Bank Bonus]],\"<> \")","v":0},{"$f":"IF(AA770>0, Table1[[#This Row],[Column4]], IF(AB770>0,Table1[[#This Row],[Column4]],IF(X770>0,\"1000\")))","v":false}]
[null,null,null,null,null,null,null,null,null,null,null,null,null,null,null,null,0,null,null,null,null,null,null,null,{"$f":"IF(Table1[[#This Row],[Wage differential Bonus                            - NotePay Rate you are bonusing to]]>0, Table1[[#This Row],[Wage differential Bonus                            - NotePay Rate you are bonusing to]]-Table1[[#This Row],[Pay Rate]], \"\")","v":""},{"$f":"IF(Table1[[#This Row],[Wage differential Bonus                            - NotePay Rate you are bonusing to]]>0,Table1[[#This Row],[Bonus Rate]]*Table1[[#This Row],[Hours]],\"\")","v":""},null,null,null,null,null,{"$f":"IF(OR(AH771>0.001,AH771<-0.001),Table1[[#This Row],[Employee '#]],\" \")","v":" "},false,{"$f":"SUMIF(Table1[[#This Row],[Total Wage Diff bonus]:[Bank Bonus]],\"<> \")","v":0},{"$f":"IF(AA771>0, Table1[[#This Row],[Column4]], IF(AB771>0,Table1[[#This Row],[Column4]],IF(X771>0,\"1000\")))","v":false}]
[null,null,null,null,null,null,null,null,null,null,null,null,null,null,null,null,{"$f":"L772+P772","v":0},null,null,null,null,null,null,null,{"$f":"IF(Table1[[#This Row],[Wage differential Bonus                            - NotePay Rate you are bonusing to]]>0, Table1[[#This Row],[Wage differential Bonus                            - NotePay Rate you are bonusing to]]-Table1[[#This Row],[Pay Rate]], \"\")","v":""},{"$f":"IF(Table1[[#This Row],[Wage differential Bonus                            - NotePay Rate you are bonusing to]]>0,Table1[[#This Row],[Bonus Rate]]*Table1[[#This Row],[Hours]],\"\")","v":""},null,null,null,null,null,{"$f":"IF(OR(AH772>0.001,AH772<-0.001),Table1[[#This Row],[Employee '#]],\" \")","v":" "},{"$f":"IF(AA772>0, \"28\", IF(AB772>0,\"53\",IF(X772>0,\"20\")))","v":false},{"$f":"SUMIF(Table1[[#This Row],[Total Wage Diff bonus]:[Bank Bonus]],\"<> \")","v":0},{"$f":"IF(AA772>0, Table1[[#This Row],[Column4]], IF(AB772>0,Table1[[#This Row],[Column4]],IF(X772>0,\"1000\")))","v":false}]
[null,null,null,null,null,null,null,null,null,null,null,null,null,null,null,null,0,null,null,null,null,null,null,null,{"$f":"IF(Table1[[#This Row],[Wage differential Bonus                            - NotePay Rate you are bonusing to]]>0, Table1[[#This Row],[Wage differential Bonus                            - NotePay Rate you are bonusing to]]-Table1[[#This Row],[Pay Rate]], \"\")","v":""},{"$f":"IF(Table1[[#This Row],[Wage differential Bonus                            - NotePay Rate you are bonusing to]]>0,Table1[[#This Row],[Bonus Rate]]*Table1[[#This Row],[Hours]],\"\")","v":""},null,null,null,null,null,{"$f":"IF(OR(AH773>0.001,AH773<-0.001),Table1[[#This Row],[Employee '#]],\" \")","v":" "},false,{"$f":"SUMIF(Table1[[#This Row],[Total Wage Diff bonus]:[Bank Bonus]],\"<> \")","v":0},{"$f":"IF(AA773>0, Table1[[#This Row],[Column4]], IF(AB773>0,Table1[[#This Row],[Column4]],IF(X773>0,\"1000\")))","v":false}]
[null,null,null,null,null,null,null,null,null,null,null,null,null,null,null,null,0,null,null,null,null,null,null,null,{"$f":"IF(Table1[[#This Row],[Wage differential Bonus                            - NotePay Rate you are bonusing to]]>0, Table1[[#This Row],[Wage differential Bonus                            - NotePay Rate you are bonusing to]]-Table1[[#This Row],[Pay Rate]], \"\")","v":""},{"$f":"IF(Table1[[#This Row],[Wage differential Bonus                            - NotePay Rate you are bonusing to]]>0,Table1[[#This Row],[Bonus Rate]]*Table1[[#This Row],[Hours]],\"\")","v":""},null,null,null,null,null,{"$f":"IF(OR(AH774>0.001,AH774<-0.001),Table1[[#This Row],[Employee '#]],\" \")","v":" "},false,{"$f":"SUMIF(Table1[[#This Row],[Total Wage Diff bonus]:[Bank Bonus]],\"<> \")","v":0},{"$f":"IF(AA774>0, Table1[[#This Row],[Column4]], IF(AB774>0,Table1[[#This Row],[Column4]],IF(X774>0,\"1000\")))","v":false}]
[null,null,null,null,null,null,null,null,null,null,null,null,null,null,null,null,0,null,null,null,null,null,null,null,{"$f":"IF(Table1[[#This Row],[Wage differential Bonus                            - NotePay Rate you are bonusing to]]>0, Table1[[#This Row],[Wage differential Bonus                            - NotePay Rate you are bonusing to]]-Table1[[#This Row],[Pay Rate]], \"\")","v":""},{"$f":"IF(Table1[[#This Row],[Wage differential Bonus                            - NotePay Rate you are bonusing to]]>0,Table1[[#This Row],[Bonus Rate]]*Table1[[#This Row],[Hours]],\"\")","v":""},null,null,null,null,null,{"$f":"IF(OR(AH775>0.001,AH775<-0.001),Table1[[#This Row],[Employee '#]],\" \")","v":" "},false,{"$f":"SUMIF(Table1[[#This Row],[Total Wage Diff bonus]:[Bank Bonus]],\"<> \")","v":0},{"$f":"IF(AA775>0, Table1[[#This Row],[Column4]], IF(AB775>0,Table1[[#This Row],[Column4]],IF(X775>0,\"1000\")))","v":false}]
[null,null,null,null,null,null,null,null,null,null,null,null,null,null,null,null,0,null,null,null,null,null,null,null,{"$f":"IF(Table1[[#This Row],[Wage differential Bonus                            - NotePay Rate you are bonusing to]]>0, Table1[[#This Row],[Wage differential Bonus                            - NotePay Rate you are bonusing to]]-Table1[[#This Row],[Pay Rate]], \"\")","v":""},{"$f":"IF(Table1[[#This Row],[Wage differential Bonus                            - NotePay Rate you are bonusing to]]>0,Table1[[#This Row],[Bonus Rate]]*Table1[[#This Row],[Hours]],\"\")","v":""},null,null,null,null,null,{"$f":"IF(OR(AH776>0.001,AH776<-0.001),Table1[[#This Row],[Employee '#]],\" \")","v":" "},false,{"$f":"SUMIF(Table1[[#This Row],[Total Wage Diff bonus]:[Bank Bonus]],\"<> \")","v":0},{"$f":"IF(AA776>0, Table1[[#This Row],[Column4]], IF(AB776>0,Table1[[#This Row],[Column4]],IF(X776>0,\"1000\")))","v":false}]
[null,null,null,null,null,null,null,null,null,null,null,null,null,null,null,null,0,null,null,null,null,null,null,null,{"$f":"IF(Table1[[#This Row],[Wage differential Bonus                            - NotePay Rate you are bonusing to]]>0, Table1[[#This Row],[Wage differential Bonus                            - NotePay Rate you are bonusing to]]-Table1[[#This Row],[Pay Rate]], \"\")","v":""},{"$f":"IF(Table1[[#This Row],[Wage differential Bonus                            - NotePay Rate you are bonusing to]]>0,Table1[[#This Row],[Bonus Rate]]*Table1[[#This Row],[Hours]],\"\")","v":""},null,null,null,null,null,{"$f":"IF(OR(AH777>0.001,AH777<-0.001),Table1[[#This Row],[Employee '#]],\" \")","v":" "},false,{"$f":"SUMIF(Table1[[#This Row],[Total Wage Diff bonus]:[Bank Bonus]],\"<> \")","v":0},{"$f":"IF(AA777>0, Table1[[#This Row],[Column4]], IF(AB777>0,Table1[[#This Row],[Column4]],IF(X777>0,\"1000\")))","v":false}]
[null,null,null,null,null,null,null,null,null,null,null,null,null,null,null,null,0,null,null,null,null,null,null,null,{"$f":"IF(Table1[[#This Row],[Wage differential Bonus                            - NotePay Rate you are bonusing to]]>0, Table1[[#This Row],[Wage differential Bonus                            - NotePay Rate you are bonusing to]]-Table1[[#This Row],[Pay Rate]], \"\")","v":""},{"$f":"IF(Table1[[#This Row],[Wage differential Bonus                            - NotePay Rate you are bonusing to]]>0,Table1[[#This Row],[Bonus Rate]]*Table1[[#This Row],[Hours]],\"\")","v":""},null,null,null,null,null,{"$f":"IF(OR(AH778>0.001,AH778<-0.001),Table1[[#This Row],[Employee '#]],\" \")","v":" "},false,{"$f":"SUMIF(Table1[[#This Row],[Total Wage Diff bonus]:[Bank Bonus]],\"<> \")","v":0},{"$f":"IF(AA778>0, Table1[[#This Row],[Column4]], IF(AB778>0,Table1[[#This Row],[Column4]],IF(X778>0,\"1000\")))","v":false}]
[null,null,null,null,null,null,null,null,null,null,null,null,null,null,null,null,0,null,null,null,null,null,null,null,{"$f":"IF(Table1[[#This Row],[Wage differential Bonus                            - NotePay Rate you are bonusing to]]>0, Table1[[#This Row],[Wage differential Bonus                            - NotePay Rate you are bonusing to]]-Table1[[#This Row],[Pay Rate]], \"\")","v":""},{"$f":"IF(Table1[[#This Row],[Wage differential Bonus                            - NotePay Rate you are bonusing to]]>0,Table1[[#This Row],[Bonus Rate]]*Table1[[#This Row],[Hours]],\"\")","v":""},null,null,null,null,null,{"$f":"IF(OR(AH779>0.001,AH779<-0.001),Table1[[#This Row],[Employee '#]],\" \")","v":" "},false,{"$f":"SUMIF(Table1[[#This Row],[Total Wage Diff bonus]:[Bank Bonus]],\"<> \")","v":0},{"$f":"IF(AA779>0, Table1[[#This Row],[Column4]], IF(AB779>0,Table1[[#This Row],[Column4]],IF(X779>0,\"1000\")))","v":false}]
[null,null,null,null,null,null,null,null,null,null,null,null,null,null,null,null,0,null,null,null,null,null,null,null,{"$f":"IF(Table1[[#This Row],[Wage differential Bonus                            - NotePay Rate you are bonusing to]]>0, Table1[[#This Row],[Wage differential Bonus                            - NotePay Rate you are bonusing to]]-Table1[[#This Row],[Pay Rate]], \"\")","v":""},{"$f":"IF(Table1[[#This Row],[Wage differential Bonus                            - NotePay Rate you are bonusing to]]>0,Table1[[#This Row],[Bonus Rate]]*Table1[[#This Row],[Hours]],\"\")","v":""},null,null,null,null,null,{"$f":"IF(OR(AH780>0.001,AH780<-0.001),Table1[[#This Row],[Employee '#]],\" \")","v":" "},false,{"$f":"SUMIF(Table1[[#This Row],[Total Wage Diff bonus]:[Bank Bonus]],\"<> \")","v":0},{"$f":"IF(AA780>0, Table1[[#This Row],[Column4]], IF(AB780>0,Table1[[#This Row],[Column4]],IF(X780>0,\"1000\")))","v":false}]
[null,null,null,null,null,null,null,null,null,null,null,null,null,null,null,null,0,null,null,null,null,null,null,null,{"$f":"IF(Table1[[#This Row],[Wage differential Bonus                            - NotePay Rate you are bonusing to]]>0, Table1[[#This Row],[Wage differential Bonus                            - NotePay Rate you are bonusing to]]-Table1[[#This Row],[Pay Rate]], \"\")","v":""},{"$f":"IF(Table1[[#This Row],[Wage differential Bonus                            - NotePay Rate you are bonusing to]]>0,Table1[[#This Row],[Bonus Rate]]*Table1[[#This Row],[Hours]],\"\")","v":""},null,null,null,null,null,{"$f":"IF(OR(AH781>0.001,AH781<-0.001),Table1[[#This Row],[Employee '#]],\" \")","v":" "},false,{"$f":"SUMIF(Table1[[#This Row],[Total Wage Diff bonus]:[Bank Bonus]],\"<> \")","v":0},{"$f":"IF(AA781>0, Table1[[#This Row],[Column4]], IF(AB781>0,Table1[[#This Row],[Column4]],IF(X781>0,\"1000\")))","v":false}]
[null,null,null,null,null,null,null,null,null,null,null,null,null,null,null,null,0,null,null,null,null,null,null,null,{"$f":"IF(Table1[[#This Row],[Wage differential Bonus                            - NotePay Rate you are bonusing to]]>0, Table1[[#This Row],[Wage differential Bonus                            - NotePay Rate you are bonusing to]]-Table1[[#This Row],[Pay Rate]], \"\")","v":""},{"$f":"IF(Table1[[#This Row],[Wage differential Bonus                            - NotePay Rate you are bonusing to]]>0,Table1[[#This Row],[Bonus Rate]]*Table1[[#This Row],[Hours]],\"\")","v":""},null,null,null,null,null,{"$f":"IF(OR(AH782>0.001,AH782<-0.001),Table1[[#This Row],[Employee '#]],\" \")","v":" "},false,{"$f":"SUMIF(Table1[[#This Row],[Total Wage Diff bonus]:[Bank Bonus]],\"<> \")","v":0},{"$f":"IF(AA782>0, Table1[[#This Row],[Column4]], IF(AB782>0,Table1[[#This Row],[Column4]],IF(X782>0,\"1000\")))","v":false}]
[null,null,null,null,null,null,null,null,null,null,null,null,null,null,null,null,0,null,null,null,null,null,null,null,{"$f":"IF(Table1[[#This Row],[Wage differential Bonus                            - NotePay Rate you are bonusing to]]>0, Table1[[#This Row],[Wage differential Bonus                            - NotePay Rate you are bonusing to]]-Table1[[#This Row],[Pay Rate]], \"\")","v":""},{"$f":"IF(Table1[[#This Row],[Wage differential Bonus                            - NotePay Rate you are bonusing to]]>0,Table1[[#This Row],[Bonus Rate]]*Table1[[#This Row],[Hours]],\"\")","v":""},null,null,null,null,null,{"$f":"IF(OR(AH783>0.001,AH783<-0.001),Table1[[#This Row],[Employee '#]],\" \")","v":" "},false,{"$f":"SUMIF(Table1[[#This Row],[Total Wage Diff bonus]:[Bank Bonus]],\"<> \")","v":0},{"$f":"IF(AA783>0, Table1[[#This Row],[Column4]], IF(AB783>0,Table1[[#This Row],[Column4]],IF(X783>0,\"1000\")))","v":false}]
[null,null,null,null,null,null,null,null,null,null,null,null,null,null,null,null,0,null,null,null,null,null,null,null,{"$f":"IF(Table1[[#This Row],[Wage differential Bonus                            - NotePay Rate you are bonusing to]]>0, Table1[[#This Row],[Wage differential Bonus                            - NotePay Rate you are bonusing to]]-Table1[[#This Row],[Pay Rate]], \"\")","v":""},{"$f":"IF(Table1[[#This Row],[Wage differential Bonus                            - NotePay Rate you are bonusing to]]>0,Table1[[#This Row],[Bonus Rate]]*Table1[[#This Row],[Hours]],\"\")","v":""},null,null,null,null,null,{"$f":"IF(OR(AH784>0.001,AH784<-0.001),Table1[[#This Row],[Employee '#]],\" \")","v":" "},false,{"$f":"SUMIF(Table1[[#This Row],[Total Wage Diff bonus]:[Bank Bonus]],\"<> \")","v":0},{"$f":"IF(AA784>0, Table1[[#This Row],[Column4]], IF(AB784>0,Table1[[#This Row],[Column4]],IF(X784>0,\"1000\")))","v":false}]
[null,null,null,null,null,null,null,null,null,null,null,null,null,null,null,null,0,null,null,null,null,null,null,null,{"$f":"IF(Table1[[#This Row],[Wage differential Bonus                            - NotePay Rate you are bonusing to]]>0, Table1[[#This Row],[Wage differential Bonus                            - NotePay Rate you are bonusing to]]-Table1[[#This Row],[Pay Rate]], \"\")","v":""},{"$f":"IF(Table1[[#This Row],[Wage differential Bonus                            - NotePay Rate you are bonusing to]]>0,Table1[[#This Row],[Bonus Rate]]*Table1[[#This Row],[Hours]],\"\")","v":""},null,null,null,null,null,{"$f":"IF(OR(AH785>0.001,AH785<-0.001),Table1[[#This Row],[Employee '#]],\" \")","v":" "},false,{"$f":"SUMIF(Table1[[#This Row],[Total Wage Diff bonus]:[Bank Bonus]],\"<> \")","v":0},{"$f":"IF(AA785>0, Table1[[#This Row],[Column4]], IF(AB785>0,Table1[[#This Row],[Column4]],IF(X785>0,\"1000\")))","v":false}]
[null,null,null,null,null,null,null,null,null,null,null,null,null,null,null,null,0,null,null,null,null,null,null,null,{"$f":"IF(Table1[[#This Row],[Wage differential Bonus                            - NotePay Rate you are bonusing to]]>0, Table1[[#This Row],[Wage differential Bonus                            - NotePay Rate you are bonusing to]]-Table1[[#This Row],[Pay Rate]], \"\")","v":""},{"$f":"IF(Table1[[#This Row],[Wage differential Bonus                            - NotePay Rate you are bonusing to]]>0,Table1[[#This Row],[Bonus Rate]]*Table1[[#This Row],[Hours]],\"\")","v":""},null,null,null,null,null,{"$f":"IF(OR(AH786>0.001,AH786<-0.001),Table1[[#This Row],[Employee '#]],\" \")","v":" "},false,{"$f":"SUMIF(Table1[[#This Row],[Total Wage Diff bonus]:[Bank Bonus]],\"<> \")","v":0},{"$f":"IF(AA786>0, Table1[[#This Row],[Column4]], IF(AB786>0,Table1[[#This Row],[Column4]],IF(X786>0,\"1000\")))","v":false}]
[null,null,null,null,null,null,null,null,null,null,null,null,null,null,null,null,0,null,null,null,null,null,null,null,{"$f":"IF(Table1[[#This Row],[Wage differential Bonus                            - NotePay Rate you are bonusing to]]>0, Table1[[#This Row],[Wage differential Bonus                            - NotePay Rate you are bonusing to]]-Table1[[#This Row],[Pay Rate]], \"\")","v":""},{"$f":"IF(Table1[[#This Row],[Wage differential Bonus                            - NotePay Rate you are bonusing to]]>0,Table1[[#This Row],[Bonus Rate]]*Table1[[#This Row],[Hours]],\"\")","v":""},null,null,null,null,null,{"$f":"IF(OR(AH787>0.001,AH787<-0.001),Table1[[#This Row],[Employee '#]],\" \")","v":" "},false,{"$f":"SUMIF(Table1[[#This Row],[Total Wage Diff bonus]:[Bank Bonus]],\"<> \")","v":0},{"$f":"IF(AA787>0, Table1[[#This Row],[Column4]], IF(AB787>0,Table1[[#This Row],[Column4]],IF(X787>0,\"1000\")))","v":false}]
[null,null,null,null,null,null,null,null,null,null,null,null,null,null,null,null,0,null,null,null,null,null,null,null,{"$f":"IF(Table1[[#This Row],[Wage differential Bonus                            - NotePay Rate you are bonusing to]]>0, Table1[[#This Row],[Wage differential Bonus                            - NotePay Rate you are bonusing to]]-Table1[[#This Row],[Pay Rate]], \"\")","v":""},{"$f":"IF(Table1[[#This Row],[Wage differential Bonus                            - NotePay Rate you are bonusing to]]>0,Table1[[#This Row],[Bonus Rate]]*Table1[[#This Row],[Hours]],\"\")","v":""},null,null,null,null,null,{"$f":"IF(OR(AH788>0.001,AH788<-0.001),Table1[[#This Row],[Employee '#]],\" \")","v":" "},false,{"$f":"SUMIF(Table1[[#This Row],[Total Wage Diff bonus]:[Bank Bonus]],\"<> \")","v":0},{"$f":"IF(AA788>0, Table1[[#This Row],[Column4]], IF(AB788>0,Table1[[#This Row],[Column4]],IF(X788>0,\"1000\")))","v":false}]
[null,null,null,null,null,null,null,null,null,null,null,null,null,null,null,null,0,null,null,null,null,null,null,null,{"$f":"IF(Table1[[#This Row],[Wage differential Bonus                            - NotePay Rate you are bonusing to]]>0, Table1[[#This Row],[Wage differential Bonus                            - NotePay Rate you are bonusing to]]-Table1[[#This Row],[Pay Rate]], \"\")","v":""},{"$f":"IF(Table1[[#This Row],[Wage differential Bonus                            - NotePay Rate you are bonusing to]]>0,Table1[[#This Row],[Bonus Rate]]*Table1[[#This Row],[Hours]],\"\")","v":""},null,null,null,null,null,{"$f":"IF(OR(AH789>0.001,AH789<-0.001),Table1[[#This Row],[Employee '#]],\" \")","v":" "},false,{"$f":"SUMIF(Table1[[#This Row],[Total Wage Diff bonus]:[Bank Bonus]],\"<> \")","v":0},{"$f":"IF(AA789>0, Table1[[#This Row],[Column4]], IF(AB789>0,Table1[[#This Row],[Column4]],IF(X789>0,\"1000\")))","v":false}]
[null,null,null,null,null,null,null,null,null,null,null,null,null,null,null,null,0,null,null,null,null,null,null,null,{"$f":"IF(Table1[[#This Row],[Wage differential Bonus                            - NotePay Rate you are bonusing to]]>0, Table1[[#This Row],[Wage differential Bonus                            - NotePay Rate you are bonusing to]]-Table1[[#This Row],[Pay Rate]], \"\")","v":""},{"$f":"IF(Table1[[#This Row],[Wage differential Bonus                            - NotePay Rate you are bonusing to]]>0,Table1[[#This Row],[Bonus Rate]]*Table1[[#This Row],[Hours]],\"\")","v":""},null,null,null,null,null,{"$f":"IF(OR(AH790>0.001,AH790<-0.001),Table1[[#This Row],[Employee '#]],\" \")","v":" "},false,{"$f":"SUMIF(Table1[[#This Row],[Total Wage Diff bonus]:[Bank Bonus]],\"<> \")","v":0},{"$f":"IF(AA790>0, Table1[[#This Row],[Column4]], IF(AB790>0,Table1[[#This Row],[Column4]],IF(X790>0,\"1000\")))","v":false}]
[null,null,null,null,null,null,null,null,null,null,null,null,null,null,null,null,0,null,null,null,null,null,null,null,{"$f":"IF(Table1[[#This Row],[Wage differential Bonus                            - NotePay Rate you are bonusing to]]>0, Table1[[#This Row],[Wage differential Bonus                            - NotePay Rate you are bonusing to]]-Table1[[#This Row],[Pay Rate]], \"\")","v":""},{"$f":"IF(Table1[[#This Row],[Wage differential Bonus                            - NotePay Rate you are bonusing to]]>0,Table1[[#This Row],[Bonus Rate]]*Table1[[#This Row],[Hours]],\"\")","v":""},null,null,null,null,null,{"$f":"IF(OR(AH791>0.001,AH791<-0.001),Table1[[#This Row],[Employee '#]],\" \")","v":" "},false,{"$f":"SUMIF(Table1[[#This Row],[Total Wage Diff bonus]:[Bank Bonus]],\"<> \")","v":0},{"$f":"IF(AA791>0, Table1[[#This Row],[Column4]], IF(AB791>0,Table1[[#This Row],[Column4]],IF(X791>0,\"1000\")))","v":false}]
[null,null,null,null,null,null,null,null,null,null,null,null,null,null,null,null,0,null,null,null,null,null,null,null,{"$f":"IF(Table1[[#This Row],[Wage differential Bonus                            - NotePay Rate you are bonusing to]]>0, Table1[[#This Row],[Wage differential Bonus                            - NotePay Rate you are bonusing to]]-Table1[[#This Row],[Pay Rate]], \"\")","v":""},{"$f":"IF(Table1[[#This Row],[Wage differential Bonus                            - NotePay Rate you are bonusing to]]>0,Table1[[#This Row],[Bonus Rate]]*Table1[[#This Row],[Hours]],\"\")","v":""},null,null,null,null,null,{"$f":"IF(OR(AH792>0.001,AH792<-0.001),Table1[[#This Row],[Employee '#]],\" \")","v":" "},false,{"$f":"SUMIF(Table1[[#This Row],[Total Wage Diff bonus]:[Bank Bonus]],\"<> \")","v":0},{"$f":"IF(AA792>0, Table1[[#This Row],[Column4]], IF(AB792>0,Table1[[#This Row],[Column4]],IF(X792>0,\"1000\")))","v":false}]
[null,null,null,null,null,null,null,null,null,null,null,null,null,null,null,null,0,null,null,null,null,null,null,null,{"$f":"IF(Table1[[#This Row],[Wage differential Bonus                            - NotePay Rate you are bonusing to]]>0, Table1[[#This Row],[Wage differential Bonus                            - NotePay Rate you are bonusing to]]-Table1[[#This Row],[Pay Rate]], \"\")","v":""},{"$f":"IF(Table1[[#This Row],[Wage differential Bonus                            - NotePay Rate you are bonusing to]]>0,Table1[[#This Row],[Bonus Rate]]*Table1[[#This Row],[Hours]],\"\")","v":""},null,null,null,null,null,{"$f":"IF(OR(AH793>0.001,AH793<-0.001),Table1[[#This Row],[Employee '#]],\" \")","v":" "},false,{"$f":"SUMIF(Table1[[#This Row],[Total Wage Diff bonus]:[Bank Bonus]],\"<> \")","v":0},{"$f":"IF(AA793>0, Table1[[#This Row],[Column4]], IF(AB793>0,Table1[[#This Row],[Column4]],IF(X793>0,\"1000\")))","v":false}]
[null,null,null,null,null,null,null,null,null,null,null,null,null,null,null,null,0,null,null,null,null,null,null,null,{"$f":"IF(Table1[[#This Row],[Wage differential Bonus                            - NotePay Rate you are bonusing to]]>0, Table1[[#This Row],[Wage differential Bonus                            - NotePay Rate you are bonusing to]]-Table1[[#This Row],[Pay Rate]], \"\")","v":""},{"$f":"IF(Table1[[#This Row],[Wage differential Bonus                            - NotePay Rate you are bonusing to]]>0,Table1[[#This Row],[Bonus Rate]]*Table1[[#This Row],[Hours]],\"\")","v":""},null,null,null,null,null,{"$f":"IF(OR(AH794>0.001,AH794<-0.001),Table1[[#This Row],[Employee '#]],\" \")","v":" "},false,{"$f":"SUMIF(Table1[[#This Row],[Total Wage Diff bonus]:[Bank Bonus]],\"<> \")","v":0},{"$f":"IF(AA794>0, Table1[[#This Row],[Column4]], IF(AB794>0,Table1[[#This Row],[Column4]],IF(X794>0,\"1000\")))","v":false}]
[null,null,null,null,null,null,null,null,null,null,null,null,null,null,null,null,0,null,null,null,null,null,null,null,{"$f":"IF(Table1[[#This Row],[Wage differential Bonus                            - NotePay Rate you are bonusing to]]>0, Table1[[#This Row],[Wage differential Bonus                            - NotePay Rate you are bonusing to]]-Table1[[#This Row],[Pay Rate]], \"\")","v":""},{"$f":"IF(Table1[[#This Row],[Wage differential Bonus                            - NotePay Rate you are bonusing to]]>0,Table1[[#This Row],[Bonus Rate]]*Table1[[#This Row],[Hours]],\"\")","v":""},null,null,null,null,null,{"$f":"IF(OR(AH795>0.001,AH795<-0.001),Table1[[#This Row],[Employee '#]],\" \")","v":" "},false,{"$f":"SUMIF(Table1[[#This Row],[Total Wage Diff bonus]:[Bank Bonus]],\"<> \")","v":0},{"$f":"IF(AA795>0, Table1[[#This Row],[Column4]], IF(AB795>0,Table1[[#This Row],[Column4]],IF(X795>0,\"1000\")))","v":false}]
[null,null,null,null,null,null,null,null,null,null,null,null,null,null,null,null,0,null,null,null,null,null,null,null,{"$f":"IF(Table1[[#This Row],[Wage differential Bonus                            - NotePay Rate you are bonusing to]]>0, Table1[[#This Row],[Wage differential Bonus                            - NotePay Rate you are bonusing to]]-Table1[[#This Row],[Pay Rate]], \"\")","v":""},{"$f":"IF(Table1[[#This Row],[Wage differential Bonus                            - NotePay Rate you are bonusing to]]>0,Table1[[#This Row],[Bonus Rate]]*Table1[[#This Row],[Hours]],\"\")","v":""},null,null,null,null,null,{"$f":"IF(OR(AH796>0.001,AH796<-0.001),Table1[[#This Row],[Employee '#]],\" \")","v":" "},false,{"$f":"SUMIF(Table1[[#This Row],[Total Wage Diff bonus]:[Bank Bonus]],\"<> \")","v":0},{"$f":"IF(AA796>0, Table1[[#This Row],[Column4]], IF(AB796>0,Table1[[#This Row],[Column4]],IF(X796>0,\"1000\")))","v":false}]
[null,null,null,null,null,null,null,null,null,null,null,null,null,null,null,null,0,null,null,null,null,null,null,null,{"$f":"IF(Table1[[#This Row],[Wage differential Bonus                            - NotePay Rate you are bonusing to]]>0, Table1[[#This Row],[Wage differential Bonus                            - NotePay Rate you are bonusing to]]-Table1[[#This Row],[Pay Rate]], \"\")","v":""},{"$f":"IF(Table1[[#This Row],[Wage differential Bonus                            - NotePay Rate you are bonusing to]]>0,Table1[[#This Row],[Bonus Rate]]*Table1[[#This Row],[Hours]],\"\")","v":""},null,null,null,null,null,{"$f":"IF(OR(AH797>0.001,AH797<-0.001),Table1[[#This Row],[Employee '#]],\" \")","v":" "},false,{"$f":"SUMIF(Table1[[#This Row],[Total Wage Diff bonus]:[Bank Bonus]],\"<> \")","v":0},{"$f":"IF(AA797>0, Table1[[#This Row],[Column4]], IF(AB797>0,Table1[[#This Row],[Column4]],IF(X797>0,\"1000\")))","v":false}]
[null,null,null,null,null,null,null,null,null,null,null,null,null,null,null,null,0,null,null,null,null,null,null,null,{"$f":"IF(Table1[[#This Row],[Wage differential Bonus                            - NotePay Rate you are bonusing to]]>0, Table1[[#This Row],[Wage differential Bonus                            - NotePay Rate you are bonusing to]]-Table1[[#This Row],[Pay Rate]], \"\")","v":""},{"$f":"IF(Table1[[#This Row],[Wage differential Bonus                            - NotePay Rate you are bonusing to]]>0,Table1[[#This Row],[Bonus Rate]]*Table1[[#This Row],[Hours]],\"\")","v":""},null,null,null,null,null,{"$f":"IF(OR(AH798>0.001,AH798<-0.001),Table1[[#This Row],[Employee '#]],\" \")","v":" "},false,{"$f":"SUMIF(Table1[[#This Row],[Total Wage Diff bonus]:[Bank Bonus]],\"<> \")","v":0},{"$f":"IF(AA798>0, Table1[[#This Row],[Column4]], IF(AB798>0,Table1[[#This Row],[Column4]],IF(X798>0,\"1000\")))","v":false}]
[null,null,null,null,null,null,null,null,null,null,null,null,null,null,null,null,0,null,null,null,null,null,null,null,{"$f":"IF(Table1[[#This Row],[Wage differential Bonus                            - NotePay Rate you are bonusing to]]>0, Table1[[#This Row],[Wage differential Bonus                            - NotePay Rate you are bonusing to]]-Table1[[#This Row],[Pay Rate]], \"\")","v":""},{"$f":"IF(Table1[[#This Row],[Wage differential Bonus                            - NotePay Rate you are bonusing to]]>0,Table1[[#This Row],[Bonus Rate]]*Table1[[#This Row],[Hours]],\"\")","v":""},null,null,null,null,null,{"$f":"IF(OR(AH799>0.001,AH799<-0.001),Table1[[#This Row],[Employee '#]],\" \")","v":" "},false,{"$f":"SUMIF(Table1[[#This Row],[Total Wage Diff bonus]:[Bank Bonus]],\"<> \")","v":0},{"$f":"IF(AA799>0, Table1[[#This Row],[Column4]], IF(AB799>0,Table1[[#This Row],[Column4]],IF(X799>0,\"1000\")))","v":false}]
[null,null,null,null,null,null,null,null,null,null,null,null,null,null,null,null,0,null,null,null,null,null,null,null,{"$f":"IF(Table1[[#This Row],[Wage differential Bonus                            - NotePay Rate you are bonusing to]]>0, Table1[[#This Row],[Wage differential Bonus                            - NotePay Rate you are bonusing to]]-Table1[[#This Row],[Pay Rate]], \"\")","v":""},{"$f":"IF(Table1[[#This Row],[Wage differential Bonus                            - NotePay Rate you are bonusing to]]>0,Table1[[#This Row],[Bonus Rate]]*Table1[[#This Row],[Hours]],\"\")","v":""},null,null,null,null,null,{"$f":"IF(OR(AH800>0.001,AH800<-0.001),Table1[[#This Row],[Employee '#]],\" \")","v":" "},false,{"$f":"SUMIF(Table1[[#This Row],[Total Wage Diff bonus]:[Bank Bonus]],\"<> \")","v":0},{"$f":"IF(AA800>0, Table1[[#This Row],[Column4]], IF(AB800>0,Table1[[#This Row],[Column4]],IF(X800>0,\"1000\")))","v":false}]
[null,null,null,null,null,null,null,null,null,null,null,null,null,null,null,null,0,null,null,null,null,null,null,null,{"$f":"IF(Table1[[#This Row],[Wage differential Bonus                            - NotePay Rate you are bonusing to]]>0, Table1[[#This Row],[Wage differential Bonus                            - NotePay Rate you are bonusing to]]-Table1[[#This Row],[Pay Rate]], \"\")","v":""},{"$f":"IF(Table1[[#This Row],[Wage differential Bonus                            - NotePay Rate you are bonusing to]]>0,Table1[[#This Row],[Bonus Rate]]*Table1[[#This Row],[Hours]],\"\")","v":""},null,null,null,null,null,{"$f":"IF(OR(AH801>0.001,AH801<-0.001),Table1[[#This Row],[Employee '#]],\" \")","v":" "},false,{"$f":"SUMIF(Table1[[#This Row],[Total Wage Diff bonus]:[Bank Bonus]],\"<> \")","v":0},{"$f":"IF(AA801>0, Table1[[#This Row],[Column4]], IF(AB801>0,Table1[[#This Row],[Column4]],IF(X801>0,\"1000\")))","v":false}]
[null,null,null,null,null,null,null,null,null,null,null,null,null,null,null,null,0,null,null,null,null,null,null,null,{"$f":"IF(Table1[[#This Row],[Wage differential Bonus                            - NotePay Rate you are bonusing to]]>0, Table1[[#This Row],[Wage differential Bonus                            - NotePay Rate you are bonusing to]]-Table1[[#This Row],[Pay Rate]], \"\")","v":""},{"$f":"IF(Table1[[#This Row],[Wage differential Bonus                            - NotePay Rate you are bonusing to]]>0,Table1[[#This Row],[Bonus Rate]]*Table1[[#This Row],[Hours]],\"\")","v":""},null,null,null,null,null,{"$f":"IF(OR(AH802>0.001,AH802<-0.001),Table1[[#This Row],[Employee '#]],\" \")","v":" "},false,{"$f":"SUMIF(Table1[[#This Row],[Total Wage Diff bonus]:[Bank Bonus]],\"<> \")","v":0},{"$f":"IF(AA802>0, Table1[[#This Row],[Column4]], IF(AB802>0,Table1[[#This Row],[Column4]],IF(X802>0,\"1000\")))","v":false}]
[null,null,null,null,null,null,null,null,null,null,null,null,null,null,null,null,0,null,null,null,null,null,null,null,{"$f":"IF(Table1[[#This Row],[Wage differential Bonus                            - NotePay Rate you are bonusing to]]>0, Table1[[#This Row],[Wage differential Bonus                            - NotePay Rate you are bonusing to]]-Table1[[#This Row],[Pay Rate]], \"\")","v":""},{"$f":"IF(Table1[[#This Row],[Wage differential Bonus                            - NotePay Rate you are bonusing to]]>0,Table1[[#This Row],[Bonus Rate]]*Table1[[#This Row],[Hours]],\"\")","v":""},null,null,null,null,null,{"$f":"IF(OR(AH803>0.001,AH803<-0.001),Table1[[#This Row],[Employee '#]],\" \")","v":" "},false,{"$f":"SUMIF(Table1[[#This Row],[Total Wage Diff bonus]:[Bank Bonus]],\"<> \")","v":0},{"$f":"IF(AA803>0, Table1[[#This Row],[Column4]], IF(AB803>0,Table1[[#This Row],[Column4]],IF(X803>0,\"1000\")))","v":false}]
[null,null,null,null,null,null,null,null,null,null,null,null,null,null,null,null,0,null,null,null,null,null,null,null,{"$f":"IF(Table1[[#This Row],[Wage differential Bonus                            - NotePay Rate you are bonusing to]]>0, Table1[[#This Row],[Wage differential Bonus                            - NotePay Rate you are bonusing to]]-Table1[[#This Row],[Pay Rate]], \"\")","v":""},{"$f":"IF(Table1[[#This Row],[Wage differential Bonus                            - NotePay Rate you are bonusing to]]>0,Table1[[#This Row],[Bonus Rate]]*Table1[[#This Row],[Hours]],\"\")","v":""},null,null,null,null,null,{"$f":"IF(OR(AH804>0.001,AH804<-0.001),Table1[[#This Row],[Employee '#]],\" \")","v":" "},false,{"$f":"SUMIF(Table1[[#This Row],[Total Wage Diff bonus]:[Bank Bonus]],\"<> \")","v":0},{"$f":"IF(AA804>0, Table1[[#This Row],[Column4]], IF(AB804>0,Table1[[#This Row],[Column4]],IF(X804>0,\"1000\")))","v":false}]
[null,null,null,null,null,null,null,null,null,null,null,null,null,null,null,null,0,null,null,null,null,null,null,null,{"$f":"IF(Table1[[#This Row],[Wage differential Bonus                            - NotePay Rate you are bonusing to]]>0, Table1[[#This Row],[Wage differential Bonus                            - NotePay Rate you are bonusing to]]-Table1[[#This Row],[Pay Rate]], \"\")","v":""},{"$f":"IF(Table1[[#This Row],[Wage differential Bonus                            - NotePay Rate you are bonusing to]]>0,Table1[[#This Row],[Bonus Rate]]*Table1[[#This Row],[Hours]],\"\")","v":""},null,null,null,null,null,{"$f":"IF(OR(AH805>0.001,AH805<-0.001),Table1[[#This Row],[Employee '#]],\" \")","v":" "},false,{"$f":"SUMIF(Table1[[#This Row],[Total Wage Diff bonus]:[Bank Bonus]],\"<> \")","v":0},{"$f":"IF(AA805>0, Table1[[#This Row],[Column4]], IF(AB805>0,Table1[[#This Row],[Column4]],IF(X805>0,\"1000\")))","v":false}]
[null,null,null,null,null,null,null,null,null,null,null,null,null,null,null,null,0,null,null,null,null,null,null,null,{"$f":"IF(Table1[[#This Row],[Wage differential Bonus                            - NotePay Rate you are bonusing to]]>0, Table1[[#This Row],[Wage differential Bonus                            - NotePay Rate you are bonusing to]]-Table1[[#This Row],[Pay Rate]], \"\")","v":""},{"$f":"IF(Table1[[#This Row],[Wage differential Bonus                            - NotePay Rate you are bonusing to]]>0,Table1[[#This Row],[Bonus Rate]]*Table1[[#This Row],[Hours]],\"\")","v":""},null,null,null,null,null,{"$f":"IF(OR(AH806>0.001,AH806<-0.001),Table1[[#This Row],[Employee '#]],\" \")","v":" "},false,{"$f":"SUMIF(Table1[[#This Row],[Total Wage Diff bonus]:[Bank Bonus]],\"<> \")","v":0},{"$f":"IF(AA806>0, Table1[[#This Row],[Column4]], IF(AB806>0,Table1[[#This Row],[Column4]],IF(X806>0,\"1000\")))","v":false}]
[null,null,null,null,null,null,null,null,null,null,null,null,null,null,null,null,0,null,null,null,null,null,null,null,{"$f":"IF(Table1[[#This Row],[Wage differential Bonus                            - NotePay Rate you are bonusing to]]>0, Table1[[#This Row],[Wage differential Bonus                            - NotePay Rate you are bonusing to]]-Table1[[#This Row],[Pay Rate]], \"\")","v":""},{"$f":"IF(Table1[[#This Row],[Wage differential Bonus                            - NotePay Rate you are bonusing to]]>0,Table1[[#This Row],[Bonus Rate]]*Table1[[#This Row],[Hours]],\"\")","v":""},null,null,null,null,null,{"$f":"IF(OR(AH807>0.001,AH807<-0.001),Table1[[#This Row],[Employee '#]],\" \")","v":" "},false,{"$f":"SUMIF(Table1[[#This Row],[Total Wage Diff bonus]:[Bank Bonus]],\"<> \")","v":0},{"$f":"IF(AA807>0, Table1[[#This Row],[Column4]], IF(AB807>0,Table1[[#This Row],[Column4]],IF(X807>0,\"1000\")))","v":false}]
[null,null,null,null,null,null,null,null,null,null,null,null,null,null,null,null,0,null,null,null,null,null,null,null,{"$f":"IF(Table1[[#This Row],[Wage differential Bonus                            - NotePay Rate you are bonusing to]]>0, Table1[[#This Row],[Wage differential Bonus                            - NotePay Rate you are bonusing to]]-Table1[[#This Row],[Pay Rate]], \"\")","v":""},{"$f":"IF(Table1[[#This Row],[Wage differential Bonus                            - NotePay Rate you are bonusing to]]>0,Table1[[#This Row],[Bonus Rate]]*Table1[[#This Row],[Hours]],\"\")","v":""},null,null,null,null,null,{"$f":"IF(OR(AH808>0.001,AH808<-0.001),Table1[[#This Row],[Employee '#]],\" \")","v":" "},false,{"$f":"SUMIF(Table1[[#This Row],[Total Wage Diff bonus]:[Bank Bonus]],\"<> \")","v":0},{"$f":"IF(AA808>0, Table1[[#This Row],[Column4]], IF(AB808>0,Table1[[#This Row],[Column4]],IF(X808>0,\"1000\")))","v":false}]
[null,null,null,null,null,null,null,null,null,null,null,null,null,null,null,null,0,null,null,null,null,null,null,null,{"$f":"IF(Table1[[#This Row],[Wage differential Bonus                            - NotePay Rate you are bonusing to]]>0, Table1[[#This Row],[Wage differential Bonus                            - NotePay Rate you are bonusing to]]-Table1[[#This Row],[Pay Rate]], \"\")","v":""},{"$f":"IF(Table1[[#This Row],[Wage differential Bonus                            - NotePay Rate you are bonusing to]]>0,Table1[[#This Row],[Bonus Rate]]*Table1[[#This Row],[Hours]],\"\")","v":""},null,null,null,null,null,{"$f":"IF(OR(AH809>0.001,AH809<-0.001),Table1[[#This Row],[Employee '#]],\" \")","v":" "},false,{"$f":"SUMIF(Table1[[#This Row],[Total Wage Diff bonus]:[Bank Bonus]],\"<> \")","v":0},{"$f":"IF(AA809>0, Table1[[#This Row],[Column4]], IF(AB809>0,Table1[[#This Row],[Column4]],IF(X809>0,\"1000\")))","v":false}]
[null,null,null,null,null,null,null,null,null,null,null,null,null,null,null,null,0,null,null,null,null,null,null,null,{"$f":"IF(Table1[[#This Row],[Wage differential Bonus                            - NotePay Rate you are bonusing to]]>0, Table1[[#This Row],[Wage differential Bonus                            - NotePay Rate you are bonusing to]]-Table1[[#This Row],[Pay Rate]], \"\")","v":""},{"$f":"IF(Table1[[#This Row],[Wage differential Bonus                            - NotePay Rate you are bonusing to]]>0,Table1[[#This Row],[Bonus Rate]]*Table1[[#This Row],[Hours]],\"\")","v":""},null,null,null,null,null,{"$f":"IF(OR(AH810>0.001,AH810<-0.001),Table1[[#This Row],[Employee '#]],\" \")","v":" "},false,{"$f":"SUMIF(Table1[[#This Row],[Total Wage Diff bonus]:[Bank Bonus]],\"<> \")","v":0},{"$f":"IF(AA810>0, Table1[[#This Row],[Column4]], IF(AB810>0,Table1[[#This Row],[Column4]],IF(X810>0,\"1000\")))","v":false}]
[null,null,null,null,null,null,null,null,null,null,null,null,null,null,null,null,0,null,null,null,null,null,null,null,{"$f":"IF(Table1[[#This Row],[Wage differential Bonus                            - NotePay Rate you are bonusing to]]>0, Table1[[#This Row],[Wage differential Bonus                            - NotePay Rate you are bonusing to]]-Table1[[#This Row],[Pay Rate]], \"\")","v":""},{"$f":"IF(Table1[[#This Row],[Wage differential Bonus                            - NotePay Rate you are bonusing to]]>0,Table1[[#This Row],[Bonus Rate]]*Table1[[#This Row],[Hours]],\"\")","v":""},null,null,null,null,null,{"$f":"IF(OR(AH811>0.001,AH811<-0.001),Table1[[#This Row],[Employee '#]],\" \")","v":" "},false,{"$f":"SUMIF(Table1[[#This Row],[Total Wage Diff bonus]:[Bank Bonus]],\"<> \")","v":0},{"$f":"IF(AA811>0, Table1[[#This Row],[Column4]], IF(AB811>0,Table1[[#This Row],[Column4]],IF(X811>0,\"1000\")))","v":false}]
[null,null,null,null,null,null,null,null,null,null,null,null,null,null,null,null,0,null,null,null,null,null,null,null,{"$f":"IF(Table1[[#This Row],[Wage differential Bonus                            - NotePay Rate you are bonusing to]]>0, Table1[[#This Row],[Wage differential Bonus                            - NotePay Rate you are bonusing to]]-Table1[[#This Row],[Pay Rate]], \"\")","v":""},{"$f":"IF(Table1[[#This Row],[Wage differential Bonus                            - NotePay Rate you are bonusing to]]>0,Table1[[#This Row],[Bonus Rate]]*Table1[[#This Row],[Hours]],\"\")","v":""},null,null,null,null,null,{"$f":"IF(OR(AH812>0.001,AH812<-0.001),Table1[[#This Row],[Employee '#]],\" \")","v":" "},false,{"$f":"SUMIF(Table1[[#This Row],[Total Wage Diff bonus]:[Bank Bonus]],\"<> \")","v":0},{"$f":"IF(AA812>0, Table1[[#This Row],[Column4]], IF(AB812>0,Table1[[#This Row],[Column4]],IF(X812>0,\"1000\")))","v":false}]
[null,null,null,null,null,null,null,null,null,null,null,null,null,null,null,null,0,null,null,null,null,null,null,null,{"$f":"IF(Table1[[#This Row],[Wage differential Bonus                            - NotePay Rate you are bonusing to]]>0, Table1[[#This Row],[Wage differential Bonus                            - NotePay Rate you are bonusing to]]-Table1[[#This Row],[Pay Rate]], \"\")","v":""},{"$f":"IF(Table1[[#This Row],[Wage differential Bonus                            - NotePay Rate you are bonusing to]]>0,Table1[[#This Row],[Bonus Rate]]*Table1[[#This Row],[Hours]],\"\")","v":""},null,null,null,null,null,{"$f":"IF(OR(AH813>0.001,AH813<-0.001),Table1[[#This Row],[Employee '#]],\" \")","v":" "},false,{"$f":"SUMIF(Table1[[#This Row],[Total Wage Diff bonus]:[Bank Bonus]],\"<> \")","v":0},{"$f":"IF(AA813>0, Table1[[#This Row],[Column4]], IF(AB813>0,Table1[[#This Row],[Column4]],IF(X813>0,\"1000\")))","v":false}]
[null,null,null,null,null,null,null,null,null,null,null,null,null,null,null,null,0,null,null,null,null,null,null,null,{"$f":"IF(Table1[[#This Row],[Wage differential Bonus                            - NotePay Rate you are bonusing to]]>0, Table1[[#This Row],[Wage differential Bonus                            - NotePay Rate you are bonusing to]]-Table1[[#This Row],[Pay Rate]], \"\")","v":""},{"$f":"IF(Table1[[#This Row],[Wage differential Bonus                            - NotePay Rate you are bonusing to]]>0,Table1[[#This Row],[Bonus Rate]]*Table1[[#This Row],[Hours]],\"\")","v":""},null,null,null,null,null,{"$f":"IF(OR(AH814>0.001,AH814<-0.001),Table1[[#This Row],[Employee '#]],\" \")","v":" "},false,{"$f":"SUMIF(Table1[[#This Row],[Total Wage Diff bonus]:[Bank Bonus]],\"<> \")","v":0},{"$f":"IF(AA814>0, Table1[[#This Row],[Column4]], IF(AB814>0,Table1[[#This Row],[Column4]],IF(X814>0,\"1000\")))","v":false}]
[null,null,null,null,null,null,null,null,null,null,null,null,null,null,null,null,0,null,null,null,null,null,null,null,{"$f":"IF(Table1[[#This Row],[Wage differential Bonus                            - NotePay Rate you are bonusing to]]>0, Table1[[#This Row],[Wage differential Bonus                            - NotePay Rate you are bonusing to]]-Table1[[#This Row],[Pay Rate]], \"\")","v":""},{"$f":"IF(Table1[[#This Row],[Wage differential Bonus                            - NotePay Rate you are bonusing to]]>0,Table1[[#This Row],[Bonus Rate]]*Table1[[#This Row],[Hours]],\"\")","v":""},null,null,null,null,null,{"$f":"IF(OR(AH815>0.001,AH815<-0.001),Table1[[#This Row],[Employee '#]],\" \")","v":" "},false,{"$f":"SUMIF(Table1[[#This Row],[Total Wage Diff bonus]:[Bank Bonus]],\"<> \")","v":0},{"$f":"IF(AA815>0, Table1[[#This Row],[Column4]], IF(AB815>0,Table1[[#This Row],[Column4]],IF(X815>0,\"1000\")))","v":false}]
[null,null,null,null,null,null,null,null,null,null,null,null,null,null,null,null,0,null,null,null,null,null,null,null,{"$f":"IF(Table1[[#This Row],[Wage differential Bonus                            - NotePay Rate you are bonusing to]]>0, Table1[[#This Row],[Wage differential Bonus                            - NotePay Rate you are bonusing to]]-Table1[[#This Row],[Pay Rate]], \"\")","v":""},{"$f":"IF(Table1[[#This Row],[Wage differential Bonus                            - NotePay Rate you are bonusing to]]>0,Table1[[#This Row],[Bonus Rate]]*Table1[[#This Row],[Hours]],\"\")","v":""},null,null,null,null,null,{"$f":"IF(OR(AH816>0.001,AH816<-0.001),Table1[[#This Row],[Employee '#]],\" \")","v":" "},false,{"$f":"SUMIF(Table1[[#This Row],[Total Wage Diff bonus]:[Bank Bonus]],\"<> \")","v":0},{"$f":"IF(AA816>0, Table1[[#This Row],[Column4]], IF(AB816>0,Table1[[#This Row],[Column4]],IF(X816>0,\"1000\")))","v":false}]
[null,null,null,null,null,null,null,null,null,null,null,null,null,null,null,null,0,null,null,null,null,null,null,null,{"$f":"IF(Table1[[#This Row],[Wage differential Bonus                            - NotePay Rate you are bonusing to]]>0, Table1[[#This Row],[Wage differential Bonus                            - NotePay Rate you are bonusing to]]-Table1[[#This Row],[Pay Rate]], \"\")","v":""},{"$f":"IF(Table1[[#This Row],[Wage differential Bonus                            - NotePay Rate you are bonusing to]]>0,Table1[[#This Row],[Bonus Rate]]*Table1[[#This Row],[Hours]],\"\")","v":""},null,null,null,null,null,{"$f":"IF(OR(AH817>0.001,AH817<-0.001),Table1[[#This Row],[Employee '#]],\" \")","v":" "},false,{"$f":"SUMIF(Table1[[#This Row],[Total Wage Diff bonus]:[Bank Bonus]],\"<> \")","v":0},{"$f":"IF(AA817>0, Table1[[#This Row],[Column4]], IF(AB817>0,Table1[[#This Row],[Column4]],IF(X817>0,\"1000\")))","v":false}]
[null,null,null,null,null,null,null,null,null,null,null,null,null,null,null,null,0,null,null,null,null,null,null,null,{"$f":"IF(Table1[[#This Row],[Wage differential Bonus                            - NotePay Rate you are bonusing to]]>0, Table1[[#This Row],[Wage differential Bonus                            - NotePay Rate you are bonusing to]]-Table1[[#This Row],[Pay Rate]], \"\")","v":""},{"$f":"IF(Table1[[#This Row],[Wage differential Bonus                            - NotePay Rate you are bonusing to]]>0,Table1[[#This Row],[Bonus Rate]]*Table1[[#This Row],[Hours]],\"\")","v":""},null,null,null,null,null,{"$f":"IF(OR(AH818>0.001,AH818<-0.001),Table1[[#This Row],[Employee '#]],\" \")","v":" "},false,{"$f":"SUMIF(Table1[[#This Row],[Total Wage Diff bonus]:[Bank Bonus]],\"<> \")","v":0},{"$f":"IF(AA818>0, Table1[[#This Row],[Column4]], IF(AB818>0,Table1[[#This Row],[Column4]],IF(X818>0,\"1000\")))","v":false}]
[null,null,null,null,null,null,null,null,null,null,null,null,null,null,null,null,0,null,null,null,null,null,null,null,{"$f":"IF(Table1[[#This Row],[Wage differential Bonus                            - NotePay Rate you are bonusing to]]>0, Table1[[#This Row],[Wage differential Bonus                            - NotePay Rate you are bonusing to]]-Table1[[#This Row],[Pay Rate]], \"\")","v":""},{"$f":"IF(Table1[[#This Row],[Wage differential Bonus                            - NotePay Rate you are bonusing to]]>0,Table1[[#This Row],[Bonus Rate]]*Table1[[#This Row],[Hours]],\"\")","v":""},null,null,null,null,null,{"$f":"IF(OR(AH819>0.001,AH819<-0.001),Table1[[#This Row],[Employee '#]],\" \")","v":" "},false,{"$f":"SUMIF(Table1[[#This Row],[Total Wage Diff bonus]:[Bank Bonus]],\"<> \")","v":0},{"$f":"IF(AA819>0, Table1[[#This Row],[Column4]], IF(AB819>0,Table1[[#This Row],[Column4]],IF(X819>0,\"1000\")))","v":false}]
[null,null,null,null,null,null,null,null,null,null,null,null,null,null,null,null,0,null,null,null,null,null,null,null,{"$f":"IF(Table1[[#This Row],[Wage differential Bonus                            - NotePay Rate you are bonusing to]]>0, Table1[[#This Row],[Wage differential Bonus                            - NotePay Rate you are bonusing to]]-Table1[[#This Row],[Pay Rate]], \"\")","v":""},{"$f":"IF(Table1[[#This Row],[Wage differential Bonus                            - NotePay Rate you are bonusing to]]>0,Table1[[#This Row],[Bonus Rate]]*Table1[[#This Row],[Hours]],\"\")","v":""},null,null,null,null,null,{"$f":"IF(OR(AH820>0.001,AH820<-0.001),Table1[[#This Row],[Employee '#]],\" \")","v":" "},false,{"$f":"SUMIF(Table1[[#This Row],[Total Wage Diff bonus]:[Bank Bonus]],\"<> \")","v":0},{"$f":"IF(AA820>0, Table1[[#This Row],[Column4]], IF(AB820>0,Table1[[#This Row],[Column4]],IF(X820>0,\"1000\")))","v":false}]
[null,null,null,null,null,null,null,null,null,null,null,null,null,null,null,null,0,null,null,null,null,null,null,null,{"$f":"IF(Table1[[#This Row],[Wage differential Bonus                            - NotePay Rate you are bonusing to]]>0, Table1[[#This Row],[Wage differential Bonus                            - NotePay Rate you are bonusing to]]-Table1[[#This Row],[Pay Rate]], \"\")","v":""},{"$f":"IF(Table1[[#This Row],[Wage differential Bonus                            - NotePay Rate you are bonusing to]]>0,Table1[[#This Row],[Bonus Rate]]*Table1[[#This Row],[Hours]],\"\")","v":""},null,null,null,null,null,{"$f":"IF(OR(AH821>0.001,AH821<-0.001),Table1[[#This Row],[Employee '#]],\" \")","v":" "},false,{"$f":"SUMIF(Table1[[#This Row],[Total Wage Diff bonus]:[Bank Bonus]],\"<> \")","v":0},{"$f":"IF(AA821>0, Table1[[#This Row],[Column4]], IF(AB821>0,Table1[[#This Row],[Column4]],IF(X821>0,\"1000\")))","v":false}]
[null,null,null,null,null,null,null,null,null,null,null,null,null,null,null,null,0,null,null,null,null,null,null,null,{"$f":"IF(Table1[[#This Row],[Wage differential Bonus                            - NotePay Rate you are bonusing to]]>0, Table1[[#This Row],[Wage differential Bonus                            - NotePay Rate you are bonusing to]]-Table1[[#This Row],[Pay Rate]], \"\")","v":""},{"$f":"IF(Table1[[#This Row],[Wage differential Bonus                            - NotePay Rate you are bonusing to]]>0,Table1[[#This Row],[Bonus Rate]]*Table1[[#This Row],[Hours]],\"\")","v":""},null,null,null,null,null,{"$f":"IF(OR(AH822>0.001,AH822<-0.001),Table1[[#This Row],[Employee '#]],\" \")","v":" "},false,{"$f":"SUMIF(Table1[[#This Row],[Total Wage Diff bonus]:[Bank Bonus]],\"<> \")","v":0},{"$f":"IF(AA822>0, Table1[[#This Row],[Column4]], IF(AB822>0,Table1[[#This Row],[Column4]],IF(X822>0,\"1000\")))","v":false}]
[null,null,null,null,null,null,null,null,null,null,null,null,null,null,null,null,0,null,null,null,null,null,null,null,{"$f":"IF(Table1[[#This Row],[Wage differential Bonus                            - NotePay Rate you are bonusing to]]>0, Table1[[#This Row],[Wage differential Bonus                            - NotePay Rate you are bonusing to]]-Table1[[#This Row],[Pay Rate]], \"\")","v":""},{"$f":"IF(Table1[[#This Row],[Wage differential Bonus                            - NotePay Rate you are bonusing to]]>0,Table1[[#This Row],[Bonus Rate]]*Table1[[#This Row],[Hours]],\"\")","v":""},null,null,null,null,null,{"$f":"IF(OR(AH823>0.001,AH823<-0.001),Table1[[#This Row],[Employee '#]],\" \")","v":" "},false,{"$f":"SUMIF(Table1[[#This Row],[Total Wage Diff bonus]:[Bank Bonus]],\"<> \")","v":0},{"$f":"IF(AA823>0, Table1[[#This Row],[Column4]], IF(AB823>0,Table1[[#This Row],[Column4]],IF(X823>0,\"1000\")))","v":false}]
[null,null,null,null,null,null,null,null,null,null,null,null,null,null,null,null,0,null,null,null,null,null,null,null,{"$f":"IF(Table1[[#This Row],[Wage differential Bonus                            - NotePay Rate you are bonusing to]]>0, Table1[[#This Row],[Wage differential Bonus                            - NotePay Rate you are bonusing to]]-Table1[[#This Row],[Pay Rate]], \"\")","v":""},{"$f":"IF(Table1[[#This Row],[Wage differential Bonus                            - NotePay Rate you are bonusing to]]>0,Table1[[#This Row],[Bonus Rate]]*Table1[[#This Row],[Hours]],\"\")","v":""},null,null,null,null,null,{"$f":"IF(OR(AH824>0.001,AH824<-0.001),Table1[[#This Row],[Employee '#]],\" \")","v":" "},false,{"$f":"SUMIF(Table1[[#This Row],[Total Wage Diff bonus]:[Bank Bonus]],\"<> \")","v":0},{"$f":"IF(AA824>0, Table1[[#This Row],[Column4]], IF(AB824>0,Table1[[#This Row],[Column4]],IF(X824>0,\"1000\")))","v":false}]
[null,null,null,null,null,null,null,null,null,null,null,null,null,null,null,null,0,null,null,null,null,null,null,null,{"$f":"IF(Table1[[#This Row],[Wage differential Bonus                            - NotePay Rate you are bonusing to]]>0, Table1[[#This Row],[Wage differential Bonus                            - NotePay Rate you are bonusing to]]-Table1[[#This Row],[Pay Rate]], \"\")","v":""},{"$f":"IF(Table1[[#This Row],[Wage differential Bonus                            - NotePay Rate you are bonusing to]]>0,Table1[[#This Row],[Bonus Rate]]*Table1[[#This Row],[Hours]],\"\")","v":""},null,null,null,null,null,{"$f":"IF(OR(AH825>0.001,AH825<-0.001),Table1[[#This Row],[Employee '#]],\" \")","v":" "},false,{"$f":"SUMIF(Table1[[#This Row],[Total Wage Diff bonus]:[Bank Bonus]],\"<> \")","v":0},{"$f":"IF(AA825>0, Table1[[#This Row],[Column4]], IF(AB825>0,Table1[[#This Row],[Column4]],IF(X825>0,\"1000\")))","v":false}]
[null,null,null,null,null,null,null,null,null,null,null,null,null,null,null,null,0,null,null,null,null,null,null,null,{"$f":"IF(Table1[[#This Row],[Wage differential Bonus                            - NotePay Rate you are bonusing to]]>0, Table1[[#This Row],[Wage differential Bonus                            - NotePay Rate you are bonusing to]]-Table1[[#This Row],[Pay Rate]], \"\")","v":""},{"$f":"IF(Table1[[#This Row],[Wage differential Bonus                            - NotePay Rate you are bonusing to]]>0,Table1[[#This Row],[Bonus Rate]]*Table1[[#This Row],[Hours]],\"\")","v":""},null,null,null,null,null,{"$f":"IF(OR(AH826>0.001,AH826<-0.001),Table1[[#This Row],[Employee '#]],\" \")","v":" "},false,{"$f":"SUMIF(Table1[[#This Row],[Total Wage Diff bonus]:[Bank Bonus]],\"<> \")","v":0},{"$f":"IF(AA826>0, Table1[[#This Row],[Column4]], IF(AB826>0,Table1[[#This Row],[Column4]],IF(X826>0,\"1000\")))","v":false}]
[null,null,null,null,null,null,null,null,null,null,null,null,null,null,null,null,0,null,null,null,null,null,null,null,{"$f":"IF(Table1[[#This Row],[Wage differential Bonus                            - NotePay Rate you are bonusing to]]>0, Table1[[#This Row],[Wage differential Bonus                            - NotePay Rate you are bonusing to]]-Table1[[#This Row],[Pay Rate]], \"\")","v":""},{"$f":"IF(Table1[[#This Row],[Wage differential Bonus                            - NotePay Rate you are bonusing to]]>0,Table1[[#This Row],[Bonus Rate]]*Table1[[#This Row],[Hours]],\"\")","v":""},null,null,null,null,null,{"$f":"IF(OR(AH827>0.001,AH827<-0.001),Table1[[#This Row],[Employee '#]],\" \")","v":" "},false,{"$f":"SUMIF(Table1[[#This Row],[Total Wage Diff bonus]:[Bank Bonus]],\"<> \")","v":0},{"$f":"IF(AA827>0, Table1[[#This Row],[Column4]], IF(AB827>0,Table1[[#This Row],[Column4]],IF(X827>0,\"1000\")))","v":false}]
[null,null,null,null,null,null,null,null,null,null,null,null,null,null,null,null,0,null,null,null,null,null,null,null,{"$f":"IF(Table1[[#This Row],[Wage differential Bonus                            - NotePay Rate you are bonusing to]]>0, Table1[[#This Row],[Wage differential Bonus                            - NotePay Rate you are bonusing to]]-Table1[[#This Row],[Pay Rate]], \"\")","v":""},{"$f":"IF(Table1[[#This Row],[Wage differential Bonus                            - NotePay Rate you are bonusing to]]>0,Table1[[#This Row],[Bonus Rate]]*Table1[[#This Row],[Hours]],\"\")","v":""},null,null,null,null,null,{"$f":"IF(OR(AH828>0.001,AH828<-0.001),Table1[[#This Row],[Employee '#]],\" \")","v":" "},false,{"$f":"SUMIF(Table1[[#This Row],[Total Wage Diff bonus]:[Bank Bonus]],\"<> \")","v":0},{"$f":"IF(AA828>0, Table1[[#This Row],[Column4]], IF(AB828>0,Table1[[#This Row],[Column4]],IF(X828>0,\"1000\")))","v":false}]
[null,null,null,null,null,null,null,null,null,null,null,null,null,null,null,null,0,null,null,null,null,null,null,null,{"$f":"IF(Table1[[#This Row],[Wage differential Bonus                            - NotePay Rate you are bonusing to]]>0, Table1[[#This Row],[Wage differential Bonus                            - NotePay Rate you are bonusing to]]-Table1[[#This Row],[Pay Rate]], \"\")","v":""},{"$f":"IF(Table1[[#This Row],[Wage differential Bonus                            - NotePay Rate you are bonusing to]]>0,Table1[[#This Row],[Bonus Rate]]*Table1[[#This Row],[Hours]],\"\")","v":""},null,null,null,null,null,{"$f":"IF(OR(AH829>0.001,AH829<-0.001),Table1[[#This Row],[Employee '#]],\" \")","v":" "},false,{"$f":"SUMIF(Table1[[#This Row],[Total Wage Diff bonus]:[Bank Bonus]],\"<> \")","v":0},{"$f":"IF(AA829>0, Table1[[#This Row],[Column4]], IF(AB829>0,Table1[[#This Row],[Column4]],IF(X829>0,\"1000\")))","v":false}]
[null,null,null,null,null,null,null,null,null,null,null,null,null,null,null,null,0,null,null,null,null,null,null,null,{"$f":"IF(Table1[[#This Row],[Wage differential Bonus                            - NotePay Rate you are bonusing to]]>0, Table1[[#This Row],[Wage differential Bonus                            - NotePay Rate you are bonusing to]]-Table1[[#This Row],[Pay Rate]], \"\")","v":""},{"$f":"IF(Table1[[#This Row],[Wage differential Bonus                            - NotePay Rate you are bonusing to]]>0,Table1[[#This Row],[Bonus Rate]]*Table1[[#This Row],[Hours]],\"\")","v":""},null,null,null,null,null,{"$f":"IF(OR(AH830>0.001,AH830<-0.001),Table1[[#This Row],[Employee '#]],\" \")","v":" "},false,{"$f":"SUMIF(Table1[[#This Row],[Total Wage Diff bonus]:[Bank Bonus]],\"<> \")","v":0},{"$f":"IF(AA830>0, Table1[[#This Row],[Column4]], IF(AB830>0,Table1[[#This Row],[Column4]],IF(X830>0,\"1000\")))","v":false}]
[null,null,null,null,null,null,null,null,null,null,null,null,null,null,null,null,0,null,null,null,null,null,null,null,{"$f":"IF(Table1[[#This Row],[Wage differential Bonus                            - NotePay Rate you are bonusing to]]>0, Table1[[#This Row],[Wage differential Bonus                            - NotePay Rate you are bonusing to]]-Table1[[#This Row],[Pay Rate]], \"\")","v":""},{"$f":"IF(Table1[[#This Row],[Wage differential Bonus                            - NotePay Rate you are bonusing to]]>0,Table1[[#This Row],[Bonus Rate]]*Table1[[#This Row],[Hours]],\"\")","v":""},null,null,null,null,null,{"$f":"IF(OR(AH831>0.001,AH831<-0.001),Table1[[#This Row],[Employee '#]],\" \")","v":" "},false,{"$f":"SUMIF(Table1[[#This Row],[Total Wage Diff bonus]:[Bank Bonus]],\"<> \")","v":0},{"$f":"IF(AA831>0, Table1[[#This Row],[Column4]], IF(AB831>0,Table1[[#This Row],[Column4]],IF(X831>0,\"1000\")))","v":false}]
[null,null,null,null,null,null,null,null,null,null,null,null,null,null,null,null,0,null,null,null,null,null,null,null,{"$f":"IF(Table1[[#This Row],[Wage differential Bonus                            - NotePay Rate you are bonusing to]]>0, Table1[[#This Row],[Wage differential Bonus                            - NotePay Rate you are bonusing to]]-Table1[[#This Row],[Pay Rate]], \"\")","v":""},{"$f":"IF(Table1[[#This Row],[Wage differential Bonus                            - NotePay Rate you are bonusing to]]>0,Table1[[#This Row],[Bonus Rate]]*Table1[[#This Row],[Hours]],\"\")","v":""},null,null,null,null,null,{"$f":"IF(OR(AH832>0.001,AH832<-0.001),Table1[[#This Row],[Employee '#]],\" \")","v":" "},false,{"$f":"SUMIF(Table1[[#This Row],[Total Wage Diff bonus]:[Bank Bonus]],\"<> \")","v":0},{"$f":"IF(AA832>0, Table1[[#This Row],[Column4]], IF(AB832>0,Table1[[#This Row],[Column4]],IF(X832>0,\"1000\")))","v":false}]
[null,null,null,null,null,null,null,null,null,null,null,null,null,null,null,null,0,null,null,null,null,null,null,null,{"$f":"IF(Table1[[#This Row],[Wage differential Bonus                            - NotePay Rate you are bonusing to]]>0, Table1[[#This Row],[Wage differential Bonus                            - NotePay Rate you are bonusing to]]-Table1[[#This Row],[Pay Rate]], \"\")","v":""},{"$f":"IF(Table1[[#This Row],[Wage differential Bonus                            - NotePay Rate you are bonusing to]]>0,Table1[[#This Row],[Bonus Rate]]*Table1[[#This Row],[Hours]],\"\")","v":""},null,null,null,null,null,{"$f":"IF(OR(AH833>0.001,AH833<-0.001),Table1[[#This Row],[Employee '#]],\" \")","v":" "},false,{"$f":"SUMIF(Table1[[#This Row],[Total Wage Diff bonus]:[Bank Bonus]],\"<> \")","v":0},{"$f":"IF(AA833>0, Table1[[#This Row],[Column4]], IF(AB833>0,Table1[[#This Row],[Column4]],IF(X833>0,\"1000\")))","v":false}]
[null,null,null,null,null,null,null,null,null,null,null,null,null,null,null,null,0,null,null,null,null,null,null,null,{"$f":"IF(Table1[[#This Row],[Wage differential Bonus                            - NotePay Rate you are bonusing to]]>0, Table1[[#This Row],[Wage differential Bonus                            - NotePay Rate you are bonusing to]]-Table1[[#This Row],[Pay Rate]], \"\")","v":""},{"$f":"IF(Table1[[#This Row],[Wage differential Bonus                            - NotePay Rate you are bonusing to]]>0,Table1[[#This Row],[Bonus Rate]]*Table1[[#This Row],[Hours]],\"\")","v":""},null,null,null,null,null,{"$f":"IF(OR(AH834>0.001,AH834<-0.001),Table1[[#This Row],[Employee '#]],\" \")","v":" "},false,{"$f":"SUMIF(Table1[[#This Row],[Total Wage Diff bonus]:[Bank Bonus]],\"<> \")","v":0},{"$f":"IF(AA834>0, Table1[[#This Row],[Column4]], IF(AB834>0,Table1[[#This Row],[Column4]],IF(X834>0,\"1000\")))","v":false}]
[null,null,null,null,null,null,null,null,null,null,null,null,null,null,null,null,0,null,null,null,null,null,null,null,{"$f":"IF(Table1[[#This Row],[Wage differential Bonus                            - NotePay Rate you are bonusing to]]>0, Table1[[#This Row],[Wage differential Bonus                            - NotePay Rate you are bonusing to]]-Table1[[#This Row],[Pay Rate]], \"\")","v":""},{"$f":"IF(Table1[[#This Row],[Wage differential Bonus                            - NotePay Rate you are bonusing to]]>0,Table1[[#This Row],[Bonus Rate]]*Table1[[#This Row],[Hours]],\"\")","v":""},null,null,null,null,null,{"$f":"IF(OR(AH835>0.001,AH835<-0.001),Table1[[#This Row],[Employee '#]],\" \")","v":" "},false,{"$f":"SUMIF(Table1[[#This Row],[Total Wage Diff bonus]:[Bank Bonus]],\"<> \")","v":0},{"$f":"IF(AA835>0, Table1[[#This Row],[Column4]], IF(AB835>0,Table1[[#This Row],[Column4]],IF(X835>0,\"1000\")))","v":false}]
[null,null,null,null,null,null,null,null,null,null,null,null,null,null,null,null,{"$f":"L836+P836","v":0},null,null,null,null,null,null,null,{"$f":"IF(Table1[[#This Row],[Wage differential Bonus                            - NotePay Rate you are bonusing to]]>0, Table1[[#This Row],[Wage differential Bonus                            - NotePay Rate you are bonusing to]]-Table1[[#This Row],[Pay Rate]], \"\")","v":""},{"$f":"IF(Table1[[#This Row],[Wage differential Bonus                            - NotePay Rate you are bonusing to]]>0,Table1[[#This Row],[Bonus Rate]]*Table1[[#This Row],[Hours]],\"\")","v":""},null,null,null,null,null,{"$f":"IF(OR(AH836>0.001,AH836<-0.001),Table1[[#This Row],[Employee '#]],\" \")","v":" "},{"$f":"IF(AA836>0, \"28\", IF(AB836>0,\"53\",IF(X836>0,\"20\")))","v":false},{"$f":"SUMIF(Table1[[#This Row],[Total Wage Diff bonus]:[Bank Bonus]],\"<> \")","v":0},{"$f":"IF(AA836>0, Table1[[#This Row],[Column4]], IF(AB836>0,Table1[[#This Row],[Column4]],IF(X836>0,\"1000\")))","v":false}]
[null,null,null,null,null,null,null,null,null,null,null,null,null,null,null,null,0,null,null,null,null,null,null,null,{"$f":"IF(Table1[[#This Row],[Wage differential Bonus                            - NotePay Rate you are bonusing to]]>0, Table1[[#This Row],[Wage differential Bonus                            - NotePay Rate you are bonusing to]]-Table1[[#This Row],[Pay Rate]], \"\")","v":""},{"$f":"IF(Table1[[#This Row],[Wage differential Bonus                            - NotePay Rate you are bonusing to]]>0,Table1[[#This Row],[Bonus Rate]]*Table1[[#This Row],[Hours]],\"\")","v":""},null,null,null,null,null,{"$f":"IF(OR(AH837>0.001,AH837<-0.001),Table1[[#This Row],[Employee '#]],\" \")","v":" "},false,{"$f":"SUMIF(Table1[[#This Row],[Total Wage Diff bonus]:[Bank Bonus]],\"<> \")","v":0},{"$f":"IF(AA837>0, Table1[[#This Row],[Column4]], IF(AB837>0,Table1[[#This Row],[Column4]],IF(X837>0,\"1000\")))","v":false}]
[null,null,null,null,null,null,null,null,null,null,null,null,null,null,null,null,0,null,null,null,null,null,null,null,{"$f":"IF(Table1[[#This Row],[Wage differential Bonus                            - NotePay Rate you are bonusing to]]>0, Table1[[#This Row],[Wage differential Bonus                            - NotePay Rate you are bonusing to]]-Table1[[#This Row],[Pay Rate]], \"\")","v":""},{"$f":"IF(Table1[[#This Row],[Wage differential Bonus                            - NotePay Rate you are bonusing to]]>0,Table1[[#This Row],[Bonus Rate]]*Table1[[#This Row],[Hours]],\"\")","v":""},null,null,null,null,null,{"$f":"IF(OR(AH838>0.001,AH838<-0.001),Table1[[#This Row],[Employee '#]],\" \")","v":" "},false,{"$f":"SUMIF(Table1[[#This Row],[Total Wage Diff bonus]:[Bank Bonus]],\"<> \")","v":0},{"$f":"IF(AA838>0, Table1[[#This Row],[Column4]], IF(AB838>0,Table1[[#This Row],[Column4]],IF(X838>0,\"1000\")))","v":false}]
[null,null,null,null,null,null,null,null,null,null,null,null,null,null,null,null,0,null,null,null,null,null,null,null,{"$f":"IF(Table1[[#This Row],[Wage differential Bonus                            - NotePay Rate you are bonusing to]]>0, Table1[[#This Row],[Wage differential Bonus                            - NotePay Rate you are bonusing to]]-Table1[[#This Row],[Pay Rate]], \"\")","v":""},{"$f":"IF(Table1[[#This Row],[Wage differential Bonus                            - NotePay Rate you are bonusing to]]>0,Table1[[#This Row],[Bonus Rate]]*Table1[[#This Row],[Hours]],\"\")","v":""},null,null,null,null,null,{"$f":"IF(OR(AH839>0.001,AH839<-0.001),Table1[[#This Row],[Employee '#]],\" \")","v":" "},false,{"$f":"SUMIF(Table1[[#This Row],[Total Wage Diff bonus]:[Bank Bonus]],\"<> \")","v":0},{"$f":"IF(AA839>0, Table1[[#This Row],[Column4]], IF(AB839>0,Table1[[#This Row],[Column4]],IF(X839>0,\"1000\")))","v":false}]
[null,null,null,null,null,null,null,null,null,null,null,null,null,null,null,null,0,null,null,null,null,null,null,null,{"$f":"IF(Table1[[#This Row],[Wage differential Bonus                            - NotePay Rate you are bonusing to]]>0, Table1[[#This Row],[Wage differential Bonus                            - NotePay Rate you are bonusing to]]-Table1[[#This Row],[Pay Rate]], \"\")","v":""},{"$f":"IF(Table1[[#This Row],[Wage differential Bonus                            - NotePay Rate you are bonusing to]]>0,Table1[[#This Row],[Bonus Rate]]*Table1[[#This Row],[Hours]],\"\")","v":""},null,null,null,null,null,{"$f":"IF(OR(AH840>0.001,AH840<-0.001),Table1[[#This Row],[Employee '#]],\" \")","v":" "},false,{"$f":"SUMIF(Table1[[#This Row],[Total Wage Diff bonus]:[Bank Bonus]],\"<> \")","v":0},{"$f":"IF(AA840>0, Table1[[#This Row],[Column4]], IF(AB840>0,Table1[[#This Row],[Column4]],IF(X840>0,\"1000\")))","v":false}]
[null,null,null,null,null,null,null,null,null,null,null,null,null,null,null,null,0,null,null,null,null,null,null,null,{"$f":"IF(Table1[[#This Row],[Wage differential Bonus                            - NotePay Rate you are bonusing to]]>0, Table1[[#This Row],[Wage differential Bonus                            - NotePay Rate you are bonusing to]]-Table1[[#This Row],[Pay Rate]], \"\")","v":""},{"$f":"IF(Table1[[#This Row],[Wage differential Bonus                            - NotePay Rate you are bonusing to]]>0,Table1[[#This Row],[Bonus Rate]]*Table1[[#This Row],[Hours]],\"\")","v":""},null,null,null,null,null,{"$f":"IF(OR(AH841>0.001,AH841<-0.001),Table1[[#This Row],[Employee '#]],\" \")","v":" "},false,{"$f":"SUMIF(Table1[[#This Row],[Total Wage Diff bonus]:[Bank Bonus]],\"<> \")","v":0},{"$f":"IF(AA841>0, Table1[[#This Row],[Column4]], IF(AB841>0,Table1[[#This Row],[Column4]],IF(X841>0,\"1000\")))","v":false}]
[null,null,null,null,null,null,null,null,null,null,null,null,null,null,null,null,0,null,null,null,null,null,null,null,{"$f":"IF(Table1[[#This Row],[Wage differential Bonus                            - NotePay Rate you are bonusing to]]>0, Table1[[#This Row],[Wage differential Bonus                            - NotePay Rate you are bonusing to]]-Table1[[#This Row],[Pay Rate]], \"\")","v":""},{"$f":"IF(Table1[[#This Row],[Wage differential Bonus                            - NotePay Rate you are bonusing to]]>0,Table1[[#This Row],[Bonus Rate]]*Table1[[#This Row],[Hours]],\"\")","v":""},null,null,null,null,null,{"$f":"IF(OR(AH842>0.001,AH842<-0.001),Table1[[#This Row],[Employee '#]],\" \")","v":" "},false,{"$f":"SUMIF(Table1[[#This Row],[Total Wage Diff bonus]:[Bank Bonus]],\"<> \")","v":0},{"$f":"IF(AA842>0, Table1[[#This Row],[Column4]], IF(AB842>0,Table1[[#This Row],[Column4]],IF(X842>0,\"1000\")))","v":false}]
[null,null,null,null,null,null,null,null,null,null,null,null,null,null,null,null,0,null,null,null,null,null,null,null,{"$f":"IF(Table1[[#This Row],[Wage differential Bonus                            - NotePay Rate you are bonusing to]]>0, Table1[[#This Row],[Wage differential Bonus                            - NotePay Rate you are bonusing to]]-Table1[[#This Row],[Pay Rate]], \"\")","v":""},{"$f":"IF(Table1[[#This Row],[Wage differential Bonus                            - NotePay Rate you are bonusing to]]>0,Table1[[#This Row],[Bonus Rate]]*Table1[[#This Row],[Hours]],\"\")","v":""},null,null,null,null,null,{"$f":"IF(OR(AH843>0.001,AH843<-0.001),Table1[[#This Row],[Employee '#]],\" \")","v":" "},false,{"$f":"SUMIF(Table1[[#This Row],[Total Wage Diff bonus]:[Bank Bonus]],\"<> \")","v":0},{"$f":"IF(AA843>0, Table1[[#This Row],[Column4]], IF(AB843>0,Table1[[#This Row],[Column4]],IF(X843>0,\"1000\")))","v":false}]
[null,null,null,null,null,null,null,null,null,null,null,null,null,null,null,null,0,null,null,null,null,null,null,null,{"$f":"IF(Table1[[#This Row],[Wage differential Bonus                            - NotePay Rate you are bonusing to]]>0, Table1[[#This Row],[Wage differential Bonus                            - NotePay Rate you are bonusing to]]-Table1[[#This Row],[Pay Rate]], \"\")","v":""},{"$f":"IF(Table1[[#This Row],[Wage differential Bonus                            - NotePay Rate you are bonusing to]]>0,Table1[[#This Row],[Bonus Rate]]*Table1[[#This Row],[Hours]],\"\")","v":""},null,null,null,null,null,{"$f":"IF(OR(AH844>0.001,AH844<-0.001),Table1[[#This Row],[Employee '#]],\" \")","v":" "},false,{"$f":"SUMIF(Table1[[#This Row],[Total Wage Diff bonus]:[Bank Bonus]],\"<> \")","v":0},{"$f":"IF(AA844>0, Table1[[#This Row],[Column4]], IF(AB844>0,Table1[[#This Row],[Column4]],IF(X844>0,\"1000\")))","v":false}]
[null,null,null,null,null,null,null,null,null,null,null,null,null,null,null,null,0,null,null,null,null,null,null,null,{"$f":"IF(Table1[[#This Row],[Wage differential Bonus                            - NotePay Rate you are bonusing to]]>0, Table1[[#This Row],[Wage differential Bonus                            - NotePay Rate you are bonusing to]]-Table1[[#This Row],[Pay Rate]], \"\")","v":""},{"$f":"IF(Table1[[#This Row],[Wage differential Bonus                            - NotePay Rate you are bonusing to]]>0,Table1[[#This Row],[Bonus Rate]]*Table1[[#This Row],[Hours]],\"\")","v":""},null,null,null,null,null,{"$f":"IF(OR(AH845>0.001,AH845<-0.001),Table1[[#This Row],[Employee '#]],\" \")","v":" "},false,{"$f":"SUMIF(Table1[[#This Row],[Total Wage Diff bonus]:[Bank Bonus]],\"<> \")","v":0},{"$f":"IF(AA845>0, Table1[[#This Row],[Column4]], IF(AB845>0,Table1[[#This Row],[Column4]],IF(X845>0,\"1000\")))","v":false}]
[null,null,null,null,null,null,null,null,null,null,null,null,null,null,null,null,0,null,null,null,null,null,null,null,{"$f":"IF(Table1[[#This Row],[Wage differential Bonus                            - NotePay Rate you are bonusing to]]>0, Table1[[#This Row],[Wage differential Bonus                            - NotePay Rate you are bonusing to]]-Table1[[#This Row],[Pay Rate]], \"\")","v":""},{"$f":"IF(Table1[[#This Row],[Wage differential Bonus                            - NotePay Rate you are bonusing to]]>0,Table1[[#This Row],[Bonus Rate]]*Table1[[#This Row],[Hours]],\"\")","v":""},null,null,null,null,null,{"$f":"IF(OR(AH846>0.001,AH846<-0.001),Table1[[#This Row],[Employee '#]],\" \")","v":" "},false,{"$f":"SUMIF(Table1[[#This Row],[Total Wage Diff bonus]:[Bank Bonus]],\"<> \")","v":0},{"$f":"IF(AA846>0, Table1[[#This Row],[Column4]], IF(AB846>0,Table1[[#This Row],[Column4]],IF(X846>0,\"1000\")))","v":false}]
[null,null,null,null,null,null,null,null,null,null,null,null,null,null,null,null,0,null,null,null,null,null,null,null,{"$f":"IF(Table1[[#This Row],[Wage differential Bonus                            - NotePay Rate you are bonusing to]]>0, Table1[[#This Row],[Wage differential Bonus                            - NotePay Rate you are bonusing to]]-Table1[[#This Row],[Pay Rate]], \"\")","v":""},{"$f":"IF(Table1[[#This Row],[Wage differential Bonus                            - NotePay Rate you are bonusing to]]>0,Table1[[#This Row],[Bonus Rate]]*Table1[[#This Row],[Hours]],\"\")","v":""},null,null,null,null,null,{"$f":"IF(OR(AH847>0.001,AH847<-0.001),Table1[[#This Row],[Employee '#]],\" \")","v":" "},false,{"$f":"SUMIF(Table1[[#This Row],[Total Wage Diff bonus]:[Bank Bonus]],\"<> \")","v":0},{"$f":"IF(AA847>0, Table1[[#This Row],[Column4]], IF(AB847>0,Table1[[#This Row],[Column4]],IF(X847>0,\"1000\")))","v":false}]
[null,null,null,null,null,null,null,null,null,null,null,null,null,null,null,null,0,null,null,null,null,null,null,null,{"$f":"IF(Table1[[#This Row],[Wage differential Bonus                            - NotePay Rate you are bonusing to]]>0, Table1[[#This Row],[Wage differential Bonus                            - NotePay Rate you are bonusing to]]-Table1[[#This Row],[Pay Rate]], \"\")","v":""},{"$f":"IF(Table1[[#This Row],[Wage differential Bonus                            - NotePay Rate you are bonusing to]]>0,Table1[[#This Row],[Bonus Rate]]*Table1[[#This Row],[Hours]],\"\")","v":""},null,null,null,null,null,{"$f":"IF(OR(AH848>0.001,AH848<-0.001),Table1[[#This Row],[Employee '#]],\" \")","v":" "},false,{"$f":"SUMIF(Table1[[#This Row],[Total Wage Diff bonus]:[Bank Bonus]],\"<> \")","v":0},{"$f":"IF(AA848>0, Table1[[#This Row],[Column4]], IF(AB848>0,Table1[[#This Row],[Column4]],IF(X848>0,\"1000\")))","v":false}]
[null,null,null,null,null,null,null,null,null,null,null,null,null,null,null,null,0,null,null,null,null,null,null,null,{"$f":"IF(Table1[[#This Row],[Wage differential Bonus                            - NotePay Rate you are bonusing to]]>0, Table1[[#This Row],[Wage differential Bonus                            - NotePay Rate you are bonusing to]]-Table1[[#This Row],[Pay Rate]], \"\")","v":""},{"$f":"IF(Table1[[#This Row],[Wage differential Bonus                            - NotePay Rate you are bonusing to]]>0,Table1[[#This Row],[Bonus Rate]]*Table1[[#This Row],[Hours]],\"\")","v":""},null,null,null,null,null,{"$f":"IF(OR(AH849>0.001,AH849<-0.001),Table1[[#This Row],[Employee '#]],\" \")","v":" "},false,{"$f":"SUMIF(Table1[[#This Row],[Total Wage Diff bonus]:[Bank Bonus]],\"<> \")","v":0},{"$f":"IF(AA849>0, Table1[[#This Row],[Column4]], IF(AB849>0,Table1[[#This Row],[Column4]],IF(X849>0,\"1000\")))","v":false}]
[null,null,null,null,null,null,null,null,null,null,null,null,null,null,null,null,0,null,null,null,null,null,null,null,{"$f":"IF(Table1[[#This Row],[Wage differential Bonus                            - NotePay Rate you are bonusing to]]>0, Table1[[#This Row],[Wage differential Bonus                            - NotePay Rate you are bonusing to]]-Table1[[#This Row],[Pay Rate]], \"\")","v":""},{"$f":"IF(Table1[[#This Row],[Wage differential Bonus                            - NotePay Rate you are bonusing to]]>0,Table1[[#This Row],[Bonus Rate]]*Table1[[#This Row],[Hours]],\"\")","v":""},null,null,null,null,null,{"$f":"IF(OR(AH850>0.001,AH850<-0.001),Table1[[#This Row],[Employee '#]],\" \")","v":" "},false,{"$f":"SUMIF(Table1[[#This Row],[Total Wage Diff bonus]:[Bank Bonus]],\"<> \")","v":0},{"$f":"IF(AA850>0, Table1[[#This Row],[Column4]], IF(AB850>0,Table1[[#This Row],[Column4]],IF(X850>0,\"1000\")))","v":false}]
[null,null,null,null,null,null,null,null,null,null,null,null,null,null,null,null,0,null,null,null,null,null,null,null,{"$f":"IF(Table1[[#This Row],[Wage differential Bonus                            - NotePay Rate you are bonusing to]]>0, Table1[[#This Row],[Wage differential Bonus                            - NotePay Rate you are bonusing to]]-Table1[[#This Row],[Pay Rate]], \"\")","v":""},{"$f":"IF(Table1[[#This Row],[Wage differential Bonus                            - NotePay Rate you are bonusing to]]>0,Table1[[#This Row],[Bonus Rate]]*Table1[[#This Row],[Hours]],\"\")","v":""},null,null,null,null,null,{"$f":"IF(OR(AH851>0.001,AH851<-0.001),Table1[[#This Row],[Employee '#]],\" \")","v":" "},false,{"$f":"SUMIF(Table1[[#This Row],[Total Wage Diff bonus]:[Bank Bonus]],\"<> \")","v":0},{"$f":"IF(AA851>0, Table1[[#This Row],[Column4]], IF(AB851>0,Table1[[#This Row],[Column4]],IF(X851>0,\"1000\")))","v":false}]
[null,null,null,null,null,null,null,null,null,null,null,null,null,null,null,null,0,null,null,null,null,null,null,null,{"$f":"IF(Table1[[#This Row],[Wage differential Bonus                            - NotePay Rate you are bonusing to]]>0, Table1[[#This Row],[Wage differential Bonus                            - NotePay Rate you are bonusing to]]-Table1[[#This Row],[Pay Rate]], \"\")","v":""},{"$f":"IF(Table1[[#This Row],[Wage differential Bonus                            - NotePay Rate you are bonusing to]]>0,Table1[[#This Row],[Bonus Rate]]*Table1[[#This Row],[Hours]],\"\")","v":""},null,null,null,null,null,{"$f":"IF(OR(AH852>0.001,AH852<-0.001),Table1[[#This Row],[Employee '#]],\" \")","v":" "},false,{"$f":"SUMIF(Table1[[#This Row],[Total Wage Diff bonus]:[Bank Bonus]],\"<> \")","v":0},{"$f":"IF(AA852>0, Table1[[#This Row],[Column4]], IF(AB852>0,Table1[[#This Row],[Column4]],IF(X852>0,\"1000\")))","v":false}]
[null,null,null,null,null,null,null,null,null,null,null,null,null,null,null,null,0,null,null,null,null,null,null,null,{"$f":"IF(Table1[[#This Row],[Wage differential Bonus                            - NotePay Rate you are bonusing to]]>0, Table1[[#This Row],[Wage differential Bonus                            - NotePay Rate you are bonusing to]]-Table1[[#This Row],[Pay Rate]], \"\")","v":""},{"$f":"IF(Table1[[#This Row],[Wage differential Bonus                            - NotePay Rate you are bonusing to]]>0,Table1[[#This Row],[Bonus Rate]]*Table1[[#This Row],[Hours]],\"\")","v":""},null,null,null,null,null,{"$f":"IF(OR(AH853>0.001,AH853<-0.001),Table1[[#This Row],[Employee '#]],\" \")","v":" "},false,{"$f":"SUMIF(Table1[[#This Row],[Total Wage Diff bonus]:[Bank Bonus]],\"<> \")","v":0},{"$f":"IF(AA853>0, Table1[[#This Row],[Column4]], IF(AB853>0,Table1[[#This Row],[Column4]],IF(X853>0,\"1000\")))","v":false}]
[null,null,null,null,null,null,null,null,null,null,null,null,null,null,null,null,0,null,null,null,null,null,null,null,{"$f":"IF(Table1[[#This Row],[Wage differential Bonus                            - NotePay Rate you are bonusing to]]>0, Table1[[#This Row],[Wage differential Bonus                            - NotePay Rate you are bonusing to]]-Table1[[#This Row],[Pay Rate]], \"\")","v":""},{"$f":"IF(Table1[[#This Row],[Wage differential Bonus                            - NotePay Rate you are bonusing to]]>0,Table1[[#This Row],[Bonus Rate]]*Table1[[#This Row],[Hours]],\"\")","v":""},null,null,null,null,null,{"$f":"IF(OR(AH854>0.001,AH854<-0.001),Table1[[#This Row],[Employee '#]],\" \")","v":" "},false,{"$f":"SUMIF(Table1[[#This Row],[Total Wage Diff bonus]:[Bank Bonus]],\"<> \")","v":0},{"$f":"IF(AA854>0, Table1[[#This Row],[Column4]], IF(AB854>0,Table1[[#This Row],[Column4]],IF(X854>0,\"1000\")))","v":false}]
[null,null,null,null,null,null,null,null,null,null,null,null,null,null,null,null,0,null,null,null,null,null,null,null,{"$f":"IF(Table1[[#This Row],[Wage differential Bonus                            - NotePay Rate you are bonusing to]]>0, Table1[[#This Row],[Wage differential Bonus                            - NotePay Rate you are bonusing to]]-Table1[[#This Row],[Pay Rate]], \"\")","v":""},{"$f":"IF(Table1[[#This Row],[Wage differential Bonus                            - NotePay Rate you are bonusing to]]>0,Table1[[#This Row],[Bonus Rate]]*Table1[[#This Row],[Hours]],\"\")","v":""},null,null,null,null,null,{"$f":"IF(OR(AH855>0.001,AH855<-0.001),Table1[[#This Row],[Employee '#]],\" \")","v":" "},false,{"$f":"SUMIF(Table1[[#This Row],[Total Wage Diff bonus]:[Bank Bonus]],\"<> \")","v":0},{"$f":"IF(AA855>0, Table1[[#This Row],[Column4]], IF(AB855>0,Table1[[#This Row],[Column4]],IF(X855>0,\"1000\")))","v":false}]
[null,null,null,null,null,null,null,null,null,null,null,null,null,null,null,null,0,null,null,null,null,null,null,null,{"$f":"IF(Table1[[#This Row],[Wage differential Bonus                            - NotePay Rate you are bonusing to]]>0, Table1[[#This Row],[Wage differential Bonus                            - NotePay Rate you are bonusing to]]-Table1[[#This Row],[Pay Rate]], \"\")","v":""},{"$f":"IF(Table1[[#This Row],[Wage differential Bonus                            - NotePay Rate you are bonusing to]]>0,Table1[[#This Row],[Bonus Rate]]*Table1[[#This Row],[Hours]],\"\")","v":""},null,null,null,null,null,{"$f":"IF(OR(AH856>0.001,AH856<-0.001),Table1[[#This Row],[Employee '#]],\" \")","v":" "},false,{"$f":"SUMIF(Table1[[#This Row],[Total Wage Diff bonus]:[Bank Bonus]],\"<> \")","v":0},{"$f":"IF(AA856>0, Table1[[#This Row],[Column4]], IF(AB856>0,Table1[[#This Row],[Column4]],IF(X856>0,\"1000\")))","v":false}]
[null,null,null,null,null,null,null,null,null,null,null,null,null,null,null,null,0,null,null,null,null,null,null,null,{"$f":"IF(Table1[[#This Row],[Wage differential Bonus                            - NotePay Rate you are bonusing to]]>0, Table1[[#This Row],[Wage differential Bonus                            - NotePay Rate you are bonusing to]]-Table1[[#This Row],[Pay Rate]], \"\")","v":""},{"$f":"IF(Table1[[#This Row],[Wage differential Bonus                            - NotePay Rate you are bonusing to]]>0,Table1[[#This Row],[Bonus Rate]]*Table1[[#This Row],[Hours]],\"\")","v":""},null,null,null,null,null,{"$f":"IF(OR(AH857>0.001,AH857<-0.001),Table1[[#This Row],[Employee '#]],\" \")","v":" "},false,{"$f":"SUMIF(Table1[[#This Row],[Total Wage Diff bonus]:[Bank Bonus]],\"<> \")","v":0},{"$f":"IF(AA857>0, Table1[[#This Row],[Column4]], IF(AB857>0,Table1[[#This Row],[Column4]],IF(X857>0,\"1000\")))","v":false}]
[null,null,null,null,null,null,null,null,null,null,null,null,null,null,null,null,0,null,null,null,null,null,null,null,{"$f":"IF(Table1[[#This Row],[Wage differential Bonus                            - NotePay Rate you are bonusing to]]>0, Table1[[#This Row],[Wage differential Bonus                            - NotePay Rate you are bonusing to]]-Table1[[#This Row],[Pay Rate]], \"\")","v":""},{"$f":"IF(Table1[[#This Row],[Wage differential Bonus                            - NotePay Rate you are bonusing to]]>0,Table1[[#This Row],[Bonus Rate]]*Table1[[#This Row],[Hours]],\"\")","v":""},null,null,null,null,null,{"$f":"IF(OR(AH858>0.001,AH858<-0.001),Table1[[#This Row],[Employee '#]],\" \")","v":" "},false,{"$f":"SUMIF(Table1[[#This Row],[Total Wage Diff bonus]:[Bank Bonus]],\"<> \")","v":0},{"$f":"IF(AA858>0, Table1[[#This Row],[Column4]], IF(AB858>0,Table1[[#This Row],[Column4]],IF(X858>0,\"1000\")))","v":false}]
[null,null,null,null,null,null,null,null,null,null,null,null,null,null,null,null,0,null,null,null,null,null,null,null,{"$f":"IF(Table1[[#This Row],[Wage differential Bonus                            - NotePay Rate you are bonusing to]]>0, Table1[[#This Row],[Wage differential Bonus                            - NotePay Rate you are bonusing to]]-Table1[[#This Row],[Pay Rate]], \"\")","v":""},{"$f":"IF(Table1[[#This Row],[Wage differential Bonus                            - NotePay Rate you are bonusing to]]>0,Table1[[#This Row],[Bonus Rate]]*Table1[[#This Row],[Hours]],\"\")","v":""},null,null,null,null,null,{"$f":"IF(OR(AH859>0.001,AH859<-0.001),Table1[[#This Row],[Employee '#]],\" \")","v":" "},false,{"$f":"SUMIF(Table1[[#This Row],[Total Wage Diff bonus]:[Bank Bonus]],\"<> \")","v":0},{"$f":"IF(AA859>0, Table1[[#This Row],[Column4]], IF(AB859>0,Table1[[#This Row],[Column4]],IF(X859>0,\"1000\")))","v":false}]
[null,null,null,null,null,null,null,null,null,null,null,null,null,null,null,null,0,null,null,null,null,null,null,null,{"$f":"IF(Table1[[#This Row],[Wage differential Bonus                            - NotePay Rate you are bonusing to]]>0, Table1[[#This Row],[Wage differential Bonus                            - NotePay Rate you are bonusing to]]-Table1[[#This Row],[Pay Rate]], \"\")","v":""},{"$f":"IF(Table1[[#This Row],[Wage differential Bonus                            - NotePay Rate you are bonusing to]]>0,Table1[[#This Row],[Bonus Rate]]*Table1[[#This Row],[Hours]],\"\")","v":""},null,null,null,null,null,{"$f":"IF(OR(AH860>0.001,AH860<-0.001),Table1[[#This Row],[Employee '#]],\" \")","v":" "},false,{"$f":"SUMIF(Table1[[#This Row],[Total Wage Diff bonus]:[Bank Bonus]],\"<> \")","v":0},{"$f":"IF(AA860>0, Table1[[#This Row],[Column4]], IF(AB860>0,Table1[[#This Row],[Column4]],IF(X860>0,\"1000\")))","v":false}]
[null,null,null,null,null,null,null,null,null,null,null,null,null,null,null,null,0,null,null,null,null,null,null,null,{"$f":"IF(Table1[[#This Row],[Wage differential Bonus                            - NotePay Rate you are bonusing to]]>0, Table1[[#This Row],[Wage differential Bonus                            - NotePay Rate you are bonusing to]]-Table1[[#This Row],[Pay Rate]], \"\")","v":""},{"$f":"IF(Table1[[#This Row],[Wage differential Bonus                            - NotePay Rate you are bonusing to]]>0,Table1[[#This Row],[Bonus Rate]]*Table1[[#This Row],[Hours]],\"\")","v":""},null,null,null,null,null,{"$f":"IF(OR(AH861>0.001,AH861<-0.001),Table1[[#This Row],[Employee '#]],\" \")","v":" "},false,{"$f":"SUMIF(Table1[[#This Row],[Total Wage Diff bonus]:[Bank Bonus]],\"<> \")","v":0},{"$f":"IF(AA861>0, Table1[[#This Row],[Column4]], IF(AB861>0,Table1[[#This Row],[Column4]],IF(X861>0,\"1000\")))","v":false}]
[null,null,null,null,null,null,null,null,null,null,null,null,null,null,null,null,0,null,null,null,null,null,null,null,{"$f":"IF(Table1[[#This Row],[Wage differential Bonus                            - NotePay Rate you are bonusing to]]>0, Table1[[#This Row],[Wage differential Bonus                            - NotePay Rate you are bonusing to]]-Table1[[#This Row],[Pay Rate]], \"\")","v":""},{"$f":"IF(Table1[[#This Row],[Wage differential Bonus                            - NotePay Rate you are bonusing to]]>0,Table1[[#This Row],[Bonus Rate]]*Table1[[#This Row],[Hours]],\"\")","v":""},null,null,null,null,null,{"$f":"IF(OR(AH862>0.001,AH862<-0.001),Table1[[#This Row],[Employee '#]],\" \")","v":" "},false,{"$f":"SUMIF(Table1[[#This Row],[Total Wage Diff bonus]:[Bank Bonus]],\"<> \")","v":0},{"$f":"IF(AA862>0, Table1[[#This Row],[Column4]], IF(AB862>0,Table1[[#This Row],[Column4]],IF(X862>0,\"1000\")))","v":false}]
[null,null,null,null,null,null,null,null,null,null,null,null,null,null,null,null,0,null,null,null,null,null,null,null,{"$f":"IF(Table1[[#This Row],[Wage differential Bonus                            - NotePay Rate you are bonusing to]]>0, Table1[[#This Row],[Wage differential Bonus                            - NotePay Rate you are bonusing to]]-Table1[[#This Row],[Pay Rate]], \"\")","v":""},{"$f":"IF(Table1[[#This Row],[Wage differential Bonus                            - NotePay Rate you are bonusing to]]>0,Table1[[#This Row],[Bonus Rate]]*Table1[[#This Row],[Hours]],\"\")","v":""},null,null,null,null,null,{"$f":"IF(OR(AH863>0.001,AH863<-0.001),Table1[[#This Row],[Employee '#]],\" \")","v":" "},false,{"$f":"SUMIF(Table1[[#This Row],[Total Wage Diff bonus]:[Bank Bonus]],\"<> \")","v":0},{"$f":"IF(AA863>0, Table1[[#This Row],[Column4]], IF(AB863>0,Table1[[#This Row],[Column4]],IF(X863>0,\"1000\")))","v":false}]
[null,null,null,null,null,null,null,null,null,null,null,null,null,null,null,null,0,null,null,null,null,null,null,null,{"$f":"IF(Table1[[#This Row],[Wage differential Bonus                            - NotePay Rate you are bonusing to]]>0, Table1[[#This Row],[Wage differential Bonus                            - NotePay Rate you are bonusing to]]-Table1[[#This Row],[Pay Rate]], \"\")","v":""},{"$f":"IF(Table1[[#This Row],[Wage differential Bonus                            - NotePay Rate you are bonusing to]]>0,Table1[[#This Row],[Bonus Rate]]*Table1[[#This Row],[Hours]],\"\")","v":""},null,null,null,null,null,{"$f":"IF(OR(AH864>0.001,AH864<-0.001),Table1[[#This Row],[Employee '#]],\" \")","v":" "},false,{"$f":"SUMIF(Table1[[#This Row],[Total Wage Diff bonus]:[Bank Bonus]],\"<> \")","v":0},{"$f":"IF(AA864>0, Table1[[#This Row],[Column4]], IF(AB864>0,Table1[[#This Row],[Column4]],IF(X864>0,\"1000\")))","v":false}]
[null,null,null,null,null,null,null,null,null,null,null,null,null,null,null,null,0,null,null,null,null,null,null,null,{"$f":"IF(Table1[[#This Row],[Wage differential Bonus                            - NotePay Rate you are bonusing to]]>0, Table1[[#This Row],[Wage differential Bonus                            - NotePay Rate you are bonusing to]]-Table1[[#This Row],[Pay Rate]], \"\")","v":""},{"$f":"IF(Table1[[#This Row],[Wage differential Bonus                            - NotePay Rate you are bonusing to]]>0,Table1[[#This Row],[Bonus Rate]]*Table1[[#This Row],[Hours]],\"\")","v":""},null,null,null,null,null,{"$f":"IF(OR(AH865>0.001,AH865<-0.001),Table1[[#This Row],[Employee '#]],\" \")","v":" "},false,{"$f":"SUMIF(Table1[[#This Row],[Total Wage Diff bonus]:[Bank Bonus]],\"<> \")","v":0},{"$f":"IF(AA865>0, Table1[[#This Row],[Column4]], IF(AB865>0,Table1[[#This Row],[Column4]],IF(X865>0,\"1000\")))","v":false}]
[null,null,null,null,null,null,null,null,null,null,null,null,null,null,null,null,0,null,null,null,null,null,null,null,{"$f":"IF(Table1[[#This Row],[Wage differential Bonus                            - NotePay Rate you are bonusing to]]>0, Table1[[#This Row],[Wage differential Bonus                            - NotePay Rate you are bonusing to]]-Table1[[#This Row],[Pay Rate]], \"\")","v":""},{"$f":"IF(Table1[[#This Row],[Wage differential Bonus                            - NotePay Rate you are bonusing to]]>0,Table1[[#This Row],[Bonus Rate]]*Table1[[#This Row],[Hours]],\"\")","v":""},null,null,null,null,null,{"$f":"IF(OR(AH866>0.001,AH866<-0.001),Table1[[#This Row],[Employee '#]],\" \")","v":" "},false,{"$f":"SUMIF(Table1[[#This Row],[Total Wage Diff bonus]:[Bank Bonus]],\"<> \")","v":0},{"$f":"IF(AA866>0, Table1[[#This Row],[Column4]], IF(AB866>0,Table1[[#This Row],[Column4]],IF(X866>0,\"1000\")))","v":false}]
[null,null,null,null,null,null,null,null,null,null,null,null,null,null,null,null,0,null,null,null,null,null,null,null,{"$f":"IF(Table1[[#This Row],[Wage differential Bonus                            - NotePay Rate you are bonusing to]]>0, Table1[[#This Row],[Wage differential Bonus                            - NotePay Rate you are bonusing to]]-Table1[[#This Row],[Pay Rate]], \"\")","v":""},{"$f":"IF(Table1[[#This Row],[Wage differential Bonus                            - NotePay Rate you are bonusing to]]>0,Table1[[#This Row],[Bonus Rate]]*Table1[[#This Row],[Hours]],\"\")","v":""},null,null,null,null,null,{"$f":"IF(OR(AH867>0.001,AH867<-0.001),Table1[[#This Row],[Employee '#]],\" \")","v":" "},false,{"$f":"SUMIF(Table1[[#This Row],[Total Wage Diff bonus]:[Bank Bonus]],\"<> \")","v":0},{"$f":"IF(AA867>0, Table1[[#This Row],[Column4]], IF(AB867>0,Table1[[#This Row],[Column4]],IF(X867>0,\"1000\")))","v":false}]
[null,null,null,null,null,null,null,null,null,null,null,null,null,null,null,null,0,null,null,null,null,null,null,null,{"$f":"IF(Table1[[#This Row],[Wage differential Bonus                            - NotePay Rate you are bonusing to]]>0, Table1[[#This Row],[Wage differential Bonus                            - NotePay Rate you are bonusing to]]-Table1[[#This Row],[Pay Rate]], \"\")","v":""},{"$f":"IF(Table1[[#This Row],[Wage differential Bonus                            - NotePay Rate you are bonusing to]]>0,Table1[[#This Row],[Bonus Rate]]*Table1[[#This Row],[Hours]],\"\")","v":""},null,null,null,null,null,{"$f":"IF(OR(AH868>0.001,AH868<-0.001),Table1[[#This Row],[Employee '#]],\" \")","v":" "},false,{"$f":"SUMIF(Table1[[#This Row],[Total Wage Diff bonus]:[Bank Bonus]],\"<> \")","v":0},{"$f":"IF(AA868>0, Table1[[#This Row],[Column4]], IF(AB868>0,Table1[[#This Row],[Column4]],IF(X868>0,\"1000\")))","v":false}]
[null,null,null,null,null,null,null,null,null,null,null,null,null,null,null,null,0,null,null,null,null,null,null,null,{"$f":"IF(Table1[[#This Row],[Wage differential Bonus                            - NotePay Rate you are bonusing to]]>0, Table1[[#This Row],[Wage differential Bonus                            - NotePay Rate you are bonusing to]]-Table1[[#This Row],[Pay Rate]], \"\")","v":""},{"$f":"IF(Table1[[#This Row],[Wage differential Bonus                            - NotePay Rate you are bonusing to]]>0,Table1[[#This Row],[Bonus Rate]]*Table1[[#This Row],[Hours]],\"\")","v":""},null,null,null,null,null,{"$f":"IF(OR(AH869>0.001,AH869<-0.001),Table1[[#This Row],[Employee '#]],\" \")","v":" "},false,{"$f":"SUMIF(Table1[[#This Row],[Total Wage Diff bonus]:[Bank Bonus]],\"<> \")","v":0},{"$f":"IF(AA869>0, Table1[[#This Row],[Column4]], IF(AB869>0,Table1[[#This Row],[Column4]],IF(X869>0,\"1000\")))","v":false}]
[null,null,null,null,null,null,null,null,null,null,null,null,null,null,null,null,0,null,null,null,null,null,null,null,{"$f":"IF(Table1[[#This Row],[Wage differential Bonus                            - NotePay Rate you are bonusing to]]>0, Table1[[#This Row],[Wage differential Bonus                            - NotePay Rate you are bonusing to]]-Table1[[#This Row],[Pay Rate]], \"\")","v":""},{"$f":"IF(Table1[[#This Row],[Wage differential Bonus                            - NotePay Rate you are bonusing to]]>0,Table1[[#This Row],[Bonus Rate]]*Table1[[#This Row],[Hours]],\"\")","v":""},null,null,null,null,null,{"$f":"IF(OR(AH870>0.001,AH870<-0.001),Table1[[#This Row],[Employee '#]],\" \")","v":" "},false,{"$f":"SUMIF(Table1[[#This Row],[Total Wage Diff bonus]:[Bank Bonus]],\"<> \")","v":0},{"$f":"IF(AA870>0, Table1[[#This Row],[Column4]], IF(AB870>0,Table1[[#This Row],[Column4]],IF(X870>0,\"1000\")))","v":false}]
[null,null,null,null,null,null,null,null,null,null,null,null,null,null,null,null,0,null,null,null,null,null,null,null,{"$f":"IF(Table1[[#This Row],[Wage differential Bonus                            - NotePay Rate you are bonusing to]]>0, Table1[[#This Row],[Wage differential Bonus                            - NotePay Rate you are bonusing to]]-Table1[[#This Row],[Pay Rate]], \"\")","v":""},{"$f":"IF(Table1[[#This Row],[Wage differential Bonus                            - NotePay Rate you are bonusing to]]>0,Table1[[#This Row],[Bonus Rate]]*Table1[[#This Row],[Hours]],\"\")","v":""},null,null,null,null,null,{"$f":"IF(OR(AH871>0.001,AH871<-0.001),Table1[[#This Row],[Employee '#]],\" \")","v":" "},false,{"$f":"SUMIF(Table1[[#This Row],[Total Wage Diff bonus]:[Bank Bonus]],\"<> \")","v":0},{"$f":"IF(AA871>0, Table1[[#This Row],[Column4]], IF(AB871>0,Table1[[#This Row],[Column4]],IF(X871>0,\"1000\")))","v":false}]
[null,null,null,null,null,null,null,null,null,null,null,null,null,null,null,null,0,null,null,null,null,null,null,null,{"$f":"IF(Table1[[#This Row],[Wage differential Bonus                            - NotePay Rate you are bonusing to]]>0, Table1[[#This Row],[Wage differential Bonus                            - NotePay Rate you are bonusing to]]-Table1[[#This Row],[Pay Rate]], \"\")","v":""},{"$f":"IF(Table1[[#This Row],[Wage differential Bonus                            - NotePay Rate you are bonusing to]]>0,Table1[[#This Row],[Bonus Rate]]*Table1[[#This Row],[Hours]],\"\")","v":""},null,null,null,null,null,{"$f":"IF(OR(AH872>0.001,AH872<-0.001),Table1[[#This Row],[Employee '#]],\" \")","v":" "},false,{"$f":"SUMIF(Table1[[#This Row],[Total Wage Diff bonus]:[Bank Bonus]],\"<> \")","v":0},{"$f":"IF(AA872>0, Table1[[#This Row],[Column4]], IF(AB872>0,Table1[[#This Row],[Column4]],IF(X872>0,\"1000\")))","v":false}]
[null,null,null,null,null,null,null,null,null,null,null,null,null,null,null,null,0,null,null,null,null,null,null,null,{"$f":"IF(Table1[[#This Row],[Wage differential Bonus                            - NotePay Rate you are bonusing to]]>0, Table1[[#This Row],[Wage differential Bonus                            - NotePay Rate you are bonusing to]]-Table1[[#This Row],[Pay Rate]], \"\")","v":""},{"$f":"IF(Table1[[#This Row],[Wage differential Bonus                            - NotePay Rate you are bonusing to]]>0,Table1[[#This Row],[Bonus Rate]]*Table1[[#This Row],[Hours]],\"\")","v":""},null,null,null,null,null,{"$f":"IF(OR(AH873>0.001,AH873<-0.001),Table1[[#This Row],[Employee '#]],\" \")","v":" "},false,{"$f":"SUMIF(Table1[[#This Row],[Total Wage Diff bonus]:[Bank Bonus]],\"<> \")","v":0},{"$f":"IF(AA873>0, Table1[[#This Row],[Column4]], IF(AB873>0,Table1[[#This Row],[Column4]],IF(X873>0,\"1000\")))","v":false}]
[null,null,null,null,null,null,null,null,null,null,null,null,null,null,null,null,0,null,null,null,null,null,null,null,{"$f":"IF(Table1[[#This Row],[Wage differential Bonus                            - NotePay Rate you are bonusing to]]>0, Table1[[#This Row],[Wage differential Bonus                            - NotePay Rate you are bonusing to]]-Table1[[#This Row],[Pay Rate]], \"\")","v":""},{"$f":"IF(Table1[[#This Row],[Wage differential Bonus                            - NotePay Rate you are bonusing to]]>0,Table1[[#This Row],[Bonus Rate]]*Table1[[#This Row],[Hours]],\"\")","v":""},null,null,null,null,null,{"$f":"IF(OR(AH874>0.001,AH874<-0.001),Table1[[#This Row],[Employee '#]],\" \")","v":" "},false,{"$f":"SUMIF(Table1[[#This Row],[Total Wage Diff bonus]:[Bank Bonus]],\"<> \")","v":0},{"$f":"IF(AA874>0, Table1[[#This Row],[Column4]], IF(AB874>0,Table1[[#This Row],[Column4]],IF(X874>0,\"1000\")))","v":false}]
[null,null,null,null,null,null,null,null,null,null,null,null,null,null,null,null,0,null,null,null,null,null,null,null,{"$f":"IF(Table1[[#This Row],[Wage differential Bonus                            - NotePay Rate you are bonusing to]]>0, Table1[[#This Row],[Wage differential Bonus                            - NotePay Rate you are bonusing to]]-Table1[[#This Row],[Pay Rate]], \"\")","v":""},{"$f":"IF(Table1[[#This Row],[Wage differential Bonus                            - NotePay Rate you are bonusing to]]>0,Table1[[#This Row],[Bonus Rate]]*Table1[[#This Row],[Hours]],\"\")","v":""},null,null,null,null,null,{"$f":"IF(OR(AH875>0.001,AH875<-0.001),Table1[[#This Row],[Employee '#]],\" \")","v":" "},false,{"$f":"SUMIF(Table1[[#This Row],[Total Wage Diff bonus]:[Bank Bonus]],\"<> \")","v":0},{"$f":"IF(AA875>0, Table1[[#This Row],[Column4]], IF(AB875>0,Table1[[#This Row],[Column4]],IF(X875>0,\"1000\")))","v":false}]
[null,null,null,null,null,null,null,null,null,null,null,null,null,null,null,null,0,null,null,null,null,null,null,null,{"$f":"IF(Table1[[#This Row],[Wage differential Bonus                            - NotePay Rate you are bonusing to]]>0, Table1[[#This Row],[Wage differential Bonus                            - NotePay Rate you are bonusing to]]-Table1[[#This Row],[Pay Rate]], \"\")","v":""},{"$f":"IF(Table1[[#This Row],[Wage differential Bonus                            - NotePay Rate you are bonusing to]]>0,Table1[[#This Row],[Bonus Rate]]*Table1[[#This Row],[Hours]],\"\")","v":""},null,null,null,null,null,{"$f":"IF(OR(AH876>0.001,AH876<-0.001),Table1[[#This Row],[Employee '#]],\" \")","v":" "},false,{"$f":"SUMIF(Table1[[#This Row],[Total Wage Diff bonus]:[Bank Bonus]],\"<> \")","v":0},{"$f":"IF(AA876>0, Table1[[#This Row],[Column4]], IF(AB876>0,Table1[[#This Row],[Column4]],IF(X876>0,\"1000\")))","v":false}]
[null,null,null,null,null,null,null,null,null,null,null,null,null,null,null,null,0,null,null,null,null,null,null,null,{"$f":"IF(Table1[[#This Row],[Wage differential Bonus                            - NotePay Rate you are bonusing to]]>0, Table1[[#This Row],[Wage differential Bonus                            - NotePay Rate you are bonusing to]]-Table1[[#This Row],[Pay Rate]], \"\")","v":""},{"$f":"IF(Table1[[#This Row],[Wage differential Bonus                            - NotePay Rate you are bonusing to]]>0,Table1[[#This Row],[Bonus Rate]]*Table1[[#This Row],[Hours]],\"\")","v":""},null,null,null,null,null,{"$f":"IF(OR(AH877>0.001,AH877<-0.001),Table1[[#This Row],[Employee '#]],\" \")","v":" "},false,{"$f":"SUMIF(Table1[[#This Row],[Total Wage Diff bonus]:[Bank Bonus]],\"<> \")","v":0},{"$f":"IF(AA877>0, Table1[[#This Row],[Column4]], IF(AB877>0,Table1[[#This Row],[Column4]],IF(X877>0,\"1000\")))","v":false}]
[null,null,null,null,null,null,null,null,null,null,null,null,null,null,null,null,0,null,null,null,null,null,null,null,{"$f":"IF(Table1[[#This Row],[Wage differential Bonus                            - NotePay Rate you are bonusing to]]>0, Table1[[#This Row],[Wage differential Bonus                            - NotePay Rate you are bonusing to]]-Table1[[#This Row],[Pay Rate]], \"\")","v":""},{"$f":"IF(Table1[[#This Row],[Wage differential Bonus                            - NotePay Rate you are bonusing to]]>0,Table1[[#This Row],[Bonus Rate]]*Table1[[#This Row],[Hours]],\"\")","v":""},null,null,null,null,null,{"$f":"IF(OR(AH878>0.001,AH878<-0.001),Table1[[#This Row],[Employee '#]],\" \")","v":" "},false,{"$f":"SUMIF(Table1[[#This Row],[Total Wage Diff bonus]:[Bank Bonus]],\"<> \")","v":0},{"$f":"IF(AA878>0, Table1[[#This Row],[Column4]], IF(AB878>0,Table1[[#This Row],[Column4]],IF(X878>0,\"1000\")))","v":false}]
[null,null,null,null,null,null,null,null,null,null,null,null,null,null,null,null,0,null,null,null,null,null,null,null,{"$f":"IF(Table1[[#This Row],[Wage differential Bonus                            - NotePay Rate you are bonusing to]]>0, Table1[[#This Row],[Wage differential Bonus                            - NotePay Rate you are bonusing to]]-Table1[[#This Row],[Pay Rate]], \"\")","v":""},{"$f":"IF(Table1[[#This Row],[Wage differential Bonus                            - NotePay Rate you are bonusing to]]>0,Table1[[#This Row],[Bonus Rate]]*Table1[[#This Row],[Hours]],\"\")","v":""},null,null,null,null,null,{"$f":"IF(OR(AH879>0.001,AH879<-0.001),Table1[[#This Row],[Employee '#]],\" \")","v":" "},false,{"$f":"SUMIF(Table1[[#This Row],[Total Wage Diff bonus]:[Bank Bonus]],\"<> \")","v":0},{"$f":"IF(AA879>0, Table1[[#This Row],[Column4]], IF(AB879>0,Table1[[#This Row],[Column4]],IF(X879>0,\"1000\")))","v":false}]
[null,null,null,null,null,null,null,null,null,null,null,null,null,null,null,null,0,null,null,null,null,null,null,null,{"$f":"IF(Table1[[#This Row],[Wage differential Bonus                            - NotePay Rate you are bonusing to]]>0, Table1[[#This Row],[Wage differential Bonus                            - NotePay Rate you are bonusing to]]-Table1[[#This Row],[Pay Rate]], \"\")","v":""},{"$f":"IF(Table1[[#This Row],[Wage differential Bonus                            - NotePay Rate you are bonusing to]]>0,Table1[[#This Row],[Bonus Rate]]*Table1[[#This Row],[Hours]],\"\")","v":""},null,null,null,null,null,{"$f":"IF(OR(AH880>0.001,AH880<-0.001),Table1[[#This Row],[Employee '#]],\" \")","v":" "},false,{"$f":"SUMIF(Table1[[#This Row],[Total Wage Diff bonus]:[Bank Bonus]],\"<> \")","v":0},{"$f":"IF(AA880>0, Table1[[#This Row],[Column4]], IF(AB880>0,Table1[[#This Row],[Column4]],IF(X880>0,\"1000\")))","v":false}]
[null,null,null,null,null,null,null,null,null,null,null,null,null,null,null,null,0,null,null,null,null,null,null,null,{"$f":"IF(Table1[[#This Row],[Wage differential Bonus                            - NotePay Rate you are bonusing to]]>0, Table1[[#This Row],[Wage differential Bonus                            - NotePay Rate you are bonusing to]]-Table1[[#This Row],[Pay Rate]], \"\")","v":""},{"$f":"IF(Table1[[#This Row],[Wage differential Bonus                            - NotePay Rate you are bonusing to]]>0,Table1[[#This Row],[Bonus Rate]]*Table1[[#This Row],[Hours]],\"\")","v":""},null,null,null,null,null,{"$f":"IF(OR(AH881>0.001,AH881<-0.001),Table1[[#This Row],[Employee '#]],\" \")","v":" "},false,{"$f":"SUMIF(Table1[[#This Row],[Total Wage Diff bonus]:[Bank Bonus]],\"<> \")","v":0},{"$f":"IF(AA881>0, Table1[[#This Row],[Column4]], IF(AB881>0,Table1[[#This Row],[Column4]],IF(X881>0,\"1000\")))","v":false}]
[null,null,null,null,null,null,null,null,null,null,null,null,null,null,null,null,0,null,null,null,null,null,null,null,{"$f":"IF(Table1[[#This Row],[Wage differential Bonus                            - NotePay Rate you are bonusing to]]>0, Table1[[#This Row],[Wage differential Bonus                            - NotePay Rate you are bonusing to]]-Table1[[#This Row],[Pay Rate]], \"\")","v":""},{"$f":"IF(Table1[[#This Row],[Wage differential Bonus                            - NotePay Rate you are bonusing to]]>0,Table1[[#This Row],[Bonus Rate]]*Table1[[#This Row],[Hours]],\"\")","v":""},null,null,null,null,null,{"$f":"IF(OR(AH882>0.001,AH882<-0.001),Table1[[#This Row],[Employee '#]],\" \")","v":" "},false,{"$f":"SUMIF(Table1[[#This Row],[Total Wage Diff bonus]:[Bank Bonus]],\"<> \")","v":0},{"$f":"IF(AA882>0, Table1[[#This Row],[Column4]], IF(AB882>0,Table1[[#This Row],[Column4]],IF(X882>0,\"1000\")))","v":false}]
[null,null,null,null,null,null,null,null,null,null,null,null,null,null,null,null,0,null,null,null,null,null,null,null,{"$f":"IF(Table1[[#This Row],[Wage differential Bonus                            - NotePay Rate you are bonusing to]]>0, Table1[[#This Row],[Wage differential Bonus                            - NotePay Rate you are bonusing to]]-Table1[[#This Row],[Pay Rate]], \"\")","v":""},{"$f":"IF(Table1[[#This Row],[Wage differential Bonus                            - NotePay Rate you are bonusing to]]>0,Table1[[#This Row],[Bonus Rate]]*Table1[[#This Row],[Hours]],\"\")","v":""},null,null,null,null,null,{"$f":"IF(OR(AH883>0.001,AH883<-0.001),Table1[[#This Row],[Employee '#]],\" \")","v":" "},false,{"$f":"SUMIF(Table1[[#This Row],[Total Wage Diff bonus]:[Bank Bonus]],\"<> \")","v":0},{"$f":"IF(AA883>0, Table1[[#This Row],[Column4]], IF(AB883>0,Table1[[#This Row],[Column4]],IF(X883>0,\"1000\")))","v":false}]
[null,null,null,null,null,null,null,null,null,null,null,null,null,null,null,null,0,null,null,null,null,null,null,null,{"$f":"IF(Table1[[#This Row],[Wage differential Bonus                            - NotePay Rate you are bonusing to]]>0, Table1[[#This Row],[Wage differential Bonus                            - NotePay Rate you are bonusing to]]-Table1[[#This Row],[Pay Rate]], \"\")","v":""},{"$f":"IF(Table1[[#This Row],[Wage differential Bonus                            - NotePay Rate you are bonusing to]]>0,Table1[[#This Row],[Bonus Rate]]*Table1[[#This Row],[Hours]],\"\")","v":""},null,null,null,null,null,{"$f":"IF(OR(AH884>0.001,AH884<-0.001),Table1[[#This Row],[Employee '#]],\" \")","v":" "},false,{"$f":"SUMIF(Table1[[#This Row],[Total Wage Diff bonus]:[Bank Bonus]],\"<> \")","v":0},{"$f":"IF(AA884>0, Table1[[#This Row],[Column4]], IF(AB884>0,Table1[[#This Row],[Column4]],IF(X884>0,\"1000\")))","v":false}]
[null,null,null,null,null,null,null,null,null,null,null,null,null,null,null,null,0,null,null,null,null,null,null,null,{"$f":"IF(Table1[[#This Row],[Wage differential Bonus                            - NotePay Rate you are bonusing to]]>0, Table1[[#This Row],[Wage differential Bonus                            - NotePay Rate you are bonusing to]]-Table1[[#This Row],[Pay Rate]], \"\")","v":""},{"$f":"IF(Table1[[#This Row],[Wage differential Bonus                            - NotePay Rate you are bonusing to]]>0,Table1[[#This Row],[Bonus Rate]]*Table1[[#This Row],[Hours]],\"\")","v":""},null,null,null,null,null,{"$f":"IF(OR(AH885>0.001,AH885<-0.001),Table1[[#This Row],[Employee '#]],\" \")","v":" "},false,{"$f":"SUMIF(Table1[[#This Row],[Total Wage Diff bonus]:[Bank Bonus]],\"<> \")","v":0},{"$f":"IF(AA885>0, Table1[[#This Row],[Column4]], IF(AB885>0,Table1[[#This Row],[Column4]],IF(X885>0,\"1000\")))","v":false}]
[null,null,null,null,null,null,null,null,null,null,null,null,null,null,null,null,0,null,null,null,null,null,null,null,{"$f":"IF(Table1[[#This Row],[Wage differential Bonus                            - NotePay Rate you are bonusing to]]>0, Table1[[#This Row],[Wage differential Bonus                            - NotePay Rate you are bonusing to]]-Table1[[#This Row],[Pay Rate]], \"\")","v":""},{"$f":"IF(Table1[[#This Row],[Wage differential Bonus                            - NotePay Rate you are bonusing to]]>0,Table1[[#This Row],[Bonus Rate]]*Table1[[#This Row],[Hours]],\"\")","v":""},null,null,null,null,null,{"$f":"IF(OR(AH886>0.001,AH886<-0.001),Table1[[#This Row],[Employee '#]],\" \")","v":" "},false,{"$f":"SUMIF(Table1[[#This Row],[Total Wage Diff bonus]:[Bank Bonus]],\"<> \")","v":0},{"$f":"IF(AA886>0, Table1[[#This Row],[Column4]], IF(AB886>0,Table1[[#This Row],[Column4]],IF(X886>0,\"1000\")))","v":false}]
[null,null,null,null,null,null,null,null,null,null,null,null,null,null,null,null,0,null,null,null,null,null,null,null,{"$f":"IF(Table1[[#This Row],[Wage differential Bonus                            - NotePay Rate you are bonusing to]]>0, Table1[[#This Row],[Wage differential Bonus                            - NotePay Rate you are bonusing to]]-Table1[[#This Row],[Pay Rate]], \"\")","v":""},{"$f":"IF(Table1[[#This Row],[Wage differential Bonus                            - NotePay Rate you are bonusing to]]>0,Table1[[#This Row],[Bonus Rate]]*Table1[[#This Row],[Hours]],\"\")","v":""},null,null,null,null,null,{"$f":"IF(OR(AH887>0.001,AH887<-0.001),Table1[[#This Row],[Employee '#]],\" \")","v":" "},false,{"$f":"SUMIF(Table1[[#This Row],[Total Wage Diff bonus]:[Bank Bonus]],\"<> \")","v":0},{"$f":"IF(AA887>0, Table1[[#This Row],[Column4]], IF(AB887>0,Table1[[#This Row],[Column4]],IF(X887>0,\"1000\")))","v":false}]
[null,null,null,null,null,null,null,null,null,null,null,null,null,null,null,null,0,null,null,null,null,null,null,null,{"$f":"IF(Table1[[#This Row],[Wage differential Bonus                            - NotePay Rate you are bonusing to]]>0, Table1[[#This Row],[Wage differential Bonus                            - NotePay Rate you are bonusing to]]-Table1[[#This Row],[Pay Rate]], \"\")","v":""},{"$f":"IF(Table1[[#This Row],[Wage differential Bonus                            - NotePay Rate you are bonusing to]]>0,Table1[[#This Row],[Bonus Rate]]*Table1[[#This Row],[Hours]],\"\")","v":""},null,null,null,null,null,{"$f":"IF(OR(AH888>0.001,AH888<-0.001),Table1[[#This Row],[Employee '#]],\" \")","v":" "},false,{"$f":"SUMIF(Table1[[#This Row],[Total Wage Diff bonus]:[Bank Bonus]],\"<> \")","v":0},{"$f":"IF(AA888>0, Table1[[#This Row],[Column4]], IF(AB888>0,Table1[[#This Row],[Column4]],IF(X888>0,\"1000\")))","v":false}]
[null,null,null,null,null,null,null,null,null,null,null,null,null,null,null,null,0,null,null,null,null,null,null,null,{"$f":"IF(Table1[[#This Row],[Wage differential Bonus                            - NotePay Rate you are bonusing to]]>0, Table1[[#This Row],[Wage differential Bonus                            - NotePay Rate you are bonusing to]]-Table1[[#This Row],[Pay Rate]], \"\")","v":""},{"$f":"IF(Table1[[#This Row],[Wage differential Bonus                            - NotePay Rate you are bonusing to]]>0,Table1[[#This Row],[Bonus Rate]]*Table1[[#This Row],[Hours]],\"\")","v":""},null,null,null,null,null,{"$f":"IF(OR(AH889>0.001,AH889<-0.001),Table1[[#This Row],[Employee '#]],\" \")","v":" "},false,{"$f":"SUMIF(Table1[[#This Row],[Total Wage Diff bonus]:[Bank Bonus]],\"<> \")","v":0},{"$f":"IF(AA889>0, Table1[[#This Row],[Column4]], IF(AB889>0,Table1[[#This Row],[Column4]],IF(X889>0,\"1000\")))","v":false}]
[null,null,null,null,null,null,null,null,null,null,null,null,null,null,null,null,0,null,null,null,null,null,null,null,{"$f":"IF(Table1[[#This Row],[Wage differential Bonus                            - NotePay Rate you are bonusing to]]>0, Table1[[#This Row],[Wage differential Bonus                            - NotePay Rate you are bonusing to]]-Table1[[#This Row],[Pay Rate]], \"\")","v":""},{"$f":"IF(Table1[[#This Row],[Wage differential Bonus                            - NotePay Rate you are bonusing to]]>0,Table1[[#This Row],[Bonus Rate]]*Table1[[#This Row],[Hours]],\"\")","v":""},null,null,null,null,null,{"$f":"IF(OR(AH890>0.001,AH890<-0.001),Table1[[#This Row],[Employee '#]],\" \")","v":" "},false,{"$f":"SUMIF(Table1[[#This Row],[Total Wage Diff bonus]:[Bank Bonus]],\"<> \")","v":0},{"$f":"IF(AA890>0, Table1[[#This Row],[Column4]], IF(AB890>0,Table1[[#This Row],[Column4]],IF(X890>0,\"1000\")))","v":false}]
[null,null,null,null,null,null,null,null,null,null,null,null,null,null,null,null,0,null,null,null,null,null,null,null,{"$f":"IF(Table1[[#This Row],[Wage differential Bonus                            - NotePay Rate you are bonusing to]]>0, Table1[[#This Row],[Wage differential Bonus                            - NotePay Rate you are bonusing to]]-Table1[[#This Row],[Pay Rate]], \"\")","v":""},{"$f":"IF(Table1[[#This Row],[Wage differential Bonus                            - NotePay Rate you are bonusing to]]>0,Table1[[#This Row],[Bonus Rate]]*Table1[[#This Row],[Hours]],\"\")","v":""},null,null,null,null,null,{"$f":"IF(OR(AH891>0.001,AH891<-0.001),Table1[[#This Row],[Employee '#]],\" \")","v":" "},false,{"$f":"SUMIF(Table1[[#This Row],[Total Wage Diff bonus]:[Bank Bonus]],\"<> \")","v":0},{"$f":"IF(AA891>0, Table1[[#This Row],[Column4]], IF(AB891>0,Table1[[#This Row],[Column4]],IF(X891>0,\"1000\")))","v":false}]
[null,null,null,null,null,null,null,null,null,null,null,null,null,null,null,null,0,null,null,null,null,null,null,null,{"$f":"IF(Table1[[#This Row],[Wage differential Bonus                            - NotePay Rate you are bonusing to]]>0, Table1[[#This Row],[Wage differential Bonus                            - NotePay Rate you are bonusing to]]-Table1[[#This Row],[Pay Rate]], \"\")","v":""},{"$f":"IF(Table1[[#This Row],[Wage differential Bonus                            - NotePay Rate you are bonusing to]]>0,Table1[[#This Row],[Bonus Rate]]*Table1[[#This Row],[Hours]],\"\")","v":""},null,null,null,null,null,{"$f":"IF(OR(AH892>0.001,AH892<-0.001),Table1[[#This Row],[Employee '#]],\" \")","v":" "},false,{"$f":"SUMIF(Table1[[#This Row],[Total Wage Diff bonus]:[Bank Bonus]],\"<> \")","v":0},{"$f":"IF(AA892>0, Table1[[#This Row],[Column4]], IF(AB892>0,Table1[[#This Row],[Column4]],IF(X892>0,\"1000\")))","v":false}]
[null,null,null,null,null,null,null,null,null,null,null,null,null,null,null,null,0,null,null,null,null,null,null,null,{"$f":"IF(Table1[[#This Row],[Wage differential Bonus                            - NotePay Rate you are bonusing to]]>0, Table1[[#This Row],[Wage differential Bonus                            - NotePay Rate you are bonusing to]]-Table1[[#This Row],[Pay Rate]], \"\")","v":""},{"$f":"IF(Table1[[#This Row],[Wage differential Bonus                            - NotePay Rate you are bonusing to]]>0,Table1[[#This Row],[Bonus Rate]]*Table1[[#This Row],[Hours]],\"\")","v":""},null,null,null,null,null,{"$f":"IF(OR(AH893>0.001,AH893<-0.001),Table1[[#This Row],[Employee '#]],\" \")","v":" "},false,{"$f":"SUMIF(Table1[[#This Row],[Total Wage Diff bonus]:[Bank Bonus]],\"<> \")","v":0},{"$f":"IF(AA893>0, Table1[[#This Row],[Column4]], IF(AB893>0,Table1[[#This Row],[Column4]],IF(X893>0,\"1000\")))","v":false}]
[null,null,null,null,null,null,null,null,null,null,null,null,null,null,null,null,0,null,null,null,null,null,null,null,{"$f":"IF(Table1[[#This Row],[Wage differential Bonus                            - NotePay Rate you are bonusing to]]>0, Table1[[#This Row],[Wage differential Bonus                            - NotePay Rate you are bonusing to]]-Table1[[#This Row],[Pay Rate]], \"\")","v":""},{"$f":"IF(Table1[[#This Row],[Wage differential Bonus                            - NotePay Rate you are bonusing to]]>0,Table1[[#This Row],[Bonus Rate]]*Table1[[#This Row],[Hours]],\"\")","v":""},null,null,null,null,null,{"$f":"IF(OR(AH894>0.001,AH894<-0.001),Table1[[#This Row],[Employee '#]],\" \")","v":" "},false,{"$f":"SUMIF(Table1[[#This Row],[Total Wage Diff bonus]:[Bank Bonus]],\"<> \")","v":0},{"$f":"IF(AA894>0, Table1[[#This Row],[Column4]], IF(AB894>0,Table1[[#This Row],[Column4]],IF(X894>0,\"1000\")))","v":false}]
[null,null,null,null,null,null,null,null,null,null,null,null,null,null,null,null,0,null,null,null,null,null,null,null,{"$f":"IF(Table1[[#This Row],[Wage differential Bonus                            - NotePay Rate you are bonusing to]]>0, Table1[[#This Row],[Wage differential Bonus                            - NotePay Rate you are bonusing to]]-Table1[[#This Row],[Pay Rate]], \"\")","v":""},{"$f":"IF(Table1[[#This Row],[Wage differential Bonus                            - NotePay Rate you are bonusing to]]>0,Table1[[#This Row],[Bonus Rate]]*Table1[[#This Row],[Hours]],\"\")","v":""},null,null,null,null,null,{"$f":"IF(OR(AH895>0.001,AH895<-0.001),Table1[[#This Row],[Employee '#]],\" \")","v":" "},false,{"$f":"SUMIF(Table1[[#This Row],[Total Wage Diff bonus]:[Bank Bonus]],\"<> \")","v":0},{"$f":"IF(AA895>0, Table1[[#This Row],[Column4]], IF(AB895>0,Table1[[#This Row],[Column4]],IF(X895>0,\"1000\")))","v":false}]
[null,null,null,null,null,null,null,null,null,null,null,null,null,null,null,null,0,null,null,null,null,null,null,null,{"$f":"IF(Table1[[#This Row],[Wage differential Bonus                            - NotePay Rate you are bonusing to]]>0, Table1[[#This Row],[Wage differential Bonus                            - NotePay Rate you are bonusing to]]-Table1[[#This Row],[Pay Rate]], \"\")","v":""},{"$f":"IF(Table1[[#This Row],[Wage differential Bonus                            - NotePay Rate you are bonusing to]]>0,Table1[[#This Row],[Bonus Rate]]*Table1[[#This Row],[Hours]],\"\")","v":""},null,null,null,null,null,{"$f":"IF(OR(AH896>0.001,AH896<-0.001),Table1[[#This Row],[Employee '#]],\" \")","v":" "},false,{"$f":"SUMIF(Table1[[#This Row],[Total Wage Diff bonus]:[Bank Bonus]],\"<> \")","v":0},{"$f":"IF(AA896>0, Table1[[#This Row],[Column4]], IF(AB896>0,Table1[[#This Row],[Column4]],IF(X896>0,\"1000\")))","v":false}]
[null,null,null,null,null,null,null,null,null,null,null,null,null,null,null,null,0,null,null,null,null,null,null,null,{"$f":"IF(Table1[[#This Row],[Wage differential Bonus                            - NotePay Rate you are bonusing to]]>0, Table1[[#This Row],[Wage differential Bonus                            - NotePay Rate you are bonusing to]]-Table1[[#This Row],[Pay Rate]], \"\")","v":""},{"$f":"IF(Table1[[#This Row],[Wage differential Bonus                            - NotePay Rate you are bonusing to]]>0,Table1[[#This Row],[Bonus Rate]]*Table1[[#This Row],[Hours]],\"\")","v":""},null,null,null,null,null,{"$f":"IF(OR(AH897>0.001,AH897<-0.001),Table1[[#This Row],[Employee '#]],\" \")","v":" "},false,{"$f":"SUMIF(Table1[[#This Row],[Total Wage Diff bonus]:[Bank Bonus]],\"<> \")","v":0},{"$f":"IF(AA897>0, Table1[[#This Row],[Column4]], IF(AB897>0,Table1[[#This Row],[Column4]],IF(X897>0,\"1000\")))","v":false}]
[null,null,null,null,null,null,null,null,null,null,null,null,null,null,null,null,0,null,null,null,null,null,null,null,{"$f":"IF(Table1[[#This Row],[Wage differential Bonus                            - NotePay Rate you are bonusing to]]>0, Table1[[#This Row],[Wage differential Bonus                            - NotePay Rate you are bonusing to]]-Table1[[#This Row],[Pay Rate]], \"\")","v":""},{"$f":"IF(Table1[[#This Row],[Wage differential Bonus                            - NotePay Rate you are bonusing to]]>0,Table1[[#This Row],[Bonus Rate]]*Table1[[#This Row],[Hours]],\"\")","v":""},null,null,null,null,null,{"$f":"IF(OR(AH898>0.001,AH898<-0.001),Table1[[#This Row],[Employee '#]],\" \")","v":" "},false,{"$f":"SUMIF(Table1[[#This Row],[Total Wage Diff bonus]:[Bank Bonus]],\"<> \")","v":0},{"$f":"IF(AA898>0, Table1[[#This Row],[Column4]], IF(AB898>0,Table1[[#This Row],[Column4]],IF(X898>0,\"1000\")))","v":false}]
[null,null,null,null,null,null,null,null,null,null,null,null,null,null,null,null,0,null,null,null,null,null,null,null,{"$f":"IF(Table1[[#This Row],[Wage differential Bonus                            - NotePay Rate you are bonusing to]]>0, Table1[[#This Row],[Wage differential Bonus                            - NotePay Rate you are bonusing to]]-Table1[[#This Row],[Pay Rate]], \"\")","v":""},{"$f":"IF(Table1[[#This Row],[Wage differential Bonus                            - NotePay Rate you are bonusing to]]>0,Table1[[#This Row],[Bonus Rate]]*Table1[[#This Row],[Hours]],\"\")","v":""},null,null,null,null,null,{"$f":"IF(OR(AH899>0.001,AH899<-0.001),Table1[[#This Row],[Employee '#]],\" \")","v":" "},false,{"$f":"SUMIF(Table1[[#This Row],[Total Wage Diff bonus]:[Bank Bonus]],\"<> \")","v":0},{"$f":"IF(AA899>0, Table1[[#This Row],[Column4]], IF(AB899>0,Table1[[#This Row],[Column4]],IF(X899>0,\"1000\")))","v":false}]
[null,null,null,null,null,null,null,null,null,null,null,null,null,null,null,null,{"$f":"L900+P900","v":0},null,null,null,null,null,null,null,{"$f":"IF(Table1[[#This Row],[Wage differential Bonus                            - NotePay Rate you are bonusing to]]>0, Table1[[#This Row],[Wage differential Bonus                            - NotePay Rate you are bonusing to]]-Table1[[#This Row],[Pay Rate]], \"\")","v":""},{"$f":"IF(Table1[[#This Row],[Wage differential Bonus                            - NotePay Rate you are bonusing to]]>0,Table1[[#This Row],[Bonus Rate]]*Table1[[#This Row],[Hours]],\"\")","v":""},null,null,null,null,null,{"$f":"IF(OR(AH900>0.001,AH900<-0.001),Table1[[#This Row],[Employee '#]],\" \")","v":" "},{"$f":"IF(AA900>0, \"28\", IF(AB900>0,\"53\",IF(X900>0,\"20\")))","v":false},{"$f":"SUMIF(Table1[[#This Row],[Total Wage Diff bonus]:[Bank Bonus]],\"<> \")","v":0},{"$f":"IF(AA900>0, Table1[[#This Row],[Column4]], IF(AB900>0,Table1[[#This Row],[Column4]],IF(X900>0,\"1000\")))","v":false}]
[null,null,null,null,null,null,null,null,null,null,null,null,null,null,null,null,0,null,null,null,null,null,null,null,{"$f":"IF(Table1[[#This Row],[Wage differential Bonus                            - NotePay Rate you are bonusing to]]>0, Table1[[#This Row],[Wage differential Bonus                            - NotePay Rate you are bonusing to]]-Table1[[#This Row],[Pay Rate]], \"\")","v":""},{"$f":"IF(Table1[[#This Row],[Wage differential Bonus                            - NotePay Rate you are bonusing to]]>0,Table1[[#This Row],[Bonus Rate]]*Table1[[#This Row],[Hours]],\"\")","v":""},null,null,null,null,null,{"$f":"IF(OR(AH901>0.001,AH901<-0.001),Table1[[#This Row],[Employee '#]],\" \")","v":" "},false,{"$f":"SUMIF(Table1[[#This Row],[Total Wage Diff bonus]:[Bank Bonus]],\"<> \")","v":0},{"$f":"IF(AA901>0, Table1[[#This Row],[Column4]], IF(AB901>0,Table1[[#This Row],[Column4]],IF(X901>0,\"1000\")))","v":false}]
[null,null,null,null,null,null,null,null,null,null,null,null,null,null,null,null,0,null,null,null,null,null,null,null,{"$f":"IF(Table1[[#This Row],[Wage differential Bonus                            - NotePay Rate you are bonusing to]]>0, Table1[[#This Row],[Wage differential Bonus                            - NotePay Rate you are bonusing to]]-Table1[[#This Row],[Pay Rate]], \"\")","v":""},{"$f":"IF(Table1[[#This Row],[Wage differential Bonus                            - NotePay Rate you are bonusing to]]>0,Table1[[#This Row],[Bonus Rate]]*Table1[[#This Row],[Hours]],\"\")","v":""},null,null,null,null,null,{"$f":"IF(OR(AH902>0.001,AH902<-0.001),Table1[[#This Row],[Employee '#]],\" \")","v":" "},false,{"$f":"SUMIF(Table1[[#This Row],[Total Wage Diff bonus]:[Bank Bonus]],\"<> \")","v":0},{"$f":"IF(AA902>0, Table1[[#This Row],[Column4]], IF(AB902>0,Table1[[#This Row],[Column4]],IF(X902>0,\"1000\")))","v":false}]
[null,null,null,null,null,null,null,null,null,null,null,null,null,null,null,null,0,null,null,null,null,null,null,null,{"$f":"IF(Table1[[#This Row],[Wage differential Bonus                            - NotePay Rate you are bonusing to]]>0, Table1[[#This Row],[Wage differential Bonus                            - NotePay Rate you are bonusing to]]-Table1[[#This Row],[Pay Rate]], \"\")","v":""},{"$f":"IF(Table1[[#This Row],[Wage differential Bonus                            - NotePay Rate you are bonusing to]]>0,Table1[[#This Row],[Bonus Rate]]*Table1[[#This Row],[Hours]],\"\")","v":""},null,null,null,null,null,{"$f":"IF(OR(AH903>0.001,AH903<-0.001),Table1[[#This Row],[Employee '#]],\" \")","v":" "},false,{"$f":"SUMIF(Table1[[#This Row],[Total Wage Diff bonus]:[Bank Bonus]],\"<> \")","v":0},{"$f":"IF(AA903>0, Table1[[#This Row],[Column4]], IF(AB903>0,Table1[[#This Row],[Column4]],IF(X903>0,\"1000\")))","v":false}]
[null,null,null,null,null,null,null,null,null,null,null,null,null,null,null,null,0,null,null,null,null,null,null,null,{"$f":"IF(Table1[[#This Row],[Wage differential Bonus                            - NotePay Rate you are bonusing to]]>0, Table1[[#This Row],[Wage differential Bonus                            - NotePay Rate you are bonusing to]]-Table1[[#This Row],[Pay Rate]], \"\")","v":""},{"$f":"IF(Table1[[#This Row],[Wage differential Bonus                            - NotePay Rate you are bonusing to]]>0,Table1[[#This Row],[Bonus Rate]]*Table1[[#This Row],[Hours]],\"\")","v":""},null,null,null,null,null,{"$f":"IF(OR(AH904>0.001,AH904<-0.001),Table1[[#This Row],[Employee '#]],\" \")","v":" "},false,{"$f":"SUMIF(Table1[[#This Row],[Total Wage Diff bonus]:[Bank Bonus]],\"<> \")","v":0},{"$f":"IF(AA904>0, Table1[[#This Row],[Column4]], IF(AB904>0,Table1[[#This Row],[Column4]],IF(X904>0,\"1000\")))","v":false}]
[null,null,null,null,null,null,null,null,null,null,null,null,null,null,null,null,0,null,null,null,null,null,null,null,{"$f":"IF(Table1[[#This Row],[Wage differential Bonus                            - NotePay Rate you are bonusing to]]>0, Table1[[#This Row],[Wage differential Bonus                            - NotePay Rate you are bonusing to]]-Table1[[#This Row],[Pay Rate]], \"\")","v":""},{"$f":"IF(Table1[[#This Row],[Wage differential Bonus                            - NotePay Rate you are bonusing to]]>0,Table1[[#This Row],[Bonus Rate]]*Table1[[#This Row],[Hours]],\"\")","v":""},null,null,null,null,null,{"$f":"IF(OR(AH905>0.001,AH905<-0.001),Table1[[#This Row],[Employee '#]],\" \")","v":" "},false,{"$f":"SUMIF(Table1[[#This Row],[Total Wage Diff bonus]:[Bank Bonus]],\"<> \")","v":0},{"$f":"IF(AA905>0, Table1[[#This Row],[Column4]], IF(AB905>0,Table1[[#This Row],[Column4]],IF(X905>0,\"1000\")))","v":false}]
[null,null,null,null,null,null,null,null,null,null,null,null,null,null,null,null,0,null,null,null,null,null,null,null,{"$f":"IF(Table1[[#This Row],[Wage differential Bonus                            - NotePay Rate you are bonusing to]]>0, Table1[[#This Row],[Wage differential Bonus                            - NotePay Rate you are bonusing to]]-Table1[[#This Row],[Pay Rate]], \"\")","v":""},{"$f":"IF(Table1[[#This Row],[Wage differential Bonus                            - NotePay Rate you are bonusing to]]>0,Table1[[#This Row],[Bonus Rate]]*Table1[[#This Row],[Hours]],\"\")","v":""},null,null,null,null,null,{"$f":"IF(OR(AH906>0.001,AH906<-0.001),Table1[[#This Row],[Employee '#]],\" \")","v":" "},false,{"$f":"SUMIF(Table1[[#This Row],[Total Wage Diff bonus]:[Bank Bonus]],\"<> \")","v":0},{"$f":"IF(AA906>0, Table1[[#This Row],[Column4]], IF(AB906>0,Table1[[#This Row],[Column4]],IF(X906>0,\"1000\")))","v":false}]
[null,null,null,null,null,null,null,null,null,null,null,null,null,null,null,null,0,null,null,null,null,null,null,null,{"$f":"IF(Table1[[#This Row],[Wage differential Bonus                            - NotePay Rate you are bonusing to]]>0, Table1[[#This Row],[Wage differential Bonus                            - NotePay Rate you are bonusing to]]-Table1[[#This Row],[Pay Rate]], \"\")","v":""},{"$f":"IF(Table1[[#This Row],[Wage differential Bonus                            - NotePay Rate you are bonusing to]]>0,Table1[[#This Row],[Bonus Rate]]*Table1[[#This Row],[Hours]],\"\")","v":""},null,null,null,null,null,{"$f":"IF(OR(AH907>0.001,AH907<-0.001),Table1[[#This Row],[Employee '#]],\" \")","v":" "},false,{"$f":"SUMIF(Table1[[#This Row],[Total Wage Diff bonus]:[Bank Bonus]],\"<> \")","v":0},{"$f":"IF(AA907>0, Table1[[#This Row],[Column4]], IF(AB907>0,Table1[[#This Row],[Column4]],IF(X907>0,\"1000\")))","v":false}]
[null,null,null,null,null,null,null,null,null,null,null,null,null,null,null,null,0,null,null,null,null,null,null,null,{"$f":"IF(Table1[[#This Row],[Wage differential Bonus                            - NotePay Rate you are bonusing to]]>0, Table1[[#This Row],[Wage differential Bonus                            - NotePay Rate you are bonusing to]]-Table1[[#This Row],[Pay Rate]], \"\")","v":""},{"$f":"IF(Table1[[#This Row],[Wage differential Bonus                            - NotePay Rate you are bonusing to]]>0,Table1[[#This Row],[Bonus Rate]]*Table1[[#This Row],[Hours]],\"\")","v":""},null,null,null,null,null,{"$f":"IF(OR(AH908>0.001,AH908<-0.001),Table1[[#This Row],[Employee '#]],\" \")","v":" "},false,{"$f":"SUMIF(Table1[[#This Row],[Total Wage Diff bonus]:[Bank Bonus]],\"<> \")","v":0},{"$f":"IF(AA908>0, Table1[[#This Row],[Column4]], IF(AB908>0,Table1[[#This Row],[Column4]],IF(X908>0,\"1000\")))","v":false}]
[null,null,null,null,null,null,null,null,null,null,null,null,null,null,null,null,0,null,null,null,null,null,null,null,{"$f":"IF(Table1[[#This Row],[Wage differential Bonus                            - NotePay Rate you are bonusing to]]>0, Table1[[#This Row],[Wage differential Bonus                            - NotePay Rate you are bonusing to]]-Table1[[#This Row],[Pay Rate]], \"\")","v":""},{"$f":"IF(Table1[[#This Row],[Wage differential Bonus                            - NotePay Rate you are bonusing to]]>0,Table1[[#This Row],[Bonus Rate]]*Table1[[#This Row],[Hours]],\"\")","v":""},null,null,null,null,null,{"$f":"IF(OR(AH909>0.001,AH909<-0.001),Table1[[#This Row],[Employee '#]],\" \")","v":" "},false,{"$f":"SUMIF(Table1[[#This Row],[Total Wage Diff bonus]:[Bank Bonus]],\"<> \")","v":0},{"$f":"IF(AA909>0, Table1[[#This Row],[Column4]], IF(AB909>0,Table1[[#This Row],[Column4]],IF(X909>0,\"1000\")))","v":false}]
[null,null,null,null,null,null,null,null,null,null,null,null,null,null,null,null,0,null,null,null,null,null,null,null,{"$f":"IF(Table1[[#This Row],[Wage differential Bonus                            - NotePay Rate you are bonusing to]]>0, Table1[[#This Row],[Wage differential Bonus                            - NotePay Rate you are bonusing to]]-Table1[[#This Row],[Pay Rate]], \"\")","v":""},{"$f":"IF(Table1[[#This Row],[Wage differential Bonus                            - NotePay Rate you are bonusing to]]>0,Table1[[#This Row],[Bonus Rate]]*Table1[[#This Row],[Hours]],\"\")","v":""},null,null,null,null,null,{"$f":"IF(OR(AH910>0.001,AH910<-0.001),Table1[[#This Row],[Employee '#]],\" \")","v":" "},false,{"$f":"SUMIF(Table1[[#This Row],[Total Wage Diff bonus]:[Bank Bonus]],\"<> \")","v":0},{"$f":"IF(AA910>0, Table1[[#This Row],[Column4]], IF(AB910>0,Table1[[#This Row],[Column4]],IF(X910>0,\"1000\")))","v":false}]
[null,null,null,null,null,null,null,null,null,null,null,null,null,null,null,null,0,null,null,null,null,null,null,null,{"$f":"IF(Table1[[#This Row],[Wage differential Bonus                            - NotePay Rate you are bonusing to]]>0, Table1[[#This Row],[Wage differential Bonus                            - NotePay Rate you are bonusing to]]-Table1[[#This Row],[Pay Rate]], \"\")","v":""},{"$f":"IF(Table1[[#This Row],[Wage differential Bonus                            - NotePay Rate you are bonusing to]]>0,Table1[[#This Row],[Bonus Rate]]*Table1[[#This Row],[Hours]],\"\")","v":""},null,null,null,null,null,{"$f":"IF(OR(AH911>0.001,AH911<-0.001),Table1[[#This Row],[Employee '#]],\" \")","v":" "},false,{"$f":"SUMIF(Table1[[#This Row],[Total Wage Diff bonus]:[Bank Bonus]],\"<> \")","v":0},{"$f":"IF(AA911>0, Table1[[#This Row],[Column4]], IF(AB911>0,Table1[[#This Row],[Column4]],IF(X911>0,\"1000\")))","v":false}]
[null,null,null,null,null,null,null,null,null,null,null,null,null,null,null,null,0,null,null,null,null,null,null,null,{"$f":"IF(Table1[[#This Row],[Wage differential Bonus                            - NotePay Rate you are bonusing to]]>0, Table1[[#This Row],[Wage differential Bonus                            - NotePay Rate you are bonusing to]]-Table1[[#This Row],[Pay Rate]], \"\")","v":""},{"$f":"IF(Table1[[#This Row],[Wage differential Bonus                            - NotePay Rate you are bonusing to]]>0,Table1[[#This Row],[Bonus Rate]]*Table1[[#This Row],[Hours]],\"\")","v":""},null,null,null,null,null,{"$f":"IF(OR(AH912>0.001,AH912<-0.001),Table1[[#This Row],[Employee '#]],\" \")","v":" "},false,{"$f":"SUMIF(Table1[[#This Row],[Total Wage Diff bonus]:[Bank Bonus]],\"<> \")","v":0},{"$f":"IF(AA912>0, Table1[[#This Row],[Column4]], IF(AB912>0,Table1[[#This Row],[Column4]],IF(X912>0,\"1000\")))","v":false}]
[null,null,null,null,null,null,null,null,null,null,null,null,null,null,null,null,0,null,null,null,null,null,null,null,{"$f":"IF(Table1[[#This Row],[Wage differential Bonus                            - NotePay Rate you are bonusing to]]>0, Table1[[#This Row],[Wage differential Bonus                            - NotePay Rate you are bonusing to]]-Table1[[#This Row],[Pay Rate]], \"\")","v":""},{"$f":"IF(Table1[[#This Row],[Wage differential Bonus                            - NotePay Rate you are bonusing to]]>0,Table1[[#This Row],[Bonus Rate]]*Table1[[#This Row],[Hours]],\"\")","v":""},null,null,null,null,null,{"$f":"IF(OR(AH913>0.001,AH913<-0.001),Table1[[#This Row],[Employee '#]],\" \")","v":" "},false,{"$f":"SUMIF(Table1[[#This Row],[Total Wage Diff bonus]:[Bank Bonus]],\"<> \")","v":0},{"$f":"IF(AA913>0, Table1[[#This Row],[Column4]], IF(AB913>0,Table1[[#This Row],[Column4]],IF(X913>0,\"1000\")))","v":false}]
[null,null,null,null,null,null,null,null,null,null,null,null,null,null,null,null,0,null,null,null,null,null,null,null,{"$f":"IF(Table1[[#This Row],[Wage differential Bonus                            - NotePay Rate you are bonusing to]]>0, Table1[[#This Row],[Wage differential Bonus                            - NotePay Rate you are bonusing to]]-Table1[[#This Row],[Pay Rate]], \"\")","v":""},{"$f":"IF(Table1[[#This Row],[Wage differential Bonus                            - NotePay Rate you are bonusing to]]>0,Table1[[#This Row],[Bonus Rate]]*Table1[[#This Row],[Hours]],\"\")","v":""},null,null,null,null,null,{"$f":"IF(OR(AH914>0.001,AH914<-0.001),Table1[[#This Row],[Employee '#]],\" \")","v":" "},false,{"$f":"SUMIF(Table1[[#This Row],[Total Wage Diff bonus]:[Bank Bonus]],\"<> \")","v":0},{"$f":"IF(AA914>0, Table1[[#This Row],[Column4]], IF(AB914>0,Table1[[#This Row],[Column4]],IF(X914>0,\"1000\")))","v":false}]
[null,null,null,null,null,null,null,null,null,null,null,null,null,null,null,null,0,null,null,null,null,null,null,null,{"$f":"IF(Table1[[#This Row],[Wage differential Bonus                            - NotePay Rate you are bonusing to]]>0, Table1[[#This Row],[Wage differential Bonus                            - NotePay Rate you are bonusing to]]-Table1[[#This Row],[Pay Rate]], \"\")","v":""},{"$f":"IF(Table1[[#This Row],[Wage differential Bonus                            - NotePay Rate you are bonusing to]]>0,Table1[[#This Row],[Bonus Rate]]*Table1[[#This Row],[Hours]],\"\")","v":""},null,null,null,null,null,{"$f":"IF(OR(AH915>0.001,AH915<-0.001),Table1[[#This Row],[Employee '#]],\" \")","v":" "},false,{"$f":"SUMIF(Table1[[#This Row],[Total Wage Diff bonus]:[Bank Bonus]],\"<> \")","v":0},{"$f":"IF(AA915>0, Table1[[#This Row],[Column4]], IF(AB915>0,Table1[[#This Row],[Column4]],IF(X915>0,\"1000\")))","v":false}]
[null,null,null,null,null,null,null,null,null,null,null,null,null,null,null,null,0,null,null,null,null,null,null,null,{"$f":"IF(Table1[[#This Row],[Wage differential Bonus                            - NotePay Rate you are bonusing to]]>0, Table1[[#This Row],[Wage differential Bonus                            - NotePay Rate you are bonusing to]]-Table1[[#This Row],[Pay Rate]], \"\")","v":""},{"$f":"IF(Table1[[#This Row],[Wage differential Bonus                            - NotePay Rate you are bonusing to]]>0,Table1[[#This Row],[Bonus Rate]]*Table1[[#This Row],[Hours]],\"\")","v":""},null,null,null,null,null,{"$f":"IF(OR(AH916>0.001,AH916<-0.001),Table1[[#This Row],[Employee '#]],\" \")","v":" "},false,{"$f":"SUMIF(Table1[[#This Row],[Total Wage Diff bonus]:[Bank Bonus]],\"<> \")","v":0},{"$f":"IF(AA916>0, Table1[[#This Row],[Column4]], IF(AB916>0,Table1[[#This Row],[Column4]],IF(X916>0,\"1000\")))","v":false}]
[null,null,null,null,null,null,null,null,null,null,null,null,null,null,null,null,0,null,null,null,null,null,null,null,{"$f":"IF(Table1[[#This Row],[Wage differential Bonus                            - NotePay Rate you are bonusing to]]>0, Table1[[#This Row],[Wage differential Bonus                            - NotePay Rate you are bonusing to]]-Table1[[#This Row],[Pay Rate]], \"\")","v":""},{"$f":"IF(Table1[[#This Row],[Wage differential Bonus                            - NotePay Rate you are bonusing to]]>0,Table1[[#This Row],[Bonus Rate]]*Table1[[#This Row],[Hours]],\"\")","v":""},null,null,null,null,null,{"$f":"IF(OR(AH917>0.001,AH917<-0.001),Table1[[#This Row],[Employee '#]],\" \")","v":" "},false,{"$f":"SUMIF(Table1[[#This Row],[Total Wage Diff bonus]:[Bank Bonus]],\"<> \")","v":0},{"$f":"IF(AA917>0, Table1[[#This Row],[Column4]], IF(AB917>0,Table1[[#This Row],[Column4]],IF(X917>0,\"1000\")))","v":false}]
[null,null,null,null,null,null,null,null,null,null,null,null,null,null,null,null,0,null,null,null,null,null,null,null,{"$f":"IF(Table1[[#This Row],[Wage differential Bonus                            - NotePay Rate you are bonusing to]]>0, Table1[[#This Row],[Wage differential Bonus                            - NotePay Rate you are bonusing to]]-Table1[[#This Row],[Pay Rate]], \"\")","v":""},{"$f":"IF(Table1[[#This Row],[Wage differential Bonus                            - NotePay Rate you are bonusing to]]>0,Table1[[#This Row],[Bonus Rate]]*Table1[[#This Row],[Hours]],\"\")","v":""},null,null,null,null,null,{"$f":"IF(OR(AH918>0.001,AH918<-0.001),Table1[[#This Row],[Employee '#]],\" \")","v":" "},false,{"$f":"SUMIF(Table1[[#This Row],[Total Wage Diff bonus]:[Bank Bonus]],\"<> \")","v":0},{"$f":"IF(AA918>0, Table1[[#This Row],[Column4]], IF(AB918>0,Table1[[#This Row],[Column4]],IF(X918>0,\"1000\")))","v":false}]
[null,null,null,null,null,null,null,null,null,null,null,null,null,null,null,null,0,null,null,null,null,null,null,null,{"$f":"IF(Table1[[#This Row],[Wage differential Bonus                            - NotePay Rate you are bonusing to]]>0, Table1[[#This Row],[Wage differential Bonus                            - NotePay Rate you are bonusing to]]-Table1[[#This Row],[Pay Rate]], \"\")","v":""},{"$f":"IF(Table1[[#This Row],[Wage differential Bonus                            - NotePay Rate you are bonusing to]]>0,Table1[[#This Row],[Bonus Rate]]*Table1[[#This Row],[Hours]],\"\")","v":""},null,null,null,null,null,{"$f":"IF(OR(AH919>0.001,AH919<-0.001),Table1[[#This Row],[Employee '#]],\" \")","v":" "},false,{"$f":"SUMIF(Table1[[#This Row],[Total Wage Diff bonus]:[Bank Bonus]],\"<> \")","v":0},{"$f":"IF(AA919>0, Table1[[#This Row],[Column4]], IF(AB919>0,Table1[[#This Row],[Column4]],IF(X919>0,\"1000\")))","v":false}]
[null,null,null,null,null,null,null,null,null,null,null,null,null,null,null,null,0,null,null,null,null,null,null,null,{"$f":"IF(Table1[[#This Row],[Wage differential Bonus                            - NotePay Rate you are bonusing to]]>0, Table1[[#This Row],[Wage differential Bonus                            - NotePay Rate you are bonusing to]]-Table1[[#This Row],[Pay Rate]], \"\")","v":""},{"$f":"IF(Table1[[#This Row],[Wage differential Bonus                            - NotePay Rate you are bonusing to]]>0,Table1[[#This Row],[Bonus Rate]]*Table1[[#This Row],[Hours]],\"\")","v":""},null,null,null,null,null,{"$f":"IF(OR(AH920>0.001,AH920<-0.001),Table1[[#This Row],[Employee '#]],\" \")","v":" "},false,{"$f":"SUMIF(Table1[[#This Row],[Total Wage Diff bonus]:[Bank Bonus]],\"<> \")","v":0},{"$f":"IF(AA920>0, Table1[[#This Row],[Column4]], IF(AB920>0,Table1[[#This Row],[Column4]],IF(X920>0,\"1000\")))","v":false}]
[null,null,null,null,null,null,null,null,null,null,null,null,null,null,null,null,0,null,null,null,null,null,null,null,{"$f":"IF(Table1[[#This Row],[Wage differential Bonus                            - NotePay Rate you are bonusing to]]>0, Table1[[#This Row],[Wage differential Bonus                            - NotePay Rate you are bonusing to]]-Table1[[#This Row],[Pay Rate]], \"\")","v":""},{"$f":"IF(Table1[[#This Row],[Wage differential Bonus                            - NotePay Rate you are bonusing to]]>0,Table1[[#This Row],[Bonus Rate]]*Table1[[#This Row],[Hours]],\"\")","v":""},null,null,null,null,null,{"$f":"IF(OR(AH921>0.001,AH921<-0.001),Table1[[#This Row],[Employee '#]],\" \")","v":" "},false,{"$f":"SUMIF(Table1[[#This Row],[Total Wage Diff bonus]:[Bank Bonus]],\"<> \")","v":0},{"$f":"IF(AA921>0, Table1[[#This Row],[Column4]], IF(AB921>0,Table1[[#This Row],[Column4]],IF(X921>0,\"1000\")))","v":false}]
[null,null,null,null,null,null,null,null,null,null,null,null,null,null,null,null,0,null,null,null,null,null,null,null,{"$f":"IF(Table1[[#This Row],[Wage differential Bonus                            - NotePay Rate you are bonusing to]]>0, Table1[[#This Row],[Wage differential Bonus                            - NotePay Rate you are bonusing to]]-Table1[[#This Row],[Pay Rate]], \"\")","v":""},{"$f":"IF(Table1[[#This Row],[Wage differential Bonus                            - NotePay Rate you are bonusing to]]>0,Table1[[#This Row],[Bonus Rate]]*Table1[[#This Row],[Hours]],\"\")","v":""},null,null,null,null,null,{"$f":"IF(OR(AH922>0.001,AH922<-0.001),Table1[[#This Row],[Employee '#]],\" \")","v":" "},false,{"$f":"SUMIF(Table1[[#This Row],[Total Wage Diff bonus]:[Bank Bonus]],\"<> \")","v":0},{"$f":"IF(AA922>0, Table1[[#This Row],[Column4]], IF(AB922>0,Table1[[#This Row],[Column4]],IF(X922>0,\"1000\")))","v":false}]
[null,null,null,null,null,null,null,null,null,null,null,null,null,null,null,null,0,null,null,null,null,null,null,null,{"$f":"IF(Table1[[#This Row],[Wage differential Bonus                            - NotePay Rate you are bonusing to]]>0, Table1[[#This Row],[Wage differential Bonus                            - NotePay Rate you are bonusing to]]-Table1[[#This Row],[Pay Rate]], \"\")","v":""},{"$f":"IF(Table1[[#This Row],[Wage differential Bonus                            - NotePay Rate you are bonusing to]]>0,Table1[[#This Row],[Bonus Rate]]*Table1[[#This Row],[Hours]],\"\")","v":""},null,null,null,null,null,{"$f":"IF(OR(AH923>0.001,AH923<-0.001),Table1[[#This Row],[Employee '#]],\" \")","v":" "},false,{"$f":"SUMIF(Table1[[#This Row],[Total Wage Diff bonus]:[Bank Bonus]],\"<> \")","v":0},{"$f":"IF(AA923>0, Table1[[#This Row],[Column4]], IF(AB923>0,Table1[[#This Row],[Column4]],IF(X923>0,\"1000\")))","v":false}]
[null,null,null,null,null,null,null,null,null,null,null,null,null,null,null,null,0,null,null,null,null,null,null,null,{"$f":"IF(Table1[[#This Row],[Wage differential Bonus                            - NotePay Rate you are bonusing to]]>0, Table1[[#This Row],[Wage differential Bonus                            - NotePay Rate you are bonusing to]]-Table1[[#This Row],[Pay Rate]], \"\")","v":""},{"$f":"IF(Table1[[#This Row],[Wage differential Bonus                            - NotePay Rate you are bonusing to]]>0,Table1[[#This Row],[Bonus Rate]]*Table1[[#This Row],[Hours]],\"\")","v":""},null,null,null,null,null,{"$f":"IF(OR(AH924>0.001,AH924<-0.001),Table1[[#This Row],[Employee '#]],\" \")","v":" "},false,{"$f":"SUMIF(Table1[[#This Row],[Total Wage Diff bonus]:[Bank Bonus]],\"<> \")","v":0},{"$f":"IF(AA924>0, Table1[[#This Row],[Column4]], IF(AB924>0,Table1[[#This Row],[Column4]],IF(X924>0,\"1000\")))","v":false}]
[null,null,null,null,null,null,null,null,null,null,null,null,null,null,null,null,0,null,null,null,null,null,null,null,{"$f":"IF(Table1[[#This Row],[Wage differential Bonus                            - NotePay Rate you are bonusing to]]>0, Table1[[#This Row],[Wage differential Bonus                            - NotePay Rate you are bonusing to]]-Table1[[#This Row],[Pay Rate]], \"\")","v":""},{"$f":"IF(Table1[[#This Row],[Wage differential Bonus                            - NotePay Rate you are bonusing to]]>0,Table1[[#This Row],[Bonus Rate]]*Table1[[#This Row],[Hours]],\"\")","v":""},null,null,null,null,null,{"$f":"IF(OR(AH925>0.001,AH925<-0.001),Table1[[#This Row],[Employee '#]],\" \")","v":" "},false,{"$f":"SUMIF(Table1[[#This Row],[Total Wage Diff bonus]:[Bank Bonus]],\"<> \")","v":0},{"$f":"IF(AA925>0, Table1[[#This Row],[Column4]], IF(AB925>0,Table1[[#This Row],[Column4]],IF(X925>0,\"1000\")))","v":false}]
[null,null,null,null,null,null,null,null,null,null,null,null,null,null,null,null,0,null,null,null,null,null,null,null,{"$f":"IF(Table1[[#This Row],[Wage differential Bonus                            - NotePay Rate you are bonusing to]]>0, Table1[[#This Row],[Wage differential Bonus                            - NotePay Rate you are bonusing to]]-Table1[[#This Row],[Pay Rate]], \"\")","v":""},{"$f":"IF(Table1[[#This Row],[Wage differential Bonus                            - NotePay Rate you are bonusing to]]>0,Table1[[#This Row],[Bonus Rate]]*Table1[[#This Row],[Hours]],\"\")","v":""},null,null,null,null,null,{"$f":"IF(OR(AH926>0.001,AH926<-0.001),Table1[[#This Row],[Employee '#]],\" \")","v":" "},false,{"$f":"SUMIF(Table1[[#This Row],[Total Wage Diff bonus]:[Bank Bonus]],\"<> \")","v":0},{"$f":"IF(AA926>0, Table1[[#This Row],[Column4]], IF(AB926>0,Table1[[#This Row],[Column4]],IF(X926>0,\"1000\")))","v":false}]
[null,null,null,null,null,null,null,null,null,null,null,null,null,null,null,null,0,null,null,null,null,null,null,null,{"$f":"IF(Table1[[#This Row],[Wage differential Bonus                            - NotePay Rate you are bonusing to]]>0, Table1[[#This Row],[Wage differential Bonus                            - NotePay Rate you are bonusing to]]-Table1[[#This Row],[Pay Rate]], \"\")","v":""},{"$f":"IF(Table1[[#This Row],[Wage differential Bonus                            - NotePay Rate you are bonusing to]]>0,Table1[[#This Row],[Bonus Rate]]*Table1[[#This Row],[Hours]],\"\")","v":""},null,null,null,null,null,{"$f":"IF(OR(AH927>0.001,AH927<-0.001),Table1[[#This Row],[Employee '#]],\" \")","v":" "},false,{"$f":"SUMIF(Table1[[#This Row],[Total Wage Diff bonus]:[Bank Bonus]],\"<> \")","v":0},{"$f":"IF(AA927>0, Table1[[#This Row],[Column4]], IF(AB927>0,Table1[[#This Row],[Column4]],IF(X927>0,\"1000\")))","v":false}]
[null,null,null,null,null,null,null,null,null,null,null,null,null,null,null,null,0,null,null,null,null,null,null,null,{"$f":"IF(Table1[[#This Row],[Wage differential Bonus                            - NotePay Rate you are bonusing to]]>0, Table1[[#This Row],[Wage differential Bonus                            - NotePay Rate you are bonusing to]]-Table1[[#This Row],[Pay Rate]], \"\")","v":""},{"$f":"IF(Table1[[#This Row],[Wage differential Bonus                            - NotePay Rate you are bonusing to]]>0,Table1[[#This Row],[Bonus Rate]]*Table1[[#This Row],[Hours]],\"\")","v":""},null,null,null,null,null,{"$f":"IF(OR(AH928>0.001,AH928<-0.001),Table1[[#This Row],[Employee '#]],\" \")","v":" "},false,{"$f":"SUMIF(Table1[[#This Row],[Total Wage Diff bonus]:[Bank Bonus]],\"<> \")","v":0},{"$f":"IF(AA928>0, Table1[[#This Row],[Column4]], IF(AB928>0,Table1[[#This Row],[Column4]],IF(X928>0,\"1000\")))","v":false}]
[null,null,null,null,null,null,null,null,null,null,null,null,null,null,null,null,0,null,null,null,null,null,null,null,{"$f":"IF(Table1[[#This Row],[Wage differential Bonus                            - NotePay Rate you are bonusing to]]>0, Table1[[#This Row],[Wage differential Bonus                            - NotePay Rate you are bonusing to]]-Table1[[#This Row],[Pay Rate]], \"\")","v":""},{"$f":"IF(Table1[[#This Row],[Wage differential Bonus                            - NotePay Rate you are bonusing to]]>0,Table1[[#This Row],[Bonus Rate]]*Table1[[#This Row],[Hours]],\"\")","v":""},null,null,null,null,null,{"$f":"IF(OR(AH929>0.001,AH929<-0.001),Table1[[#This Row],[Employee '#]],\" \")","v":" "},false,{"$f":"SUMIF(Table1[[#This Row],[Total Wage Diff bonus]:[Bank Bonus]],\"<> \")","v":0},{"$f":"IF(AA929>0, Table1[[#This Row],[Column4]], IF(AB929>0,Table1[[#This Row],[Column4]],IF(X929>0,\"1000\")))","v":false}]
[null,null,null,null,null,null,null,null,null,null,null,null,null,null,null,null,0,null,null,null,null,null,null,null,{"$f":"IF(Table1[[#This Row],[Wage differential Bonus                            - NotePay Rate you are bonusing to]]>0, Table1[[#This Row],[Wage differential Bonus                            - NotePay Rate you are bonusing to]]-Table1[[#This Row],[Pay Rate]], \"\")","v":""},{"$f":"IF(Table1[[#This Row],[Wage differential Bonus                            - NotePay Rate you are bonusing to]]>0,Table1[[#This Row],[Bonus Rate]]*Table1[[#This Row],[Hours]],\"\")","v":""},null,null,null,null,null,{"$f":"IF(OR(AH930>0.001,AH930<-0.001),Table1[[#This Row],[Employee '#]],\" \")","v":" "},false,{"$f":"SUMIF(Table1[[#This Row],[Total Wage Diff bonus]:[Bank Bonus]],\"<> \")","v":0},{"$f":"IF(AA930>0, Table1[[#This Row],[Column4]], IF(AB930>0,Table1[[#This Row],[Column4]],IF(X930>0,\"1000\")))","v":false}]
[null,null,null,null,null,null,null,null,null,null,null,null,null,null,null,null,0,null,null,null,null,null,null,null,{"$f":"IF(Table1[[#This Row],[Wage differential Bonus                            - NotePay Rate you are bonusing to]]>0, Table1[[#This Row],[Wage differential Bonus                            - NotePay Rate you are bonusing to]]-Table1[[#This Row],[Pay Rate]], \"\")","v":""},{"$f":"IF(Table1[[#This Row],[Wage differential Bonus                            - NotePay Rate you are bonusing to]]>0,Table1[[#This Row],[Bonus Rate]]*Table1[[#This Row],[Hours]],\"\")","v":""},null,null,null,null,null,{"$f":"IF(OR(AH931>0.001,AH931<-0.001),Table1[[#This Row],[Employee '#]],\" \")","v":" "},false,{"$f":"SUMIF(Table1[[#This Row],[Total Wage Diff bonus]:[Bank Bonus]],\"<> \")","v":0},{"$f":"IF(AA931>0, Table1[[#This Row],[Column4]], IF(AB931>0,Table1[[#This Row],[Column4]],IF(X931>0,\"1000\")))","v":false}]
[null,null,null,null,null,null,null,null,null,null,null,null,null,null,null,null,0,null,null,null,null,null,null,null,{"$f":"IF(Table1[[#This Row],[Wage differential Bonus                            - NotePay Rate you are bonusing to]]>0, Table1[[#This Row],[Wage differential Bonus                            - NotePay Rate you are bonusing to]]-Table1[[#This Row],[Pay Rate]], \"\")","v":""},{"$f":"IF(Table1[[#This Row],[Wage differential Bonus                            - NotePay Rate you are bonusing to]]>0,Table1[[#This Row],[Bonus Rate]]*Table1[[#This Row],[Hours]],\"\")","v":""},null,null,null,null,null,{"$f":"IF(OR(AH932>0.001,AH932<-0.001),Table1[[#This Row],[Employee '#]],\" \")","v":" "},false,{"$f":"SUMIF(Table1[[#This Row],[Total Wage Diff bonus]:[Bank Bonus]],\"<> \")","v":0},{"$f":"IF(AA932>0, Table1[[#This Row],[Column4]], IF(AB932>0,Table1[[#This Row],[Column4]],IF(X932>0,\"1000\")))","v":false}]
[null,null,null,null,null,null,null,null,null,null,null,null,null,null,null,null,0,null,null,null,null,null,null,null,{"$f":"IF(Table1[[#This Row],[Wage differential Bonus                            - NotePay Rate you are bonusing to]]>0, Table1[[#This Row],[Wage differential Bonus                            - NotePay Rate you are bonusing to]]-Table1[[#This Row],[Pay Rate]], \"\")","v":""},{"$f":"IF(Table1[[#This Row],[Wage differential Bonus                            - NotePay Rate you are bonusing to]]>0,Table1[[#This Row],[Bonus Rate]]*Table1[[#This Row],[Hours]],\"\")","v":""},null,null,null,null,null,{"$f":"IF(OR(AH933>0.001,AH933<-0.001),Table1[[#This Row],[Employee '#]],\" \")","v":" "},false,{"$f":"SUMIF(Table1[[#This Row],[Total Wage Diff bonus]:[Bank Bonus]],\"<> \")","v":0},{"$f":"IF(AA933>0, Table1[[#This Row],[Column4]], IF(AB933>0,Table1[[#This Row],[Column4]],IF(X933>0,\"1000\")))","v":false}]
[null,null,null,null,null,null,null,null,null,null,null,null,null,null,null,null,0,null,null,null,null,null,null,null,{"$f":"IF(Table1[[#This Row],[Wage differential Bonus                            - NotePay Rate you are bonusing to]]>0, Table1[[#This Row],[Wage differential Bonus                            - NotePay Rate you are bonusing to]]-Table1[[#This Row],[Pay Rate]], \"\")","v":""},{"$f":"IF(Table1[[#This Row],[Wage differential Bonus                            - NotePay Rate you are bonusing to]]>0,Table1[[#This Row],[Bonus Rate]]*Table1[[#This Row],[Hours]],\"\")","v":""},null,null,null,null,null,{"$f":"IF(OR(AH934>0.001,AH934<-0.001),Table1[[#This Row],[Employee '#]],\" \")","v":" "},false,{"$f":"SUMIF(Table1[[#This Row],[Total Wage Diff bonus]:[Bank Bonus]],\"<> \")","v":0},{"$f":"IF(AA934>0, Table1[[#This Row],[Column4]], IF(AB934>0,Table1[[#This Row],[Column4]],IF(X934>0,\"1000\")))","v":false}]
[null,null,null,null,null,null,null,null,null,null,null,null,null,null,null,null,0,null,null,null,null,null,null,null,{"$f":"IF(Table1[[#This Row],[Wage differential Bonus                            - NotePay Rate you are bonusing to]]>0, Table1[[#This Row],[Wage differential Bonus                            - NotePay Rate you are bonusing to]]-Table1[[#This Row],[Pay Rate]], \"\")","v":""},{"$f":"IF(Table1[[#This Row],[Wage differential Bonus                            - NotePay Rate you are bonusing to]]>0,Table1[[#This Row],[Bonus Rate]]*Table1[[#This Row],[Hours]],\"\")","v":""},null,null,null,null,null,{"$f":"IF(OR(AH935>0.001,AH935<-0.001),Table1[[#This Row],[Employee '#]],\" \")","v":" "},false,{"$f":"SUMIF(Table1[[#This Row],[Total Wage Diff bonus]:[Bank Bonus]],\"<> \")","v":0},{"$f":"IF(AA935>0, Table1[[#This Row],[Column4]], IF(AB935>0,Table1[[#This Row],[Column4]],IF(X935>0,\"1000\")))","v":false}]
[null,null,null,null,null,null,null,null,null,null,null,null,null,null,null,null,0,null,null,null,null,null,null,null,{"$f":"IF(Table1[[#This Row],[Wage differential Bonus                            - NotePay Rate you are bonusing to]]>0, Table1[[#This Row],[Wage differential Bonus                            - NotePay Rate you are bonusing to]]-Table1[[#This Row],[Pay Rate]], \"\")","v":""},{"$f":"IF(Table1[[#This Row],[Wage differential Bonus                            - NotePay Rate you are bonusing to]]>0,Table1[[#This Row],[Bonus Rate]]*Table1[[#This Row],[Hours]],\"\")","v":""},null,null,null,null,null,{"$f":"IF(OR(AH936>0.001,AH936<-0.001),Table1[[#This Row],[Employee '#]],\" \")","v":" "},false,{"$f":"SUMIF(Table1[[#This Row],[Total Wage Diff bonus]:[Bank Bonus]],\"<> \")","v":0},{"$f":"IF(AA936>0, Table1[[#This Row],[Column4]], IF(AB936>0,Table1[[#This Row],[Column4]],IF(X936>0,\"1000\")))","v":false}]
[null,null,null,null,null,null,null,null,null,null,null,null,null,null,null,null,0,null,null,null,null,null,null,null,{"$f":"IF(Table1[[#This Row],[Wage differential Bonus                            - NotePay Rate you are bonusing to]]>0, Table1[[#This Row],[Wage differential Bonus                            - NotePay Rate you are bonusing to]]-Table1[[#This Row],[Pay Rate]], \"\")","v":""},{"$f":"IF(Table1[[#This Row],[Wage differential Bonus                            - NotePay Rate you are bonusing to]]>0,Table1[[#This Row],[Bonus Rate]]*Table1[[#This Row],[Hours]],\"\")","v":""},null,null,null,null,null,{"$f":"IF(OR(AH937>0.001,AH937<-0.001),Table1[[#This Row],[Employee '#]],\" \")","v":" "},false,{"$f":"SUMIF(Table1[[#This Row],[Total Wage Diff bonus]:[Bank Bonus]],\"<> \")","v":0},{"$f":"IF(AA937>0, Table1[[#This Row],[Column4]], IF(AB937>0,Table1[[#This Row],[Column4]],IF(X937>0,\"1000\")))","v":false}]
[null,null,null,null,null,null,null,null,null,null,null,null,null,null,null,null,0,null,null,null,null,null,null,null,{"$f":"IF(Table1[[#This Row],[Wage differential Bonus                            - NotePay Rate you are bonusing to]]>0, Table1[[#This Row],[Wage differential Bonus                            - NotePay Rate you are bonusing to]]-Table1[[#This Row],[Pay Rate]], \"\")","v":""},{"$f":"IF(Table1[[#This Row],[Wage differential Bonus                            - NotePay Rate you are bonusing to]]>0,Table1[[#This Row],[Bonus Rate]]*Table1[[#This Row],[Hours]],\"\")","v":""},null,null,null,null,null,{"$f":"IF(OR(AH938>0.001,AH938<-0.001),Table1[[#This Row],[Employee '#]],\" \")","v":" "},false,{"$f":"SUMIF(Table1[[#This Row],[Total Wage Diff bonus]:[Bank Bonus]],\"<> \")","v":0},{"$f":"IF(AA938>0, Table1[[#This Row],[Column4]], IF(AB938>0,Table1[[#This Row],[Column4]],IF(X938>0,\"1000\")))","v":false}]
[null,null,null,null,null,null,null,null,null,null,null,null,null,null,null,null,0,null,null,null,null,null,null,null,{"$f":"IF(Table1[[#This Row],[Wage differential Bonus                            - NotePay Rate you are bonusing to]]>0, Table1[[#This Row],[Wage differential Bonus                            - NotePay Rate you are bonusing to]]-Table1[[#This Row],[Pay Rate]], \"\")","v":""},{"$f":"IF(Table1[[#This Row],[Wage differential Bonus                            - NotePay Rate you are bonusing to]]>0,Table1[[#This Row],[Bonus Rate]]*Table1[[#This Row],[Hours]],\"\")","v":""},null,null,null,null,null,{"$f":"IF(OR(AH939>0.001,AH939<-0.001),Table1[[#This Row],[Employee '#]],\" \")","v":" "},false,{"$f":"SUMIF(Table1[[#This Row],[Total Wage Diff bonus]:[Bank Bonus]],\"<> \")","v":0},{"$f":"IF(AA939>0, Table1[[#This Row],[Column4]], IF(AB939>0,Table1[[#This Row],[Column4]],IF(X939>0,\"1000\")))","v":false}]
[null,null,null,null,null,null,null,null,null,null,null,null,null,null,null,null,0,null,null,null,null,null,null,null,{"$f":"IF(Table1[[#This Row],[Wage differential Bonus                            - NotePay Rate you are bonusing to]]>0, Table1[[#This Row],[Wage differential Bonus                            - NotePay Rate you are bonusing to]]-Table1[[#This Row],[Pay Rate]], \"\")","v":""},{"$f":"IF(Table1[[#This Row],[Wage differential Bonus                            - NotePay Rate you are bonusing to]]>0,Table1[[#This Row],[Bonus Rate]]*Table1[[#This Row],[Hours]],\"\")","v":""},null,null,null,null,null,{"$f":"IF(OR(AH940>0.001,AH940<-0.001),Table1[[#This Row],[Employee '#]],\" \")","v":" "},false,{"$f":"SUMIF(Table1[[#This Row],[Total Wage Diff bonus]:[Bank Bonus]],\"<> \")","v":0},{"$f":"IF(AA940>0, Table1[[#This Row],[Column4]], IF(AB940>0,Table1[[#This Row],[Column4]],IF(X940>0,\"1000\")))","v":false}]
[null,null,null,null,null,null,null,null,null,null,null,null,null,null,null,null,0,null,null,null,null,null,null,null,{"$f":"IF(Table1[[#This Row],[Wage differential Bonus                            - NotePay Rate you are bonusing to]]>0, Table1[[#This Row],[Wage differential Bonus                            - NotePay Rate you are bonusing to]]-Table1[[#This Row],[Pay Rate]], \"\")","v":""},{"$f":"IF(Table1[[#This Row],[Wage differential Bonus                            - NotePay Rate you are bonusing to]]>0,Table1[[#This Row],[Bonus Rate]]*Table1[[#This Row],[Hours]],\"\")","v":""},null,null,null,null,null,{"$f":"IF(OR(AH941>0.001,AH941<-0.001),Table1[[#This Row],[Employee '#]],\" \")","v":" "},false,{"$f":"SUMIF(Table1[[#This Row],[Total Wage Diff bonus]:[Bank Bonus]],\"<> \")","v":0},{"$f":"IF(AA941>0, Table1[[#This Row],[Column4]], IF(AB941>0,Table1[[#This Row],[Column4]],IF(X941>0,\"1000\")))","v":false}]
[null,null,null,null,null,null,null,null,null,null,null,null,null,null,null,null,0,null,null,null,null,null,null,null,{"$f":"IF(Table1[[#This Row],[Wage differential Bonus                            - NotePay Rate you are bonusing to]]>0, Table1[[#This Row],[Wage differential Bonus                            - NotePay Rate you are bonusing to]]-Table1[[#This Row],[Pay Rate]], \"\")","v":""},{"$f":"IF(Table1[[#This Row],[Wage differential Bonus                            - NotePay Rate you are bonusing to]]>0,Table1[[#This Row],[Bonus Rate]]*Table1[[#This Row],[Hours]],\"\")","v":""},null,null,null,null,null,{"$f":"IF(OR(AH942>0.001,AH942<-0.001),Table1[[#This Row],[Employee '#]],\" \")","v":" "},false,{"$f":"SUMIF(Table1[[#This Row],[Total Wage Diff bonus]:[Bank Bonus]],\"<> \")","v":0},{"$f":"IF(AA942>0, Table1[[#This Row],[Column4]], IF(AB942>0,Table1[[#This Row],[Column4]],IF(X942>0,\"1000\")))","v":false}]
[null,null,null,null,null,null,null,null,null,null,null,null,null,null,null,null,0,null,null,null,null,null,null,null,{"$f":"IF(Table1[[#This Row],[Wage differential Bonus                            - NotePay Rate you are bonusing to]]>0, Table1[[#This Row],[Wage differential Bonus                            - NotePay Rate you are bonusing to]]-Table1[[#This Row],[Pay Rate]], \"\")","v":""},{"$f":"IF(Table1[[#This Row],[Wage differential Bonus                            - NotePay Rate you are bonusing to]]>0,Table1[[#This Row],[Bonus Rate]]*Table1[[#This Row],[Hours]],\"\")","v":""},null,null,null,null,null,{"$f":"IF(OR(AH943>0.001,AH943<-0.001),Table1[[#This Row],[Employee '#]],\" \")","v":" "},false,{"$f":"SUMIF(Table1[[#This Row],[Total Wage Diff bonus]:[Bank Bonus]],\"<> \")","v":0},{"$f":"IF(AA943>0, Table1[[#This Row],[Column4]], IF(AB943>0,Table1[[#This Row],[Column4]],IF(X943>0,\"1000\")))","v":false}]
[null,null,null,null,null,null,null,null,null,null,null,null,null,null,null,null,0,null,null,null,null,null,null,null,{"$f":"IF(Table1[[#This Row],[Wage differential Bonus                            - NotePay Rate you are bonusing to]]>0, Table1[[#This Row],[Wage differential Bonus                            - NotePay Rate you are bonusing to]]-Table1[[#This Row],[Pay Rate]], \"\")","v":""},{"$f":"IF(Table1[[#This Row],[Wage differential Bonus                            - NotePay Rate you are bonusing to]]>0,Table1[[#This Row],[Bonus Rate]]*Table1[[#This Row],[Hours]],\"\")","v":""},null,null,null,null,null,{"$f":"IF(OR(AH944>0.001,AH944<-0.001),Table1[[#This Row],[Employee '#]],\" \")","v":" "},false,{"$f":"SUMIF(Table1[[#This Row],[Total Wage Diff bonus]:[Bank Bonus]],\"<> \")","v":0},{"$f":"IF(AA944>0, Table1[[#This Row],[Column4]], IF(AB944>0,Table1[[#This Row],[Column4]],IF(X944>0,\"1000\")))","v":false}]
[null,null,null,null,null,null,null,null,null,null,null,null,null,null,null,null,0,null,null,null,null,null,null,null,{"$f":"IF(Table1[[#This Row],[Wage differential Bonus                            - NotePay Rate you are bonusing to]]>0, Table1[[#This Row],[Wage differential Bonus                            - NotePay Rate you are bonusing to]]-Table1[[#This Row],[Pay Rate]], \"\")","v":""},{"$f":"IF(Table1[[#This Row],[Wage differential Bonus                            - NotePay Rate you are bonusing to]]>0,Table1[[#This Row],[Bonus Rate]]*Table1[[#This Row],[Hours]],\"\")","v":""},null,null,null,null,null,{"$f":"IF(OR(AH945>0.001,AH945<-0.001),Table1[[#This Row],[Employee '#]],\" \")","v":" "},false,{"$f":"SUMIF(Table1[[#This Row],[Total Wage Diff bonus]:[Bank Bonus]],\"<> \")","v":0},{"$f":"IF(AA945>0, Table1[[#This Row],[Column4]], IF(AB945>0,Table1[[#This Row],[Column4]],IF(X945>0,\"1000\")))","v":false}]
[null,null,null,null,null,null,null,null,null,null,null,null,null,null,null,null,0,null,null,null,null,null,null,null,{"$f":"IF(Table1[[#This Row],[Wage differential Bonus                            - NotePay Rate you are bonusing to]]>0, Table1[[#This Row],[Wage differential Bonus                            - NotePay Rate you are bonusing to]]-Table1[[#This Row],[Pay Rate]], \"\")","v":""},{"$f":"IF(Table1[[#This Row],[Wage differential Bonus                            - NotePay Rate you are bonusing to]]>0,Table1[[#This Row],[Bonus Rate]]*Table1[[#This Row],[Hours]],\"\")","v":""},null,null,null,null,null,{"$f":"IF(OR(AH946>0.001,AH946<-0.001),Table1[[#This Row],[Employee '#]],\" \")","v":" "},false,{"$f":"SUMIF(Table1[[#This Row],[Total Wage Diff bonus]:[Bank Bonus]],\"<> \")","v":0},{"$f":"IF(AA946>0, Table1[[#This Row],[Column4]], IF(AB946>0,Table1[[#This Row],[Column4]],IF(X946>0,\"1000\")))","v":false}]
[null,null,null,null,null,null,null,null,null,null,null,null,null,null,null,null,0,null,null,null,null,null,null,null,{"$f":"IF(Table1[[#This Row],[Wage differential Bonus                            - NotePay Rate you are bonusing to]]>0, Table1[[#This Row],[Wage differential Bonus                            - NotePay Rate you are bonusing to]]-Table1[[#This Row],[Pay Rate]], \"\")","v":""},{"$f":"IF(Table1[[#This Row],[Wage differential Bonus                            - NotePay Rate you are bonusing to]]>0,Table1[[#This Row],[Bonus Rate]]*Table1[[#This Row],[Hours]],\"\")","v":""},null,null,null,null,null,{"$f":"IF(OR(AH947>0.001,AH947<-0.001),Table1[[#This Row],[Employee '#]],\" \")","v":" "},false,{"$f":"SUMIF(Table1[[#This Row],[Total Wage Diff bonus]:[Bank Bonus]],\"<> \")","v":0},{"$f":"IF(AA947>0, Table1[[#This Row],[Column4]], IF(AB947>0,Table1[[#This Row],[Column4]],IF(X947>0,\"1000\")))","v":false}]
[null,null,null,null,null,null,null,null,null,null,null,null,null,null,null,null,0,null,null,null,null,null,null,null,{"$f":"IF(Table1[[#This Row],[Wage differential Bonus                            - NotePay Rate you are bonusing to]]>0, Table1[[#This Row],[Wage differential Bonus                            - NotePay Rate you are bonusing to]]-Table1[[#This Row],[Pay Rate]], \"\")","v":""},{"$f":"IF(Table1[[#This Row],[Wage differential Bonus                            - NotePay Rate you are bonusing to]]>0,Table1[[#This Row],[Bonus Rate]]*Table1[[#This Row],[Hours]],\"\")","v":""},null,null,null,null,null,{"$f":"IF(OR(AH948>0.001,AH948<-0.001),Table1[[#This Row],[Employee '#]],\" \")","v":" "},false,{"$f":"SUMIF(Table1[[#This Row],[Total Wage Diff bonus]:[Bank Bonus]],\"<> \")","v":0},{"$f":"IF(AA948>0, Table1[[#This Row],[Column4]], IF(AB948>0,Table1[[#This Row],[Column4]],IF(X948>0,\"1000\")))","v":false}]
[null,null,null,null,null,null,null,null,null,null,null,null,null,null,null,null,0,null,null,null,null,null,null,null,{"$f":"IF(Table1[[#This Row],[Wage differential Bonus                            - NotePay Rate you are bonusing to]]>0, Table1[[#This Row],[Wage differential Bonus                            - NotePay Rate you are bonusing to]]-Table1[[#This Row],[Pay Rate]], \"\")","v":""},{"$f":"IF(Table1[[#This Row],[Wage differential Bonus                            - NotePay Rate you are bonusing to]]>0,Table1[[#This Row],[Bonus Rate]]*Table1[[#This Row],[Hours]],\"\")","v":""},null,null,null,null,null,{"$f":"IF(OR(AH949>0.001,AH949<-0.001),Table1[[#This Row],[Employee '#]],\" \")","v":" "},false,{"$f":"SUMIF(Table1[[#This Row],[Total Wage Diff bonus]:[Bank Bonus]],\"<> \")","v":0},{"$f":"IF(AA949>0, Table1[[#This Row],[Column4]], IF(AB949>0,Table1[[#This Row],[Column4]],IF(X949>0,\"1000\")))","v":false}]
[null,null,null,null,null,null,null,null,null,null,null,null,null,null,null,null,0,null,null,null,null,null,null,null,{"$f":"IF(Table1[[#This Row],[Wage differential Bonus                            - NotePay Rate you are bonusing to]]>0, Table1[[#This Row],[Wage differential Bonus                            - NotePay Rate you are bonusing to]]-Table1[[#This Row],[Pay Rate]], \"\")","v":""},{"$f":"IF(Table1[[#This Row],[Wage differential Bonus                            - NotePay Rate you are bonusing to]]>0,Table1[[#This Row],[Bonus Rate]]*Table1[[#This Row],[Hours]],\"\")","v":""},null,null,null,null,null,{"$f":"IF(OR(AH950>0.001,AH950<-0.001),Table1[[#This Row],[Employee '#]],\" \")","v":" "},false,{"$f":"SUMIF(Table1[[#This Row],[Total Wage Diff bonus]:[Bank Bonus]],\"<> \")","v":0},{"$f":"IF(AA950>0, Table1[[#This Row],[Column4]], IF(AB950>0,Table1[[#This Row],[Column4]],IF(X950>0,\"1000\")))","v":false}]
[null,null,null,null,null,null,null,null,null,null,null,null,null,null,null,null,0,null,null,null,null,null,null,null,{"$f":"IF(Table1[[#This Row],[Wage differential Bonus                            - NotePay Rate you are bonusing to]]>0, Table1[[#This Row],[Wage differential Bonus                            - NotePay Rate you are bonusing to]]-Table1[[#This Row],[Pay Rate]], \"\")","v":""},{"$f":"IF(Table1[[#This Row],[Wage differential Bonus                            - NotePay Rate you are bonusing to]]>0,Table1[[#This Row],[Bonus Rate]]*Table1[[#This Row],[Hours]],\"\")","v":""},null,null,null,null,null,{"$f":"IF(OR(AH951>0.001,AH951<-0.001),Table1[[#This Row],[Employee '#]],\" \")","v":" "},false,{"$f":"SUMIF(Table1[[#This Row],[Total Wage Diff bonus]:[Bank Bonus]],\"<> \")","v":0},{"$f":"IF(AA951>0, Table1[[#This Row],[Column4]], IF(AB951>0,Table1[[#This Row],[Column4]],IF(X951>0,\"1000\")))","v":false}]
[null,null,null,null,null,null,null,null,null,null,null,null,null,null,null,null,0,null,null,null,null,null,null,null,{"$f":"IF(Table1[[#This Row],[Wage differential Bonus                            - NotePay Rate you are bonusing to]]>0, Table1[[#This Row],[Wage differential Bonus                            - NotePay Rate you are bonusing to]]-Table1[[#This Row],[Pay Rate]], \"\")","v":""},{"$f":"IF(Table1[[#This Row],[Wage differential Bonus                            - NotePay Rate you are bonusing to]]>0,Table1[[#This Row],[Bonus Rate]]*Table1[[#This Row],[Hours]],\"\")","v":""},null,null,null,null,null,{"$f":"IF(OR(AH952>0.001,AH952<-0.001),Table1[[#This Row],[Employee '#]],\" \")","v":" "},false,{"$f":"SUMIF(Table1[[#This Row],[Total Wage Diff bonus]:[Bank Bonus]],\"<> \")","v":0},{"$f":"IF(AA952>0, Table1[[#This Row],[Column4]], IF(AB952>0,Table1[[#This Row],[Column4]],IF(X952>0,\"1000\")))","v":false}]
[null,null,null,null,null,null,null,null,null,null,null,null,null,null,null,null,0,null,null,null,null,null,null,null,{"$f":"IF(Table1[[#This Row],[Wage differential Bonus                            - NotePay Rate you are bonusing to]]>0, Table1[[#This Row],[Wage differential Bonus                            - NotePay Rate you are bonusing to]]-Table1[[#This Row],[Pay Rate]], \"\")","v":""},{"$f":"IF(Table1[[#This Row],[Wage differential Bonus                            - NotePay Rate you are bonusing to]]>0,Table1[[#This Row],[Bonus Rate]]*Table1[[#This Row],[Hours]],\"\")","v":""},null,null,null,null,null,{"$f":"IF(OR(AH953>0.001,AH953<-0.001),Table1[[#This Row],[Employee '#]],\" \")","v":" "},false,{"$f":"SUMIF(Table1[[#This Row],[Total Wage Diff bonus]:[Bank Bonus]],\"<> \")","v":0},{"$f":"IF(AA953>0, Table1[[#This Row],[Column4]], IF(AB953>0,Table1[[#This Row],[Column4]],IF(X953>0,\"1000\")))","v":false}]
[null,null,null,null,null,null,null,null,null,null,null,null,null,null,null,null,0,null,null,null,null,null,null,null,{"$f":"IF(Table1[[#This Row],[Wage differential Bonus                            - NotePay Rate you are bonusing to]]>0, Table1[[#This Row],[Wage differential Bonus                            - NotePay Rate you are bonusing to]]-Table1[[#This Row],[Pay Rate]], \"\")","v":""},{"$f":"IF(Table1[[#This Row],[Wage differential Bonus                            - NotePay Rate you are bonusing to]]>0,Table1[[#This Row],[Bonus Rate]]*Table1[[#This Row],[Hours]],\"\")","v":""},null,null,null,null,null,{"$f":"IF(OR(AH954>0.001,AH954<-0.001),Table1[[#This Row],[Employee '#]],\" \")","v":" "},false,{"$f":"SUMIF(Table1[[#This Row],[Total Wage Diff bonus]:[Bank Bonus]],\"<> \")","v":0},{"$f":"IF(AA954>0, Table1[[#This Row],[Column4]], IF(AB954>0,Table1[[#This Row],[Column4]],IF(X954>0,\"1000\")))","v":false}]
[null,null,null,null,null,null,null,null,null,null,null,null,null,null,null,null,0,null,null,null,null,null,null,null,{"$f":"IF(Table1[[#This Row],[Wage differential Bonus                            - NotePay Rate you are bonusing to]]>0, Table1[[#This Row],[Wage differential Bonus                            - NotePay Rate you are bonusing to]]-Table1[[#This Row],[Pay Rate]], \"\")","v":""},{"$f":"IF(Table1[[#This Row],[Wage differential Bonus                            - NotePay Rate you are bonusing to]]>0,Table1[[#This Row],[Bonus Rate]]*Table1[[#This Row],[Hours]],\"\")","v":""},null,null,null,null,null,{"$f":"IF(OR(AH955>0.001,AH955<-0.001),Table1[[#This Row],[Employee '#]],\" \")","v":" "},false,{"$f":"SUMIF(Table1[[#This Row],[Total Wage Diff bonus]:[Bank Bonus]],\"<> \")","v":0},{"$f":"IF(AA955>0, Table1[[#This Row],[Column4]], IF(AB955>0,Table1[[#This Row],[Column4]],IF(X955>0,\"1000\")))","v":false}]
[null,null,null,null,null,null,null,null,null,null,null,null,null,null,null,null,0,null,null,null,null,null,null,null,{"$f":"IF(Table1[[#This Row],[Wage differential Bonus                            - NotePay Rate you are bonusing to]]>0, Table1[[#This Row],[Wage differential Bonus                            - NotePay Rate you are bonusing to]]-Table1[[#This Row],[Pay Rate]], \"\")","v":""},{"$f":"IF(Table1[[#This Row],[Wage differential Bonus                            - NotePay Rate you are bonusing to]]>0,Table1[[#This Row],[Bonus Rate]]*Table1[[#This Row],[Hours]],\"\")","v":""},null,null,null,null,null,{"$f":"IF(OR(AH956>0.001,AH956<-0.001),Table1[[#This Row],[Employee '#]],\" \")","v":" "},false,{"$f":"SUMIF(Table1[[#This Row],[Total Wage Diff bonus]:[Bank Bonus]],\"<> \")","v":0},{"$f":"IF(AA956>0, Table1[[#This Row],[Column4]], IF(AB956>0,Table1[[#This Row],[Column4]],IF(X956>0,\"1000\")))","v":false}]
[null,null,null,null,null,null,null,null,null,null,null,null,null,null,null,null,0,null,null,null,null,null,null,null,{"$f":"IF(Table1[[#This Row],[Wage differential Bonus                            - NotePay Rate you are bonusing to]]>0, Table1[[#This Row],[Wage differential Bonus                            - NotePay Rate you are bonusing to]]-Table1[[#This Row],[Pay Rate]], \"\")","v":""},{"$f":"IF(Table1[[#This Row],[Wage differential Bonus                            - NotePay Rate you are bonusing to]]>0,Table1[[#This Row],[Bonus Rate]]*Table1[[#This Row],[Hours]],\"\")","v":""},null,null,null,null,null,{"$f":"IF(OR(AH957>0.001,AH957<-0.001),Table1[[#This Row],[Employee '#]],\" \")","v":" "},false,{"$f":"SUMIF(Table1[[#This Row],[Total Wage Diff bonus]:[Bank Bonus]],\"<> \")","v":0},{"$f":"IF(AA957>0, Table1[[#This Row],[Column4]], IF(AB957>0,Table1[[#This Row],[Column4]],IF(X957>0,\"1000\")))","v":false}]
[null,null,null,null,null,null,null,null,null,null,null,null,null,null,null,null,0,null,null,null,null,null,null,null,{"$f":"IF(Table1[[#This Row],[Wage differential Bonus                            - NotePay Rate you are bonusing to]]>0, Table1[[#This Row],[Wage differential Bonus                            - NotePay Rate you are bonusing to]]-Table1[[#This Row],[Pay Rate]], \"\")","v":""},{"$f":"IF(Table1[[#This Row],[Wage differential Bonus                            - NotePay Rate you are bonusing to]]>0,Table1[[#This Row],[Bonus Rate]]*Table1[[#This Row],[Hours]],\"\")","v":""},null,null,null,null,null,{"$f":"IF(OR(AH958>0.001,AH958<-0.001),Table1[[#This Row],[Employee '#]],\" \")","v":" "},false,{"$f":"SUMIF(Table1[[#This Row],[Total Wage Diff bonus]:[Bank Bonus]],\"<> \")","v":0},{"$f":"IF(AA958>0, Table1[[#This Row],[Column4]], IF(AB958>0,Table1[[#This Row],[Column4]],IF(X958>0,\"1000\")))","v":false}]
[null,null,null,null,null,null,null,null,null,null,null,null,null,null,null,null,0,null,null,null,null,null,null,null,{"$f":"IF(Table1[[#This Row],[Wage differential Bonus                            - NotePay Rate you are bonusing to]]>0, Table1[[#This Row],[Wage differential Bonus                            - NotePay Rate you are bonusing to]]-Table1[[#This Row],[Pay Rate]], \"\")","v":""},{"$f":"IF(Table1[[#This Row],[Wage differential Bonus                            - NotePay Rate you are bonusing to]]>0,Table1[[#This Row],[Bonus Rate]]*Table1[[#This Row],[Hours]],\"\")","v":""},null,null,null,null,null,{"$f":"IF(OR(AH959>0.001,AH959<-0.001),Table1[[#This Row],[Employee '#]],\" \")","v":" "},false,{"$f":"SUMIF(Table1[[#This Row],[Total Wage Diff bonus]:[Bank Bonus]],\"<> \")","v":0},{"$f":"IF(AA959>0, Table1[[#This Row],[Column4]], IF(AB959>0,Table1[[#This Row],[Column4]],IF(X959>0,\"1000\")))","v":false}]
[null,null,null,null,null,null,null,null,null,null,null,null,null,null,null,null,0,null,null,null,null,null,null,null,{"$f":"IF(Table1[[#This Row],[Wage differential Bonus                            - NotePay Rate you are bonusing to]]>0, Table1[[#This Row],[Wage differential Bonus                            - NotePay Rate you are bonusing to]]-Table1[[#This Row],[Pay Rate]], \"\")","v":""},{"$f":"IF(Table1[[#This Row],[Wage differential Bonus                            - NotePay Rate you are bonusing to]]>0,Table1[[#This Row],[Bonus Rate]]*Table1[[#This Row],[Hours]],\"\")","v":""},null,null,null,null,null,{"$f":"IF(OR(AH960>0.001,AH960<-0.001),Table1[[#This Row],[Employee '#]],\" \")","v":" "},false,{"$f":"SUMIF(Table1[[#This Row],[Total Wage Diff bonus]:[Bank Bonus]],\"<> \")","v":0},{"$f":"IF(AA960>0, Table1[[#This Row],[Column4]], IF(AB960>0,Table1[[#This Row],[Column4]],IF(X960>0,\"1000\")))","v":false}]
[null,null,null,null,null,null,null,null,null,null,null,null,null,null,null,null,0,null,null,null,null,null,null,null,{"$f":"IF(Table1[[#This Row],[Wage differential Bonus                            - NotePay Rate you are bonusing to]]>0, Table1[[#This Row],[Wage differential Bonus                            - NotePay Rate you are bonusing to]]-Table1[[#This Row],[Pay Rate]], \"\")","v":""},{"$f":"IF(Table1[[#This Row],[Wage differential Bonus                            - NotePay Rate you are bonusing to]]>0,Table1[[#This Row],[Bonus Rate]]*Table1[[#This Row],[Hours]],\"\")","v":""},null,null,null,null,null,{"$f":"IF(OR(AH961>0.001,AH961<-0.001),Table1[[#This Row],[Employee '#]],\" \")","v":" "},false,{"$f":"SUMIF(Table1[[#This Row],[Total Wage Diff bonus]:[Bank Bonus]],\"<> \")","v":0},{"$f":"IF(AA961>0, Table1[[#This Row],[Column4]], IF(AB961>0,Table1[[#This Row],[Column4]],IF(X961>0,\"1000\")))","v":false}]
[null,null,null,null,null,null,null,null,null,null,null,null,null,null,null,null,0,null,null,null,null,null,null,null,{"$f":"IF(Table1[[#This Row],[Wage differential Bonus                            - NotePay Rate you are bonusing to]]>0, Table1[[#This Row],[Wage differential Bonus                            - NotePay Rate you are bonusing to]]-Table1[[#This Row],[Pay Rate]], \"\")","v":""},{"$f":"IF(Table1[[#This Row],[Wage differential Bonus                            - NotePay Rate you are bonusing to]]>0,Table1[[#This Row],[Bonus Rate]]*Table1[[#This Row],[Hours]],\"\")","v":""},null,null,null,null,null,{"$f":"IF(OR(AH962>0.001,AH962<-0.001),Table1[[#This Row],[Employee '#]],\" \")","v":" "},false,{"$f":"SUMIF(Table1[[#This Row],[Total Wage Diff bonus]:[Bank Bonus]],\"<> \")","v":0},{"$f":"IF(AA962>0, Table1[[#This Row],[Column4]], IF(AB962>0,Table1[[#This Row],[Column4]],IF(X962>0,\"1000\")))","v":false}]
[null,null,null,null,null,null,null,null,null,null,null,null,null,null,null,null,0,null,null,null,null,null,null,null,{"$f":"IF(Table1[[#This Row],[Wage differential Bonus                            - NotePay Rate you are bonusing to]]>0, Table1[[#This Row],[Wage differential Bonus                            - NotePay Rate you are bonusing to]]-Table1[[#This Row],[Pay Rate]], \"\")","v":""},{"$f":"IF(Table1[[#This Row],[Wage differential Bonus                            - NotePay Rate you are bonusing to]]>0,Table1[[#This Row],[Bonus Rate]]*Table1[[#This Row],[Hours]],\"\")","v":""},null,null,null,null,null,{"$f":"IF(OR(AH963>0.001,AH963<-0.001),Table1[[#This Row],[Employee '#]],\" \")","v":" "},false,{"$f":"SUMIF(Table1[[#This Row],[Total Wage Diff bonus]:[Bank Bonus]],\"<> \")","v":0},{"$f":"IF(AA963>0, Table1[[#This Row],[Column4]], IF(AB963>0,Table1[[#This Row],[Column4]],IF(X963>0,\"1000\")))","v":false}]
[null,null,null,null,null,null,null,null,null,null,null,null,null,null,null,null,{"$f":"L964+P964","v":0},null,null,null,null,null,null,null,{"$f":"IF(Table1[[#This Row],[Wage differential Bonus                            - NotePay Rate you are bonusing to]]>0, Table1[[#This Row],[Wage differential Bonus                            - NotePay Rate you are bonusing to]]-Table1[[#This Row],[Pay Rate]], \"\")","v":""},{"$f":"IF(Table1[[#This Row],[Wage differential Bonus                            - NotePay Rate you are bonusing to]]>0,Table1[[#This Row],[Bonus Rate]]*Table1[[#This Row],[Hours]],\"\")","v":""},null,null,null,null,null,{"$f":"IF(OR(AH964>0.001,AH964<-0.001),Table1[[#This Row],[Employee '#]],\" \")","v":" "},{"$f":"IF(AA964>0, \"28\", IF(AB964>0,\"53\",IF(X964>0,\"20\")))","v":false},{"$f":"SUMIF(Table1[[#This Row],[Total Wage Diff bonus]:[Bank Bonus]],\"<> \")","v":0},{"$f":"IF(AA964>0, Table1[[#This Row],[Column4]], IF(AB964>0,Table1[[#This Row],[Column4]],IF(X964>0,\"1000\")))","v":false}]
[null,null,null,null,null,null,null,null,null,null,null,null,null,null,null,null,0,null,null,null,null,null,null,null,{"$f":"IF(Table1[[#This Row],[Wage differential Bonus                            - NotePay Rate you are bonusing to]]>0, Table1[[#This Row],[Wage differential Bonus                            - NotePay Rate you are bonusing to]]-Table1[[#This Row],[Pay Rate]], \"\")","v":""},{"$f":"IF(Table1[[#This Row],[Wage differential Bonus                            - NotePay Rate you are bonusing to]]>0,Table1[[#This Row],[Bonus Rate]]*Table1[[#This Row],[Hours]],\"\")","v":""},null,null,null,null,null,{"$f":"IF(OR(AH965>0.001,AH965<-0.001),Table1[[#This Row],[Employee '#]],\" \")","v":" "},false,{"$f":"SUMIF(Table1[[#This Row],[Total Wage Diff bonus]:[Bank Bonus]],\"<> \")","v":0},{"$f":"IF(AA965>0, Table1[[#This Row],[Column4]], IF(AB965>0,Table1[[#This Row],[Column4]],IF(X965>0,\"1000\")))","v":false}]
[null,null,null,null,null,null,null,null,null,null,null,null,null,null,null,null,0,null,null,null,null,null,null,null,{"$f":"IF(Table1[[#This Row],[Wage differential Bonus                            - NotePay Rate you are bonusing to]]>0, Table1[[#This Row],[Wage differential Bonus                            - NotePay Rate you are bonusing to]]-Table1[[#This Row],[Pay Rate]], \"\")","v":""},{"$f":"IF(Table1[[#This Row],[Wage differential Bonus                            - NotePay Rate you are bonusing to]]>0,Table1[[#This Row],[Bonus Rate]]*Table1[[#This Row],[Hours]],\"\")","v":""},null,null,null,null,null,{"$f":"IF(OR(AH966>0.001,AH966<-0.001),Table1[[#This Row],[Employee '#]],\" \")","v":" "},false,{"$f":"SUMIF(Table1[[#This Row],[Total Wage Diff bonus]:[Bank Bonus]],\"<> \")","v":0},{"$f":"IF(AA966>0, Table1[[#This Row],[Column4]], IF(AB966>0,Table1[[#This Row],[Column4]],IF(X966>0,\"1000\")))","v":false}]
[null,null,null,null,null,null,null,null,null,null,null,null,null,null,null,null,0,null,null,null,null,null,null,null,{"$f":"IF(Table1[[#This Row],[Wage differential Bonus                            - NotePay Rate you are bonusing to]]>0, Table1[[#This Row],[Wage differential Bonus                            - NotePay Rate you are bonusing to]]-Table1[[#This Row],[Pay Rate]], \"\")","v":""},{"$f":"IF(Table1[[#This Row],[Wage differential Bonus                            - NotePay Rate you are bonusing to]]>0,Table1[[#This Row],[Bonus Rate]]*Table1[[#This Row],[Hours]],\"\")","v":""},null,null,null,null,null,{"$f":"IF(OR(AH967>0.001,AH967<-0.001),Table1[[#This Row],[Employee '#]],\" \")","v":" "},false,{"$f":"SUMIF(Table1[[#This Row],[Total Wage Diff bonus]:[Bank Bonus]],\"<> \")","v":0},{"$f":"IF(AA967>0, Table1[[#This Row],[Column4]], IF(AB967>0,Table1[[#This Row],[Column4]],IF(X967>0,\"1000\")))","v":false}]
[null,null,null,null,null,null,null,null,null,null,null,null,null,null,null,null,0,null,null,null,null,null,null,null,{"$f":"IF(Table1[[#This Row],[Wage differential Bonus                            - NotePay Rate you are bonusing to]]>0, Table1[[#This Row],[Wage differential Bonus                            - NotePay Rate you are bonusing to]]-Table1[[#This Row],[Pay Rate]], \"\")","v":""},{"$f":"IF(Table1[[#This Row],[Wage differential Bonus                            - NotePay Rate you are bonusing to]]>0,Table1[[#This Row],[Bonus Rate]]*Table1[[#This Row],[Hours]],\"\")","v":""},null,null,null,null,null,{"$f":"IF(OR(AH968>0.001,AH968<-0.001),Table1[[#This Row],[Employee '#]],\" \")","v":" "},false,{"$f":"SUMIF(Table1[[#This Row],[Total Wage Diff bonus]:[Bank Bonus]],\"<> \")","v":0},{"$f":"IF(AA968>0, Table1[[#This Row],[Column4]], IF(AB968>0,Table1[[#This Row],[Column4]],IF(X968>0,\"1000\")))","v":false}]
[null,null,null,null,null,null,null,null,null,null,null,null,null,null,null,null,0,null,null,null,null,null,null,null,{"$f":"IF(Table1[[#This Row],[Wage differential Bonus                            - NotePay Rate you are bonusing to]]>0, Table1[[#This Row],[Wage differential Bonus                            - NotePay Rate you are bonusing to]]-Table1[[#This Row],[Pay Rate]], \"\")","v":""},{"$f":"IF(Table1[[#This Row],[Wage differential Bonus                            - NotePay Rate you are bonusing to]]>0,Table1[[#This Row],[Bonus Rate]]*Table1[[#This Row],[Hours]],\"\")","v":""},null,null,null,null,null,{"$f":"IF(OR(AH969>0.001,AH969<-0.001),Table1[[#This Row],[Employee '#]],\" \")","v":" "},false,{"$f":"SUMIF(Table1[[#This Row],[Total Wage Diff bonus]:[Bank Bonus]],\"<> \")","v":0},{"$f":"IF(AA969>0, Table1[[#This Row],[Column4]], IF(AB969>0,Table1[[#This Row],[Column4]],IF(X969>0,\"1000\")))","v":false}]
[null,null,null,null,null,null,null,null,null,null,null,null,null,null,null,null,0,null,null,null,null,null,null,null,{"$f":"IF(Table1[[#This Row],[Wage differential Bonus                            - NotePay Rate you are bonusing to]]>0, Table1[[#This Row],[Wage differential Bonus                            - NotePay Rate you are bonusing to]]-Table1[[#This Row],[Pay Rate]], \"\")","v":""},{"$f":"IF(Table1[[#This Row],[Wage differential Bonus                            - NotePay Rate you are bonusing to]]>0,Table1[[#This Row],[Bonus Rate]]*Table1[[#This Row],[Hours]],\"\")","v":""},null,null,null,null,null,{"$f":"IF(OR(AH970>0.001,AH970<-0.001),Table1[[#This Row],[Employee '#]],\" \")","v":" "},false,{"$f":"SUMIF(Table1[[#This Row],[Total Wage Diff bonus]:[Bank Bonus]],\"<> \")","v":0},{"$f":"IF(AA970>0, Table1[[#This Row],[Column4]], IF(AB970>0,Table1[[#This Row],[Column4]],IF(X970>0,\"1000\")))","v":false}]
[null,null,null,null,null,null,null,null,null,null,null,null,null,null,null,null,0,null,null,null,null,null,null,null,{"$f":"IF(Table1[[#This Row],[Wage differential Bonus                            - NotePay Rate you are bonusing to]]>0, Table1[[#This Row],[Wage differential Bonus                            - NotePay Rate you are bonusing to]]-Table1[[#This Row],[Pay Rate]], \"\")","v":""},{"$f":"IF(Table1[[#This Row],[Wage differential Bonus                            - NotePay Rate you are bonusing to]]>0,Table1[[#This Row],[Bonus Rate]]*Table1[[#This Row],[Hours]],\"\")","v":""},null,null,null,null,null,{"$f":"IF(OR(AH971>0.001,AH971<-0.001),Table1[[#This Row],[Employee '#]],\" \")","v":" "},false,{"$f":"SUMIF(Table1[[#This Row],[Total Wage Diff bonus]:[Bank Bonus]],\"<> \")","v":0},{"$f":"IF(AA971>0, Table1[[#This Row],[Column4]], IF(AB971>0,Table1[[#This Row],[Column4]],IF(X971>0,\"1000\")))","v":false}]
[null,null,null,null,null,null,null,null,null,null,null,null,null,null,null,null,0,null,null,null,null,null,null,null,{"$f":"IF(Table1[[#This Row],[Wage differential Bonus                            - NotePay Rate you are bonusing to]]>0, Table1[[#This Row],[Wage differential Bonus                            - NotePay Rate you are bonusing to]]-Table1[[#This Row],[Pay Rate]], \"\")","v":""},{"$f":"IF(Table1[[#This Row],[Wage differential Bonus                            - NotePay Rate you are bonusing to]]>0,Table1[[#This Row],[Bonus Rate]]*Table1[[#This Row],[Hours]],\"\")","v":""},null,null,null,null,null,{"$f":"IF(OR(AH972>0.001,AH972<-0.001),Table1[[#This Row],[Employee '#]],\" \")","v":" "},false,{"$f":"SUMIF(Table1[[#This Row],[Total Wage Diff bonus]:[Bank Bonus]],\"<> \")","v":0},{"$f":"IF(AA972>0, Table1[[#This Row],[Column4]], IF(AB972>0,Table1[[#This Row],[Column4]],IF(X972>0,\"1000\")))","v":false}]
[null,null,null,null,null,null,null,null,null,null,null,null,null,null,null,null,0,null,null,null,null,null,null,null,{"$f":"IF(Table1[[#This Row],[Wage differential Bonus                            - NotePay Rate you are bonusing to]]>0, Table1[[#This Row],[Wage differential Bonus                            - NotePay Rate you are bonusing to]]-Table1[[#This Row],[Pay Rate]], \"\")","v":""},{"$f":"IF(Table1[[#This Row],[Wage differential Bonus                            - NotePay Rate you are bonusing to]]>0,Table1[[#This Row],[Bonus Rate]]*Table1[[#This Row],[Hours]],\"\")","v":""},null,null,null,null,null,{"$f":"IF(OR(AH973>0.001,AH973<-0.001),Table1[[#This Row],[Employee '#]],\" \")","v":" "},false,{"$f":"SUMIF(Table1[[#This Row],[Total Wage Diff bonus]:[Bank Bonus]],\"<> \")","v":0},{"$f":"IF(AA973>0, Table1[[#This Row],[Column4]], IF(AB973>0,Table1[[#This Row],[Column4]],IF(X973>0,\"1000\")))","v":false}]
[null,null,null,null,null,null,null,null,null,null,null,null,null,null,null,null,0,null,null,null,null,null,null,null,{"$f":"IF(Table1[[#This Row],[Wage differential Bonus                            - NotePay Rate you are bonusing to]]>0, Table1[[#This Row],[Wage differential Bonus                            - NotePay Rate you are bonusing to]]-Table1[[#This Row],[Pay Rate]], \"\")","v":""},{"$f":"IF(Table1[[#This Row],[Wage differential Bonus                            - NotePay Rate you are bonusing to]]>0,Table1[[#This Row],[Bonus Rate]]*Table1[[#This Row],[Hours]],\"\")","v":""},null,null,null,null,null,{"$f":"IF(OR(AH974>0.001,AH974<-0.001),Table1[[#This Row],[Employee '#]],\" \")","v":" "},false,{"$f":"SUMIF(Table1[[#This Row],[Total Wage Diff bonus]:[Bank Bonus]],\"<> \")","v":0},{"$f":"IF(AA974>0, Table1[[#This Row],[Column4]], IF(AB974>0,Table1[[#This Row],[Column4]],IF(X974>0,\"1000\")))","v":false}]
[null,null,null,null,null,null,null,null,null,null,null,null,null,null,null,null,0,null,null,null,null,null,null,null,{"$f":"IF(Table1[[#This Row],[Wage differential Bonus                            - NotePay Rate you are bonusing to]]>0, Table1[[#This Row],[Wage differential Bonus                            - NotePay Rate you are bonusing to]]-Table1[[#This Row],[Pay Rate]], \"\")","v":""},{"$f":"IF(Table1[[#This Row],[Wage differential Bonus                            - NotePay Rate you are bonusing to]]>0,Table1[[#This Row],[Bonus Rate]]*Table1[[#This Row],[Hours]],\"\")","v":""},null,null,null,null,null,{"$f":"IF(OR(AH975>0.001,AH975<-0.001),Table1[[#This Row],[Employee '#]],\" \")","v":" "},false,{"$f":"SUMIF(Table1[[#This Row],[Total Wage Diff bonus]:[Bank Bonus]],\"<> \")","v":0},{"$f":"IF(AA975>0, Table1[[#This Row],[Column4]], IF(AB975>0,Table1[[#This Row],[Column4]],IF(X975>0,\"1000\")))","v":false}]
[null,null,null,null,null,null,null,null,null,null,null,null,null,null,null,null,0,null,null,null,null,null,null,null,{"$f":"IF(Table1[[#This Row],[Wage differential Bonus                            - NotePay Rate you are bonusing to]]>0, Table1[[#This Row],[Wage differential Bonus                            - NotePay Rate you are bonusing to]]-Table1[[#This Row],[Pay Rate]], \"\")","v":""},{"$f":"IF(Table1[[#This Row],[Wage differential Bonus                            - NotePay Rate you are bonusing to]]>0,Table1[[#This Row],[Bonus Rate]]*Table1[[#This Row],[Hours]],\"\")","v":""},null,null,null,null,null,{"$f":"IF(OR(AH976>0.001,AH976<-0.001),Table1[[#This Row],[Employee '#]],\" \")","v":" "},false,{"$f":"SUMIF(Table1[[#This Row],[Total Wage Diff bonus]:[Bank Bonus]],\"<> \")","v":0},{"$f":"IF(AA976>0, Table1[[#This Row],[Column4]], IF(AB976>0,Table1[[#This Row],[Column4]],IF(X976>0,\"1000\")))","v":false}]
[null,null,null,null,null,null,null,null,null,null,null,null,null,null,null,null,0,null,null,null,null,null,null,null,{"$f":"IF(Table1[[#This Row],[Wage differential Bonus                            - NotePay Rate you are bonusing to]]>0, Table1[[#This Row],[Wage differential Bonus                            - NotePay Rate you are bonusing to]]-Table1[[#This Row],[Pay Rate]], \"\")","v":""},{"$f":"IF(Table1[[#This Row],[Wage differential Bonus                            - NotePay Rate you are bonusing to]]>0,Table1[[#This Row],[Bonus Rate]]*Table1[[#This Row],[Hours]],\"\")","v":""},null,null,null,null,null,{"$f":"IF(OR(AH977>0.001,AH977<-0.001),Table1[[#This Row],[Employee '#]],\" \")","v":" "},false,{"$f":"SUMIF(Table1[[#This Row],[Total Wage Diff bonus]:[Bank Bonus]],\"<> \")","v":0},{"$f":"IF(AA977>0, Table1[[#This Row],[Column4]], IF(AB977>0,Table1[[#This Row],[Column4]],IF(X977>0,\"1000\")))","v":false}]
[null,null,null,null,null,null,null,null,null,null,null,null,null,null,null,null,0,null,null,null,null,null,null,null,{"$f":"IF(Table1[[#This Row],[Wage differential Bonus                            - NotePay Rate you are bonusing to]]>0, Table1[[#This Row],[Wage differential Bonus                            - NotePay Rate you are bonusing to]]-Table1[[#This Row],[Pay Rate]], \"\")","v":""},{"$f":"IF(Table1[[#This Row],[Wage differential Bonus                            - NotePay Rate you are bonusing to]]>0,Table1[[#This Row],[Bonus Rate]]*Table1[[#This Row],[Hours]],\"\")","v":""},null,null,null,null,null,{"$f":"IF(OR(AH978>0.001,AH978<-0.001),Table1[[#This Row],[Employee '#]],\" \")","v":" "},false,{"$f":"SUMIF(Table1[[#This Row],[Total Wage Diff bonus]:[Bank Bonus]],\"<> \")","v":0},{"$f":"IF(AA978>0, Table1[[#This Row],[Column4]], IF(AB978>0,Table1[[#This Row],[Column4]],IF(X978>0,\"1000\")))","v":false}]
[null,null,null,null,null,null,null,null,null,null,null,null,null,null,null,null,0,null,null,null,null,null,null,null,{"$f":"IF(Table1[[#This Row],[Wage differential Bonus                            - NotePay Rate you are bonusing to]]>0, Table1[[#This Row],[Wage differential Bonus                            - NotePay Rate you are bonusing to]]-Table1[[#This Row],[Pay Rate]], \"\")","v":""},{"$f":"IF(Table1[[#This Row],[Wage differential Bonus                            - NotePay Rate you are bonusing to]]>0,Table1[[#This Row],[Bonus Rate]]*Table1[[#This Row],[Hours]],\"\")","v":""},null,null,null,null,null,{"$f":"IF(OR(AH979>0.001,AH979<-0.001),Table1[[#This Row],[Employee '#]],\" \")","v":" "},false,{"$f":"SUMIF(Table1[[#This Row],[Total Wage Diff bonus]:[Bank Bonus]],\"<> \")","v":0},{"$f":"IF(AA979>0, Table1[[#This Row],[Column4]], IF(AB979>0,Table1[[#This Row],[Column4]],IF(X979>0,\"1000\")))","v":false}]
[null,null,null,null,null,null,null,null,null,null,null,null,null,null,null,null,0,null,null,null,null,null,null,null,{"$f":"IF(Table1[[#This Row],[Wage differential Bonus                            - NotePay Rate you are bonusing to]]>0, Table1[[#This Row],[Wage differential Bonus                            - NotePay Rate you are bonusing to]]-Table1[[#This Row],[Pay Rate]], \"\")","v":""},{"$f":"IF(Table1[[#This Row],[Wage differential Bonus                            - NotePay Rate you are bonusing to]]>0,Table1[[#This Row],[Bonus Rate]]*Table1[[#This Row],[Hours]],\"\")","v":""},null,null,null,null,null,{"$f":"IF(OR(AH980>0.001,AH980<-0.001),Table1[[#This Row],[Employee '#]],\" \")","v":" "},false,{"$f":"SUMIF(Table1[[#This Row],[Total Wage Diff bonus]:[Bank Bonus]],\"<> \")","v":0},{"$f":"IF(AA980>0, Table1[[#This Row],[Column4]], IF(AB980>0,Table1[[#This Row],[Column4]],IF(X980>0,\"1000\")))","v":false}]
[null,null,null,null,null,null,null,null,null,null,null,null,null,null,null,null,0,null,null,null,null,null,null,null,{"$f":"IF(Table1[[#This Row],[Wage differential Bonus                            - NotePay Rate you are bonusing to]]>0, Table1[[#This Row],[Wage differential Bonus                            - NotePay Rate you are bonusing to]]-Table1[[#This Row],[Pay Rate]], \"\")","v":""},{"$f":"IF(Table1[[#This Row],[Wage differential Bonus                            - NotePay Rate you are bonusing to]]>0,Table1[[#This Row],[Bonus Rate]]*Table1[[#This Row],[Hours]],\"\")","v":""},null,null,null,null,null,{"$f":"IF(OR(AH981>0.001,AH981<-0.001),Table1[[#This Row],[Employee '#]],\" \")","v":" "},false,{"$f":"SUMIF(Table1[[#This Row],[Total Wage Diff bonus]:[Bank Bonus]],\"<> \")","v":0},{"$f":"IF(AA981>0, Table1[[#This Row],[Column4]], IF(AB981>0,Table1[[#This Row],[Column4]],IF(X981>0,\"1000\")))","v":false}]
[null,null,null,null,null,null,null,null,null,null,null,null,null,null,null,null,0,null,null,null,null,null,null,null,{"$f":"IF(Table1[[#This Row],[Wage differential Bonus                            - NotePay Rate you are bonusing to]]>0, Table1[[#This Row],[Wage differential Bonus                            - NotePay Rate you are bonusing to]]-Table1[[#This Row],[Pay Rate]], \"\")","v":""},{"$f":"IF(Table1[[#This Row],[Wage differential Bonus                            - NotePay Rate you are bonusing to]]>0,Table1[[#This Row],[Bonus Rate]]*Table1[[#This Row],[Hours]],\"\")","v":""},null,null,null,null,null,{"$f":"IF(OR(AH982>0.001,AH982<-0.001),Table1[[#This Row],[Employee '#]],\" \")","v":" "},false,{"$f":"SUMIF(Table1[[#This Row],[Total Wage Diff bonus]:[Bank Bonus]],\"<> \")","v":0},{"$f":"IF(AA982>0, Table1[[#This Row],[Column4]], IF(AB982>0,Table1[[#This Row],[Column4]],IF(X982>0,\"1000\")))","v":false}]
[null,null,null,null,null,null,null,null,null,null,null,null,null,null,null,null,0,null,null,null,null,null,null,null,{"$f":"IF(Table1[[#This Row],[Wage differential Bonus                            - NotePay Rate you are bonusing to]]>0, Table1[[#This Row],[Wage differential Bonus                            - NotePay Rate you are bonusing to]]-Table1[[#This Row],[Pay Rate]], \"\")","v":""},{"$f":"IF(Table1[[#This Row],[Wage differential Bonus                            - NotePay Rate you are bonusing to]]>0,Table1[[#This Row],[Bonus Rate]]*Table1[[#This Row],[Hours]],\"\")","v":""},null,null,null,null,null,{"$f":"IF(OR(AH983>0.001,AH983<-0.001),Table1[[#This Row],[Employee '#]],\" \")","v":" "},false,{"$f":"SUMIF(Table1[[#This Row],[Total Wage Diff bonus]:[Bank Bonus]],\"<> \")","v":0},{"$f":"IF(AA983>0, Table1[[#This Row],[Column4]], IF(AB983>0,Table1[[#This Row],[Column4]],IF(X983>0,\"1000\")))","v":false}]
[null,null,null,null,null,null,null,null,null,null,null,null,null,null,null,null,0,null,null,null,null,null,null,null,{"$f":"IF(Table1[[#This Row],[Wage differential Bonus                            - NotePay Rate you are bonusing to]]>0, Table1[[#This Row],[Wage differential Bonus                            - NotePay Rate you are bonusing to]]-Table1[[#This Row],[Pay Rate]], \"\")","v":""},{"$f":"IF(Table1[[#This Row],[Wage differential Bonus                            - NotePay Rate you are bonusing to]]>0,Table1[[#This Row],[Bonus Rate]]*Table1[[#This Row],[Hours]],\"\")","v":""},null,null,null,null,null,{"$f":"IF(OR(AH984>0.001,AH984<-0.001),Table1[[#This Row],[Employee '#]],\" \")","v":" "},false,{"$f":"SUMIF(Table1[[#This Row],[Total Wage Diff bonus]:[Bank Bonus]],\"<> \")","v":0},{"$f":"IF(AA984>0, Table1[[#This Row],[Column4]], IF(AB984>0,Table1[[#This Row],[Column4]],IF(X984>0,\"1000\")))","v":false}]
[null,null,null,null,null,null,null,null,null,null,null,null,null,null,null,null,0,null,null,null,null,null,null,null,{"$f":"IF(Table1[[#This Row],[Wage differential Bonus                            - NotePay Rate you are bonusing to]]>0, Table1[[#This Row],[Wage differential Bonus                            - NotePay Rate you are bonusing to]]-Table1[[#This Row],[Pay Rate]], \"\")","v":""},{"$f":"IF(Table1[[#This Row],[Wage differential Bonus                            - NotePay Rate you are bonusing to]]>0,Table1[[#This Row],[Bonus Rate]]*Table1[[#This Row],[Hours]],\"\")","v":""},null,null,null,null,null,{"$f":"IF(OR(AH985>0.001,AH985<-0.001),Table1[[#This Row],[Employee '#]],\" \")","v":" "},false,{"$f":"SUMIF(Table1[[#This Row],[Total Wage Diff bonus]:[Bank Bonus]],\"<> \")","v":0},{"$f":"IF(AA985>0, Table1[[#This Row],[Column4]], IF(AB985>0,Table1[[#This Row],[Column4]],IF(X985>0,\"1000\")))","v":false}]
[null,null,null,null,null,null,null,null,null,null,null,null,null,null,null,null,0,null,null,null,null,null,null,null,{"$f":"IF(Table1[[#This Row],[Wage differential Bonus                            - NotePay Rate you are bonusing to]]>0, Table1[[#This Row],[Wage differential Bonus                            - NotePay Rate you are bonusing to]]-Table1[[#This Row],[Pay Rate]], \"\")","v":""},{"$f":"IF(Table1[[#This Row],[Wage differential Bonus                            - NotePay Rate you are bonusing to]]>0,Table1[[#This Row],[Bonus Rate]]*Table1[[#This Row],[Hours]],\"\")","v":""},null,null,null,null,null,{"$f":"IF(OR(AH986>0.001,AH986<-0.001),Table1[[#This Row],[Employee '#]],\" \")","v":" "},false,{"$f":"SUMIF(Table1[[#This Row],[Total Wage Diff bonus]:[Bank Bonus]],\"<> \")","v":0},{"$f":"IF(AA986>0, Table1[[#This Row],[Column4]], IF(AB986>0,Table1[[#This Row],[Column4]],IF(X986>0,\"1000\")))","v":false}]
[null,null,null,null,null,null,null,null,null,null,null,null,null,null,null,null,0,null,null,null,null,null,null,null,{"$f":"IF(Table1[[#This Row],[Wage differential Bonus                            - NotePay Rate you are bonusing to]]>0, Table1[[#This Row],[Wage differential Bonus                            - NotePay Rate you are bonusing to]]-Table1[[#This Row],[Pay Rate]], \"\")","v":""},{"$f":"IF(Table1[[#This Row],[Wage differential Bonus                            - NotePay Rate you are bonusing to]]>0,Table1[[#This Row],[Bonus Rate]]*Table1[[#This Row],[Hours]],\"\")","v":""},null,null,null,null,null,{"$f":"IF(OR(AH987>0.001,AH987<-0.001),Table1[[#This Row],[Employee '#]],\" \")","v":" "},false,{"$f":"SUMIF(Table1[[#This Row],[Total Wage Diff bonus]:[Bank Bonus]],\"<> \")","v":0},{"$f":"IF(AA987>0, Table1[[#This Row],[Column4]], IF(AB987>0,Table1[[#This Row],[Column4]],IF(X987>0,\"1000\")))","v":false}]
[null,null,null,null,null,null,null,null,null,null,null,null,null,null,null,null,0,null,null,null,null,null,null,null,{"$f":"IF(Table1[[#This Row],[Wage differential Bonus                            - NotePay Rate you are bonusing to]]>0, Table1[[#This Row],[Wage differential Bonus                            - NotePay Rate you are bonusing to]]-Table1[[#This Row],[Pay Rate]], \"\")","v":""},{"$f":"IF(Table1[[#This Row],[Wage differential Bonus                            - NotePay Rate you are bonusing to]]>0,Table1[[#This Row],[Bonus Rate]]*Table1[[#This Row],[Hours]],\"\")","v":""},null,null,null,null,null,{"$f":"IF(OR(AH988>0.001,AH988<-0.001),Table1[[#This Row],[Employee '#]],\" \")","v":" "},false,{"$f":"SUMIF(Table1[[#This Row],[Total Wage Diff bonus]:[Bank Bonus]],\"<> \")","v":0},{"$f":"IF(AA988>0, Table1[[#This Row],[Column4]], IF(AB988>0,Table1[[#This Row],[Column4]],IF(X988>0,\"1000\")))","v":false}]
[null,null,null,null,null,null,null,null,null,null,null,null,null,null,null,null,0,null,null,null,null,null,null,null,{"$f":"IF(Table1[[#This Row],[Wage differential Bonus                            - NotePay Rate you are bonusing to]]>0, Table1[[#This Row],[Wage differential Bonus                            - NotePay Rate you are bonusing to]]-Table1[[#This Row],[Pay Rate]], \"\")","v":""},{"$f":"IF(Table1[[#This Row],[Wage differential Bonus                            - NotePay Rate you are bonusing to]]>0,Table1[[#This Row],[Bonus Rate]]*Table1[[#This Row],[Hours]],\"\")","v":""},null,null,null,null,null,{"$f":"IF(OR(AH989>0.001,AH989<-0.001),Table1[[#This Row],[Employee '#]],\" \")","v":" "},false,{"$f":"SUMIF(Table1[[#This Row],[Total Wage Diff bonus]:[Bank Bonus]],\"<> \")","v":0},{"$f":"IF(AA989>0, Table1[[#This Row],[Column4]], IF(AB989>0,Table1[[#This Row],[Column4]],IF(X989>0,\"1000\")))","v":false}]
[null,null,null,null,null,null,null,null,null,null,null,null,null,null,null,null,0,null,null,null,null,null,null,null,{"$f":"IF(Table1[[#This Row],[Wage differential Bonus                            - NotePay Rate you are bonusing to]]>0, Table1[[#This Row],[Wage differential Bonus                            - NotePay Rate you are bonusing to]]-Table1[[#This Row],[Pay Rate]], \"\")","v":""},{"$f":"IF(Table1[[#This Row],[Wage differential Bonus                            - NotePay Rate you are bonusing to]]>0,Table1[[#This Row],[Bonus Rate]]*Table1[[#This Row],[Hours]],\"\")","v":""},null,null,null,null,null,{"$f":"IF(OR(AH990>0.001,AH990<-0.001),Table1[[#This Row],[Employee '#]],\" \")","v":" "},false,{"$f":"SUMIF(Table1[[#This Row],[Total Wage Diff bonus]:[Bank Bonus]],\"<> \")","v":0},{"$f":"IF(AA990>0, Table1[[#This Row],[Column4]], IF(AB990>0,Table1[[#This Row],[Column4]],IF(X990>0,\"1000\")))","v":false}]
[null,null,null,null,null,null,null,null,null,null,null,null,null,null,null,null,0,null,null,null,null,null,null,null,{"$f":"IF(Table1[[#This Row],[Wage differential Bonus                            - NotePay Rate you are bonusing to]]>0, Table1[[#This Row],[Wage differential Bonus                            - NotePay Rate you are bonusing to]]-Table1[[#This Row],[Pay Rate]], \"\")","v":""},{"$f":"IF(Table1[[#This Row],[Wage differential Bonus                            - NotePay Rate you are bonusing to]]>0,Table1[[#This Row],[Bonus Rate]]*Table1[[#This Row],[Hours]],\"\")","v":""},null,null,null,null,null,{"$f":"IF(OR(AH991>0.001,AH991<-0.001),Table1[[#This Row],[Employee '#]],\" \")","v":" "},false,{"$f":"SUMIF(Table1[[#This Row],[Total Wage Diff bonus]:[Bank Bonus]],\"<> \")","v":0},{"$f":"IF(AA991>0, Table1[[#This Row],[Column4]], IF(AB991>0,Table1[[#This Row],[Column4]],IF(X991>0,\"1000\")))","v":false}]
[null,null,null,null,null,null,null,null,null,null,null,null,null,null,null,null,0,null,null,null,null,null,null,null,{"$f":"IF(Table1[[#This Row],[Wage differential Bonus                            - NotePay Rate you are bonusing to]]>0, Table1[[#This Row],[Wage differential Bonus                            - NotePay Rate you are bonusing to]]-Table1[[#This Row],[Pay Rate]], \"\")","v":""},{"$f":"IF(Table1[[#This Row],[Wage differential Bonus                            - NotePay Rate you are bonusing to]]>0,Table1[[#This Row],[Bonus Rate]]*Table1[[#This Row],[Hours]],\"\")","v":""},null,null,null,null,null,{"$f":"IF(OR(AH992>0.001,AH992<-0.001),Table1[[#This Row],[Employee '#]],\" \")","v":" "},false,{"$f":"SUMIF(Table1[[#This Row],[Total Wage Diff bonus]:[Bank Bonus]],\"<> \")","v":0},{"$f":"IF(AA992>0, Table1[[#This Row],[Column4]], IF(AB992>0,Table1[[#This Row],[Column4]],IF(X992>0,\"1000\")))","v":false}]
[null,null,null,null,null,null,null,null,null,null,null,null,null,null,null,null,0,null,null,null,null,null,null,null,{"$f":"IF(Table1[[#This Row],[Wage differential Bonus                            - NotePay Rate you are bonusing to]]>0, Table1[[#This Row],[Wage differential Bonus                            - NotePay Rate you are bonusing to]]-Table1[[#This Row],[Pay Rate]], \"\")","v":""},{"$f":"IF(Table1[[#This Row],[Wage differential Bonus                            - NotePay Rate you are bonusing to]]>0,Table1[[#This Row],[Bonus Rate]]*Table1[[#This Row],[Hours]],\"\")","v":""},null,null,null,null,null,{"$f":"IF(OR(AH993>0.001,AH993<-0.001),Table1[[#This Row],[Employee '#]],\" \")","v":" "},false,{"$f":"SUMIF(Table1[[#This Row],[Total Wage Diff bonus]:[Bank Bonus]],\"<> \")","v":0},{"$f":"IF(AA993>0, Table1[[#This Row],[Column4]], IF(AB993>0,Table1[[#This Row],[Column4]],IF(X993>0,\"1000\")))","v":false}]
[null,null,null,null,null,null,null,null,null,null,null,null,null,null,null,null,0,null,null,null,null,null,null,null,{"$f":"IF(Table1[[#This Row],[Wage differential Bonus                            - NotePay Rate you are bonusing to]]>0, Table1[[#This Row],[Wage differential Bonus                            - NotePay Rate you are bonusing to]]-Table1[[#This Row],[Pay Rate]], \"\")","v":""},{"$f":"IF(Table1[[#This Row],[Wage differential Bonus                            - NotePay Rate you are bonusing to]]>0,Table1[[#This Row],[Bonus Rate]]*Table1[[#This Row],[Hours]],\"\")","v":""},null,null,null,null,null,{"$f":"IF(OR(AH994>0.001,AH994<-0.001),Table1[[#This Row],[Employee '#]],\" \")","v":" "},false,{"$f":"SUMIF(Table1[[#This Row],[Total Wage Diff bonus]:[Bank Bonus]],\"<> \")","v":0},{"$f":"IF(AA994>0, Table1[[#This Row],[Column4]], IF(AB994>0,Table1[[#This Row],[Column4]],IF(X994>0,\"1000\")))","v":false}]
[null,null,null,null,null,null,null,null,null,null,null,null,null,null,null,null,0,null,null,null,null,null,null,null,{"$f":"IF(Table1[[#This Row],[Wage differential Bonus                            - NotePay Rate you are bonusing to]]>0, Table1[[#This Row],[Wage differential Bonus                            - NotePay Rate you are bonusing to]]-Table1[[#This Row],[Pay Rate]], \"\")","v":""},{"$f":"IF(Table1[[#This Row],[Wage differential Bonus                            - NotePay Rate you are bonusing to]]>0,Table1[[#This Row],[Bonus Rate]]*Table1[[#This Row],[Hours]],\"\")","v":""},null,null,null,null,null,{"$f":"IF(OR(AH995>0.001,AH995<-0.001),Table1[[#This Row],[Employee '#]],\" \")","v":" "},false,{"$f":"SUMIF(Table1[[#This Row],[Total Wage Diff bonus]:[Bank Bonus]],\"<> \")","v":0},{"$f":"IF(AA995>0, Table1[[#This Row],[Column4]], IF(AB995>0,Table1[[#This Row],[Column4]],IF(X995>0,\"1000\")))","v":false}]
[null,null,null,null,null,null,null,null,null,null,null,null,null,null,null,null,0,null,null,null,null,null,null,null,{"$f":"IF(Table1[[#This Row],[Wage differential Bonus                            - NotePay Rate you are bonusing to]]>0, Table1[[#This Row],[Wage differential Bonus                            - NotePay Rate you are bonusing to]]-Table1[[#This Row],[Pay Rate]], \"\")","v":""},{"$f":"IF(Table1[[#This Row],[Wage differential Bonus                            - NotePay Rate you are bonusing to]]>0,Table1[[#This Row],[Bonus Rate]]*Table1[[#This Row],[Hours]],\"\")","v":""},null,null,null,null,null,{"$f":"IF(OR(AH996>0.001,AH996<-0.001),Table1[[#This Row],[Employee '#]],\" \")","v":" "},false,{"$f":"SUMIF(Table1[[#This Row],[Total Wage Diff bonus]:[Bank Bonus]],\"<> \")","v":0},{"$f":"IF(AA996>0, Table1[[#This Row],[Column4]], IF(AB996>0,Table1[[#This Row],[Column4]],IF(X996>0,\"1000\")))","v":false}]
[null,null,null,null,null,null,null,null,null,null,null,null,null,null,null,null,0,null,null,null,null,null,null,null,{"$f":"IF(Table1[[#This Row],[Wage differential Bonus                            - NotePay Rate you are bonusing to]]>0, Table1[[#This Row],[Wage differential Bonus                            - NotePay Rate you are bonusing to]]-Table1[[#This Row],[Pay Rate]], \"\")","v":""},{"$f":"IF(Table1[[#This Row],[Wage differential Bonus                            - NotePay Rate you are bonusing to]]>0,Table1[[#This Row],[Bonus Rate]]*Table1[[#This Row],[Hours]],\"\")","v":""},null,null,null,null,null,{"$f":"IF(OR(AH997>0.001,AH997<-0.001),Table1[[#This Row],[Employee '#]],\" \")","v":" "},false,{"$f":"SUMIF(Table1[[#This Row],[Total Wage Diff bonus]:[Bank Bonus]],\"<> \")","v":0},{"$f":"IF(AA997>0, Table1[[#This Row],[Column4]], IF(AB997>0,Table1[[#This Row],[Column4]],IF(X997>0,\"1000\")))","v":false}]
[null,null,null,null,null,null,null,null,null,null,null,null,null,null,null,null,0,null,null,null,null,null,null,null,{"$f":"IF(Table1[[#This Row],[Wage differential Bonus                            - NotePay Rate you are bonusing to]]>0, Table1[[#This Row],[Wage differential Bonus                            - NotePay Rate you are bonusing to]]-Table1[[#This Row],[Pay Rate]], \"\")","v":""},{"$f":"IF(Table1[[#This Row],[Wage differential Bonus                            - NotePay Rate you are bonusing to]]>0,Table1[[#This Row],[Bonus Rate]]*Table1[[#This Row],[Hours]],\"\")","v":""},null,null,null,null,null,{"$f":"IF(OR(AH998>0.001,AH998<-0.001),Table1[[#This Row],[Employee '#]],\" \")","v":" "},false,{"$f":"SUMIF(Table1[[#This Row],[Total Wage Diff bonus]:[Bank Bonus]],\"<> \")","v":0},{"$f":"IF(AA998>0, Table1[[#This Row],[Column4]], IF(AB998>0,Table1[[#This Row],[Column4]],IF(X998>0,\"1000\")))","v":false}]
[null,null,null,null,null,null,null,null,null,null,null,null,null,null,null,null,0,null,null,null,null,null,null,null,{"$f":"IF(Table1[[#This Row],[Wage differential Bonus                            - NotePay Rate you are bonusing to]]>0, Table1[[#This Row],[Wage differential Bonus                            - NotePay Rate you are bonusing to]]-Table1[[#This Row],[Pay Rate]], \"\")","v":""},{"$f":"IF(Table1[[#This Row],[Wage differential Bonus                            - NotePay Rate you are bonusing to]]>0,Table1[[#This Row],[Bonus Rate]]*Table1[[#This Row],[Hours]],\"\")","v":""},null,null,null,null,null,{"$f":"IF(OR(AH999>0.001,AH999<-0.001),Table1[[#This Row],[Employee '#]],\" \")","v":" "},false,{"$f":"SUMIF(Table1[[#This Row],[Total Wage Diff bonus]:[Bank Bonus]],\"<> \")","v":0},{"$f":"IF(AA999>0, Table1[[#This Row],[Column4]], IF(AB999>0,Table1[[#This Row],[Column4]],IF(X999>0,\"1000\")))","v":false}]
[null,null,null,null,null,null,null,null,null,null,null,null,null,null,null,null,0,null,null,null,null,null,null,null,{"$f":"IF(Table1[[#This Row],[Wage differential Bonus                            - NotePay Rate you are bonusing to]]>0, Table1[[#This Row],[Wage differential Bonus                            - NotePay Rate you are bonusing to]]-Table1[[#This Row],[Pay Rate]], \"\")","v":""},{"$f":"IF(Table1[[#This Row],[Wage differential Bonus                            - NotePay Rate you are bonusing to]]>0,Table1[[#This Row],[Bonus Rate]]*Table1[[#This Row],[Hours]],\"\")","v":""},null,null,null,null,null,{"$f":"IF(OR(AH1000>0.001,AH1000<-0.001),Table1[[#This Row],[Employee '#]],\" \")","v":" "},false,{"$f":"SUMIF(Table1[[#This Row],[Total Wage Diff bonus]:[Bank Bonus]],\"<> \")","v":0},{"$f":"IF(AA1000>0, Table1[[#This Row],[Column4]], IF(AB1000>0,Table1[[#This Row],[Column4]],IF(X1000>0,\"1000\")))","v":false}]
[null,null,null,null,null,null,null,null,null,null,null,null,null,null,null,null,0,null,null,null,null,null,null,null,{"$f":"IF(Table1[[#This Row],[Wage differential Bonus                            - NotePay Rate you are bonusing to]]>0, Table1[[#This Row],[Wage differential Bonus                            - NotePay Rate you are bonusing to]]-Table1[[#This Row],[Pay Rate]], \"\")","v":""},{"$f":"IF(Table1[[#This Row],[Wage differential Bonus                            - NotePay Rate you are bonusing to]]>0,Table1[[#This Row],[Bonus Rate]]*Table1[[#This Row],[Hours]],\"\")","v":""},null,null,null,null,null,{"$f":"IF(OR(AH1002>0.001,AH1002<-0.001),Table1[[#This Row],[Employee '#]],\" \")","v":" "},false,{"$f":"SUMIF(Table1[[#This Row],[Total Wage Diff bonus]:[Bank Bonus]],\"<> \")","v":0},{"$f":"IF(AA1002>0, Table1[[#This Row],[Column4]], IF(AB1002>0,Table1[[#This Row],[Column4]],IF(X1002>0,\"1000\")))","v":false}]
[null,null,null,null,null,null,null,null,null,null,null,null,null,null,null,null,0,null,null,null,null,null,null,null,{"$f":"IF(Table1[[#This Row],[Wage differential Bonus                            - NotePay Rate you are bonusing to]]>0, Table1[[#This Row],[Wage differential Bonus                            - NotePay Rate you are bonusing to]]-Table1[[#This Row],[Pay Rate]], \"\")","v":""},{"$f":"IF(Table1[[#This Row],[Wage differential Bonus                            - NotePay Rate you are bonusing to]]>0,Table1[[#This Row],[Bonus Rate]]*Table1[[#This Row],[Hours]],\"\")","v":""},null,null,null,null,null,{"$f":"IF(OR(AH1003>0.001,AH1003<-0.001),Table1[[#This Row],[Employee '#]],\" \")","v":" "},false,{"$f":"SUMIF(Table1[[#This Row],[Total Wage Diff bonus]:[Bank Bonus]],\"<> \")","v":0},{"$f":"IF(AA1003>0, Table1[[#This Row],[Column4]], IF(AB1003>0,Table1[[#This Row],[Column4]],IF(X1003>0,\"1000\")))","v":false}]
[null,null,null,null,null,null,null,null,null,null,null,null,null,null,null,null,0,null,null,null,null,null,null,null,{"$f":"IF(Table1[[#This Row],[Wage differential Bonus                            - NotePay Rate you are bonusing to]]>0, Table1[[#This Row],[Wage differential Bonus                            - NotePay Rate you are bonusing to]]-Table1[[#This Row],[Pay Rate]], \"\")","v":""},{"$f":"IF(Table1[[#This Row],[Wage differential Bonus                            - NotePay Rate you are bonusing to]]>0,Table1[[#This Row],[Bonus Rate]]*Table1[[#This Row],[Hours]],\"\")","v":""},null,null,null,null,null,{"$f":"IF(OR(AH1006>0.001,AH1006<-0.001),Table1[[#This Row],[Employee '#]],\" \")","v":" "},false,{"$f":"SUMIF(Table1[[#This Row],[Total Wage Diff bonus]:[Bank Bonus]],\"<> \")","v":0},{"$f":"IF(AA1006>0, Table1[[#This Row],[Column4]], IF(AB1006>0,Table1[[#This Row],[Column4]],IF(X1006>0,\"1000\")))","v":false}]
[null,null,null,null,null,null,null,null,null,null,null,null,null,null,null,null,0,null,null,null,null,null,null,null,{"$f":"IF(Table1[[#This Row],[Wage differential Bonus                            - NotePay Rate you are bonusing to]]>0, Table1[[#This Row],[Wage differential Bonus                            - NotePay Rate you are bonusing to]]-Table1[[#This Row],[Pay Rate]], \"\")","v":""},{"$f":"IF(Table1[[#This Row],[Wage differential Bonus                            - NotePay Rate you are bonusing to]]>0,Table1[[#This Row],[Bonus Rate]]*Table1[[#This Row],[Hours]],\"\")","v":""},null,null,null,null,null,{"$f":"IF(OR(AH1009>0.001,AH1009<-0.001),Table1[[#This Row],[Employee '#]],\" \")","v":" "},false,{"$f":"SUMIF(Table1[[#This Row],[Total Wage Diff bonus]:[Bank Bonus]],\"<> \")","v":0},{"$f":"IF(AA1009>0, Table1[[#This Row],[Column4]], IF(AB1009>0,Table1[[#This Row],[Column4]],IF(X1009>0,\"1000\")))","v":false}]
[null,null,null,null,null,null,null,null,null,null,null,null,null,null,null,null,0,null,null,null,null,null,null,null,{"$f":"IF(Table1[[#This Row],[Wage differential Bonus                            - NotePay Rate you are bonusing to]]>0, Table1[[#This Row],[Wage differential Bonus                            - NotePay Rate you are bonusing to]]-Table1[[#This Row],[Pay Rate]], \"\")","v":""},{"$f":"IF(Table1[[#This Row],[Wage differential Bonus                            - NotePay Rate you are bonusing to]]>0,Table1[[#This Row],[Bonus Rate]]*Table1[[#This Row],[Hours]],\"\")","v":""},null,null,null,null,null,{"$f":"IF(OR(AH1011>0.001,AH1011<-0.001),Table1[[#This Row],[Employee '#]],\" \")","v":" "},false,{"$f":"SUMIF(Table1[[#This Row],[Total Wage Diff bonus]:[Bank Bonus]],\"<> \")","v":0},{"$f":"IF(AA1011>0, Table1[[#This Row],[Column4]], IF(AB1011>0,Table1[[#This Row],[Column4]],IF(X1011>0,\"1000\")))","v":false}]
[null,null,null,null,null,null,null,null,null,null,null,null,null,null,null,null,0,null,null,null,null,null,null,null,{"$f":"IF(Table1[[#This Row],[Wage differential Bonus                            - NotePay Rate you are bonusing to]]>0, Table1[[#This Row],[Wage differential Bonus                            - NotePay Rate you are bonusing to]]-Table1[[#This Row],[Pay Rate]], \"\")","v":""},{"$f":"IF(Table1[[#This Row],[Wage differential Bonus                            - NotePay Rate you are bonusing to]]>0,Table1[[#This Row],[Bonus Rate]]*Table1[[#This Row],[Hours]],\"\")","v":""},null,null,null,null,null,{"$f":"IF(OR(AH1012>0.001,AH1012<-0.001),Table1[[#This Row],[Employee '#]],\" \")","v":" "},false,{"$f":"SUMIF(Table1[[#This Row],[Total Wage Diff bonus]:[Bank Bonus]],\"<> \")","v":0},{"$f":"IF(AA1012>0, Table1[[#This Row],[Column4]], IF(AB1012>0,Table1[[#This Row],[Column4]],IF(X1012>0,\"1000\")))","v":false}]
[null,null,null,null,null,null,null,null,null,null,null,null,null,null,null,null,0,null,null,null,null,null,null,null,{"$f":"IF(Table1[[#This Row],[Wage differential Bonus                            - NotePay Rate you are bonusing to]]>0, Table1[[#This Row],[Wage differential Bonus                            - NotePay Rate you are bonusing to]]-Table1[[#This Row],[Pay Rate]], \"\")","v":""},{"$f":"IF(Table1[[#This Row],[Wage differential Bonus                            - NotePay Rate you are bonusing to]]>0,Table1[[#This Row],[Bonus Rate]]*Table1[[#This Row],[Hours]],\"\")","v":""},null,null,null,null,null,{"$f":"IF(OR(AH1015>0.001,AH1015<-0.001),Table1[[#This Row],[Employee '#]],\" \")","v":" "},false,{"$f":"SUMIF(Table1[[#This Row],[Total Wage Diff bonus]:[Bank Bonus]],\"<> \")","v":0},{"$f":"IF(AA1015>0, Table1[[#This Row],[Column4]], IF(AB1015>0,Table1[[#This Row],[Column4]],IF(X1015>0,\"1000\")))","v":false}]
[null,null,null,null,null,null,null,null,null,null,null,null,null,null,null,null,0,null,null,null,null,null,null,null,{"$f":"IF(Table1[[#This Row],[Wage differential Bonus                            - NotePay Rate you are bonusing to]]>0, Table1[[#This Row],[Wage differential Bonus                            - NotePay Rate you are bonusing to]]-Table1[[#This Row],[Pay Rate]], \"\")","v":""},{"$f":"IF(Table1[[#This Row],[Wage differential Bonus                            - NotePay Rate you are bonusing to]]>0,Table1[[#This Row],[Bonus Rate]]*Table1[[#This Row],[Hours]],\"\")","v":""},null,null,null,null,null,{"$f":"IF(OR(AH1016>0.001,AH1016<-0.001),Table1[[#This Row],[Employee '#]],\" \")","v":" "},false,{"$f":"SUMIF(Table1[[#This Row],[Total Wage Diff bonus]:[Bank Bonus]],\"<> \")","v":0},{"$f":"IF(AA1016>0, Table1[[#This Row],[Column4]], IF(AB1016>0,Table1[[#This Row],[Column4]],IF(X1016>0,\"1000\")))","v":false}]
[null,null,null,null,null,null,null,null,null,null,null,null,null,null,null,null,0,null,null,null,null,null,null,null,{"$f":"IF(Table1[[#This Row],[Wage differential Bonus                            - NotePay Rate you are bonusing to]]>0, Table1[[#This Row],[Wage differential Bonus                            - NotePay Rate you are bonusing to]]-Table1[[#This Row],[Pay Rate]], \"\")","v":""},{"$f":"IF(Table1[[#This Row],[Wage differential Bonus                            - NotePay Rate you are bonusing to]]>0,Table1[[#This Row],[Bonus Rate]]*Table1[[#This Row],[Hours]],\"\")","v":""},null,null,null,null,null,{"$f":"IF(OR(AH1020>0.001,AH1020<-0.001),Table1[[#This Row],[Employee '#]],\" \")","v":" "},false,{"$f":"SUMIF(Table1[[#This Row],[Total Wage Diff bonus]:[Bank Bonus]],\"<> \")","v":0},{"$f":"IF(AA1020>0, Table1[[#This Row],[Column4]], IF(AB1020>0,Table1[[#This Row],[Column4]],IF(X1020>0,\"1000\")))","v":false}]
[null,null,null,null,null,null,null,null,null,null,null,null,null,null,null,null,0,null,null,null,null,null,null,null,{"$f":"IF(Table1[[#This Row],[Wage differential Bonus                            - NotePay Rate you are bonusing to]]>0, Table1[[#This Row],[Wage differential Bonus                            - NotePay Rate you are bonusing to]]-Table1[[#This Row],[Pay Rate]], \"\")","v":""},{"$f":"IF(Table1[[#This Row],[Wage differential Bonus                            - NotePay Rate you are bonusing to]]>0,Table1[[#This Row],[Bonus Rate]]*Table1[[#This Row],[Hours]],\"\")","v":""},null,null,null,null,null,{"$f":"IF(OR(AH1021>0.001,AH1021<-0.001),Table1[[#This Row],[Employee '#]],\" \")","v":" "},false,{"$f":"SUMIF(Table1[[#This Row],[Total Wage Diff bonus]:[Bank Bonus]],\"<> \")","v":0},{"$f":"IF(AA1021>0, Table1[[#This Row],[Column4]], IF(AB1021>0,Table1[[#This Row],[Column4]],IF(X1021>0,\"1000\")))","v":false}]
[null,null,null,null,null,null,null,null,null,null,null,null,null,null,null,null,0,null,null,null,null,null,null,null,{"$f":"IF(Table1[[#This Row],[Wage differential Bonus                            - NotePay Rate you are bonusing to]]>0, Table1[[#This Row],[Wage differential Bonus                            - NotePay Rate you are bonusing to]]-Table1[[#This Row],[Pay Rate]], \"\")","v":""},{"$f":"IF(Table1[[#This Row],[Wage differential Bonus                            - NotePay Rate you are bonusing to]]>0,Table1[[#This Row],[Bonus Rate]]*Table1[[#This Row],[Hours]],\"\")","v":""},null,null,null,null,null,{"$f":"IF(OR(AH1024>0.001,AH1024<-0.001),Table1[[#This Row],[Employee '#]],\" \")","v":" "},false,{"$f":"SUMIF(Table1[[#This Row],[Total Wage Diff bonus]:[Bank Bonus]],\"<> \")","v":0},{"$f":"IF(AA1024>0, Table1[[#This Row],[Column4]], IF(AB1024>0,Table1[[#This Row],[Column4]],IF(X1024>0,\"1000\")))","v":false}]
[null,null,null,null,null,null,null,null,null,null,null,null,null,null,null,null,0,null,null,null,null,null,null,null,{"$f":"IF(Table1[[#This Row],[Wage differential Bonus                            - NotePay Rate you are bonusing to]]>0, Table1[[#This Row],[Wage differential Bonus                            - NotePay Rate you are bonusing to]]-Table1[[#This Row],[Pay Rate]], \"\")","v":""},{"$f":"IF(Table1[[#This Row],[Wage differential Bonus                            - NotePay Rate you are bonusing to]]>0,Table1[[#This Row],[Bonus Rate]]*Table1[[#This Row],[Hours]],\"\")","v":""},null,null,null,null,null,{"$f":"IF(OR(AH1027>0.001,AH1027<-0.001),Table1[[#This Row],[Employee '#]],\" \")","v":" "},false,{"$f":"SUMIF(Table1[[#This Row],[Total Wage Diff bonus]:[Bank Bonus]],\"<> \")","v":0},{"$f":"IF(AA1027>0, Table1[[#This Row],[Column4]], IF(AB1027>0,Table1[[#This Row],[Column4]],IF(X1027>0,\"1000\")))","v":false}]
[null,null,null,null,null,null,null,null,null,null,null,null,null,null,null,null,0,null,null,null,null,null,null,null,{"$f":"IF(Table1[[#This Row],[Wage differential Bonus                            - NotePay Rate you are bonusing to]]>0, Table1[[#This Row],[Wage differential Bonus                            - NotePay Rate you are bonusing to]]-Table1[[#This Row],[Pay Rate]], \"\")","v":""},{"$f":"IF(Table1[[#This Row],[Wage differential Bonus                            - NotePay Rate you are bonusing to]]>0,Table1[[#This Row],[Bonus Rate]]*Table1[[#This Row],[Hours]],\"\")","v":""},null,null,null,null,null,{"$f":"IF(OR(AH1029>0.001,AH1029<-0.001),Table1[[#This Row],[Employee '#]],\" \")","v":" "},false,{"$f":"SUMIF(Table1[[#This Row],[Total Wage Diff bonus]:[Bank Bonus]],\"<> \")","v":0},{"$f":"IF(AA1029>0, Table1[[#This Row],[Column4]], IF(AB1029>0,Table1[[#This Row],[Column4]],IF(X1029>0,\"1000\")))","v":false}]
[null,null,null,null,null,null,null,null,null,null,null,null,null,null,null,null,0,null,null,null,null,null,null,null,{"$f":"IF(Table1[[#This Row],[Wage differential Bonus                            - NotePay Rate you are bonusing to]]>0, Table1[[#This Row],[Wage differential Bonus                            - NotePay Rate you are bonusing to]]-Table1[[#This Row],[Pay Rate]], \"\")","v":""},{"$f":"IF(Table1[[#This Row],[Wage differential Bonus                            - NotePay Rate you are bonusing to]]>0,Table1[[#This Row],[Bonus Rate]]*Table1[[#This Row],[Hours]],\"\")","v":""},null,null,null,null,null,{"$f":"IF(OR(AH1030>0.001,AH1030<-0.001),Table1[[#This Row],[Employee '#]],\" \")","v":" "},false,{"$f":"SUMIF(Table1[[#This Row],[Total Wage Diff bonus]:[Bank Bonus]],\"<> \")","v":0},{"$f":"IF(AA1030>0, Table1[[#This Row],[Column4]], IF(AB1030>0,Table1[[#This Row],[Column4]],IF(X1030>0,\"1000\")))","v":false}]
[null,null,null,null,null,null,null,null,null,null,null,null,null,null,null,null,0,null,null,null,null,null,null,null,{"$f":"IF(Table1[[#This Row],[Wage differential Bonus                            - NotePay Rate you are bonusing to]]>0, Table1[[#This Row],[Wage differential Bonus                            - NotePay Rate you are bonusing to]]-Table1[[#This Row],[Pay Rate]], \"\")","v":""},{"$f":"IF(Table1[[#This Row],[Wage differential Bonus                            - NotePay Rate you are bonusing to]]>0,Table1[[#This Row],[Bonus Rate]]*Table1[[#This Row],[Hours]],\"\")","v":""},null,null,null,null,null,{"$f":"IF(OR(AH1033>0.001,AH1033<-0.001),Table1[[#This Row],[Employee '#]],\" \")","v":" "},false,{"$f":"SUMIF(Table1[[#This Row],[Total Wage Diff bonus]:[Bank Bonus]],\"<> \")","v":0},{"$f":"IF(AA1033>0, Table1[[#This Row],[Column4]], IF(AB1033>0,Table1[[#This Row],[Column4]],IF(X1033>0,\"1000\")))","v":false}]
[null,null,null,null,null,null,null,null,null,null,null,null,null,null,null,null,0,null,null,null,null,null,null,null,{"$f":"IF(Table1[[#This Row],[Wage differential Bonus                            - NotePay Rate you are bonusing to]]>0, Table1[[#This Row],[Wage differential Bonus                            - NotePay Rate you are bonusing to]]-Table1[[#This Row],[Pay Rate]], \"\")","v":""},{"$f":"IF(Table1[[#This Row],[Wage differential Bonus                            - NotePay Rate you are bonusing to]]>0,Table1[[#This Row],[Bonus Rate]]*Table1[[#This Row],[Hours]],\"\")","v":""},null,null,null,null,null,{"$f":"IF(OR(AH1034>0.001,AH1034<-0.001),Table1[[#This Row],[Employee '#]],\" \")","v":" "},false,{"$f":"SUMIF(Table1[[#This Row],[Total Wage Diff bonus]:[Bank Bonus]],\"<> \")","v":0},{"$f":"IF(AA1034>0, Table1[[#This Row],[Column4]], IF(AB1034>0,Table1[[#This Row],[Column4]],IF(X1034>0,\"1000\")))","v":false}]
[null,null,null,null,null,null,null,null,null,null,null,null,null,null,null,null,0,null,null,null,null,null,null,null,{"$f":"IF(Table1[[#This Row],[Wage differential Bonus                            - NotePay Rate you are bonusing to]]>0, Table1[[#This Row],[Wage differential Bonus                            - NotePay Rate you are bonusing to]]-Table1[[#This Row],[Pay Rate]], \"\")","v":""},{"$f":"IF(Table1[[#This Row],[Wage differential Bonus                            - NotePay Rate you are bonusing to]]>0,Table1[[#This Row],[Bonus Rate]]*Table1[[#This Row],[Hours]],\"\")","v":""},null,null,null,null,null,{"$f":"IF(OR(AH1038>0.001,AH1038<-0.001),Table1[[#This Row],[Employee '#]],\" \")","v":" "},false,{"$f":"SUMIF(Table1[[#This Row],[Total Wage Diff bonus]:[Bank Bonus]],\"<> \")","v":0},{"$f":"IF(AA1038>0, Table1[[#This Row],[Column4]], IF(AB1038>0,Table1[[#This Row],[Column4]],IF(X1038>0,\"1000\")))","v":false}]
[null,null,null,null,null,null,null,null,null,null,null,null,null,null,null,null,0,null,null,null,null,null,null,null,{"$f":"IF(Table1[[#This Row],[Wage differential Bonus                            - NotePay Rate you are bonusing to]]>0, Table1[[#This Row],[Wage differential Bonus                            - NotePay Rate you are bonusing to]]-Table1[[#This Row],[Pay Rate]], \"\")","v":""},{"$f":"IF(Table1[[#This Row],[Wage differential Bonus                            - NotePay Rate you are bonusing to]]>0,Table1[[#This Row],[Bonus Rate]]*Table1[[#This Row],[Hours]],\"\")","v":""},null,null,null,null,null,{"$f":"IF(OR(AH1039>0.001,AH1039<-0.001),Table1[[#This Row],[Employee '#]],\" \")","v":" "},false,{"$f":"SUMIF(Table1[[#This Row],[Total Wage Diff bonus]:[Bank Bonus]],\"<> \")","v":0},{"$f":"IF(AA1039>0, Table1[[#This Row],[Column4]], IF(AB1039>0,Table1[[#This Row],[Column4]],IF(X1039>0,\"1000\")))","v":false}]
[null,null,null,null,null,null,null,null,null,null,null,null,null,null,null,null,0,null,null,null,null,null,null,null,{"$f":"IF(Table1[[#This Row],[Wage differential Bonus                            - NotePay Rate you are bonusing to]]>0, Table1[[#This Row],[Wage differential Bonus                            - NotePay Rate you are bonusing to]]-Table1[[#This Row],[Pay Rate]], \"\")","v":""},{"$f":"IF(Table1[[#This Row],[Wage differential Bonus                            - NotePay Rate you are bonusing to]]>0,Table1[[#This Row],[Bonus Rate]]*Table1[[#This Row],[Hours]],\"\")","v":""},null,null,null,null,null,{"$f":"IF(OR(AH1042>0.001,AH1042<-0.001),Table1[[#This Row],[Employee '#]],\" \")","v":" "},false,{"$f":"SUMIF(Table1[[#This Row],[Total Wage Diff bonus]:[Bank Bonus]],\"<> \")","v":0},{"$f":"IF(AA1042>0, Table1[[#This Row],[Column4]], IF(AB1042>0,Table1[[#This Row],[Column4]],IF(X1042>0,\"1000\")))","v":false}]
[null,null,null,null,null,null,null,null,null,null,null,null,null,null,null,null,0,null,null,null,null,null,null,null,{"$f":"IF(Table1[[#This Row],[Wage differential Bonus                            - NotePay Rate you are bonusing to]]>0, Table1[[#This Row],[Wage differential Bonus                            - NotePay Rate you are bonusing to]]-Table1[[#This Row],[Pay Rate]], \"\")","v":""},{"$f":"IF(Table1[[#This Row],[Wage differential Bonus                            - NotePay Rate you are bonusing to]]>0,Table1[[#This Row],[Bonus Rate]]*Table1[[#This Row],[Hours]],\"\")","v":""},null,null,null,null,null,{"$f":"IF(OR(AH1044>0.001,AH1044<-0.001),Table1[[#This Row],[Employee '#]],\" \")","v":" "},false,{"$f":"SUMIF(Table1[[#This Row],[Total Wage Diff bonus]:[Bank Bonus]],\"<> \")","v":0},{"$f":"IF(AA1044>0, Table1[[#This Row],[Column4]], IF(AB1044>0,Table1[[#This Row],[Column4]],IF(X1044>0,\"1000\")))","v":false}]
[null,null,null,null,null,null,null,null,null,null,null,null,null,null,null,null,0,null,null,null,null,null,null,null,{"$f":"IF(Table1[[#This Row],[Wage differential Bonus                            - NotePay Rate you are bonusing to]]>0, Table1[[#This Row],[Wage differential Bonus                            - NotePay Rate you are bonusing to]]-Table1[[#This Row],[Pay Rate]], \"\")","v":""},{"$f":"IF(Table1[[#This Row],[Wage differential Bonus                            - NotePay Rate you are bonusing to]]>0,Table1[[#This Row],[Bonus Rate]]*Table1[[#This Row],[Hours]],\"\")","v":""},null,null,null,null,null,{"$f":"IF(OR(AH1047>0.001,AH1047<-0.001),Table1[[#This Row],[Employee '#]],\" \")","v":" "},false,{"$f":"SUMIF(Table1[[#This Row],[Total Wage Diff bonus]:[Bank Bonus]],\"<> \")","v":0},{"$f":"IF(AA1047>0, Table1[[#This Row],[Column4]], IF(AB1047>0,Table1[[#This Row],[Column4]],IF(X1047>0,\"1000\")))","v":false}]
[null,null,null,null,null,null,null,null,null,null,null,null,null,null,null,null,0,null,null,null,null,null,null,null,{"$f":"IF(Table1[[#This Row],[Wage differential Bonus                            - NotePay Rate you are bonusing to]]>0, Table1[[#This Row],[Wage differential Bonus                            - NotePay Rate you are bonusing to]]-Table1[[#This Row],[Pay Rate]], \"\")","v":""},{"$f":"IF(Table1[[#This Row],[Wage differential Bonus                            - NotePay Rate you are bonusing to]]>0,Table1[[#This Row],[Bonus Rate]]*Table1[[#This Row],[Hours]],\"\")","v":""},null,null,null,null,null,{"$f":"IF(OR(AH1048>0.001,AH1048<-0.001),Table1[[#This Row],[Employee '#]],\" \")","v":" "},false,{"$f":"SUMIF(Table1[[#This Row],[Total Wage Diff bonus]:[Bank Bonus]],\"<> \")","v":0},{"$f":"IF(AA1048>0, Table1[[#This Row],[Column4]], IF(AB1048>0,Table1[[#This Row],[Column4]],IF(X1048>0,\"1000\")))","v":false}]
[null,null,null,null,null,null,null,null,null,null,null,null,null,null,null,null,0,null,null,null,null,null,null,null,{"$f":"IF(Table1[[#This Row],[Wage differential Bonus                            - NotePay Rate you are bonusing to]]>0, Table1[[#This Row],[Wage differential Bonus                            - NotePay Rate you are bonusing to]]-Table1[[#This Row],[Pay Rate]], \"\")","v":""},{"$f":"IF(Table1[[#This Row],[Wage differential Bonus                            - NotePay Rate you are bonusing to]]>0,Table1[[#This Row],[Bonus Rate]]*Table1[[#This Row],[Hours]],\"\")","v":""},null,null,null,null,null,{"$f":"IF(OR(AH1050>0.001,AH1050<-0.001),Table1[[#This Row],[Employee '#]],\" \")","v":" "},false,{"$f":"SUMIF(Table1[[#This Row],[Total Wage Diff bonus]:[Bank Bonus]],\"<> \")","v":0},{"$f":"IF(AA1050>0, Table1[[#This Row],[Column4]], IF(AB1050>0,Table1[[#This Row],[Column4]],IF(X1050>0,\"1000\")))","v":false}]
[null,null,null,null,null,null,null,null,null,null,null,null,null,null,null,null,0,null,null,null,null,null,null,null,{"$f":"IF(Table1[[#This Row],[Wage differential Bonus                            - NotePay Rate you are bonusing to]]>0, Table1[[#This Row],[Wage differential Bonus                            - NotePay Rate you are bonusing to]]-Table1[[#This Row],[Pay Rate]], \"\")","v":""},{"$f":"IF(Table1[[#This Row],[Wage differential Bonus                            - NotePay Rate you are bonusing to]]>0,Table1[[#This Row],[Bonus Rate]]*Table1[[#This Row],[Hours]],\"\")","v":""},null,null,null,null,null,{"$f":"IF(OR(AH1053>0.001,AH1053<-0.001),Table1[[#This Row],[Employee '#]],\" \")","v":" "},false,{"$f":"SUMIF(Table1[[#This Row],[Total Wage Diff bonus]:[Bank Bonus]],\"<> \")","v":0},{"$f":"IF(AA1053>0, Table1[[#This Row],[Column4]], IF(AB1053>0,Table1[[#This Row],[Column4]],IF(X1053>0,\"1000\")))","v":false}]
[null,null,null,null,null,null,null,null,null,null,null,null,null,null,null,null,0,null,null,null,null,null,null,null,{"$f":"IF(Table1[[#This Row],[Wage differential Bonus                            - NotePay Rate you are bonusing to]]>0, Table1[[#This Row],[Wage differential Bonus                            - NotePay Rate you are bonusing to]]-Table1[[#This Row],[Pay Rate]], \"\")","v":""},{"$f":"IF(Table1[[#This Row],[Wage differential Bonus                            - NotePay Rate you are bonusing to]]>0,Table1[[#This Row],[Bonus Rate]]*Table1[[#This Row],[Hours]],\"\")","v":""},null,null,null,null,null,{"$f":"IF(OR(AH1056>0.001,AH1056<-0.001),Table1[[#This Row],[Employee '#]],\" \")","v":" "},false,{"$f":"SUMIF(Table1[[#This Row],[Total Wage Diff bonus]:[Bank Bonus]],\"<> \")","v":0},{"$f":"IF(AA1056>0, Table1[[#This Row],[Column4]], IF(AB1056>0,Table1[[#This Row],[Column4]],IF(X1056>0,\"1000\")))","v":false}]
[null,null,null,null,null,null,null,null,null,null,null,null,null,null,null,null,0,null,null,null,null,null,null,null,{"$f":"IF(Table1[[#This Row],[Wage differential Bonus                            - NotePay Rate you are bonusing to]]>0, Table1[[#This Row],[Wage differential Bonus                            - NotePay Rate you are bonusing to]]-Table1[[#This Row],[Pay Rate]], \"\")","v":""},{"$f":"IF(Table1[[#This Row],[Wage differential Bonus                            - NotePay Rate you are bonusing to]]>0,Table1[[#This Row],[Bonus Rate]]*Table1[[#This Row],[Hours]],\"\")","v":""},null,null,null,null,null,{"$f":"IF(OR(AH1057>0.001,AH1057<-0.001),Table1[[#This Row],[Employee '#]],\" \")","v":" "},false,{"$f":"SUMIF(Table1[[#This Row],[Total Wage Diff bonus]:[Bank Bonus]],\"<> \")","v":0},{"$f":"IF(AA1057>0, Table1[[#This Row],[Column4]], IF(AB1057>0,Table1[[#This Row],[Column4]],IF(X1057>0,\"1000\")))","v":false}]
[null,null,null,null,null,null,null,null,null,null,null,null,null,null,null,null,0,null,null,null,null,null,null,null,{"$f":"IF(Table1[[#This Row],[Wage differential Bonus                            - NotePay Rate you are bonusing to]]>0, Table1[[#This Row],[Wage differential Bonus                            - NotePay Rate you are bonusing to]]-Table1[[#This Row],[Pay Rate]], \"\")","v":""},{"$f":"IF(Table1[[#This Row],[Wage differential Bonus                            - NotePay Rate you are bonusing to]]>0,Table1[[#This Row],[Bonus Rate]]*Table1[[#This Row],[Hours]],\"\")","v":""},null,null,null,null,null,{"$f":"IF(OR(AH1060>0.001,AH1060<-0.001),Table1[[#This Row],[Employee '#]],\" \")","v":" "},false,{"$f":"SUMIF(Table1[[#This Row],[Total Wage Diff bonus]:[Bank Bonus]],\"<> \")","v":0},{"$f":"IF(AA1060>0, Table1[[#This Row],[Column4]], IF(AB1060>0,Table1[[#This Row],[Column4]],IF(X1060>0,\"1000\")))","v":false}]
[null,null,null,null,null,null,null,null,null,null,null,null,null,null,null,null,0,null,null,null,null,null,null,null,{"$f":"IF(Table1[[#This Row],[Wage differential Bonus                            - NotePay Rate you are bonusing to]]>0, Table1[[#This Row],[Wage differential Bonus                            - NotePay Rate you are bonusing to]]-Table1[[#This Row],[Pay Rate]], \"\")","v":""},{"$f":"IF(Table1[[#This Row],[Wage differential Bonus                            - NotePay Rate you are bonusing to]]>0,Table1[[#This Row],[Bonus Rate]]*Table1[[#This Row],[Hours]],\"\")","v":""},null,null,null,null,null,{"$f":"IF(OR(AH1062>0.001,AH1062<-0.001),Table1[[#This Row],[Employee '#]],\" \")","v":" "},false,{"$f":"SUMIF(Table1[[#This Row],[Total Wage Diff bonus]:[Bank Bonus]],\"<> \")","v":0},{"$f":"IF(AA1062>0, Table1[[#This Row],[Column4]], IF(AB1062>0,Table1[[#This Row],[Column4]],IF(X1062>0,\"1000\")))","v":false}]
[null,null,null,null,null,null,null,null,null,null,null,null,null,null,null,null,0,null,null,null,null,null,null,null,{"$f":"IF(Table1[[#This Row],[Wage differential Bonus                            - NotePay Rate you are bonusing to]]>0, Table1[[#This Row],[Wage differential Bonus                            - NotePay Rate you are bonusing to]]-Table1[[#This Row],[Pay Rate]], \"\")","v":""},{"$f":"IF(Table1[[#This Row],[Wage differential Bonus                            - NotePay Rate you are bonusing to]]>0,Table1[[#This Row],[Bonus Rate]]*Table1[[#This Row],[Hours]],\"\")","v":""},null,null,null,null,null,{"$f":"IF(OR(AH1065>0.001,AH1065<-0.001),Table1[[#This Row],[Employee '#]],\" \")","v":" "},false,{"$f":"SUMIF(Table1[[#This Row],[Total Wage Diff bonus]:[Bank Bonus]],\"<> \")","v":0},{"$f":"IF(AA1065>0, Table1[[#This Row],[Column4]], IF(AB1065>0,Table1[[#This Row],[Column4]],IF(X1065>0,\"1000\")))","v":false}]
[null,null,null,null,null,null,null,null,null,null,null,null,null,null,null,null,0,null,null,null,null,null,null,null,{"$f":"IF(Table1[[#This Row],[Wage differential Bonus                            - NotePay Rate you are bonusing to]]>0, Table1[[#This Row],[Wage differential Bonus                            - NotePay Rate you are bonusing to]]-Table1[[#This Row],[Pay Rate]], \"\")","v":""},{"$f":"IF(Table1[[#This Row],[Wage differential Bonus                            - NotePay Rate you are bonusing to]]>0,Table1[[#This Row],[Bonus Rate]]*Table1[[#This Row],[Hours]],\"\")","v":""},null,null,null,null,null,{"$f":"IF(OR(AH1066>0.001,AH1066<-0.001),Table1[[#This Row],[Employee '#]],\" \")","v":" "},false,{"$f":"SUMIF(Table1[[#This Row],[Total Wage Diff bonus]:[Bank Bonus]],\"<> \")","v":0},{"$f":"IF(AA1066>0, Table1[[#This Row],[Column4]], IF(AB1066>0,Table1[[#This Row],[Column4]],IF(X1066>0,\"1000\")))","v":false}]
[null,null,null,null,null,null,null,null,null,null,null,null,null,null,null,null,0,null,null,null,null,null,null,null,{"$f":"IF(Table1[[#This Row],[Wage differential Bonus                            - NotePay Rate you are bonusing to]]>0, Table1[[#This Row],[Wage differential Bonus                            - NotePay Rate you are bonusing to]]-Table1[[#This Row],[Pay Rate]], \"\")","v":""},{"$f":"IF(Table1[[#This Row],[Wage differential Bonus                            - NotePay Rate you are bonusing to]]>0,Table1[[#This Row],[Bonus Rate]]*Table1[[#This Row],[Hours]],\"\")","v":""},null,null,null,null,null,{"$f":"IF(OR(AH1068>0.001,AH1068<-0.001),Table1[[#This Row],[Employee '#]],\" \")","v":" "},false,{"$f":"SUMIF(Table1[[#This Row],[Total Wage Diff bonus]:[Bank Bonus]],\"<> \")","v":0},{"$f":"IF(AA1068>0, Table1[[#This Row],[Column4]], IF(AB1068>0,Table1[[#This Row],[Column4]],IF(X1068>0,\"1000\")))","v":false}]
[null,null,null,null,null,null,null,null,null,null,null,null,null,null,null,null,0,null,null,null,null,null,null,null,{"$f":"IF(Table1[[#This Row],[Wage differential Bonus                            - NotePay Rate you are bonusing to]]>0, Table1[[#This Row],[Wage differential Bonus                            - NotePay Rate you are bonusing to]]-Table1[[#This Row],[Pay Rate]], \"\")","v":""},{"$f":"IF(Table1[[#This Row],[Wage differential Bonus                            - NotePay Rate you are bonusing to]]>0,Table1[[#This Row],[Bonus Rate]]*Table1[[#This Row],[Hours]],\"\")","v":""},null,null,null,null,null,{"$f":"IF(OR(AH1071>0.001,AH1071<-0.001),Table1[[#This Row],[Employee '#]],\" \")","v":" "},false,{"$f":"SUMIF(Table1[[#This Row],[Total Wage Diff bonus]:[Bank Bonus]],\"<> \")","v":0},{"$f":"IF(AA1071>0, Table1[[#This Row],[Column4]], IF(AB1071>0,Table1[[#This Row],[Column4]],IF(X1071>0,\"1000\")))","v":false}]
[null,null,null,null,null,null,null,null,null,null,null,null,null,null,null,null,0,null,null,null,null,null,null,null,{"$f":"IF(Table1[[#This Row],[Wage differential Bonus                            - NotePay Rate you are bonusing to]]>0, Table1[[#This Row],[Wage differential Bonus                            - NotePay Rate you are bonusing to]]-Table1[[#This Row],[Pay Rate]], \"\")","v":""},{"$f":"IF(Table1[[#This Row],[Wage differential Bonus                            - NotePay Rate you are bonusing to]]>0,Table1[[#This Row],[Bonus Rate]]*Table1[[#This Row],[Hours]],\"\")","v":""},null,null,null,null,null,{"$f":"IF(OR(AH1074>0.001,AH1074<-0.001),Table1[[#This Row],[Employee '#]],\" \")","v":" "},false,{"$f":"SUMIF(Table1[[#This Row],[Total Wage Diff bonus]:[Bank Bonus]],\"<> \")","v":0},{"$f":"IF(AA1074>0, Table1[[#This Row],[Column4]], IF(AB1074>0,Table1[[#This Row],[Column4]],IF(X1074>0,\"1000\")))","v":false}]
[null,null,null,null,null,null,null,null,null,null,null,null,null,null,null,null,0,null,null,null,null,null,null,null,{"$f":"IF(Table1[[#This Row],[Wage differential Bonus                            - NotePay Rate you are bonusing to]]>0, Table1[[#This Row],[Wage differential Bonus                            - NotePay Rate you are bonusing to]]-Table1[[#This Row],[Pay Rate]], \"\")","v":""},{"$f":"IF(Table1[[#This Row],[Wage differential Bonus                            - NotePay Rate you are bonusing to]]>0,Table1[[#This Row],[Bonus Rate]]*Table1[[#This Row],[Hours]],\"\")","v":""},null,null,null,null,null,{"$f":"IF(OR(AH1076>0.001,AH1076<-0.001),Table1[[#This Row],[Employee '#]],\" \")","v":" "},false,{"$f":"SUMIF(Table1[[#This Row],[Total Wage Diff bonus]:[Bank Bonus]],\"<> \")","v":0},{"$f":"IF(AA1076>0, Table1[[#This Row],[Column4]], IF(AB1076>0,Table1[[#This Row],[Column4]],IF(X1076>0,\"1000\")))","v":false}]
[null,null,null,null,null,null,null,null,null,null,null,null,null,null,null,null,0,null,null,null,null,null,null,null,{"$f":"IF(Table1[[#This Row],[Wage differential Bonus                            - NotePay Rate you are bonusing to]]>0, Table1[[#This Row],[Wage differential Bonus                            - NotePay Rate you are bonusing to]]-Table1[[#This Row],[Pay Rate]], \"\")","v":""},{"$f":"IF(Table1[[#This Row],[Wage differential Bonus                            - NotePay Rate you are bonusing to]]>0,Table1[[#This Row],[Bonus Rate]]*Table1[[#This Row],[Hours]],\"\")","v":""},null,null,null,null,null,{"$f":"IF(OR(AH1079>0.001,AH1079<-0.001),Table1[[#This Row],[Employee '#]],\" \")","v":" "},false,{"$f":"SUMIF(Table1[[#This Row],[Total Wage Diff bonus]:[Bank Bonus]],\"<> \")","v":0},{"$f":"IF(AA1079>0, Table1[[#This Row],[Column4]], IF(AB1079>0,Table1[[#This Row],[Column4]],IF(X1079>0,\"1000\")))","v":false}]
[null,null,null,null,null,null,null,null,null,null,null,null,null,null,null,null,0,null,null,null,null,null,null,null,{"$f":"IF(Table1[[#This Row],[Wage differential Bonus                            - NotePay Rate you are bonusing to]]>0, Table1[[#This Row],[Wage differential Bonus                            - NotePay Rate you are bonusing to]]-Table1[[#This Row],[Pay Rate]], \"\")","v":""},{"$f":"IF(Table1[[#This Row],[Wage differential Bonus                            - NotePay Rate you are bonusing to]]>0,Table1[[#This Row],[Bonus Rate]]*Table1[[#This Row],[Hours]],\"\")","v":""},null,null,null,null,null,{"$f":"IF(OR(AH1080>0.001,AH1080<-0.001),Table1[[#This Row],[Employee '#]],\" \")","v":" "},false,{"$f":"SUMIF(Table1[[#This Row],[Total Wage Diff bonus]:[Bank Bonus]],\"<> \")","v":0},{"$f":"IF(AA1080>0, Table1[[#This Row],[Column4]], IF(AB1080>0,Table1[[#This Row],[Column4]],IF(X1080>0,\"1000\")))","v":false}]
[null,null,null,null,null,null,null,null,null,null,null,null,null,null,null,null,0,null,null,null,null,null,null,null,{"$f":"IF(Table1[[#This Row],[Wage differential Bonus                            - NotePay Rate you are bonusing to]]>0, Table1[[#This Row],[Wage differential Bonus                            - NotePay Rate you are bonusing to]]-Table1[[#This Row],[Pay Rate]], \"\")","v":""},{"$f":"IF(Table1[[#This Row],[Wage differential Bonus                            - NotePay Rate you are bonusing to]]>0,Table1[[#This Row],[Bonus Rate]]*Table1[[#This Row],[Hours]],\"\")","v":""},null,null,null,null,null,{"$f":"IF(OR(AH1083>0.001,AH1083<-0.001),Table1[[#This Row],[Employee '#]],\" \")","v":" "},false,{"$f":"SUMIF(Table1[[#This Row],[Total Wage Diff bonus]:[Bank Bonus]],\"<> \")","v":0},{"$f":"IF(AA1083>0, Table1[[#This Row],[Column4]], IF(AB1083>0,Table1[[#This Row],[Column4]],IF(X1083>0,\"1000\")))","v":false}]
[null,null,null,null,null,null,null,null,null,null,null,null,null,null,null,null,0,null,null,null,null,null,null,null,{"$f":"IF(Table1[[#This Row],[Wage differential Bonus                            - NotePay Rate you are bonusing to]]>0, Table1[[#This Row],[Wage differential Bonus                            - NotePay Rate you are bonusing to]]-Table1[[#This Row],[Pay Rate]], \"\")","v":""},{"$f":"IF(Table1[[#This Row],[Wage differential Bonus                            - NotePay Rate you are bonusing to]]>0,Table1[[#This Row],[Bonus Rate]]*Table1[[#This Row],[Hours]],\"\")","v":""},null,null,null,null,null,{"$f":"IF(OR(AH1084>0.001,AH1084<-0.001),Table1[[#This Row],[Employee '#]],\" \")","v":" "},false,{"$f":"SUMIF(Table1[[#This Row],[Total Wage Diff bonus]:[Bank Bonus]],\"<> \")","v":0},{"$f":"IF(AA1084>0, Table1[[#This Row],[Column4]], IF(AB1084>0,Table1[[#This Row],[Column4]],IF(X1084>0,\"1000\")))","v":false}]
[null,null,null,null,null,null,null,null,null,null,null,null,null,null,null,null,0,null,null,null,null,null,null,null,{"$f":"IF(Table1[[#This Row],[Wage differential Bonus                            - NotePay Rate you are bonusing to]]>0, Table1[[#This Row],[Wage differential Bonus                            - NotePay Rate you are bonusing to]]-Table1[[#This Row],[Pay Rate]], \"\")","v":""},{"$f":"IF(Table1[[#This Row],[Wage differential Bonus                            - NotePay Rate you are bonusing to]]>0,Table1[[#This Row],[Bonus Rate]]*Table1[[#This Row],[Hours]],\"\")","v":""},null,null,null,null,null,{"$f":"IF(OR(AH1088>0.001,AH1088<-0.001),Table1[[#This Row],[Employee '#]],\" \")","v":" "},false,{"$f":"SUMIF(Table1[[#This Row],[Total Wage Diff bonus]:[Bank Bonus]],\"<> \")","v":0},{"$f":"IF(AA1088>0, Table1[[#This Row],[Column4]], IF(AB1088>0,Table1[[#This Row],[Column4]],IF(X1088>0,\"1000\")))","v":false}]
[null,null,null,null,null,null,null,null,null,null,null,null,null,null,null,null,0,null,null,null,null,null,null,null,{"$f":"IF(Table1[[#This Row],[Wage differential Bonus                            - NotePay Rate you are bonusing to]]>0, Table1[[#This Row],[Wage differential Bonus                            - NotePay Rate you are bonusing to]]-Table1[[#This Row],[Pay Rate]], \"\")","v":""},{"$f":"IF(Table1[[#This Row],[Wage differential Bonus                            - NotePay Rate you are bonusing to]]>0,Table1[[#This Row],[Bonus Rate]]*Table1[[#This Row],[Hours]],\"\")","v":""},null,null,null,null,null,{"$f":"IF(OR(AH1089>0.001,AH1089<-0.001),Table1[[#This Row],[Employee '#]],\" \")","v":" "},false,{"$f":"SUMIF(Table1[[#This Row],[Total Wage Diff bonus]:[Bank Bonus]],\"<> \")","v":0},{"$f":"IF(AA1089>0, Table1[[#This Row],[Column4]], IF(AB1089>0,Table1[[#This Row],[Column4]],IF(X1089>0,\"1000\")))","v":false}]
[null,null,null,null,null,null,null,null,null,null,null,null,null,null,null,null,{"$f":"L1092+P1092","v":0},null,null,null,null,null,null,null,{"$f":"IF(Table1[[#This Row],[Wage differential Bonus                            - NotePay Rate you are bonusing to]]>0, Table1[[#This Row],[Wage differential Bonus                            - NotePay Rate you are bonusing to]]-Table1[[#This Row],[Pay Rate]], \"\")","v":""},{"$f":"IF(Table1[[#This Row],[Wage differential Bonus                            - NotePay Rate you are bonusing to]]>0,Table1[[#This Row],[Bonus Rate]]*Table1[[#This Row],[Hours]],\"\")","v":""},null,null,null,null,null,{"$f":"IF(OR(AH1092>0.001,AH1092<-0.001),Table1[[#This Row],[Employee '#]],\" \")","v":" "},{"$f":"IF(AA1092>0, \"28\", IF(AB1092>0,\"53\",IF(X1092>0,\"20\")))","v":false},{"$f":"SUMIF(Table1[[#This Row],[Total Wage Diff bonus]:[Bank Bonus]],\"<> \")","v":0},{"$f":"IF(AA1092>0, Table1[[#This Row],[Column4]], IF(AB1092>0,Table1[[#This Row],[Column4]],IF(X1092>0,\"1000\")))","v":false}]
[null,null,null,null,null,null,null,null,null,null,null,null,null,null,null,null,0,null,null,null,null,null,null,null,{"$f":"IF(Table1[[#This Row],[Wage differential Bonus                            - NotePay Rate you are bonusing to]]>0, Table1[[#This Row],[Wage differential Bonus                            - NotePay Rate you are bonusing to]]-Table1[[#This Row],[Pay Rate]], \"\")","v":""},{"$f":"IF(Table1[[#This Row],[Wage differential Bonus                            - NotePay Rate you are bonusing to]]>0,Table1[[#This Row],[Bonus Rate]]*Table1[[#This Row],[Hours]],\"\")","v":""},null,null,null,null,null,{"$f":"IF(OR(AH1094>0.001,AH1094<-0.001),Table1[[#This Row],[Employee '#]],\" \")","v":" "},false,{"$f":"SUMIF(Table1[[#This Row],[Total Wage Diff bonus]:[Bank Bonus]],\"<> \")","v":0},{"$f":"IF(AA1094>0, Table1[[#This Row],[Column4]], IF(AB1094>0,Table1[[#This Row],[Column4]],IF(X1094>0,\"1000\")))","v":false}]
[null,null,null,null,null,null,null,null,null,null,null,null,null,null,null,null,0,null,null,null,null,null,null,null,{"$f":"IF(Table1[[#This Row],[Wage differential Bonus                            - NotePay Rate you are bonusing to]]>0, Table1[[#This Row],[Wage differential Bonus                            - NotePay Rate you are bonusing to]]-Table1[[#This Row],[Pay Rate]], \"\")","v":""},{"$f":"IF(Table1[[#This Row],[Wage differential Bonus                            - NotePay Rate you are bonusing to]]>0,Table1[[#This Row],[Bonus Rate]]*Table1[[#This Row],[Hours]],\"\")","v":""},null,null,null,null,null,{"$f":"IF(OR(AH1097>0.001,AH1097<-0.001),Table1[[#This Row],[Employee '#]],\" \")","v":" "},false,{"$f":"SUMIF(Table1[[#This Row],[Total Wage Diff bonus]:[Bank Bonus]],\"<> \")","v":0},{"$f":"IF(AA1097>0, Table1[[#This Row],[Column4]], IF(AB1097>0,Table1[[#This Row],[Column4]],IF(X1097>0,\"1000\")))","v":false}]
[null,null,null,null,null,null,null,null,null,null,null,null,null,null,null,null,0,null,null,null,null,null,null,null,{"$f":"IF(Table1[[#This Row],[Wage differential Bonus                            - NotePay Rate you are bonusing to]]>0, Table1[[#This Row],[Wage differential Bonus                            - NotePay Rate you are bonusing to]]-Table1[[#This Row],[Pay Rate]], \"\")","v":""},{"$f":"IF(Table1[[#This Row],[Wage differential Bonus                            - NotePay Rate you are bonusing to]]>0,Table1[[#This Row],[Bonus Rate]]*Table1[[#This Row],[Hours]],\"\")","v":""},null,null,null,null,null,{"$f":"IF(OR(AH1098>0.001,AH1098<-0.001),Table1[[#This Row],[Employee '#]],\" \")","v":" "},false,{"$f":"SUMIF(Table1[[#This Row],[Total Wage Diff bonus]:[Bank Bonus]],\"<> \")","v":0},{"$f":"IF(AA1098>0, Table1[[#This Row],[Column4]], IF(AB1098>0,Table1[[#This Row],[Column4]],IF(X1098>0,\"1000\")))","v":false}]
[null,null,null,null,null,null,null,null,null,null,null,null,null,null,null,null,0,null,null,null,null,null,null,null,{"$f":"IF(Table1[[#This Row],[Wage differential Bonus                            - NotePay Rate you are bonusing to]]>0, Table1[[#This Row],[Wage differential Bonus                            - NotePay Rate you are bonusing to]]-Table1[[#This Row],[Pay Rate]], \"\")","v":""},{"$f":"IF(Table1[[#This Row],[Wage differential Bonus                            - NotePay Rate you are bonusing to]]>0,Table1[[#This Row],[Bonus Rate]]*Table1[[#This Row],[Hours]],\"\")","v":""},null,null,null,null,null,{"$f":"IF(OR(AH1101>0.001,AH1101<-0.001),Table1[[#This Row],[Employee '#]],\" \")","v":" "},false,{"$f":"SUMIF(Table1[[#This Row],[Total Wage Diff bonus]:[Bank Bonus]],\"<> \")","v":0},{"$f":"IF(AA1101>0, Table1[[#This Row],[Column4]], IF(AB1101>0,Table1[[#This Row],[Column4]],IF(X1101>0,\"1000\")))","v":false}]
[null,null,null,null,null,null,null,null,null,null,null,null,null,null,null,null,0,null,null,null,null,null,null,null,{"$f":"IF(Table1[[#This Row],[Wage differential Bonus                            - NotePay Rate you are bonusing to]]>0, Table1[[#This Row],[Wage differential Bonus                            - NotePay Rate you are bonusing to]]-Table1[[#This Row],[Pay Rate]], \"\")","v":""},{"$f":"IF(Table1[[#This Row],[Wage differential Bonus                            - NotePay Rate you are bonusing to]]>0,Table1[[#This Row],[Bonus Rate]]*Table1[[#This Row],[Hours]],\"\")","v":""},null,null,null,null,null,{"$f":"IF(OR(AH1102>0.001,AH1102<-0.001),Table1[[#This Row],[Employee '#]],\" \")","v":" "},false,{"$f":"SUMIF(Table1[[#This Row],[Total Wage Diff bonus]:[Bank Bonus]],\"<> \")","v":0},{"$f":"IF(AA1102>0, Table1[[#This Row],[Column4]], IF(AB1102>0,Table1[[#This Row],[Column4]],IF(X1102>0,\"1000\")))","v":false}]
[null,null,null,null,null,null,null,null,null,null,null,null,null,null,null,null,0,null,null,null,null,null,null,null,{"$f":"IF(Table1[[#This Row],[Wage differential Bonus                            - NotePay Rate you are bonusing to]]>0, Table1[[#This Row],[Wage differential Bonus                            - NotePay Rate you are bonusing to]]-Table1[[#This Row],[Pay Rate]], \"\")","v":""},{"$f":"IF(Table1[[#This Row],[Wage differential Bonus                            - NotePay Rate you are bonusing to]]>0,Table1[[#This Row],[Bonus Rate]]*Table1[[#This Row],[Hours]],\"\")","v":""},null,null,null,null,null,{"$f":"IF(OR(AH1106>0.001,AH1106<-0.001),Table1[[#This Row],[Employee '#]],\" \")","v":" "},false,{"$f":"SUMIF(Table1[[#This Row],[Total Wage Diff bonus]:[Bank Bonus]],\"<> \")","v":0},{"$f":"IF(AA1106>0, Table1[[#This Row],[Column4]], IF(AB1106>0,Table1[[#This Row],[Column4]],IF(X1106>0,\"1000\")))","v":false}]
[null,null,null,null,null,null,null,null,null,null,null,null,null,null,null,null,0,null,null,null,null,null,null,null,{"$f":"IF(Table1[[#This Row],[Wage differential Bonus                            - NotePay Rate you are bonusing to]]>0, Table1[[#This Row],[Wage differential Bonus                            - NotePay Rate you are bonusing to]]-Table1[[#This Row],[Pay Rate]], \"\")","v":""},{"$f":"IF(Table1[[#This Row],[Wage differential Bonus                            - NotePay Rate you are bonusing to]]>0,Table1[[#This Row],[Bonus Rate]]*Table1[[#This Row],[Hours]],\"\")","v":""},null,null,null,null,null,{"$f":"IF(OR(AH1107>0.001,AH1107<-0.001),Table1[[#This Row],[Employee '#]],\" \")","v":" "},false,{"$f":"SUMIF(Table1[[#This Row],[Total Wage Diff bonus]:[Bank Bonus]],\"<> \")","v":0},{"$f":"IF(AA1107>0, Table1[[#This Row],[Column4]], IF(AB1107>0,Table1[[#This Row],[Column4]],IF(X1107>0,\"1000\")))","v":false}]
[null,null,null,null,null,null,null,null,null,null,null,null,null,null,null,null,0,null,null,null,null,null,null,null,{"$f":"IF(Table1[[#This Row],[Wage differential Bonus                            - NotePay Rate you are bonusing to]]>0, Table1[[#This Row],[Wage differential Bonus                            - NotePay Rate you are bonusing to]]-Table1[[#This Row],[Pay Rate]], \"\")","v":""},{"$f":"IF(Table1[[#This Row],[Wage differential Bonus                            - NotePay Rate you are bonusing to]]>0,Table1[[#This Row],[Bonus Rate]]*Table1[[#This Row],[Hours]],\"\")","v":""},null,null,null,null,null,{"$f":"IF(OR(AH1110>0.001,AH1110<-0.001),Table1[[#This Row],[Employee '#]],\" \")","v":" "},false,{"$f":"SUMIF(Table1[[#This Row],[Total Wage Diff bonus]:[Bank Bonus]],\"<> \")","v":0},{"$f":"IF(AA1110>0, Table1[[#This Row],[Column4]], IF(AB1110>0,Table1[[#This Row],[Column4]],IF(X1110>0,\"1000\")))","v":false}]
[null,null,null,null,null,null,null,null,null,null,null,null,null,null,null,null,0,null,null,null,null,null,null,null,{"$f":"IF(Table1[[#This Row],[Wage differential Bonus                            - NotePay Rate you are bonusing to]]>0, Table1[[#This Row],[Wage differential Bonus                            - NotePay Rate you are bonusing to]]-Table1[[#This Row],[Pay Rate]], \"\")","v":""},{"$f":"IF(Table1[[#This Row],[Wage differential Bonus                            - NotePay Rate you are bonusing to]]>0,Table1[[#This Row],[Bonus Rate]]*Table1[[#This Row],[Hours]],\"\")","v":""},null,null,null,null,null,{"$f":"IF(OR(AH1112>0.001,AH1112<-0.001),Table1[[#This Row],[Employee '#]],\" \")","v":" "},false,{"$f":"SUMIF(Table1[[#This Row],[Total Wage Diff bonus]:[Bank Bonus]],\"<> \")","v":0},{"$f":"IF(AA1112>0, Table1[[#This Row],[Column4]], IF(AB1112>0,Table1[[#This Row],[Column4]],IF(X1112>0,\"1000\")))","v":false}]
[null,null,null,null,null,null,null,null,null,null,null,null,null,null,null,null,0,null,null,null,null,null,null,null,{"$f":"IF(Table1[[#This Row],[Wage differential Bonus                            - NotePay Rate you are bonusing to]]>0, Table1[[#This Row],[Wage differential Bonus                            - NotePay Rate you are bonusing to]]-Table1[[#This Row],[Pay Rate]], \"\")","v":""},{"$f":"IF(Table1[[#This Row],[Wage differential Bonus                            - NotePay Rate you are bonusing to]]>0,Table1[[#This Row],[Bonus Rate]]*Table1[[#This Row],[Hours]],\"\")","v":""},null,null,null,null,null,{"$f":"IF(OR(AH1115>0.001,AH1115<-0.001),Table1[[#This Row],[Employee '#]],\" \")","v":" "},false,{"$f":"SUMIF(Table1[[#This Row],[Total Wage Diff bonus]:[Bank Bonus]],\"<> \")","v":0},{"$f":"IF(AA1115>0, Table1[[#This Row],[Column4]], IF(AB1115>0,Table1[[#This Row],[Column4]],IF(X1115>0,\"1000\")))","v":false}]
[null,null,null,null,null,null,null,null,null,null,null,null,null,null,null,null,0,null,null,null,null,null,null,null,{"$f":"IF(Table1[[#This Row],[Wage differential Bonus                            - NotePay Rate you are bonusing to]]>0, Table1[[#This Row],[Wage differential Bonus                            - NotePay Rate you are bonusing to]]-Table1[[#This Row],[Pay Rate]], \"\")","v":""},{"$f":"IF(Table1[[#This Row],[Wage differential Bonus                            - NotePay Rate you are bonusing to]]>0,Table1[[#This Row],[Bonus Rate]]*Table1[[#This Row],[Hours]],\"\")","v":""},null,null,null,null,null,{"$f":"IF(OR(AH1116>0.001,AH1116<-0.001),Table1[[#This Row],[Employee '#]],\" \")","v":" "},false,{"$f":"SUMIF(Table1[[#This Row],[Total Wage Diff bonus]:[Bank Bonus]],\"<> \")","v":0},{"$f":"IF(AA1116>0, Table1[[#This Row],[Column4]], IF(AB1116>0,Table1[[#This Row],[Column4]],IF(X1116>0,\"1000\")))","v":false}]
[null,null,null,null,null,null,null,null,null,null,null,null,null,null,null,null,0,null,null,null,null,null,null,null,{"$f":"IF(Table1[[#This Row],[Wage differential Bonus                            - NotePay Rate you are bonusing to]]>0, Table1[[#This Row],[Wage differential Bonus                            - NotePay Rate you are bonusing to]]-Table1[[#This Row],[Pay Rate]], \"\")","v":""},{"$f":"IF(Table1[[#This Row],[Wage differential Bonus                            - NotePay Rate you are bonusing to]]>0,Table1[[#This Row],[Bonus Rate]]*Table1[[#This Row],[Hours]],\"\")","v":""},null,null,null,null,null,{"$f":"IF(OR(AH1120>0.001,AH1120<-0.001),Table1[[#This Row],[Employee '#]],\" \")","v":" "},false,{"$f":"SUMIF(Table1[[#This Row],[Total Wage Diff bonus]:[Bank Bonus]],\"<> \")","v":0},{"$f":"IF(AA1120>0, Table1[[#This Row],[Column4]], IF(AB1120>0,Table1[[#This Row],[Column4]],IF(X1120>0,\"1000\")))","v":false}]
[null,null,null,null,null,null,null,null,null,null,null,null,null,null,null,null,0,null,null,null,null,null,null,null,{"$f":"IF(Table1[[#This Row],[Wage differential Bonus                            - NotePay Rate you are bonusing to]]>0, Table1[[#This Row],[Wage differential Bonus                            - NotePay Rate you are bonusing to]]-Table1[[#This Row],[Pay Rate]], \"\")","v":""},{"$f":"IF(Table1[[#This Row],[Wage differential Bonus                            - NotePay Rate you are bonusing to]]>0,Table1[[#This Row],[Bonus Rate]]*Table1[[#This Row],[Hours]],\"\")","v":""},null,null,null,null,null,{"$f":"IF(OR(AH1121>0.001,AH1121<-0.001),Table1[[#This Row],[Employee '#]],\" \")","v":" "},false,{"$f":"SUMIF(Table1[[#This Row],[Total Wage Diff bonus]:[Bank Bonus]],\"<> \")","v":0},{"$f":"IF(AA1121>0, Table1[[#This Row],[Column4]], IF(AB1121>0,Table1[[#This Row],[Column4]],IF(X1121>0,\"1000\")))","v":false}]
[null,null,null,null,null,null,null,null,null,null,null,null,null,null,null,null,0,null,null,null,null,null,null,null,{"$f":"IF(Table1[[#This Row],[Wage differential Bonus                            - NotePay Rate you are bonusing to]]>0, Table1[[#This Row],[Wage differential Bonus                            - NotePay Rate you are bonusing to]]-Table1[[#This Row],[Pay Rate]], \"\")","v":""},{"$f":"IF(Table1[[#This Row],[Wage differential Bonus                            - NotePay Rate you are bonusing to]]>0,Table1[[#This Row],[Bonus Rate]]*Table1[[#This Row],[Hours]],\"\")","v":""},null,null,null,null,null,{"$f":"IF(OR(AH1124>0.001,AH1124<-0.001),Table1[[#This Row],[Employee '#]],\" \")","v":" "},false,{"$f":"SUMIF(Table1[[#This Row],[Total Wage Diff bonus]:[Bank Bonus]],\"<> \")","v":0},{"$f":"IF(AA1124>0, Table1[[#This Row],[Column4]], IF(AB1124>0,Table1[[#This Row],[Column4]],IF(X1124>0,\"1000\")))","v":false}]
[null,null,null,null,null,null,null,null,null,null,null,null,null,null,null,null,0,null,null,null,null,null,null,null,{"$f":"IF(Table1[[#This Row],[Wage differential Bonus                            - NotePay Rate you are bonusing to]]>0, Table1[[#This Row],[Wage differential Bonus                            - NotePay Rate you are bonusing to]]-Table1[[#This Row],[Pay Rate]], \"\")","v":""},{"$f":"IF(Table1[[#This Row],[Wage differential Bonus                            - NotePay Rate you are bonusing to]]>0,Table1[[#This Row],[Bonus Rate]]*Table1[[#This Row],[Hours]],\"\")","v":""},null,null,null,null,null,{"$f":"IF(OR(AH1125>0.001,AH1125<-0.001),Table1[[#This Row],[Employee '#]],\" \")","v":" "},false,{"$f":"SUMIF(Table1[[#This Row],[Total Wage Diff bonus]:[Bank Bonus]],\"<> \")","v":0},{"$f":"IF(AA1125>0, Table1[[#This Row],[Column4]], IF(AB1125>0,Table1[[#This Row],[Column4]],IF(X1125>0,\"1000\")))","v":false}]
[null,null,null,null,null,null,null,null,null,null,null,null,null,null,null,null,0,null,null,null,null,null,null,null,{"$f":"IF(Table1[[#This Row],[Wage differential Bonus                            - NotePay Rate you are bonusing to]]>0, Table1[[#This Row],[Wage differential Bonus                            - NotePay Rate you are bonusing to]]-Table1[[#This Row],[Pay Rate]], \"\")","v":""},{"$f":"IF(Table1[[#This Row],[Wage differential Bonus                            - NotePay Rate you are bonusing to]]>0,Table1[[#This Row],[Bonus Rate]]*Table1[[#This Row],[Hours]],\"\")","v":""},null,null,null,null,null,{"$f":"IF(OR(AH1128>0.001,AH1128<-0.001),Table1[[#This Row],[Employee '#]],\" \")","v":" "},false,{"$f":"SUMIF(Table1[[#This Row],[Total Wage Diff bonus]:[Bank Bonus]],\"<> \")","v":0},{"$f":"IF(AA1128>0, Table1[[#This Row],[Column4]], IF(AB1128>0,Table1[[#This Row],[Column4]],IF(X1128>0,\"1000\")))","v":false}]
[null,null,null,null,null,null,null,null,null,null,null,null,null,null,null,null,0,null,null,null,null,null,null,null,{"$f":"IF(Table1[[#This Row],[Wage differential Bonus                            - NotePay Rate you are bonusing to]]>0, Table1[[#This Row],[Wage differential Bonus                            - NotePay Rate you are bonusing to]]-Table1[[#This Row],[Pay Rate]], \"\")","v":""},{"$f":"IF(Table1[[#This Row],[Wage differential Bonus                            - NotePay Rate you are bonusing to]]>0,Table1[[#This Row],[Bonus Rate]]*Table1[[#This Row],[Hours]],\"\")","v":""},null,null,null,null,null,{"$f":"IF(OR(AH1130>0.001,AH1130<-0.001),Table1[[#This Row],[Employee '#]],\" \")","v":" "},false,{"$f":"SUMIF(Table1[[#This Row],[Total Wage Diff bonus]:[Bank Bonus]],\"<> \")","v":0},{"$f":"IF(AA1130>0, Table1[[#This Row],[Column4]], IF(AB1130>0,Table1[[#This Row],[Column4]],IF(X1130>0,\"1000\")))","v":false}]
[null,null,null,null,null,null,null,null,null,null,null,null,null,null,null,null,0,null,null,null,null,null,null,null,{"$f":"IF(Table1[[#This Row],[Wage differential Bonus                            - NotePay Rate you are bonusing to]]>0, Table1[[#This Row],[Wage differential Bonus                            - NotePay Rate you are bonusing to]]-Table1[[#This Row],[Pay Rate]], \"\")","v":""},{"$f":"IF(Table1[[#This Row],[Wage differential Bonus                            - NotePay Rate you are bonusing to]]>0,Table1[[#This Row],[Bonus Rate]]*Table1[[#This Row],[Hours]],\"\")","v":""},null,null,null,null,null,{"$f":"IF(OR(AH1133>0.001,AH1133<-0.001),Table1[[#This Row],[Employee '#]],\" \")","v":" "},false,{"$f":"SUMIF(Table1[[#This Row],[Total Wage Diff bonus]:[Bank Bonus]],\"<> \")","v":0},{"$f":"IF(AA1133>0, Table1[[#This Row],[Column4]], IF(AB1133>0,Table1[[#This Row],[Column4]],IF(X1133>0,\"1000\")))","v":false}]
[null,null,null,null,null,null,null,null,null,null,null,null,null,null,null,null,0,null,null,null,null,null,null,null,{"$f":"IF(Table1[[#This Row],[Wage differential Bonus                            - NotePay Rate you are bonusing to]]>0, Table1[[#This Row],[Wage differential Bonus                            - NotePay Rate you are bonusing to]]-Table1[[#This Row],[Pay Rate]], \"\")","v":""},{"$f":"IF(Table1[[#This Row],[Wage differential Bonus                            - NotePay Rate you are bonusing to]]>0,Table1[[#This Row],[Bonus Rate]]*Table1[[#This Row],[Hours]],\"\")","v":""},null,null,null,null,null,{"$f":"IF(OR(AH1134>0.001,AH1134<-0.001),Table1[[#This Row],[Employee '#]],\" \")","v":" "},false,{"$f":"SUMIF(Table1[[#This Row],[Total Wage Diff bonus]:[Bank Bonus]],\"<> \")","v":0},{"$f":"IF(AA1134>0, Table1[[#This Row],[Column4]], IF(AB1134>0,Table1[[#This Row],[Column4]],IF(X1134>0,\"1000\")))","v":false}]
[null,null,null,null,null,null,null,null,null,null,null,null,null,null,null,null,0,null,null,null,null,null,null,null,{"$f":"IF(Table1[[#This Row],[Wage differential Bonus                            - NotePay Rate you are bonusing to]]>0, Table1[[#This Row],[Wage differential Bonus                            - NotePay Rate you are bonusing to]]-Table1[[#This Row],[Pay Rate]], \"\")","v":""},{"$f":"IF(Table1[[#This Row],[Wage differential Bonus                            - NotePay Rate you are bonusing to]]>0,Table1[[#This Row],[Bonus Rate]]*Table1[[#This Row],[Hours]],\"\")","v":""},null,null,null,null,null,{"$f":"IF(OR(AH1138>0.001,AH1138<-0.001),Table1[[#This Row],[Employee '#]],\" \")","v":" "},false,{"$f":"SUMIF(Table1[[#This Row],[Total Wage Diff bonus]:[Bank Bonus]],\"<> \")","v":0},{"$f":"IF(AA1138>0, Table1[[#This Row],[Column4]], IF(AB1138>0,Table1[[#This Row],[Column4]],IF(X1138>0,\"1000\")))","v":false}]
[null,null,null,null,null,null,null,null,null,null,null,null,null,null,null,null,0,null,null,null,null,null,null,null,{"$f":"IF(Table1[[#This Row],[Wage differential Bonus                            - NotePay Rate you are bonusing to]]>0, Table1[[#This Row],[Wage differential Bonus                            - NotePay Rate you are bonusing to]]-Table1[[#This Row],[Pay Rate]], \"\")","v":""},{"$f":"IF(Table1[[#This Row],[Wage differential Bonus                            - NotePay Rate you are bonusing to]]>0,Table1[[#This Row],[Bonus Rate]]*Table1[[#This Row],[Hours]],\"\")","v":""},null,null,null,null,null,{"$f":"IF(OR(AH1139>0.001,AH1139<-0.001),Table1[[#This Row],[Employee '#]],\" \")","v":" "},false,{"$f":"SUMIF(Table1[[#This Row],[Total Wage Diff bonus]:[Bank Bonus]],\"<> \")","v":0},{"$f":"IF(AA1139>0, Table1[[#This Row],[Column4]], IF(AB1139>0,Table1[[#This Row],[Column4]],IF(X1139>0,\"1000\")))","v":false}]
[null,null,null,null,null,null,null,null,null,null,null,null,null,null,null,null,0,null,null,null,null,null,null,null,{"$f":"IF(Table1[[#This Row],[Wage differential Bonus                            - NotePay Rate you are bonusing to]]>0, Table1[[#This Row],[Wage differential Bonus                            - NotePay Rate you are bonusing to]]-Table1[[#This Row],[Pay Rate]], \"\")","v":""},{"$f":"IF(Table1[[#This Row],[Wage differential Bonus                            - NotePay Rate you are bonusing to]]>0,Table1[[#This Row],[Bonus Rate]]*Table1[[#This Row],[Hours]],\"\")","v":""},null,null,null,null,null,{"$f":"IF(OR(AH1142>0.001,AH1142<-0.001),Table1[[#This Row],[Employee '#]],\" \")","v":" "},false,{"$f":"SUMIF(Table1[[#This Row],[Total Wage Diff bonus]:[Bank Bonus]],\"<> \")","v":0},{"$f":"IF(AA1142>0, Table1[[#This Row],[Column4]], IF(AB1142>0,Table1[[#This Row],[Column4]],IF(X1142>0,\"1000\")))","v":false}]
[null,null,null,null,null,null,null,null,null,null,null,null,null,null,null,null,0,null,null,null,null,null,null,null,{"$f":"IF(Table1[[#This Row],[Wage differential Bonus                            - NotePay Rate you are bonusing to]]>0, Table1[[#This Row],[Wage differential Bonus                            - NotePay Rate you are bonusing to]]-Table1[[#This Row],[Pay Rate]], \"\")","v":""},{"$f":"IF(Table1[[#This Row],[Wage differential Bonus                            - NotePay Rate you are bonusing to]]>0,Table1[[#This Row],[Bonus Rate]]*Table1[[#This Row],[Hours]],\"\")","v":""},null,null,null,null,null,{"$f":"IF(OR(AH1144>0.001,AH1144<-0.001),Table1[[#This Row],[Employee '#]],\" \")","v":" "},false,{"$f":"SUMIF(Table1[[#This Row],[Total Wage Diff bonus]:[Bank Bonus]],\"<> \")","v":0},{"$f":"IF(AA1144>0, Table1[[#This Row],[Column4]], IF(AB1144>0,Table1[[#This Row],[Column4]],IF(X1144>0,\"1000\")))","v":false}]
[null,null,null,null,null,null,null,null,null,null,null,null,null,null,null,null,0,null,null,null,null,null,null,null,{"$f":"IF(Table1[[#This Row],[Wage differential Bonus                            - NotePay Rate you are bonusing to]]>0, Table1[[#This Row],[Wage differential Bonus                            - NotePay Rate you are bonusing to]]-Table1[[#This Row],[Pay Rate]], \"\")","v":""},{"$f":"IF(Table1[[#This Row],[Wage differential Bonus                            - NotePay Rate you are bonusing to]]>0,Table1[[#This Row],[Bonus Rate]]*Table1[[#This Row],[Hours]],\"\")","v":""},null,null,null,null,null,{"$f":"IF(OR(AH1147>0.001,AH1147<-0.001),Table1[[#This Row],[Employee '#]],\" \")","v":" "},false,{"$f":"SUMIF(Table1[[#This Row],[Total Wage Diff bonus]:[Bank Bonus]],\"<> \")","v":0},{"$f":"IF(AA1147>0, Table1[[#This Row],[Column4]], IF(AB1147>0,Table1[[#This Row],[Column4]],IF(X1147>0,\"1000\")))","v":false}]
[null,null,null,null,null,null,null,null,null,null,null,null,null,null,null,null,0,null,null,null,null,null,null,null,{"$f":"IF(Table1[[#This Row],[Wage differential Bonus                            - NotePay Rate you are bonusing to]]>0, Table1[[#This Row],[Wage differential Bonus                            - NotePay Rate you are bonusing to]]-Table1[[#This Row],[Pay Rate]], \"\")","v":""},{"$f":"IF(Table1[[#This Row],[Wage differential Bonus                            - NotePay Rate you are bonusing to]]>0,Table1[[#This Row],[Bonus Rate]]*Table1[[#This Row],[Hours]],\"\")","v":""},null,null,null,null,null,{"$f":"IF(OR(AH1148>0.001,AH1148<-0.001),Table1[[#This Row],[Employee '#]],\" \")","v":" "},false,{"$f":"SUMIF(Table1[[#This Row],[Total Wage Diff bonus]:[Bank Bonus]],\"<> \")","v":0},{"$f":"IF(AA1148>0, Table1[[#This Row],[Column4]], IF(AB1148>0,Table1[[#This Row],[Column4]],IF(X1148>0,\"1000\")))","v":false}]
[null,null,null,null,null,null,null,null,null,null,null,null,null,null,null,null,0,null,null,null,null,null,null,null,{"$f":"IF(Table1[[#This Row],[Wage differential Bonus                            - NotePay Rate you are bonusing to]]>0, Table1[[#This Row],[Wage differential Bonus                            - NotePay Rate you are bonusing to]]-Table1[[#This Row],[Pay Rate]], \"\")","v":""},{"$f":"IF(Table1[[#This Row],[Wage differential Bonus                            - NotePay Rate you are bonusing to]]>0,Table1[[#This Row],[Bonus Rate]]*Table1[[#This Row],[Hours]],\"\")","v":""},null,null,null,null,null,{"$f":"IF(OR(AH1151>0.001,AH1151<-0.001),Table1[[#This Row],[Employee '#]],\" \")","v":" "},false,{"$f":"SUMIF(Table1[[#This Row],[Total Wage Diff bonus]:[Bank Bonus]],\"<> \")","v":0},{"$f":"IF(AA1151>0, Table1[[#This Row],[Column4]], IF(AB1151>0,Table1[[#This Row],[Column4]],IF(X1151>0,\"1000\")))","v":false}]
[null,null,null,null,null,null,null,null,null,null,null,null,null,null,null,null,0,null,null,null,null,null,null,null,{"$f":"IF(Table1[[#This Row],[Wage differential Bonus                            - NotePay Rate you are bonusing to]]>0, Table1[[#This Row],[Wage differential Bonus                            - NotePay Rate you are bonusing to]]-Table1[[#This Row],[Pay Rate]], \"\")","v":""},{"$f":"IF(Table1[[#This Row],[Wage differential Bonus                            - NotePay Rate you are bonusing to]]>0,Table1[[#This Row],[Bonus Rate]]*Table1[[#This Row],[Hours]],\"\")","v":""},null,null,null,null,null,{"$f":"IF(OR(AH1154>0.001,AH1154<-0.001),Table1[[#This Row],[Employee '#]],\" \")","v":" "},false,{"$f":"SUMIF(Table1[[#This Row],[Total Wage Diff bonus]:[Bank Bonus]],\"<> \")","v":0},{"$f":"IF(AA1154>0, Table1[[#This Row],[Column4]], IF(AB1154>0,Table1[[#This Row],[Column4]],IF(X1154>0,\"1000\")))","v":false}]
[null,null,null,null,null,null,null,null,null,null,null,null,null,null,null,null,{"$f":"L1156+P1156","v":0},null,null,null,null,null,null,null,{"$f":"IF(Table1[[#This Row],[Wage differential Bonus                            - NotePay Rate you are bonusing to]]>0, Table1[[#This Row],[Wage differential Bonus                            - NotePay Rate you are bonusing to]]-Table1[[#This Row],[Pay Rate]], \"\")","v":""},{"$f":"IF(Table1[[#This Row],[Wage differential Bonus                            - NotePay Rate you are bonusing to]]>0,Table1[[#This Row],[Bonus Rate]]*Table1[[#This Row],[Hours]],\"\")","v":""},null,null,null,null,null,{"$f":"IF(OR(AH1156>0.001,AH1156<-0.001),Table1[[#This Row],[Employee '#]],\" \")","v":" "},{"$f":"IF(AA1156>0, \"28\", IF(AB1156>0,\"53\",IF(X1156>0,\"20\")))","v":false},{"$f":"SUMIF(Table1[[#This Row],[Total Wage Diff bonus]:[Bank Bonus]],\"<> \")","v":0},{"$f":"IF(AA1156>0, Table1[[#This Row],[Column4]], IF(AB1156>0,Table1[[#This Row],[Column4]],IF(X1156>0,\"1000\")))","v":false}]
[null,null,null,null,null,null,null,null,null,null,null,null,null,null,null,null,0,null,null,null,null,null,null,null,{"$f":"IF(Table1[[#This Row],[Wage differential Bonus                            - NotePay Rate you are bonusing to]]>0, Table1[[#This Row],[Wage differential Bonus                            - NotePay Rate you are bonusing to]]-Table1[[#This Row],[Pay Rate]], \"\")","v":""},{"$f":"IF(Table1[[#This Row],[Wage differential Bonus                            - NotePay Rate you are bonusing to]]>0,Table1[[#This Row],[Bonus Rate]]*Table1[[#This Row],[Hours]],\"\")","v":""},null,null,null,null,null,{"$f":"IF(OR(AH1157>0.001,AH1157<-0.001),Table1[[#This Row],[Employee '#]],\" \")","v":" "},false,{"$f":"SUMIF(Table1[[#This Row],[Total Wage Diff bonus]:[Bank Bonus]],\"<> \")","v":0},{"$f":"IF(AA1157>0, Table1[[#This Row],[Column4]], IF(AB1157>0,Table1[[#This Row],[Column4]],IF(X1157>0,\"1000\")))","v":false}]
[null,null,null,null,null,null,null,null,null,null,null,null,null,null,null,null,0,null,null,null,null,null,null,null,{"$f":"IF(Table1[[#This Row],[Wage differential Bonus                            - NotePay Rate you are bonusing to]]>0, Table1[[#This Row],[Wage differential Bonus                            - NotePay Rate you are bonusing to]]-Table1[[#This Row],[Pay Rate]], \"\")","v":""},{"$f":"IF(Table1[[#This Row],[Wage differential Bonus                            - NotePay Rate you are bonusing to]]>0,Table1[[#This Row],[Bonus Rate]]*Table1[[#This Row],[Hours]],\"\")","v":""},null,null,null,null,null,{"$f":"IF(OR(AH1160>0.001,AH1160<-0.001),Table1[[#This Row],[Employee '#]],\" \")","v":" "},false,{"$f":"SUMIF(Table1[[#This Row],[Total Wage Diff bonus]:[Bank Bonus]],\"<> \")","v":0},{"$f":"IF(AA1160>0, Table1[[#This Row],[Column4]], IF(AB1160>0,Table1[[#This Row],[Column4]],IF(X1160>0,\"1000\")))","v":false}]
[null,null,null,null,null,null,null,null,null,null,null,null,null,null,null,null,0,null,null,null,null,null,null,null,{"$f":"IF(Table1[[#This Row],[Wage differential Bonus                            - NotePay Rate you are bonusing to]]>0, Table1[[#This Row],[Wage differential Bonus                            - NotePay Rate you are bonusing to]]-Table1[[#This Row],[Pay Rate]], \"\")","v":""},{"$f":"IF(Table1[[#This Row],[Wage differential Bonus                            - NotePay Rate you are bonusing to]]>0,Table1[[#This Row],[Bonus Rate]]*Table1[[#This Row],[Hours]],\"\")","v":""},null,null,null,null,null,{"$f":"IF(OR(AH1162>0.001,AH1162<-0.001),Table1[[#This Row],[Employee '#]],\" \")","v":" "},false,{"$f":"SUMIF(Table1[[#This Row],[Total Wage Diff bonus]:[Bank Bonus]],\"<> \")","v":0},{"$f":"IF(AA1162>0, Table1[[#This Row],[Column4]], IF(AB1162>0,Table1[[#This Row],[Column4]],IF(X1162>0,\"1000\")))","v":false}]
[null,null,null,null,null,null,null,null,null,null,null,null,null,null,null,null,0,null,null,null,null,null,null,null,{"$f":"IF(Table1[[#This Row],[Wage differential Bonus                            - NotePay Rate you are bonusing to]]>0, Table1[[#This Row],[Wage differential Bonus                            - NotePay Rate you are bonusing to]]-Table1[[#This Row],[Pay Rate]], \"\")","v":""},{"$f":"IF(Table1[[#This Row],[Wage differential Bonus                            - NotePay Rate you are bonusing to]]>0,Table1[[#This Row],[Bonus Rate]]*Table1[[#This Row],[Hours]],\"\")","v":""},null,null,null,null,null,{"$f":"IF(OR(AH1165>0.001,AH1165<-0.001),Table1[[#This Row],[Employee '#]],\" \")","v":" "},false,{"$f":"SUMIF(Table1[[#This Row],[Total Wage Diff bonus]:[Bank Bonus]],\"<> \")","v":0},{"$f":"IF(AA1165>0, Table1[[#This Row],[Column4]], IF(AB1165>0,Table1[[#This Row],[Column4]],IF(X1165>0,\"1000\")))","v":false}]
[null,null,null,null,null,null,null,null,null,null,null,null,null,null,null,null,0,null,null,null,null,null,null,null,{"$f":"IF(Table1[[#This Row],[Wage differential Bonus                            - NotePay Rate you are bonusing to]]>0, Table1[[#This Row],[Wage differential Bonus                            - NotePay Rate you are bonusing to]]-Table1[[#This Row],[Pay Rate]], \"\")","v":""},{"$f":"IF(Table1[[#This Row],[Wage differential Bonus                            - NotePay Rate you are bonusing to]]>0,Table1[[#This Row],[Bonus Rate]]*Table1[[#This Row],[Hours]],\"\")","v":""},null,null,null,null,null,{"$f":"IF(OR(AH1166>0.001,AH1166<-0.001),Table1[[#This Row],[Employee '#]],\" \")","v":" "},false,{"$f":"SUMIF(Table1[[#This Row],[Total Wage Diff bonus]:[Bank Bonus]],\"<> \")","v":0},{"$f":"IF(AA1166>0, Table1[[#This Row],[Column4]], IF(AB1166>0,Table1[[#This Row],[Column4]],IF(X1166>0,\"1000\")))","v":false}]
[null,null,null,null,null,null,null,null,null,null,null,null,null,null,null,null,0,null,null,null,null,null,null,null,{"$f":"IF(Table1[[#This Row],[Wage differential Bonus                            - NotePay Rate you are bonusing to]]>0, Table1[[#This Row],[Wage differential Bonus                            - NotePay Rate you are bonusing to]]-Table1[[#This Row],[Pay Rate]], \"\")","v":""},{"$f":"IF(Table1[[#This Row],[Wage differential Bonus                            - NotePay Rate you are bonusing to]]>0,Table1[[#This Row],[Bonus Rate]]*Table1[[#This Row],[Hours]],\"\")","v":""},null,null,null,null,null,{"$f":"IF(OR(AH1169>0.001,AH1169<-0.001),Table1[[#This Row],[Employee '#]],\" \")","v":" "},false,{"$f":"SUMIF(Table1[[#This Row],[Total Wage Diff bonus]:[Bank Bonus]],\"<> \")","v":0},{"$f":"IF(AA1169>0, Table1[[#This Row],[Column4]], IF(AB1169>0,Table1[[#This Row],[Column4]],IF(X1169>0,\"1000\")))","v":false}]
[null,null,null,null,null,null,null,null,null,null,null,null,null,null,null,null,0,null,null,null,null,null,null,null,{"$f":"IF(Table1[[#This Row],[Wage differential Bonus                            - NotePay Rate you are bonusing to]]>0, Table1[[#This Row],[Wage differential Bonus                            - NotePay Rate you are bonusing to]]-Table1[[#This Row],[Pay Rate]], \"\")","v":""},{"$f":"IF(Table1[[#This Row],[Wage differential Bonus                            - NotePay Rate you are bonusing to]]>0,Table1[[#This Row],[Bonus Rate]]*Table1[[#This Row],[Hours]],\"\")","v":""},null,null,null,null,null,{"$f":"IF(OR(AH1172>0.001,AH1172<-0.001),Table1[[#This Row],[Employee '#]],\" \")","v":" "},false,{"$f":"SUMIF(Table1[[#This Row],[Total Wage Diff bonus]:[Bank Bonus]],\"<> \")","v":0},{"$f":"IF(AA1172>0, Table1[[#This Row],[Column4]], IF(AB1172>0,Table1[[#This Row],[Column4]],IF(X1172>0,\"1000\")))","v":false}]
[null,null,null,null,null,null,null,null,null,null,null,null,null,null,null,null,0,null,null,null,null,null,null,null,{"$f":"IF(Table1[[#This Row],[Wage differential Bonus                            - NotePay Rate you are bonusing to]]>0, Table1[[#This Row],[Wage differential Bonus                            - NotePay Rate you are bonusing to]]-Table1[[#This Row],[Pay Rate]], \"\")","v":""},{"$f":"IF(Table1[[#This Row],[Wage differential Bonus                            - NotePay Rate you are bonusing to]]>0,Table1[[#This Row],[Bonus Rate]]*Table1[[#This Row],[Hours]],\"\")","v":""},null,null,null,null,null,{"$f":"IF(OR(AH1174>0.001,AH1174<-0.001),Table1[[#This Row],[Employee '#]],\" \")","v":" "},false,{"$f":"SUMIF(Table1[[#This Row],[Total Wage Diff bonus]:[Bank Bonus]],\"<> \")","v":0},{"$f":"IF(AA1174>0, Table1[[#This Row],[Column4]], IF(AB1174>0,Table1[[#This Row],[Column4]],IF(X1174>0,\"1000\")))","v":false}]
[null,null,null,null,null,null,null,null,null,null,null,null,null,null,null,null,0,null,null,null,null,null,null,null,{"$f":"IF(Table1[[#This Row],[Wage differential Bonus                            - NotePay Rate you are bonusing to]]>0, Table1[[#This Row],[Wage differential Bonus                            - NotePay Rate you are bonusing to]]-Table1[[#This Row],[Pay Rate]], \"\")","v":""},{"$f":"IF(Table1[[#This Row],[Wage differential Bonus                            - NotePay Rate you are bonusing to]]>0,Table1[[#This Row],[Bonus Rate]]*Table1[[#This Row],[Hours]],\"\")","v":""},null,null,null,null,null,{"$f":"IF(OR(AH1175>0.001,AH1175<-0.001),Table1[[#This Row],[Employee '#]],\" \")","v":" "},false,{"$f":"SUMIF(Table1[[#This Row],[Total Wage Diff bonus]:[Bank Bonus]],\"<> \")","v":0},{"$f":"IF(AA1175>0, Table1[[#This Row],[Column4]], IF(AB1175>0,Table1[[#This Row],[Column4]],IF(X1175>0,\"1000\")))","v":false}]
[null,null,null,null,null,null,null,null,null,null,null,null,null,null,null,null,0,null,null,null,null,null,null,null,{"$f":"IF(Table1[[#This Row],[Wage differential Bonus                            - NotePay Rate you are bonusing to]]>0, Table1[[#This Row],[Wage differential Bonus                            - NotePay Rate you are bonusing to]]-Table1[[#This Row],[Pay Rate]], \"\")","v":""},{"$f":"IF(Table1[[#This Row],[Wage differential Bonus                            - NotePay Rate you are bonusing to]]>0,Table1[[#This Row],[Bonus Rate]]*Table1[[#This Row],[Hours]],\"\")","v":""},null,null,null,null,null,{"$f":"IF(OR(AH1177>0.001,AH1177<-0.001),Table1[[#This Row],[Employee '#]],\" \")","v":" "},false,{"$f":"SUMIF(Table1[[#This Row],[Total Wage Diff bonus]:[Bank Bonus]],\"<> \")","v":0},{"$f":"IF(AA1177>0, Table1[[#This Row],[Column4]], IF(AB1177>0,Table1[[#This Row],[Column4]],IF(X1177>0,\"1000\")))","v":false}]
[null,null,null,null,null,null,null,null,null,null,null,null,null,null,null,null,0,null,null,null,null,null,null,null,{"$f":"IF(Table1[[#This Row],[Wage differential Bonus                            - NotePay Rate you are bonusing to]]>0, Table1[[#This Row],[Wage differential Bonus                            - NotePay Rate you are bonusing to]]-Table1[[#This Row],[Pay Rate]], \"\")","v":""},{"$f":"IF(Table1[[#This Row],[Wage differential Bonus                            - NotePay Rate you are bonusing to]]>0,Table1[[#This Row],[Bonus Rate]]*Table1[[#This Row],[Hours]],\"\")","v":""},null,null,null,null,null,{"$f":"IF(OR(AH1180>0.001,AH1180<-0.001),Table1[[#This Row],[Employee '#]],\" \")","v":" "},false,{"$f":"SUMIF(Table1[[#This Row],[Total Wage Diff bonus]:[Bank Bonus]],\"<> \")","v":0},{"$f":"IF(AA1180>0, Table1[[#This Row],[Column4]], IF(AB1180>0,Table1[[#This Row],[Column4]],IF(X1180>0,\"1000\")))","v":false}]
[null,null,null,null,null,null,null,null,null,null,null,null,null,null,null,null,0,null,null,null,null,null,null,null,{"$f":"IF(Table1[[#This Row],[Wage differential Bonus                            - NotePay Rate you are bonusing to]]>0, Table1[[#This Row],[Wage differential Bonus                            - NotePay Rate you are bonusing to]]-Table1[[#This Row],[Pay Rate]], \"\")","v":""},{"$f":"IF(Table1[[#This Row],[Wage differential Bonus                            - NotePay Rate you are bonusing to]]>0,Table1[[#This Row],[Bonus Rate]]*Table1[[#This Row],[Hours]],\"\")","v":""},null,null,null,null,null,{"$f":"IF(OR(AH1183>0.001,AH1183<-0.001),Table1[[#This Row],[Employee '#]],\" \")","v":" "},false,{"$f":"SUMIF(Table1[[#This Row],[Total Wage Diff bonus]:[Bank Bonus]],\"<> \")","v":0},{"$f":"IF(AA1183>0, Table1[[#This Row],[Column4]], IF(AB1183>0,Table1[[#This Row],[Column4]],IF(X1183>0,\"1000\")))","v":false}]
[null,null,null,null,null,null,null,null,null,null,null,null,null,null,null,null,0,null,null,null,null,null,null,null,{"$f":"IF(Table1[[#This Row],[Wage differential Bonus                            - NotePay Rate you are bonusing to]]>0, Table1[[#This Row],[Wage differential Bonus                            - NotePay Rate you are bonusing to]]-Table1[[#This Row],[Pay Rate]], \"\")","v":""},{"$f":"IF(Table1[[#This Row],[Wage differential Bonus                            - NotePay Rate you are bonusing to]]>0,Table1[[#This Row],[Bonus Rate]]*Table1[[#This Row],[Hours]],\"\")","v":""},null,null,null,null,null,{"$f":"IF(OR(AH1184>0.001,AH1184<-0.001),Table1[[#This Row],[Employee '#]],\" \")","v":" "},false,{"$f":"SUMIF(Table1[[#This Row],[Total Wage Diff bonus]:[Bank Bonus]],\"<> \")","v":0},{"$f":"IF(AA1184>0, Table1[[#This Row],[Column4]], IF(AB1184>0,Table1[[#This Row],[Column4]],IF(X1184>0,\"1000\")))","v":false}]
[null,null,null,null,null,null,null,null,null,null,null,null,null,null,null,null,0,null,null,null,null,null,null,null,{"$f":"IF(Table1[[#This Row],[Wage differential Bonus                            - NotePay Rate you are bonusing to]]>0, Table1[[#This Row],[Wage differential Bonus                            - NotePay Rate you are bonusing to]]-Table1[[#This Row],[Pay Rate]], \"\")","v":""},{"$f":"IF(Table1[[#This Row],[Wage differential Bonus                            - NotePay Rate you are bonusing to]]>0,Table1[[#This Row],[Bonus Rate]]*Table1[[#This Row],[Hours]],\"\")","v":""},null,null,null,null,null,{"$f":"IF(OR(AH1188>0.001,AH1188<-0.001),Table1[[#This Row],[Employee '#]],\" \")","v":" "},false,{"$f":"SUMIF(Table1[[#This Row],[Total Wage Diff bonus]:[Bank Bonus]],\"<> \")","v":0},{"$f":"IF(AA1188>0, Table1[[#This Row],[Column4]], IF(AB1188>0,Table1[[#This Row],[Column4]],IF(X1188>0,\"1000\")))","v":false}]
[null,null,null,null,null,null,null,null,null,null,null,null,null,null,null,null,0,null,null,null,null,null,null,null,{"$f":"IF(Table1[[#This Row],[Wage differential Bonus                            - NotePay Rate you are bonusing to]]>0, Table1[[#This Row],[Wage differential Bonus                            - NotePay Rate you are bonusing to]]-Table1[[#This Row],[Pay Rate]], \"\")","v":""},{"$f":"IF(Table1[[#This Row],[Wage differential Bonus                            - NotePay Rate you are bonusing to]]>0,Table1[[#This Row],[Bonus Rate]]*Table1[[#This Row],[Hours]],\"\")","v":""},null,null,null,null,null,{"$f":"IF(OR(AH1189>0.001,AH1189<-0.001),Table1[[#This Row],[Employee '#]],\" \")","v":" "},false,{"$f":"SUMIF(Table1[[#This Row],[Total Wage Diff bonus]:[Bank Bonus]],\"<> \")","v":0},{"$f":"IF(AA1189>0, Table1[[#This Row],[Column4]], IF(AB1189>0,Table1[[#This Row],[Column4]],IF(X1189>0,\"1000\")))","v":false}]
[null,null,null,null,null,null,null,null,null,null,null,null,null,null,null,null,0,null,null,null,null,null,null,null,{"$f":"IF(Table1[[#This Row],[Wage differential Bonus                            - NotePay Rate you are bonusing to]]>0, Table1[[#This Row],[Wage differential Bonus                            - NotePay Rate you are bonusing to]]-Table1[[#This Row],[Pay Rate]], \"\")","v":""},{"$f":"IF(Table1[[#This Row],[Wage differential Bonus                            - NotePay Rate you are bonusing to]]>0,Table1[[#This Row],[Bonus Rate]]*Table1[[#This Row],[Hours]],\"\")","v":""},null,null,null,null,null,{"$f":"IF(OR(AH1192>0.001,AH1192<-0.001),Table1[[#This Row],[Employee '#]],\" \")","v":" "},false,{"$f":"SUMIF(Table1[[#This Row],[Total Wage Diff bonus]:[Bank Bonus]],\"<> \")","v":0},{"$f":"IF(AA1192>0, Table1[[#This Row],[Column4]], IF(AB1192>0,Table1[[#This Row],[Column4]],IF(X1192>0,\"1000\")))","v":false}]
[null,null,null,null,null,null,null,null,null,null,null,null,null,null,null,null,0,null,null,null,null,null,null,null,{"$f":"IF(Table1[[#This Row],[Wage differential Bonus                            - NotePay Rate you are bonusing to]]>0, Table1[[#This Row],[Wage differential Bonus                            - NotePay Rate you are bonusing to]]-Table1[[#This Row],[Pay Rate]], \"\")","v":""},{"$f":"IF(Table1[[#This Row],[Wage differential Bonus                            - NotePay Rate you are bonusing to]]>0,Table1[[#This Row],[Bonus Rate]]*Table1[[#This Row],[Hours]],\"\")","v":""},null,null,null,null,null,{"$f":"IF(OR(AH1193>0.001,AH1193<-0.001),Table1[[#This Row],[Employee '#]],\" \")","v":" "},false,{"$f":"SUMIF(Table1[[#This Row],[Total Wage Diff bonus]:[Bank Bonus]],\"<> \")","v":0},{"$f":"IF(AA1193>0, Table1[[#This Row],[Column4]], IF(AB1193>0,Table1[[#This Row],[Column4]],IF(X1193>0,\"1000\")))","v":false}]
[null,null,null,null,null,null,null,null,null,null,null,null,null,null,null,null,0,null,null,null,null,null,null,null,{"$f":"IF(Table1[[#This Row],[Wage differential Bonus                            - NotePay Rate you are bonusing to]]>0, Table1[[#This Row],[Wage differential Bonus                            - NotePay Rate you are bonusing to]]-Table1[[#This Row],[Pay Rate]], \"\")","v":""},{"$f":"IF(Table1[[#This Row],[Wage differential Bonus                            - NotePay Rate you are bonusing to]]>0,Table1[[#This Row],[Bonus Rate]]*Table1[[#This Row],[Hours]],\"\")","v":""},null,null,null,null,null,{"$f":"IF(OR(AH1195>0.001,AH1195<-0.001),Table1[[#This Row],[Employee '#]],\" \")","v":" "},false,{"$f":"SUMIF(Table1[[#This Row],[Total Wage Diff bonus]:[Bank Bonus]],\"<> \")","v":0},{"$f":"IF(AA1195>0, Table1[[#This Row],[Column4]], IF(AB1195>0,Table1[[#This Row],[Column4]],IF(X1195>0,\"1000\")))","v":false}]
[null,null,null,null,null,null,null,null,null,null,null,null,null,null,null,null,0,null,null,null,null,null,null,null,{"$f":"IF(Table1[[#This Row],[Wage differential Bonus                            - NotePay Rate you are bonusing to]]>0, Table1[[#This Row],[Wage differential Bonus                            - NotePay Rate you are bonusing to]]-Table1[[#This Row],[Pay Rate]], \"\")","v":""},{"$f":"IF(Table1[[#This Row],[Wage differential Bonus                            - NotePay Rate you are bonusing to]]>0,Table1[[#This Row],[Bonus Rate]]*Table1[[#This Row],[Hours]],\"\")","v":""},null,null,null,null,null,{"$f":"IF(OR(AH1198>0.001,AH1198<-0.001),Table1[[#This Row],[Employee '#]],\" \")","v":" "},false,{"$f":"SUMIF(Table1[[#This Row],[Total Wage Diff bonus]:[Bank Bonus]],\"<> \")","v":0},{"$f":"IF(AA1198>0, Table1[[#This Row],[Column4]], IF(AB1198>0,Table1[[#This Row],[Column4]],IF(X1198>0,\"1000\")))","v":false}]
[null,null,null,null,null,null,null,null,null,null,null,null,null,null,null,null,0,null,null,null,null,null,null,null,{"$f":"IF(Table1[[#This Row],[Wage differential Bonus                            - NotePay Rate you are bonusing to]]>0, Table1[[#This Row],[Wage differential Bonus                            - NotePay Rate you are bonusing to]]-Table1[[#This Row],[Pay Rate]], \"\")","v":""},{"$f":"IF(Table1[[#This Row],[Wage differential Bonus                            - NotePay Rate you are bonusing to]]>0,Table1[[#This Row],[Bonus Rate]]*Table1[[#This Row],[Hours]],\"\")","v":""},null,null,null,null,null,{"$f":"IF(OR(AH1201>0.001,AH1201<-0.001),Table1[[#This Row],[Employee '#]],\" \")","v":" "},false,{"$f":"SUMIF(Table1[[#This Row],[Total Wage Diff bonus]:[Bank Bonus]],\"<> \")","v":0},{"$f":"IF(AA1201>0, Table1[[#This Row],[Column4]], IF(AB1201>0,Table1[[#This Row],[Column4]],IF(X1201>0,\"1000\")))","v":false}]
[null,null,null,null,null,null,null,null,null,null,null,null,null,null,null,null,0,null,null,null,null,null,null,null,{"$f":"IF(Table1[[#This Row],[Wage differential Bonus                            - NotePay Rate you are bonusing to]]>0, Table1[[#This Row],[Wage differential Bonus                            - NotePay Rate you are bonusing to]]-Table1[[#This Row],[Pay Rate]], \"\")","v":""},{"$f":"IF(Table1[[#This Row],[Wage differential Bonus                            - NotePay Rate you are bonusing to]]>0,Table1[[#This Row],[Bonus Rate]]*Table1[[#This Row],[Hours]],\"\")","v":""},null,null,null,null,null,{"$f":"IF(OR(AH1202>0.001,AH1202<-0.001),Table1[[#This Row],[Employee '#]],\" \")","v":" "},false,{"$f":"SUMIF(Table1[[#This Row],[Total Wage Diff bonus]:[Bank Bonus]],\"<> \")","v":0},{"$f":"IF(AA1202>0, Table1[[#This Row],[Column4]], IF(AB1202>0,Table1[[#This Row],[Column4]],IF(X1202>0,\"1000\")))","v":false}]
[null,null,null,null,null,null,null,null,null,null,null,null,null,null,null,null,0,null,null,null,null,null,null,null,{"$f":"IF(Table1[[#This Row],[Wage differential Bonus                            - NotePay Rate you are bonusing to]]>0, Table1[[#This Row],[Wage differential Bonus                            - NotePay Rate you are bonusing to]]-Table1[[#This Row],[Pay Rate]], \"\")","v":""},{"$f":"IF(Table1[[#This Row],[Wage differential Bonus                            - NotePay Rate you are bonusing to]]>0,Table1[[#This Row],[Bonus Rate]]*Table1[[#This Row],[Hours]],\"\")","v":""},null,null,null,null,null,{"$f":"IF(OR(AH1206>0.001,AH1206<-0.001),Table1[[#This Row],[Employee '#]],\" \")","v":" "},false,{"$f":"SUMIF(Table1[[#This Row],[Total Wage Diff bonus]:[Bank Bonus]],\"<> \")","v":0},{"$f":"IF(AA1206>0, Table1[[#This Row],[Column4]], IF(AB1206>0,Table1[[#This Row],[Column4]],IF(X1206>0,\"1000\")))","v":false}]
[null,null,null,null,null,null,null,null,null,null,null,null,null,null,null,null,0,null,null,null,null,null,null,null,{"$f":"IF(Table1[[#This Row],[Wage differential Bonus                            - NotePay Rate you are bonusing to]]>0, Table1[[#This Row],[Wage differential Bonus                            - NotePay Rate you are bonusing to]]-Table1[[#This Row],[Pay Rate]], \"\")","v":""},{"$f":"IF(Table1[[#This Row],[Wage differential Bonus                            - NotePay Rate you are bonusing to]]>0,Table1[[#This Row],[Bonus Rate]]*Table1[[#This Row],[Hours]],\"\")","v":""},null,null,null,null,null,{"$f":"IF(OR(AH1207>0.001,AH1207<-0.001),Table1[[#This Row],[Employee '#]],\" \")","v":" "},false,{"$f":"SUMIF(Table1[[#This Row],[Total Wage Diff bonus]:[Bank Bonus]],\"<> \")","v":0},{"$f":"IF(AA1207>0, Table1[[#This Row],[Column4]], IF(AB1207>0,Table1[[#This Row],[Column4]],IF(X1207>0,\"1000\")))","v":false}]
[null,null,null,null,null,null,null,null,null,null,null,null,null,null,null,null,0,null,null,null,null,null,null,null,{"$f":"IF(Table1[[#This Row],[Wage differential Bonus                            - NotePay Rate you are bonusing to]]>0, Table1[[#This Row],[Wage differential Bonus                            - NotePay Rate you are bonusing to]]-Table1[[#This Row],[Pay Rate]], \"\")","v":""},{"$f":"IF(Table1[[#This Row],[Wage differential Bonus                            - NotePay Rate you are bonusing to]]>0,Table1[[#This Row],[Bonus Rate]]*Table1[[#This Row],[Hours]],\"\")","v":""},null,null,null,null,null,{"$f":"IF(OR(AH1210>0.001,AH1210<-0.001),Table1[[#This Row],[Employee '#]],\" \")","v":" "},false,{"$f":"SUMIF(Table1[[#This Row],[Total Wage Diff bonus]:[Bank Bonus]],\"<> \")","v":0},{"$f":"IF(AA1210>0, Table1[[#This Row],[Column4]], IF(AB1210>0,Table1[[#This Row],[Column4]],IF(X1210>0,\"1000\")))","v":false}]
[null,null,null,null,null,null,null,null,null,null,null,null,null,null,null,null,0,null,null,null,null,null,null,null,{"$f":"IF(Table1[[#This Row],[Wage differential Bonus                            - NotePay Rate you are bonusing to]]>0, Table1[[#This Row],[Wage differential Bonus                            - NotePay Rate you are bonusing to]]-Table1[[#This Row],[Pay Rate]], \"\")","v":""},{"$f":"IF(Table1[[#This Row],[Wage differential Bonus                            - NotePay Rate you are bonusing to]]>0,Table1[[#This Row],[Bonus Rate]]*Table1[[#This Row],[Hours]],\"\")","v":""},null,null,null,null,null,{"$f":"IF(OR(AH1211>0.001,AH1211<-0.001),Table1[[#This Row],[Employee '#]],\" \")","v":" "},false,{"$f":"SUMIF(Table1[[#This Row],[Total Wage Diff bonus]:[Bank Bonus]],\"<> \")","v":0},{"$f":"IF(AA1211>0, Table1[[#This Row],[Column4]], IF(AB1211>0,Table1[[#This Row],[Column4]],IF(X1211>0,\"1000\")))","v":false}]
[null,null,null,null,null,null,null,null,null,null,null,null,null,null,null,null,0,null,null,null,null,null,null,null,{"$f":"IF(Table1[[#This Row],[Wage differential Bonus                            - NotePay Rate you are bonusing to]]>0, Table1[[#This Row],[Wage differential Bonus                            - NotePay Rate you are bonusing to]]-Table1[[#This Row],[Pay Rate]], \"\")","v":""},{"$f":"IF(Table1[[#This Row],[Wage differential Bonus                            - NotePay Rate you are bonusing to]]>0,Table1[[#This Row],[Bonus Rate]]*Table1[[#This Row],[Hours]],\"\")","v":""},null,null,null,null,null,{"$f":"IF(OR(AH1215>0.001,AH1215<-0.001),Table1[[#This Row],[Employee '#]],\" \")","v":" "},false,{"$f":"SUMIF(Table1[[#This Row],[Total Wage Diff bonus]:[Bank Bonus]],\"<> \")","v":0},{"$f":"IF(AA1215>0, Table1[[#This Row],[Column4]], IF(AB1215>0,Table1[[#This Row],[Column4]],IF(X1215>0,\"1000\")))","v":false}]
[null,null,null,null,null,null,null,null,null,null,null,null,null,null,null,null,0,null,null,null,null,null,null,null,{"$f":"IF(Table1[[#This Row],[Wage differential Bonus                            - NotePay Rate you are bonusing to]]>0, Table1[[#This Row],[Wage differential Bonus                            - NotePay Rate you are bonusing to]]-Table1[[#This Row],[Pay Rate]], \"\")","v":""},{"$f":"IF(Table1[[#This Row],[Wage differential Bonus                            - NotePay Rate you are bonusing to]]>0,Table1[[#This Row],[Bonus Rate]]*Table1[[#This Row],[Hours]],\"\")","v":""},null,null,null,null,null,{"$f":"IF(OR(AH1216>0.001,AH1216<-0.001),Table1[[#This Row],[Employee '#]],\" \")","v":" "},false,{"$f":"SUMIF(Table1[[#This Row],[Total Wage Diff bonus]:[Bank Bonus]],\"<> \")","v":0},{"$f":"IF(AA1216>0, Table1[[#This Row],[Column4]], IF(AB1216>0,Table1[[#This Row],[Column4]],IF(X1216>0,\"1000\")))","v":false}]
[null,null,null,null,null,null,null,null,null,null,null,null,null,null,null,null,0,null,null,null,null,null,null,null,{"$f":"IF(Table1[[#This Row],[Wage differential Bonus                            - NotePay Rate you are bonusing to]]>0, Table1[[#This Row],[Wage differential Bonus                            - NotePay Rate you are bonusing to]]-Table1[[#This Row],[Pay Rate]], \"\")","v":""},{"$f":"IF(Table1[[#This Row],[Wage differential Bonus                            - NotePay Rate you are bonusing to]]>0,Table1[[#This Row],[Bonus Rate]]*Table1[[#This Row],[Hours]],\"\")","v":""},null,null,null,null,null,{"$f":"IF(OR(AH1219>0.001,AH1219<-0.001),Table1[[#This Row],[Employee '#]],\" \")","v":" "},false,{"$f":"SUMIF(Table1[[#This Row],[Total Wage Diff bonus]:[Bank Bonus]],\"<> \")","v":0},{"$f":"IF(AA1219>0, Table1[[#This Row],[Column4]], IF(AB1219>0,Table1[[#This Row],[Column4]],IF(X1219>0,\"1000\")))","v":false}]
[null,null,null,null,null,null,null,null,null,null,null,null,null,null,null,null,0,null,null,null,null,null,null,null,{"$f":"IF(Table1[[#This Row],[Wage differential Bonus                            - NotePay Rate you are bonusing to]]>0, Table1[[#This Row],[Wage differential Bonus                            - NotePay Rate you are bonusing to]]-Table1[[#This Row],[Pay Rate]], \"\")","v":""},{"$f":"IF(Table1[[#This Row],[Wage differential Bonus                            - NotePay Rate you are bonusing to]]>0,Table1[[#This Row],[Bonus Rate]]*Table1[[#This Row],[Hours]],\"\")","v":""},null,null,null,null,null,{"$f":"IF(OR(AH1222>0.001,AH1222<-0.001),Table1[[#This Row],[Employee '#]],\" \")","v":" "},false,{"$f":"SUMIF(Table1[[#This Row],[Total Wage Diff bonus]:[Bank Bonus]],\"<> \")","v":0},{"$f":"IF(AA1222>0, Table1[[#This Row],[Column4]], IF(AB1222>0,Table1[[#This Row],[Column4]],IF(X1222>0,\"1000\")))","v":false}]
[null,null,null,null,null,null,null,null,null,null,null,null,null,null,null,null,0,null,null,null,null,null,null,null,{"$f":"IF(Table1[[#This Row],[Wage differential Bonus                            - NotePay Rate you are bonusing to]]>0, Table1[[#This Row],[Wage differential Bonus                            - NotePay Rate you are bonusing to]]-Table1[[#This Row],[Pay Rate]], \"\")","v":""},{"$f":"IF(Table1[[#This Row],[Wage differential Bonus                            - NotePay Rate you are bonusing to]]>0,Table1[[#This Row],[Bonus Rate]]*Table1[[#This Row],[Hours]],\"\")","v":""},null,null,null,null,null,{"$f":"IF(OR(AH1224>0.001,AH1224<-0.001),Table1[[#This Row],[Employee '#]],\" \")","v":" "},false,{"$f":"SUMIF(Table1[[#This Row],[Total Wage Diff bonus]:[Bank Bonus]],\"<> \")","v":0},{"$f":"IF(AA1224>0, Table1[[#This Row],[Column4]], IF(AB1224>0,Table1[[#This Row],[Column4]],IF(X1224>0,\"1000\")))","v":false}]
[null,null,null,null,null,null,null,null,null,null,null,null,null,null,null,null,0,null,null,null,null,null,null,null,{"$f":"IF(Table1[[#This Row],[Wage differential Bonus                            - NotePay Rate you are bonusing to]]>0, Table1[[#This Row],[Wage differential Bonus                            - NotePay Rate you are bonusing to]]-Table1[[#This Row],[Pay Rate]], \"\")","v":""},{"$f":"IF(Table1[[#This Row],[Wage differential Bonus                            - NotePay Rate you are bonusing to]]>0,Table1[[#This Row],[Bonus Rate]]*Table1[[#This Row],[Hours]],\"\")","v":""},null,null,null,null,null,{"$f":"IF(OR(AH1225>0.001,AH1225<-0.001),Table1[[#This Row],[Employee '#]],\" \")","v":" "},false,{"$f":"SUMIF(Table1[[#This Row],[Total Wage Diff bonus]:[Bank Bonus]],\"<> \")","v":0},{"$f":"IF(AA1225>0, Table1[[#This Row],[Column4]], IF(AB1225>0,Table1[[#This Row],[Column4]],IF(X1225>0,\"1000\")))","v":false}]
[null,null,null,null,null,null,null,null,null,null,null,null,null,null,null,null,0,null,null,null,null,null,null,null,{"$f":"IF(Table1[[#This Row],[Wage differential Bonus                            - NotePay Rate you are bonusing to]]>0, Table1[[#This Row],[Wage differential Bonus                            - NotePay Rate you are bonusing to]]-Table1[[#This Row],[Pay Rate]], \"\")","v":""},{"$f":"IF(Table1[[#This Row],[Wage differential Bonus                            - NotePay Rate you are bonusing to]]>0,Table1[[#This Row],[Bonus Rate]]*Table1[[#This Row],[Hours]],\"\")","v":""},null,null,null,null,null,{"$f":"IF(OR(AH1228>0.001,AH1228<-0.001),Table1[[#This Row],[Employee '#]],\" \")","v":" "},false,{"$f":"SUMIF(Table1[[#This Row],[Total Wage Diff bonus]:[Bank Bonus]],\"<> \")","v":0},{"$f":"IF(AA1228>0, Table1[[#This Row],[Column4]], IF(AB1228>0,Table1[[#This Row],[Column4]],IF(X1228>0,\"1000\")))","v":false}]
[null,null,null,null,null,null,null,null,null,null,null,null,null,null,null,null,0,null,null,null,null,null,null,null,{"$f":"IF(Table1[[#This Row],[Wage differential Bonus                            - NotePay Rate you are bonusing to]]>0, Table1[[#This Row],[Wage differential Bonus                            - NotePay Rate you are bonusing to]]-Table1[[#This Row],[Pay Rate]], \"\")","v":""},{"$f":"IF(Table1[[#This Row],[Wage differential Bonus                            - NotePay Rate you are bonusing to]]>0,Table1[[#This Row],[Bonus Rate]]*Table1[[#This Row],[Hours]],\"\")","v":""},null,null,null,null,null,{"$f":"IF(OR(AH1229>0.001,AH1229<-0.001),Table1[[#This Row],[Employee '#]],\" \")","v":" "},false,{"$f":"SUMIF(Table1[[#This Row],[Total Wage Diff bonus]:[Bank Bonus]],\"<> \")","v":0},{"$f":"IF(AA1229>0, Table1[[#This Row],[Column4]], IF(AB1229>0,Table1[[#This Row],[Column4]],IF(X1229>0,\"1000\")))","v":false}]
[null,null,null,null,null,null,null,null,null,null,null,null,null,null,null,null,0,null,null,null,null,null,null,null,{"$f":"IF(Table1[[#This Row],[Wage differential Bonus                            - NotePay Rate you are bonusing to]]>0, Table1[[#This Row],[Wage differential Bonus                            - NotePay Rate you are bonusing to]]-Table1[[#This Row],[Pay Rate]], \"\")","v":""},{"$f":"IF(Table1[[#This Row],[Wage differential Bonus                            - NotePay Rate you are bonusing to]]>0,Table1[[#This Row],[Bonus Rate]]*Table1[[#This Row],[Hours]],\"\")","v":""},null,null,null,null,null,{"$f":"IF(OR(AH1233>0.001,AH1233<-0.001),Table1[[#This Row],[Employee '#]],\" \")","v":" "},false,{"$f":"SUMIF(Table1[[#This Row],[Total Wage Diff bonus]:[Bank Bonus]],\"<> \")","v":0},{"$f":"IF(AA1233>0, Table1[[#This Row],[Column4]], IF(AB1233>0,Table1[[#This Row],[Column4]],IF(X1233>0,\"1000\")))","v":false}]
[null,null,null,null,null,null,null,null,null,null,null,null,null,null,null,null,0,null,null,null,null,null,null,null,{"$f":"IF(Table1[[#This Row],[Wage differential Bonus                            - NotePay Rate you are bonusing to]]>0, Table1[[#This Row],[Wage differential Bonus                            - NotePay Rate you are bonusing to]]-Table1[[#This Row],[Pay Rate]], \"\")","v":""},{"$f":"IF(Table1[[#This Row],[Wage differential Bonus                            - NotePay Rate you are bonusing to]]>0,Table1[[#This Row],[Bonus Rate]]*Table1[[#This Row],[Hours]],\"\")","v":""},null,null,null,null,null,{"$f":"IF(OR(AH1234>0.001,AH1234<-0.001),Table1[[#This Row],[Employee '#]],\" \")","v":" "},false,{"$f":"SUMIF(Table1[[#This Row],[Total Wage Diff bonus]:[Bank Bonus]],\"<> \")","v":0},{"$f":"IF(AA1234>0, Table1[[#This Row],[Column4]], IF(AB1234>0,Table1[[#This Row],[Column4]],IF(X1234>0,\"1000\")))","v":false}]
[null,null,null,null,null,null,null,null,null,null,null,null,null,null,null,null,0,null,null,null,null,null,null,null,{"$f":"IF(Table1[[#This Row],[Wage differential Bonus                            - NotePay Rate you are bonusing to]]>0, Table1[[#This Row],[Wage differential Bonus                            - NotePay Rate you are bonusing to]]-Table1[[#This Row],[Pay Rate]], \"\")","v":""},{"$f":"IF(Table1[[#This Row],[Wage differential Bonus                            - NotePay Rate you are bonusing to]]>0,Table1[[#This Row],[Bonus Rate]]*Table1[[#This Row],[Hours]],\"\")","v":""},null,null,null,null,null,{"$f":"IF(OR(AH1237>0.001,AH1237<-0.001),Table1[[#This Row],[Employee '#]],\" \")","v":" "},false,{"$f":"SUMIF(Table1[[#This Row],[Total Wage Diff bonus]:[Bank Bonus]],\"<> \")","v":0},{"$f":"IF(AA1237>0, Table1[[#This Row],[Column4]], IF(AB1237>0,Table1[[#This Row],[Column4]],IF(X1237>0,\"1000\")))","v":false}]
[null,null,null,null,null,null,null,null,null,null,null,null,null,null,null,null,0,null,null,null,null,null,null,null,{"$f":"IF(Table1[[#This Row],[Wage differential Bonus                            - NotePay Rate you are bonusing to]]>0, Table1[[#This Row],[Wage differential Bonus                            - NotePay Rate you are bonusing to]]-Table1[[#This Row],[Pay Rate]], \"\")","v":""},{"$f":"IF(Table1[[#This Row],[Wage differential Bonus                            - NotePay Rate you are bonusing to]]>0,Table1[[#This Row],[Bonus Rate]]*Table1[[#This Row],[Hours]],\"\")","v":""},null,null,null,null,null,{"$f":"IF(OR(AH1240>0.001,AH1240<-0.001),Table1[[#This Row],[Employee '#]],\" \")","v":" "},false,{"$f":"SUMIF(Table1[[#This Row],[Total Wage Diff bonus]:[Bank Bonus]],\"<> \")","v":0},{"$f":"IF(AA1240>0, Table1[[#This Row],[Column4]], IF(AB1240>0,Table1[[#This Row],[Column4]],IF(X1240>0,\"1000\")))","v":false}]
[null,null,null,null,null,null,null,null,null,null,null,null,null,null,null,null,0,null,null,null,null,null,null,null,{"$f":"IF(Table1[[#This Row],[Wage differential Bonus                            - NotePay Rate you are bonusing to]]>0, Table1[[#This Row],[Wage differential Bonus                            - NotePay Rate you are bonusing to]]-Table1[[#This Row],[Pay Rate]], \"\")","v":""},{"$f":"IF(Table1[[#This Row],[Wage differential Bonus                            - NotePay Rate you are bonusing to]]>0,Table1[[#This Row],[Bonus Rate]]*Table1[[#This Row],[Hours]],\"\")","v":""},null,null,null,null,null,{"$f":"IF(OR(AH1242>0.001,AH1242<-0.001),Table1[[#This Row],[Employee '#]],\" \")","v":" "},false,{"$f":"SUMIF(Table1[[#This Row],[Total Wage Diff bonus]:[Bank Bonus]],\"<> \")","v":0},{"$f":"IF(AA1242>0, Table1[[#This Row],[Column4]], IF(AB1242>0,Table1[[#This Row],[Column4]],IF(X1242>0,\"1000\")))","v":false}]
[null,null,null,null,null,null,null,null,null,null,null,null,null,null,null,null,0,null,null,null,null,null,null,null,{"$f":"IF(Table1[[#This Row],[Wage differential Bonus                            - NotePay Rate you are bonusing to]]>0, Table1[[#This Row],[Wage differential Bonus                            - NotePay Rate you are bonusing to]]-Table1[[#This Row],[Pay Rate]], \"\")","v":""},{"$f":"IF(Table1[[#This Row],[Wage differential Bonus                            - NotePay Rate you are bonusing to]]>0,Table1[[#This Row],[Bonus Rate]]*Table1[[#This Row],[Hours]],\"\")","v":""},null,null,null,null,null,{"$f":"IF(OR(AH1243>0.001,AH1243<-0.001),Table1[[#This Row],[Employee '#]],\" \")","v":" "},false,{"$f":"SUMIF(Table1[[#This Row],[Total Wage Diff bonus]:[Bank Bonus]],\"<> \")","v":0},{"$f":"IF(AA1243>0, Table1[[#This Row],[Column4]], IF(AB1243>0,Table1[[#This Row],[Column4]],IF(X1243>0,\"1000\")))","v":false}]
[null,null,null,null,null,null,null,null,null,null,null,null,null,null,null,null,0,null,null,null,null,null,null,null,{"$f":"IF(Table1[[#This Row],[Wage differential Bonus                            - NotePay Rate you are bonusing to]]>0, Table1[[#This Row],[Wage differential Bonus                            - NotePay Rate you are bonusing to]]-Table1[[#This Row],[Pay Rate]], \"\")","v":""},{"$f":"IF(Table1[[#This Row],[Wage differential Bonus                            - NotePay Rate you are bonusing to]]>0,Table1[[#This Row],[Bonus Rate]]*Table1[[#This Row],[Hours]],\"\")","v":""},null,null,null,null,null,{"$f":"IF(OR(AH1246>0.001,AH1246<-0.001),Table1[[#This Row],[Employee '#]],\" \")","v":" "},false,{"$f":"SUMIF(Table1[[#This Row],[Total Wage Diff bonus]:[Bank Bonus]],\"<> \")","v":0},{"$f":"IF(AA1246>0, Table1[[#This Row],[Column4]], IF(AB1246>0,Table1[[#This Row],[Column4]],IF(X1246>0,\"1000\")))","v":false}]
[null,null,null,null,null,null,null,null,null,null,null,null,null,null,null,null,0,null,null,null,null,null,null,null,{"$f":"IF(Table1[[#This Row],[Wage differential Bonus                            - NotePay Rate you are bonusing to]]>0, Table1[[#This Row],[Wage differential Bonus                            - NotePay Rate you are bonusing to]]-Table1[[#This Row],[Pay Rate]], \"\")","v":""},{"$f":"IF(Table1[[#This Row],[Wage differential Bonus                            - NotePay Rate you are bonusing to]]>0,Table1[[#This Row],[Bonus Rate]]*Table1[[#This Row],[Hours]],\"\")","v":""},null,null,null,null,null,{"$f":"IF(OR(AH1247>0.001,AH1247<-0.001),Table1[[#This Row],[Employee '#]],\" \")","v":" "},false,{"$f":"SUMIF(Table1[[#This Row],[Total Wage Diff bonus]:[Bank Bonus]],\"<> \")","v":0},{"$f":"IF(AA1247>0, Table1[[#This Row],[Column4]], IF(AB1247>0,Table1[[#This Row],[Column4]],IF(X1247>0,\"1000\")))","v":false}]
[null,null,null,null,null,null,null,null,null,null,null,null,null,null,null,null,0,null,null,null,null,null,null,null,{"$f":"IF(Table1[[#This Row],[Wage differential Bonus                            - NotePay Rate you are bonusing to]]>0, Table1[[#This Row],[Wage differential Bonus                            - NotePay Rate you are bonusing to]]-Table1[[#This Row],[Pay Rate]], \"\")","v":""},{"$f":"IF(Table1[[#This Row],[Wage differential Bonus                            - NotePay Rate you are bonusing to]]>0,Table1[[#This Row],[Bonus Rate]]*Table1[[#This Row],[Hours]],\"\")","v":""},null,null,null,null,null,{"$f":"IF(OR(AH1251>0.001,AH1251<-0.001),Table1[[#This Row],[Employee '#]],\" \")","v":" "},false,{"$f":"SUMIF(Table1[[#This Row],[Total Wage Diff bonus]:[Bank Bonus]],\"<> \")","v":0},{"$f":"IF(AA1251>0, Table1[[#This Row],[Column4]], IF(AB1251>0,Table1[[#This Row],[Column4]],IF(X1251>0,\"1000\")))","v":false}]
[null,null,null,null,null,null,null,null,null,null,null,null,null,null,null,null,0,null,null,null,null,null,null,null,{"$f":"IF(Table1[[#This Row],[Wage differential Bonus                            - NotePay Rate you are bonusing to]]>0, Table1[[#This Row],[Wage differential Bonus                            - NotePay Rate you are bonusing to]]-Table1[[#This Row],[Pay Rate]], \"\")","v":""},{"$f":"IF(Table1[[#This Row],[Wage differential Bonus                            - NotePay Rate you are bonusing to]]>0,Table1[[#This Row],[Bonus Rate]]*Table1[[#This Row],[Hours]],\"\")","v":""},null,null,null,null,null,{"$f":"IF(OR(AH1252>0.001,AH1252<-0.001),Table1[[#This Row],[Employee '#]],\" \")","v":" "},false,{"$f":"SUMIF(Table1[[#This Row],[Total Wage Diff bonus]:[Bank Bonus]],\"<> \")","v":0},{"$f":"IF(AA1252>0, Table1[[#This Row],[Column4]], IF(AB1252>0,Table1[[#This Row],[Column4]],IF(X1252>0,\"1000\")))","v":false}]
[null,null,null,null,null,null,null,null,null,null,null,null,null,null,null,null,0,null,null,null,null,null,null,null,{"$f":"IF(Table1[[#This Row],[Wage differential Bonus                            - NotePay Rate you are bonusing to]]>0, Table1[[#This Row],[Wage differential Bonus                            - NotePay Rate you are bonusing to]]-Table1[[#This Row],[Pay Rate]], \"\")","v":""},{"$f":"IF(Table1[[#This Row],[Wage differential Bonus                            - NotePay Rate you are bonusing to]]>0,Table1[[#This Row],[Bonus Rate]]*Table1[[#This Row],[Hours]],\"\")","v":""},null,null,null,null,null,{"$f":"IF(OR(AH1255>0.001,AH1255<-0.001),Table1[[#This Row],[Employee '#]],\" \")","v":" "},false,{"$f":"SUMIF(Table1[[#This Row],[Total Wage Diff bonus]:[Bank Bonus]],\"<> \")","v":0},{"$f":"IF(AA1255>0, Table1[[#This Row],[Column4]], IF(AB1255>0,Table1[[#This Row],[Column4]],IF(X1255>0,\"1000\")))","v":false}]
[null,null,null,null,null,null,null,null,null,null,null,null,null,null,null,null,0,null,null,null,null,null,null,null,{"$f":"IF(Table1[[#This Row],[Wage differential Bonus                            - NotePay Rate you are bonusing to]]>0, Table1[[#This Row],[Wage differential Bonus                            - NotePay Rate you are bonusing to]]-Table1[[#This Row],[Pay Rate]], \"\")","v":""},{"$f":"IF(Table1[[#This Row],[Wage differential Bonus                            - NotePay Rate you are bonusing to]]>0,Table1[[#This Row],[Bonus Rate]]*Table1[[#This Row],[Hours]],\"\")","v":""},null,null,null,null,null,{"$f":"IF(OR(AH1257>0.001,AH1257<-0.001),Table1[[#This Row],[Employee '#]],\" \")","v":" "},false,{"$f":"SUMIF(Table1[[#This Row],[Total Wage Diff bonus]:[Bank Bonus]],\"<> \")","v":0},{"$f":"IF(AA1257>0, Table1[[#This Row],[Column4]], IF(AB1257>0,Table1[[#This Row],[Column4]],IF(X1257>0,\"1000\")))","v":false}]
[null,null,null,null,null,null,null,null,null,null,null,null,null,null,null,null,0,null,null,null,null,null,null,null,{"$f":"IF(Table1[[#This Row],[Wage differential Bonus                            - NotePay Rate you are bonusing to]]>0, Table1[[#This Row],[Wage differential Bonus                            - NotePay Rate you are bonusing to]]-Table1[[#This Row],[Pay Rate]], \"\")","v":""},{"$f":"IF(Table1[[#This Row],[Wage differential Bonus                            - NotePay Rate you are bonusing to]]>0,Table1[[#This Row],[Bonus Rate]]*Table1[[#This Row],[Hours]],\"\")","v":""},null,null,null,null,null,{"$f":"IF(OR(AH1260>0.001,AH1260<-0.001),Table1[[#This Row],[Employee '#]],\" \")","v":" "},false,{"$f":"SUMIF(Table1[[#This Row],[Total Wage Diff bonus]:[Bank Bonus]],\"<> \")","v":0},{"$f":"IF(AA1260>0, Table1[[#This Row],[Column4]], IF(AB1260>0,Table1[[#This Row],[Column4]],IF(X1260>0,\"1000\")))","v":false}]
[null,null,null,null,null,null,null,null,null,null,null,null,null,null,null,null,0,null,null,null,null,null,null,null,{"$f":"IF(Table1[[#This Row],[Wage differential Bonus                            - NotePay Rate you are bonusing to]]>0, Table1[[#This Row],[Wage differential Bonus                            - NotePay Rate you are bonusing to]]-Table1[[#This Row],[Pay Rate]], \"\")","v":""},{"$f":"IF(Table1[[#This Row],[Wage differential Bonus                            - NotePay Rate you are bonusing to]]>0,Table1[[#This Row],[Bonus Rate]]*Table1[[#This Row],[Hours]],\"\")","v":""},null,null,null,null,null,{"$f":"IF(OR(AH1261>0.001,AH1261<-0.001),Table1[[#This Row],[Employee '#]],\" \")","v":" "},false,{"$f":"SUMIF(Table1[[#This Row],[Total Wage Diff bonus]:[Bank Bonus]],\"<> \")","v":0},{"$f":"IF(AA1261>0, Table1[[#This Row],[Column4]], IF(AB1261>0,Table1[[#This Row],[Column4]],IF(X1261>0,\"1000\")))","v":false}]
[null,null,null,null,null,null,null,null,null,null,null,null,null,null,null,null,0,null,null,null,null,null,null,null,{"$f":"IF(Table1[[#This Row],[Wage differential Bonus                            - NotePay Rate you are bonusing to]]>0, Table1[[#This Row],[Wage differential Bonus                            - NotePay Rate you are bonusing to]]-Table1[[#This Row],[Pay Rate]], \"\")","v":""},{"$f":"IF(Table1[[#This Row],[Wage differential Bonus                            - NotePay Rate you are bonusing to]]>0,Table1[[#This Row],[Bonus Rate]]*Table1[[#This Row],[Hours]],\"\")","v":""},null,null,null,null,null,{"$f":"IF(OR(AH1263>0.001,AH1263<-0.001),Table1[[#This Row],[Employee '#]],\" \")","v":" "},false,{"$f":"SUMIF(Table1[[#This Row],[Total Wage Diff bonus]:[Bank Bonus]],\"<> \")","v":0},{"$f":"IF(AA1263>0, Table1[[#This Row],[Column4]], IF(AB1263>0,Table1[[#This Row],[Column4]],IF(X1263>0,\"1000\")))","v":false}]
[null,null,null,null,null,null,null,null,null,null,null,null,null,null,null,null,0,null,null,null,null,null,null,null,{"$f":"IF(Table1[[#This Row],[Wage differential Bonus                            - NotePay Rate you are bonusing to]]>0, Table1[[#This Row],[Wage differential Bonus                            - NotePay Rate you are bonusing to]]-Table1[[#This Row],[Pay Rate]], \"\")","v":""},{"$f":"IF(Table1[[#This Row],[Wage differential Bonus                            - NotePay Rate you are bonusing to]]>0,Table1[[#This Row],[Bonus Rate]]*Table1[[#This Row],[Hours]],\"\")","v":""},null,null,null,null,null,{"$f":"IF(OR(AH1266>0.001,AH1266<-0.001),Table1[[#This Row],[Employee '#]],\" \")","v":" "},false,{"$f":"SUMIF(Table1[[#This Row],[Total Wage Diff bonus]:[Bank Bonus]],\"<> \")","v":0},{"$f":"IF(AA1266>0, Table1[[#This Row],[Column4]], IF(AB1266>0,Table1[[#This Row],[Column4]],IF(X1266>0,\"1000\")))","v":false}]
[null,null,null,null,null,null,null,null,null,null,null,null,null,null,null,null,0,null,null,null,null,null,null,null,{"$f":"IF(Table1[[#This Row],[Wage differential Bonus                            - NotePay Rate you are bonusing to]]>0, Table1[[#This Row],[Wage differential Bonus                            - NotePay Rate you are bonusing to]]-Table1[[#This Row],[Pay Rate]], \"\")","v":""},{"$f":"IF(Table1[[#This Row],[Wage differential Bonus                            - NotePay Rate you are bonusing to]]>0,Table1[[#This Row],[Bonus Rate]]*Table1[[#This Row],[Hours]],\"\")","v":""},null,null,null,null,null,{"$f":"IF(OR(AH1269>0.001,AH1269<-0.001),Table1[[#This Row],[Employee '#]],\" \")","v":" "},false,{"$f":"SUMIF(Table1[[#This Row],[Total Wage Diff bonus]:[Bank Bonus]],\"<> \")","v":0},{"$f":"IF(AA1269>0, Table1[[#This Row],[Column4]], IF(AB1269>0,Table1[[#This Row],[Column4]],IF(X1269>0,\"1000\")))","v":false}]
[null,null,null,null,null,null,null,null,null,null,null,null,null,null,null,null,0,null,null,null,null,null,null,null,{"$f":"IF(Table1[[#This Row],[Wage differential Bonus                            - NotePay Rate you are bonusing to]]>0, Table1[[#This Row],[Wage differential Bonus                            - NotePay Rate you are bonusing to]]-Table1[[#This Row],[Pay Rate]], \"\")","v":""},{"$f":"IF(Table1[[#This Row],[Wage differential Bonus                            - NotePay Rate you are bonusing to]]>0,Table1[[#This Row],[Bonus Rate]]*Table1[[#This Row],[Hours]],\"\")","v":""},null,null,null,null,null,{"$f":"IF(OR(AH1270>0.001,AH1270<-0.001),Table1[[#This Row],[Employee '#]],\" \")","v":" "},false,{"$f":"SUMIF(Table1[[#This Row],[Total Wage Diff bonus]:[Bank Bonus]],\"<> \")","v":0},{"$f":"IF(AA1270>0, Table1[[#This Row],[Column4]], IF(AB1270>0,Table1[[#This Row],[Column4]],IF(X1270>0,\"1000\")))","v":false}]
[null,null,null,null,null,null,null,null,null,null,null,null,null,null,null,null,0,null,null,null,null,null,null,null,{"$f":"IF(Table1[[#This Row],[Wage differential Bonus                            - NotePay Rate you are bonusing to]]>0, Table1[[#This Row],[Wage differential Bonus                            - NotePay Rate you are bonusing to]]-Table1[[#This Row],[Pay Rate]], \"\")","v":""},{"$f":"IF(Table1[[#This Row],[Wage differential Bonus                            - NotePay Rate you are bonusing to]]>0,Table1[[#This Row],[Bonus Rate]]*Table1[[#This Row],[Hours]],\"\")","v":""},null,null,null,null,null,{"$f":"IF(OR(AH1273>0.001,AH1273<-0.001),Table1[[#This Row],[Employee '#]],\" \")","v":" "},false,{"$f":"SUMIF(Table1[[#This Row],[Total Wage Diff bonus]:[Bank Bonus]],\"<> \")","v":0},{"$f":"IF(AA1273>0, Table1[[#This Row],[Column4]], IF(AB1273>0,Table1[[#This Row],[Column4]],IF(X1273>0,\"1000\")))","v":false}]
[null,null,null,null,null,null,null,null,null,null,null,null,null,null,null,null,0,null,null,null,null,null,null,null,{"$f":"IF(Table1[[#This Row],[Wage differential Bonus                            - NotePay Rate you are bonusing to]]>0, Table1[[#This Row],[Wage differential Bonus                            - NotePay Rate you are bonusing to]]-Table1[[#This Row],[Pay Rate]], \"\")","v":""},{"$f":"IF(Table1[[#This Row],[Wage differential Bonus                            - NotePay Rate you are bonusing to]]>0,Table1[[#This Row],[Bonus Rate]]*Table1[[#This Row],[Hours]],\"\")","v":""},null,null,null,null,null,{"$f":"IF(OR(AH1275>0.001,AH1275<-0.001),Table1[[#This Row],[Employee '#]],\" \")","v":" "},false,{"$f":"SUMIF(Table1[[#This Row],[Total Wage Diff bonus]:[Bank Bonus]],\"<> \")","v":0},{"$f":"IF(AA1275>0, Table1[[#This Row],[Column4]], IF(AB1275>0,Table1[[#This Row],[Column4]],IF(X1275>0,\"1000\")))","v":false}]
[null,null,null,null,null,null,null,null,null,null,null,null,null,null,null,null,0,null,null,null,null,null,null,null,{"$f":"IF(Table1[[#This Row],[Wage differential Bonus                            - NotePay Rate you are bonusing to]]>0, Table1[[#This Row],[Wage differential Bonus                            - NotePay Rate you are bonusing to]]-Table1[[#This Row],[Pay Rate]], \"\")","v":""},{"$f":"IF(Table1[[#This Row],[Wage differential Bonus                            - NotePay Rate you are bonusing to]]>0,Table1[[#This Row],[Bonus Rate]]*Table1[[#This Row],[Hours]],\"\")","v":""},null,null,null,null,null,{"$f":"IF(OR(AH1278>0.001,AH1278<-0.001),Table1[[#This Row],[Employee '#]],\" \")","v":" "},false,{"$f":"SUMIF(Table1[[#This Row],[Total Wage Diff bonus]:[Bank Bonus]],\"<> \")","v":0},{"$f":"IF(AA1278>0, Table1[[#This Row],[Column4]], IF(AB1278>0,Table1[[#This Row],[Column4]],IF(X1278>0,\"1000\")))","v":false}]
[null,null,null,null,null,null,null,null,null,null,null,null,null,null,null,null,0,null,null,null,null,null,null,null,{"$f":"IF(Table1[[#This Row],[Wage differential Bonus                            - NotePay Rate you are bonusing to]]>0, Table1[[#This Row],[Wage differential Bonus                            - NotePay Rate you are bonusing to]]-Table1[[#This Row],[Pay Rate]], \"\")","v":""},{"$f":"IF(Table1[[#This Row],[Wage differential Bonus                            - NotePay Rate you are bonusing to]]>0,Table1[[#This Row],[Bonus Rate]]*Table1[[#This Row],[Hours]],\"\")","v":""},null,null,null,null,null,{"$f":"IF(OR(AH1279>0.001,AH1279<-0.001),Table1[[#This Row],[Employee '#]],\" \")","v":" "},false,{"$f":"SUMIF(Table1[[#This Row],[Total Wage Diff bonus]:[Bank Bonus]],\"<> \")","v":0},{"$f":"IF(AA1279>0, Table1[[#This Row],[Column4]], IF(AB1279>0,Table1[[#This Row],[Column4]],IF(X1279>0,\"1000\")))","v":false}]
[null,null,null,null,null,null,null,null,null,null,null,null,null,null,null,null,0,null,null,null,null,null,null,null,{"$f":"IF(Table1[[#This Row],[Wage differential Bonus                            - NotePay Rate you are bonusing to]]>0, Table1[[#This Row],[Wage differential Bonus                            - NotePay Rate you are bonusing to]]-Table1[[#This Row],[Pay Rate]], \"\")","v":""},{"$f":"IF(Table1[[#This Row],[Wage differential Bonus                            - NotePay Rate you are bonusing to]]>0,Table1[[#This Row],[Bonus Rate]]*Table1[[#This Row],[Hours]],\"\")","v":""},null,null,null,null,null,{"$f":"IF(OR(AH1281>0.001,AH1281<-0.001),Table1[[#This Row],[Employee '#]],\" \")","v":" "},false,{"$f":"SUMIF(Table1[[#This Row],[Total Wage Diff bonus]:[Bank Bonus]],\"<> \")","v":0},{"$f":"IF(AA1281>0, Table1[[#This Row],[Column4]], IF(AB1281>0,Table1[[#This Row],[Column4]],IF(X1281>0,\"1000\")))","v":false}]
[null,null,null,null,null,null,null,null,null,null,null,null,null,null,null,null,{"$f":"L1284+P1284","v":0},null,null,null,null,null,null,null,{"$f":"IF(Table1[[#This Row],[Wage differential Bonus                            - NotePay Rate you are bonusing to]]>0, Table1[[#This Row],[Wage differential Bonus                            - NotePay Rate you are bonusing to]]-Table1[[#This Row],[Pay Rate]], \"\")","v":""},{"$f":"IF(Table1[[#This Row],[Wage differential Bonus                            - NotePay Rate you are bonusing to]]>0,Table1[[#This Row],[Bonus Rate]]*Table1[[#This Row],[Hours]],\"\")","v":""},null,null,null,null,null,{"$f":"IF(OR(AH1284>0.001,AH1284<-0.001),Table1[[#This Row],[Employee '#]],\" \")","v":" "},{"$f":"IF(AA1284>0, \"28\", IF(AB1284>0,\"53\",IF(X1284>0,\"20\")))","v":false},{"$f":"SUMIF(Table1[[#This Row],[Total Wage Diff bonus]:[Bank Bonus]],\"<> \")","v":0},{"$f":"IF(AA1284>0, Table1[[#This Row],[Column4]], IF(AB1284>0,Table1[[#This Row],[Column4]],IF(X1284>0,\"1000\")))","v":false}]
[null,null,null,null,null,null,null,null,null,null,null,null,null,null,null,null,0,null,null,null,null,null,null,null,{"$f":"IF(Table1[[#This Row],[Wage differential Bonus                            - NotePay Rate you are bonusing to]]>0, Table1[[#This Row],[Wage differential Bonus                            - NotePay Rate you are bonusing to]]-Table1[[#This Row],[Pay Rate]], \"\")","v":""},{"$f":"IF(Table1[[#This Row],[Wage differential Bonus                            - NotePay Rate you are bonusing to]]>0,Table1[[#This Row],[Bonus Rate]]*Table1[[#This Row],[Hours]],\"\")","v":""},null,null,null,null,null,{"$f":"IF(OR(AH1287>0.001,AH1287<-0.001),Table1[[#This Row],[Employee '#]],\" \")","v":" "},false,{"$f":"SUMIF(Table1[[#This Row],[Total Wage Diff bonus]:[Bank Bonus]],\"<> \")","v":0},{"$f":"IF(AA1287>0, Table1[[#This Row],[Column4]], IF(AB1287>0,Table1[[#This Row],[Column4]],IF(X1287>0,\"1000\")))","v":false}]
[null,null,null,null,null,null,null,null,null,null,null,null,null,null,null,null,0,null,null,null,null,null,null,null,{"$f":"IF(Table1[[#This Row],[Wage differential Bonus                            - NotePay Rate you are bonusing to]]>0, Table1[[#This Row],[Wage differential Bonus                            - NotePay Rate you are bonusing to]]-Table1[[#This Row],[Pay Rate]], \"\")","v":""},{"$f":"IF(Table1[[#This Row],[Wage differential Bonus                            - NotePay Rate you are bonusing to]]>0,Table1[[#This Row],[Bonus Rate]]*Table1[[#This Row],[Hours]],\"\")","v":""},null,null,null,null,null,{"$f":"IF(OR(AH1289>0.001,AH1289<-0.001),Table1[[#This Row],[Employee '#]],\" \")","v":" "},false,{"$f":"SUMIF(Table1[[#This Row],[Total Wage Diff bonus]:[Bank Bonus]],\"<> \")","v":0},{"$f":"IF(AA1289>0, Table1[[#This Row],[Column4]], IF(AB1289>0,Table1[[#This Row],[Column4]],IF(X1289>0,\"1000\")))","v":false}]
[null,null,null,null,null,null,null,null,null,null,null,null,null,null,null,null,0,null,null,null,null,null,null,null,{"$f":"IF(Table1[[#This Row],[Wage differential Bonus                            - NotePay Rate you are bonusing to]]>0, Table1[[#This Row],[Wage differential Bonus                            - NotePay Rate you are bonusing to]]-Table1[[#This Row],[Pay Rate]], \"\")","v":""},{"$f":"IF(Table1[[#This Row],[Wage differential Bonus                            - NotePay Rate you are bonusing to]]>0,Table1[[#This Row],[Bonus Rate]]*Table1[[#This Row],[Hours]],\"\")","v":""},null,null,null,null,null,{"$f":"IF(OR(AH1292>0.001,AH1292<-0.001),Table1[[#This Row],[Employee '#]],\" \")","v":" "},false,{"$f":"SUMIF(Table1[[#This Row],[Total Wage Diff bonus]:[Bank Bonus]],\"<> \")","v":0},{"$f":"IF(AA1292>0, Table1[[#This Row],[Column4]], IF(AB1292>0,Table1[[#This Row],[Column4]],IF(X1292>0,\"1000\")))","v":false}]
[null,null,null,null,null,null,null,null,null,null,null,null,null,null,null,null,0,null,null,null,null,null,null,null,{"$f":"IF(Table1[[#This Row],[Wage differential Bonus                            - NotePay Rate you are bonusing to]]>0, Table1[[#This Row],[Wage differential Bonus                            - NotePay Rate you are bonusing to]]-Table1[[#This Row],[Pay Rate]], \"\")","v":""},{"$f":"IF(Table1[[#This Row],[Wage differential Bonus                            - NotePay Rate you are bonusing to]]>0,Table1[[#This Row],[Bonus Rate]]*Table1[[#This Row],[Hours]],\"\")","v":""},null,null,null,null,null,{"$f":"IF(OR(AH1293>0.001,AH1293<-0.001),Table1[[#This Row],[Employee '#]],\" \")","v":" "},false,{"$f":"SUMIF(Table1[[#This Row],[Total Wage Diff bonus]:[Bank Bonus]],\"<> \")","v":0},{"$f":"IF(AA1293>0, Table1[[#This Row],[Column4]], IF(AB1293>0,Table1[[#This Row],[Column4]],IF(X1293>0,\"1000\")))","v":false}]
[null,null,null,null,null,null,null,null,null,null,null,null,null,null,null,null,0,null,null,null,null,null,null,null,{"$f":"IF(Table1[[#This Row],[Wage differential Bonus                            - NotePay Rate you are bonusing to]]>0, Table1[[#This Row],[Wage differential Bonus                            - NotePay Rate you are bonusing to]]-Table1[[#This Row],[Pay Rate]], \"\")","v":""},{"$f":"IF(Table1[[#This Row],[Wage differential Bonus                            - NotePay Rate you are bonusing to]]>0,Table1[[#This Row],[Bonus Rate]]*Table1[[#This Row],[Hours]],\"\")","v":""},null,null,null,null,null,{"$f":"IF(OR(AH1296>0.001,AH1296<-0.001),Table1[[#This Row],[Employee '#]],\" \")","v":" "},false,{"$f":"SUMIF(Table1[[#This Row],[Total Wage Diff bonus]:[Bank Bonus]],\"<> \")","v":0},{"$f":"IF(AA1296>0, Table1[[#This Row],[Column4]], IF(AB1296>0,Table1[[#This Row],[Column4]],IF(X1296>0,\"1000\")))","v":false}]
[null,null,null,null,null,null,null,null,null,null,null,null,null,null,null,null,0,null,null,null,null,null,null,null,{"$f":"IF(Table1[[#This Row],[Wage differential Bonus                            - NotePay Rate you are bonusing to]]>0, Table1[[#This Row],[Wage differential Bonus                            - NotePay Rate you are bonusing to]]-Table1[[#This Row],[Pay Rate]], \"\")","v":""},{"$f":"IF(Table1[[#This Row],[Wage differential Bonus                            - NotePay Rate you are bonusing to]]>0,Table1[[#This Row],[Bonus Rate]]*Table1[[#This Row],[Hours]],\"\")","v":""},null,null,null,null,null,{"$f":"IF(OR(AH1297>0.001,AH1297<-0.001),Table1[[#This Row],[Employee '#]],\" \")","v":" "},false,{"$f":"SUMIF(Table1[[#This Row],[Total Wage Diff bonus]:[Bank Bonus]],\"<> \")","v":0},{"$f":"IF(AA1297>0, Table1[[#This Row],[Column4]], IF(AB1297>0,Table1[[#This Row],[Column4]],IF(X1297>0,\"1000\")))","v":false}]
[null,null,null,null,null,null,null,null,null,null,null,null,null,null,null,null,0,null,null,null,null,null,null,null,{"$f":"IF(Table1[[#This Row],[Wage differential Bonus                            - NotePay Rate you are bonusing to]]>0, Table1[[#This Row],[Wage differential Bonus                            - NotePay Rate you are bonusing to]]-Table1[[#This Row],[Pay Rate]], \"\")","v":""},{"$f":"IF(Table1[[#This Row],[Wage differential Bonus                            - NotePay Rate you are bonusing to]]>0,Table1[[#This Row],[Bonus Rate]]*Table1[[#This Row],[Hours]],\"\")","v":""},null,null,null,null,null,{"$f":"IF(OR(AH1301>0.001,AH1301<-0.001),Table1[[#This Row],[Employee '#]],\" \")","v":" "},false,{"$f":"SUMIF(Table1[[#This Row],[Total Wage Diff bonus]:[Bank Bonus]],\"<> \")","v":0},{"$f":"IF(AA1301>0, Table1[[#This Row],[Column4]], IF(AB1301>0,Table1[[#This Row],[Column4]],IF(X1301>0,\"1000\")))","v":false}]
[null,null,null,null,null,null,null,null,null,null,null,null,null,null,null,null,0,null,null,null,null,null,null,null,{"$f":"IF(Table1[[#This Row],[Wage differential Bonus                            - NotePay Rate you are bonusing to]]>0, Table1[[#This Row],[Wage differential Bonus                            - NotePay Rate you are bonusing to]]-Table1[[#This Row],[Pay Rate]], \"\")","v":""},{"$f":"IF(Table1[[#This Row],[Wage differential Bonus                            - NotePay Rate you are bonusing to]]>0,Table1[[#This Row],[Bonus Rate]]*Table1[[#This Row],[Hours]],\"\")","v":""},null,null,null,null,null,{"$f":"IF(OR(AH1302>0.001,AH1302<-0.001),Table1[[#This Row],[Employee '#]],\" \")","v":" "},false,{"$f":"SUMIF(Table1[[#This Row],[Total Wage Diff bonus]:[Bank Bonus]],\"<> \")","v":0},{"$f":"IF(AA1302>0, Table1[[#This Row],[Column4]], IF(AB1302>0,Table1[[#This Row],[Column4]],IF(X1302>0,\"1000\")))","v":false}]
[null,null,null,null,null,null,null,null,null,null,null,null,null,null,null,null,0,null,null,null,null,null,null,null,{"$f":"IF(Table1[[#This Row],[Wage differential Bonus                            - NotePay Rate you are bonusing to]]>0, Table1[[#This Row],[Wage differential Bonus                            - NotePay Rate you are bonusing to]]-Table1[[#This Row],[Pay Rate]], \"\")","v":""},{"$f":"IF(Table1[[#This Row],[Wage differential Bonus                            - NotePay Rate you are bonusing to]]>0,Table1[[#This Row],[Bonus Rate]]*Table1[[#This Row],[Hours]],\"\")","v":""},null,null,null,null,null,{"$f":"IF(OR(AH1305>0.001,AH1305<-0.001),Table1[[#This Row],[Employee '#]],\" \")","v":" "},false,{"$f":"SUMIF(Table1[[#This Row],[Total Wage Diff bonus]:[Bank Bonus]],\"<> \")","v":0},{"$f":"IF(AA1305>0, Table1[[#This Row],[Column4]], IF(AB1305>0,Table1[[#This Row],[Column4]],IF(X1305>0,\"1000\")))","v":false}]
[null,null,null,null,null,null,null,null,null,null,null,null,null,null,null,null,0,null,null,null,null,null,null,null,{"$f":"IF(Table1[[#This Row],[Wage differential Bonus                            - NotePay Rate you are bonusing to]]>0, Table1[[#This Row],[Wage differential Bonus                            - NotePay Rate you are bonusing to]]-Table1[[#This Row],[Pay Rate]], \"\")","v":""},{"$f":"IF(Table1[[#This Row],[Wage differential Bonus                            - NotePay Rate you are bonusing to]]>0,Table1[[#This Row],[Bonus Rate]]*Table1[[#This Row],[Hours]],\"\")","v":""},null,null,null,null,null,{"$f":"IF(OR(AH1307>0.001,AH1307<-0.001),Table1[[#This Row],[Employee '#]],\" \")","v":" "},false,{"$f":"SUMIF(Table1[[#This Row],[Total Wage Diff bonus]:[Bank Bonus]],\"<> \")","v":0},{"$f":"IF(AA1307>0, Table1[[#This Row],[Column4]], IF(AB1307>0,Table1[[#This Row],[Column4]],IF(X1307>0,\"1000\")))","v":false}]
[null,null,null,null,null,null,null,null,null,null,null,null,null,null,null,null,0,null,null,null,null,null,null,null,{"$f":"IF(Table1[[#This Row],[Wage differential Bonus                            - NotePay Rate you are bonusing to]]>0, Table1[[#This Row],[Wage differential Bonus                            - NotePay Rate you are bonusing to]]-Table1[[#This Row],[Pay Rate]], \"\")","v":""},{"$f":"IF(Table1[[#This Row],[Wage differential Bonus                            - NotePay Rate you are bonusing to]]>0,Table1[[#This Row],[Bonus Rate]]*Table1[[#This Row],[Hours]],\"\")","v":""},null,null,null,null,null,{"$f":"IF(OR(AH1310>0.001,AH1310<-0.001),Table1[[#This Row],[Employee '#]],\" \")","v":" "},false,{"$f":"SUMIF(Table1[[#This Row],[Total Wage Diff bonus]:[Bank Bonus]],\"<> \")","v":0},{"$f":"IF(AA1310>0, Table1[[#This Row],[Column4]], IF(AB1310>0,Table1[[#This Row],[Column4]],IF(X1310>0,\"1000\")))","v":false}]
[null,null,null,null,null,null,null,null,null,null,null,null,null,null,null,null,0,null,null,null,null,null,null,null,{"$f":"IF(Table1[[#This Row],[Wage differential Bonus                            - NotePay Rate you are bonusing to]]>0, Table1[[#This Row],[Wage differential Bonus                            - NotePay Rate you are bonusing to]]-Table1[[#This Row],[Pay Rate]], \"\")","v":""},{"$f":"IF(Table1[[#This Row],[Wage differential Bonus                            - NotePay Rate you are bonusing to]]>0,Table1[[#This Row],[Bonus Rate]]*Table1[[#This Row],[Hours]],\"\")","v":""},null,null,null,null,null,{"$f":"IF(OR(AH1311>0.001,AH1311<-0.001),Table1[[#This Row],[Employee '#]],\" \")","v":" "},false,{"$f":"SUMIF(Table1[[#This Row],[Total Wage Diff bonus]:[Bank Bonus]],\"<> \")","v":0},{"$f":"IF(AA1311>0, Table1[[#This Row],[Column4]], IF(AB1311>0,Table1[[#This Row],[Column4]],IF(X1311>0,\"1000\")))","v":false}]
[null,null,null,null,null,null,null,null,null,null,null,null,null,null,null,null,0,null,null,null,null,null,null,null,{"$f":"IF(Table1[[#This Row],[Wage differential Bonus                            - NotePay Rate you are bonusing to]]>0, Table1[[#This Row],[Wage differential Bonus                            - NotePay Rate you are bonusing to]]-Table1[[#This Row],[Pay Rate]], \"\")","v":""},{"$f":"IF(Table1[[#This Row],[Wage differential Bonus                            - NotePay Rate you are bonusing to]]>0,Table1[[#This Row],[Bonus Rate]]*Table1[[#This Row],[Hours]],\"\")","v":""},null,null,null,null,null,{"$f":"IF(OR(AH1314>0.001,AH1314<-0.001),Table1[[#This Row],[Employee '#]],\" \")","v":" "},false,{"$f":"SUMIF(Table1[[#This Row],[Total Wage Diff bonus]:[Bank Bonus]],\"<> \")","v":0},{"$f":"IF(AA1314>0, Table1[[#This Row],[Column4]], IF(AB1314>0,Table1[[#This Row],[Column4]],IF(X1314>0,\"1000\")))","v":false}]
[null,null,null,null,null,null,null,null,null,null,null,null,null,null,null,null,0,null,null,null,null,null,null,null,{"$f":"IF(Table1[[#This Row],[Wage differential Bonus                            - NotePay Rate you are bonusing to]]>0, Table1[[#This Row],[Wage differential Bonus                            - NotePay Rate you are bonusing to]]-Table1[[#This Row],[Pay Rate]], \"\")","v":""},{"$f":"IF(Table1[[#This Row],[Wage differential Bonus                            - NotePay Rate you are bonusing to]]>0,Table1[[#This Row],[Bonus Rate]]*Table1[[#This Row],[Hours]],\"\")","v":""},null,null,null,null,null,{"$f":"IF(OR(AH1315>0.001,AH1315<-0.001),Table1[[#This Row],[Employee '#]],\" \")","v":" "},false,{"$f":"SUMIF(Table1[[#This Row],[Total Wage Diff bonus]:[Bank Bonus]],\"<> \")","v":0},{"$f":"IF(AA1315>0, Table1[[#This Row],[Column4]], IF(AB1315>0,Table1[[#This Row],[Column4]],IF(X1315>0,\"1000\")))","v":false}]
[null,null,null,null,null,null,null,null,null,null,null,null,null,null,null,null,0,null,null,null,null,null,null,null,{"$f":"IF(Table1[[#This Row],[Wage differential Bonus                            - NotePay Rate you are bonusing to]]>0, Table1[[#This Row],[Wage differential Bonus                            - NotePay Rate you are bonusing to]]-Table1[[#This Row],[Pay Rate]], \"\")","v":""},{"$f":"IF(Table1[[#This Row],[Wage differential Bonus                            - NotePay Rate you are bonusing to]]>0,Table1[[#This Row],[Bonus Rate]]*Table1[[#This Row],[Hours]],\"\")","v":""},null,null,null,null,null,{"$f":"IF(OR(AH1319>0.001,AH1319<-0.001),Table1[[#This Row],[Employee '#]],\" \")","v":" "},false,{"$f":"SUMIF(Table1[[#This Row],[Total Wage Diff bonus]:[Bank Bonus]],\"<> \")","v":0},{"$f":"IF(AA1319>0, Table1[[#This Row],[Column4]], IF(AB1319>0,Table1[[#This Row],[Column4]],IF(X1319>0,\"1000\")))","v":false}]
[null,null,null,null,null,null,null,null,null,null,null,null,null,null,null,null,0,null,null,null,null,null,null,null,{"$f":"IF(Table1[[#This Row],[Wage differential Bonus                            - NotePay Rate you are bonusing to]]>0, Table1[[#This Row],[Wage differential Bonus                            - NotePay Rate you are bonusing to]]-Table1[[#This Row],[Pay Rate]], \"\")","v":""},{"$f":"IF(Table1[[#This Row],[Wage differential Bonus                            - NotePay Rate you are bonusing to]]>0,Table1[[#This Row],[Bonus Rate]]*Table1[[#This Row],[Hours]],\"\")","v":""},null,null,null,null,null,{"$f":"IF(OR(AH1320>0.001,AH1320<-0.001),Table1[[#This Row],[Employee '#]],\" \")","v":" "},false,{"$f":"SUMIF(Table1[[#This Row],[Total Wage Diff bonus]:[Bank Bonus]],\"<> \")","v":0},{"$f":"IF(AA1320>0, Table1[[#This Row],[Column4]], IF(AB1320>0,Table1[[#This Row],[Column4]],IF(X1320>0,\"1000\")))","v":false}]
[null,null,null,null,null,null,null,null,null,null,null,null,null,null,null,null,0,null,null,null,null,null,null,null,{"$f":"IF(Table1[[#This Row],[Wage differential Bonus                            - NotePay Rate you are bonusing to]]>0, Table1[[#This Row],[Wage differential Bonus                            - NotePay Rate you are bonusing to]]-Table1[[#This Row],[Pay Rate]], \"\")","v":""},{"$f":"IF(Table1[[#This Row],[Wage differential Bonus                            - NotePay Rate you are bonusing to]]>0,Table1[[#This Row],[Bonus Rate]]*Table1[[#This Row],[Hours]],\"\")","v":""},null,null,null,null,null,{"$f":"IF(OR(AH1323>0.001,AH1323<-0.001),Table1[[#This Row],[Employee '#]],\" \")","v":" "},false,{"$f":"SUMIF(Table1[[#This Row],[Total Wage Diff bonus]:[Bank Bonus]],\"<> \")","v":0},{"$f":"IF(AA1323>0, Table1[[#This Row],[Column4]], IF(AB1323>0,Table1[[#This Row],[Column4]],IF(X1323>0,\"1000\")))","v":false}]
[null,null,null,null,null,null,null,null,null,null,null,null,null,null,null,null,0,null,null,null,null,null,null,null,{"$f":"IF(Table1[[#This Row],[Wage differential Bonus                            - NotePay Rate you are bonusing to]]>0, Table1[[#This Row],[Wage differential Bonus                            - NotePay Rate you are bonusing to]]-Table1[[#This Row],[Pay Rate]], \"\")","v":""},{"$f":"IF(Table1[[#This Row],[Wage differential Bonus                            - NotePay Rate you are bonusing to]]>0,Table1[[#This Row],[Bonus Rate]]*Table1[[#This Row],[Hours]],\"\")","v":""},null,null,null,null,null,{"$f":"IF(OR(AH1325>0.001,AH1325<-0.001),Table1[[#This Row],[Employee '#]],\" \")","v":" "},false,{"$f":"SUMIF(Table1[[#This Row],[Total Wage Diff bonus]:[Bank Bonus]],\"<> \")","v":0},{"$f":"IF(AA1325>0, Table1[[#This Row],[Column4]], IF(AB1325>0,Table1[[#This Row],[Column4]],IF(X1325>0,\"1000\")))","v":false}]
[null,null,null,null,null,null,null,null,null,null,null,null,null,null,null,null,0,null,null,null,null,null,null,null,{"$f":"IF(Table1[[#This Row],[Wage differential Bonus                            - NotePay Rate you are bonusing to]]>0, Table1[[#This Row],[Wage differential Bonus                            - NotePay Rate you are bonusing to]]-Table1[[#This Row],[Pay Rate]], \"\")","v":""},{"$f":"IF(Table1[[#This Row],[Wage differential Bonus                            - NotePay Rate you are bonusing to]]>0,Table1[[#This Row],[Bonus Rate]]*Table1[[#This Row],[Hours]],\"\")","v":""},null,null,null,null,null,{"$f":"IF(OR(AH1328>0.001,AH1328<-0.001),Table1[[#This Row],[Employee '#]],\" \")","v":" "},false,{"$f":"SUMIF(Table1[[#This Row],[Total Wage Diff bonus]:[Bank Bonus]],\"<> \")","v":0},{"$f":"IF(AA1328>0, Table1[[#This Row],[Column4]], IF(AB1328>0,Table1[[#This Row],[Column4]],IF(X1328>0,\"1000\")))","v":false}]
[null,null,null,null,null,null,null,null,null,null,null,null,null,null,null,null,0,null,null,null,null,null,null,null,{"$f":"IF(Table1[[#This Row],[Wage differential Bonus                            - NotePay Rate you are bonusing to]]>0, Table1[[#This Row],[Wage differential Bonus                            - NotePay Rate you are bonusing to]]-Table1[[#This Row],[Pay Rate]], \"\")","v":""},{"$f":"IF(Table1[[#This Row],[Wage differential Bonus                            - NotePay Rate you are bonusing to]]>0,Table1[[#This Row],[Bonus Rate]]*Table1[[#This Row],[Hours]],\"\")","v":""},null,null,null,null,null,{"$f":"IF(OR(AH1329>0.001,AH1329<-0.001),Table1[[#This Row],[Employee '#]],\" \")","v":" "},false,{"$f":"SUMIF(Table1[[#This Row],[Total Wage Diff bonus]:[Bank Bonus]],\"<> \")","v":0},{"$f":"IF(AA1329>0, Table1[[#This Row],[Column4]], IF(AB1329>0,Table1[[#This Row],[Column4]],IF(X1329>0,\"1000\")))","v":false}]
[null,null,null,null,null,null,null,null,null,null,null,null,null,null,null,null,0,null,null,null,null,null,null,null,{"$f":"IF(Table1[[#This Row],[Wage differential Bonus                            - NotePay Rate you are bonusing to]]>0, Table1[[#This Row],[Wage differential Bonus                            - NotePay Rate you are bonusing to]]-Table1[[#This Row],[Pay Rate]], \"\")","v":""},{"$f":"IF(Table1[[#This Row],[Wage differential Bonus                            - NotePay Rate you are bonusing to]]>0,Table1[[#This Row],[Bonus Rate]]*Table1[[#This Row],[Hours]],\"\")","v":""},null,null,null,null,null,{"$f":"IF(OR(AH1333>0.001,AH1333<-0.001),Table1[[#This Row],[Employee '#]],\" \")","v":" "},false,{"$f":"SUMIF(Table1[[#This Row],[Total Wage Diff bonus]:[Bank Bonus]],\"<> \")","v":0},{"$f":"IF(AA1333>0, Table1[[#This Row],[Column4]], IF(AB1333>0,Table1[[#This Row],[Column4]],IF(X1333>0,\"1000\")))","v":false}]
[null,null,null,null,null,null,null,null,null,null,null,null,null,null,null,null,0,null,null,null,null,null,null,null,{"$f":"IF(Table1[[#This Row],[Wage differential Bonus                            - NotePay Rate you are bonusing to]]>0, Table1[[#This Row],[Wage differential Bonus                            - NotePay Rate you are bonusing to]]-Table1[[#This Row],[Pay Rate]], \"\")","v":""},{"$f":"IF(Table1[[#This Row],[Wage differential Bonus                            - NotePay Rate you are bonusing to]]>0,Table1[[#This Row],[Bonus Rate]]*Table1[[#This Row],[Hours]],\"\")","v":""},null,null,null,null,null,{"$f":"IF(OR(AH1334>0.001,AH1334<-0.001),Table1[[#This Row],[Employee '#]],\" \")","v":" "},false,{"$f":"SUMIF(Table1[[#This Row],[Total Wage Diff bonus]:[Bank Bonus]],\"<> \")","v":0},{"$f":"IF(AA1334>0, Table1[[#This Row],[Column4]], IF(AB1334>0,Table1[[#This Row],[Column4]],IF(X1334>0,\"1000\")))","v":false}]
[null,null,null,null,null,null,null,null,null,null,null,null,null,null,null,null,0,null,null,null,null,null,null,null,{"$f":"IF(Table1[[#This Row],[Wage differential Bonus                            - NotePay Rate you are bonusing to]]>0, Table1[[#This Row],[Wage differential Bonus                            - NotePay Rate you are bonusing to]]-Table1[[#This Row],[Pay Rate]], \"\")","v":""},{"$f":"IF(Table1[[#This Row],[Wage differential Bonus                            - NotePay Rate you are bonusing to]]>0,Table1[[#This Row],[Bonus Rate]]*Table1[[#This Row],[Hours]],\"\")","v":""},null,null,null,null,null,{"$f":"IF(OR(AH1337>0.001,AH1337<-0.001),Table1[[#This Row],[Employee '#]],\" \")","v":" "},false,{"$f":"SUMIF(Table1[[#This Row],[Total Wage Diff bonus]:[Bank Bonus]],\"<> \")","v":0},{"$f":"IF(AA1337>0, Table1[[#This Row],[Column4]], IF(AB1337>0,Table1[[#This Row],[Column4]],IF(X1337>0,\"1000\")))","v":false}]
[null,null,null,null,null,null,null,null,null,null,null,null,null,null,null,null,0,null,null,null,null,null,null,null,{"$f":"IF(Table1[[#This Row],[Wage differential Bonus                            - NotePay Rate you are bonusing to]]>0, Table1[[#This Row],[Wage differential Bonus                            - NotePay Rate you are bonusing to]]-Table1[[#This Row],[Pay Rate]], \"\")","v":""},{"$f":"IF(Table1[[#This Row],[Wage differential Bonus                            - NotePay Rate you are bonusing to]]>0,Table1[[#This Row],[Bonus Rate]]*Table1[[#This Row],[Hours]],\"\")","v":""},null,null,null,null,null,{"$f":"IF(OR(AH1338>0.001,AH1338<-0.001),Table1[[#This Row],[Employee '#]],\" \")","v":" "},false,{"$f":"SUMIF(Table1[[#This Row],[Total Wage Diff bonus]:[Bank Bonus]],\"<> \")","v":0},{"$f":"IF(AA1338>0, Table1[[#This Row],[Column4]], IF(AB1338>0,Table1[[#This Row],[Column4]],IF(X1338>0,\"1000\")))","v":false}]
[null,null,null,null,null,null,null,null,null,null,null,null,null,null,null,null,0,null,null,null,null,null,null,null,{"$f":"IF(Table1[[#This Row],[Wage differential Bonus                            - NotePay Rate you are bonusing to]]>0, Table1[[#This Row],[Wage differential Bonus                            - NotePay Rate you are bonusing to]]-Table1[[#This Row],[Pay Rate]], \"\")","v":""},{"$f":"IF(Table1[[#This Row],[Wage differential Bonus                            - NotePay Rate you are bonusing to]]>0,Table1[[#This Row],[Bonus Rate]]*Table1[[#This Row],[Hours]],\"\")","v":""},null,null,null,null,null,{"$f":"IF(OR(AH1341>0.001,AH1341<-0.001),Table1[[#This Row],[Employee '#]],\" \")","v":" "},false,{"$f":"SUMIF(Table1[[#This Row],[Total Wage Diff bonus]:[Bank Bonus]],\"<> \")","v":0},{"$f":"IF(AA1341>0, Table1[[#This Row],[Column4]], IF(AB1341>0,Table1[[#This Row],[Column4]],IF(X1341>0,\"1000\")))","v":false}]
[null,null,null,null,null,null,null,null,null,null,null,null,null,null,null,null,0,null,null,null,null,null,null,null,{"$f":"IF(Table1[[#This Row],[Wage differential Bonus                            - NotePay Rate you are bonusing to]]>0, Table1[[#This Row],[Wage differential Bonus                            - NotePay Rate you are bonusing to]]-Table1[[#This Row],[Pay Rate]], \"\")","v":""},{"$f":"IF(Table1[[#This Row],[Wage differential Bonus                            - NotePay Rate you are bonusing to]]>0,Table1[[#This Row],[Bonus Rate]]*Table1[[#This Row],[Hours]],\"\")","v":""},null,null,null,null,null,{"$f":"IF(OR(AH1343>0.001,AH1343<-0.001),Table1[[#This Row],[Employee '#]],\" \")","v":" "},false,{"$f":"SUMIF(Table1[[#This Row],[Total Wage Diff bonus]:[Bank Bonus]],\"<> \")","v":0},{"$f":"IF(AA1343>0, Table1[[#This Row],[Column4]], IF(AB1343>0,Table1[[#This Row],[Column4]],IF(X1343>0,\"1000\")))","v":false}]
[null,null,null,null,null,null,null,null,null,null,null,null,null,null,null,null,0,null,null,null,null,null,null,null,{"$f":"IF(Table1[[#This Row],[Wage differential Bonus                            - NotePay Rate you are bonusing to]]>0, Table1[[#This Row],[Wage differential Bonus                            - NotePay Rate you are bonusing to]]-Table1[[#This Row],[Pay Rate]], \"\")","v":""},{"$f":"IF(Table1[[#This Row],[Wage differential Bonus                            - NotePay Rate you are bonusing to]]>0,Table1[[#This Row],[Bonus Rate]]*Table1[[#This Row],[Hours]],\"\")","v":""},null,null,null,null,null,{"$f":"IF(OR(AH1346>0.001,AH1346<-0.001),Table1[[#This Row],[Employee '#]],\" \")","v":" "},false,{"$f":"SUMIF(Table1[[#This Row],[Total Wage Diff bonus]:[Bank Bonus]],\"<> \")","v":0},{"$f":"IF(AA1346>0, Table1[[#This Row],[Column4]], IF(AB1346>0,Table1[[#This Row],[Column4]],IF(X1346>0,\"1000\")))","v":false}]
[null,null,null,null,null,null,null,null,null,null,null,null,null,null,null,null,0,null,null,null,null,null,null,null,{"$f":"IF(Table1[[#This Row],[Wage differential Bonus                            - NotePay Rate you are bonusing to]]>0, Table1[[#This Row],[Wage differential Bonus                            - NotePay Rate you are bonusing to]]-Table1[[#This Row],[Pay Rate]], \"\")","v":""},{"$f":"IF(Table1[[#This Row],[Wage differential Bonus                            - NotePay Rate you are bonusing to]]>0,Table1[[#This Row],[Bonus Rate]]*Table1[[#This Row],[Hours]],\"\")","v":""},null,null,null,null,null,{"$f":"IF(OR(AH1347>0.001,AH1347<-0.001),Table1[[#This Row],[Employee '#]],\" \")","v":" "},false,{"$f":"SUMIF(Table1[[#This Row],[Total Wage Diff bonus]:[Bank Bonus]],\"<> \")","v":0},{"$f":"IF(AA1347>0, Table1[[#This Row],[Column4]], IF(AB1347>0,Table1[[#This Row],[Column4]],IF(X1347>0,\"1000\")))","v":false}]
[null,null,null,null,null,null,null,null,null,null,null,null,null,null,null,null,0,null,null,null,null,null,null,null,{"$f":"IF(Table1[[#This Row],[Wage differential Bonus                            - NotePay Rate you are bonusing to]]>0, Table1[[#This Row],[Wage differential Bonus                            - NotePay Rate you are bonusing to]]-Table1[[#This Row],[Pay Rate]], \"\")","v":""},{"$f":"IF(Table1[[#This Row],[Wage differential Bonus                            - NotePay Rate you are bonusing to]]>0,Table1[[#This Row],[Bonus Rate]]*Table1[[#This Row],[Hours]],\"\")","v":""},null,null,null,null,null,{"$f":"IF(OR(AH1351>0.001,AH1351<-0.001),Table1[[#This Row],[Employee '#]],\" \")","v":" "},false,{"$f":"SUMIF(Table1[[#This Row],[Total Wage Diff bonus]:[Bank Bonus]],\"<> \")","v":0},{"$f":"IF(AA1351>0, Table1[[#This Row],[Column4]], IF(AB1351>0,Table1[[#This Row],[Column4]],IF(X1351>0,\"1000\")))","v":false}]
[null,null,null,null,null,null,null,null,null,null,null,null,null,null,null,null,0,null,null,null,null,null,null,null,{"$f":"IF(Table1[[#This Row],[Wage differential Bonus                            - NotePay Rate you are bonusing to]]>0, Table1[[#This Row],[Wage differential Bonus                            - NotePay Rate you are bonusing to]]-Table1[[#This Row],[Pay Rate]], \"\")","v":""},{"$f":"IF(Table1[[#This Row],[Wage differential Bonus                            - NotePay Rate you are bonusing to]]>0,Table1[[#This Row],[Bonus Rate]]*Table1[[#This Row],[Hours]],\"\")","v":""},null,null,null,null,null,{"$f":"IF(OR(AH1352>0.001,AH1352<-0.001),Table1[[#This Row],[Employee '#]],\" \")","v":" "},false,{"$f":"SUMIF(Table1[[#This Row],[Total Wage Diff bonus]:[Bank Bonus]],\"<> \")","v":0},{"$f":"IF(AA1352>0, Table1[[#This Row],[Column4]], IF(AB1352>0,Table1[[#This Row],[Column4]],IF(X1352>0,\"1000\")))","v":false}]
[null,null,null,null,null,null,null,null,null,null,null,null,null,null,null,null,0,null,null,null,null,null,null,null,{"$f":"IF(Table1[[#This Row],[Wage differential Bonus                            - NotePay Rate you are bonusing to]]>0, Table1[[#This Row],[Wage differential Bonus                            - NotePay Rate you are bonusing to]]-Table1[[#This Row],[Pay Rate]], \"\")","v":""},{"$f":"IF(Table1[[#This Row],[Wage differential Bonus                            - NotePay Rate you are bonusing to]]>0,Table1[[#This Row],[Bonus Rate]]*Table1[[#This Row],[Hours]],\"\")","v":""},null,null,null,null,null,{"$f":"IF(OR(AH1355>0.001,AH1355<-0.001),Table1[[#This Row],[Employee '#]],\" \")","v":" "},false,{"$f":"SUMIF(Table1[[#This Row],[Total Wage Diff bonus]:[Bank Bonus]],\"<> \")","v":0},{"$f":"IF(AA1355>0, Table1[[#This Row],[Column4]], IF(AB1355>0,Table1[[#This Row],[Column4]],IF(X1355>0,\"1000\")))","v":false}]
[null,null,null,null,null,null,null,null,null,null,null,null,null,null,null,null,0,null,null,null,null,null,null,null,{"$f":"IF(Table1[[#This Row],[Wage differential Bonus                            - NotePay Rate you are bonusing to]]>0, Table1[[#This Row],[Wage differential Bonus                            - NotePay Rate you are bonusing to]]-Table1[[#This Row],[Pay Rate]], \"\")","v":""},{"$f":"IF(Table1[[#This Row],[Wage differential Bonus                            - NotePay Rate you are bonusing to]]>0,Table1[[#This Row],[Bonus Rate]]*Table1[[#This Row],[Hours]],\"\")","v":""},null,null,null,null,null,{"$f":"IF(OR(AH1356>0.001,AH1356<-0.001),Table1[[#This Row],[Employee '#]],\" \")","v":" "},false,{"$f":"SUMIF(Table1[[#This Row],[Total Wage Diff bonus]:[Bank Bonus]],\"<> \")","v":0},{"$f":"IF(AA1356>0, Table1[[#This Row],[Column4]], IF(AB1356>0,Table1[[#This Row],[Column4]],IF(X1356>0,\"1000\")))","v":false}]
[null,null,null,null,null,null,null,null,null,null,null,null,null,null,null,null,0,null,null,null,null,null,null,null,{"$f":"IF(Table1[[#This Row],[Wage differential Bonus                            - NotePay Rate you are bonusing to]]>0, Table1[[#This Row],[Wage differential Bonus                            - NotePay Rate you are bonusing to]]-Table1[[#This Row],[Pay Rate]], \"\")","v":""},{"$f":"IF(Table1[[#This Row],[Wage differential Bonus                            - NotePay Rate you are bonusing to]]>0,Table1[[#This Row],[Bonus Rate]]*Table1[[#This Row],[Hours]],\"\")","v":""},null,null,null,null,null,{"$f":"IF(OR(AH1360>0.001,AH1360<-0.001),Table1[[#This Row],[Employee '#]],\" \")","v":" "},false,{"$f":"SUMIF(Table1[[#This Row],[Total Wage Diff bonus]:[Bank Bonus]],\"<> \")","v":0},{"$f":"IF(AA1360>0, Table1[[#This Row],[Column4]], IF(AB1360>0,Table1[[#This Row],[Column4]],IF(X1360>0,\"1000\")))","v":false}]
[null,null,null,null,null,null,null,null,null,null,null,null,null,null,null,null,0,null,null,null,null,null,null,null,{"$f":"IF(Table1[[#This Row],[Wage differential Bonus                            - NotePay Rate you are bonusing to]]>0, Table1[[#This Row],[Wage differential Bonus                            - NotePay Rate you are bonusing to]]-Table1[[#This Row],[Pay Rate]], \"\")","v":""},{"$f":"IF(Table1[[#This Row],[Wage differential Bonus                            - NotePay Rate you are bonusing to]]>0,Table1[[#This Row],[Bonus Rate]]*Table1[[#This Row],[Hours]],\"\")","v":""},null,null,null,null,null,{"$f":"IF(OR(AH1361>0.001,AH1361<-0.001),Table1[[#This Row],[Employee '#]],\" \")","v":" "},false,{"$f":"SUMIF(Table1[[#This Row],[Total Wage Diff bonus]:[Bank Bonus]],\"<> \")","v":0},{"$f":"IF(AA1361>0, Table1[[#This Row],[Column4]], IF(AB1361>0,Table1[[#This Row],[Column4]],IF(X1361>0,\"1000\")))","v":false}]
[null,null,null,null,null,null,null,null,null,null,null,null,null,null,null,null,0,null,null,null,null,null,null,null,{"$f":"IF(Table1[[#This Row],[Wage differential Bonus                            - NotePay Rate you are bonusing to]]>0, Table1[[#This Row],[Wage differential Bonus                            - NotePay Rate you are bonusing to]]-Table1[[#This Row],[Pay Rate]], \"\")","v":""},{"$f":"IF(Table1[[#This Row],[Wage differential Bonus                            - NotePay Rate you are bonusing to]]>0,Table1[[#This Row],[Bonus Rate]]*Table1[[#This Row],[Hours]],\"\")","v":""},null,null,null,null,null,{"$f":"IF(OR(AH1364>0.001,AH1364<-0.001),Table1[[#This Row],[Employee '#]],\" \")","v":" "},false,{"$f":"SUMIF(Table1[[#This Row],[Total Wage Diff bonus]:[Bank Bonus]],\"<> \")","v":0},{"$f":"IF(AA1364>0, Table1[[#This Row],[Column4]], IF(AB1364>0,Table1[[#This Row],[Column4]],IF(X1364>0,\"1000\")))","v":false}]
[null,null,null,null,null,null,null,null,null,null,null,null,null,null,null,null,0,null,null,null,null,null,null,null,{"$f":"IF(Table1[[#This Row],[Wage differential Bonus                            - NotePay Rate you are bonusing to]]>0, Table1[[#This Row],[Wage differential Bonus                            - NotePay Rate you are bonusing to]]-Table1[[#This Row],[Pay Rate]], \"\")","v":""},{"$f":"IF(Table1[[#This Row],[Wage differential Bonus                            - NotePay Rate you are bonusing to]]>0,Table1[[#This Row],[Bonus Rate]]*Table1[[#This Row],[Hours]],\"\")","v":""},null,null,null,null,null,{"$f":"IF(OR(AH1367>0.001,AH1367<-0.001),Table1[[#This Row],[Employee '#]],\" \")","v":" "},false,{"$f":"SUMIF(Table1[[#This Row],[Total Wage Diff bonus]:[Bank Bonus]],\"<> \")","v":0},{"$f":"IF(AA1367>0, Table1[[#This Row],[Column4]], IF(AB1367>0,Table1[[#This Row],[Column4]],IF(X1367>0,\"1000\")))","v":false}]
[null,null,null,null,null,null,null,null,null,null,null,null,null,null,null,null,0,null,null,null,null,null,null,null,{"$f":"IF(Table1[[#This Row],[Wage differential Bonus                            - NotePay Rate you are bonusing to]]>0, Table1[[#This Row],[Wage differential Bonus                            - NotePay Rate you are bonusing to]]-Table1[[#This Row],[Pay Rate]], \"\")","v":""},{"$f":"IF(Table1[[#This Row],[Wage differential Bonus                            - NotePay Rate you are bonusing to]]>0,Table1[[#This Row],[Bonus Rate]]*Table1[[#This Row],[Hours]],\"\")","v":""},null,null,null,null,null,{"$f":"IF(OR(AH1369>0.001,AH1369<-0.001),Table1[[#This Row],[Employee '#]],\" \")","v":" "},false,{"$f":"SUMIF(Table1[[#This Row],[Total Wage Diff bonus]:[Bank Bonus]],\"<> \")","v":0},{"$f":"IF(AA1369>0, Table1[[#This Row],[Column4]], IF(AB1369>0,Table1[[#This Row],[Column4]],IF(X1369>0,\"1000\")))","v":false}]
[null,null,null,null,null,null,null,null,null,null,null,null,null,null,null,null,0,null,null,null,null,null,null,null,{"$f":"IF(Table1[[#This Row],[Wage differential Bonus                            - NotePay Rate you are bonusing to]]>0, Table1[[#This Row],[Wage differential Bonus                            - NotePay Rate you are bonusing to]]-Table1[[#This Row],[Pay Rate]], \"\")","v":""},{"$f":"IF(Table1[[#This Row],[Wage differential Bonus                            - NotePay Rate you are bonusing to]]>0,Table1[[#This Row],[Bonus Rate]]*Table1[[#This Row],[Hours]],\"\")","v":""},null,null,null,null,null,{"$f":"IF(OR(AH1370>0.001,AH1370<-0.001),Table1[[#This Row],[Employee '#]],\" \")","v":" "},false,{"$f":"SUMIF(Table1[[#This Row],[Total Wage Diff bonus]:[Bank Bonus]],\"<> \")","v":0},{"$f":"IF(AA1370>0, Table1[[#This Row],[Column4]], IF(AB1370>0,Table1[[#This Row],[Column4]],IF(X1370>0,\"1000\")))","v":false}]
[null,null,null,null,null,null,null,null,null,null,null,null,null,null,null,null,0,null,null,null,null,null,null,null,{"$f":"IF(Table1[[#This Row],[Wage differential Bonus                            - NotePay Rate you are bonusing to]]>0, Table1[[#This Row],[Wage differential Bonus                            - NotePay Rate you are bonusing to]]-Table1[[#This Row],[Pay Rate]], \"\")","v":""},{"$f":"IF(Table1[[#This Row],[Wage differential Bonus                            - NotePay Rate you are bonusing to]]>0,Table1[[#This Row],[Bonus Rate]]*Table1[[#This Row],[Hours]],\"\")","v":""},null,null,null,null,null,{"$f":"IF(OR(AH1373>0.001,AH1373<-0.001),Table1[[#This Row],[Employee '#]],\" \")","v":" "},false,{"$f":"SUMIF(Table1[[#This Row],[Total Wage Diff bonus]:[Bank Bonus]],\"<> \")","v":0},{"$f":"IF(AA1373>0, Table1[[#This Row],[Column4]], IF(AB1373>0,Table1[[#This Row],[Column4]],IF(X1373>0,\"1000\")))","v":false}]
[null,null,null,null,null,null,null,null,null,null,null,null,null,null,null,null,0,null,null,null,null,null,null,null,{"$f":"IF(Table1[[#This Row],[Wage differential Bonus                            - NotePay Rate you are bonusing to]]>0, Table1[[#This Row],[Wage differential Bonus                            - NotePay Rate you are bonusing to]]-Table1[[#This Row],[Pay Rate]], \"\")","v":""},{"$f":"IF(Table1[[#This Row],[Wage differential Bonus                            - NotePay Rate you are bonusing to]]>0,Table1[[#This Row],[Bonus Rate]]*Table1[[#This Row],[Hours]],\"\")","v":""},null,null,null,null,null,{"$f":"IF(OR(AH1375>0.001,AH1375<-0.001),Table1[[#This Row],[Employee '#]],\" \")","v":" "},false,{"$f":"SUMIF(Table1[[#This Row],[Total Wage Diff bonus]:[Bank Bonus]],\"<> \")","v":0},{"$f":"IF(AA1375>0, Table1[[#This Row],[Column4]], IF(AB1375>0,Table1[[#This Row],[Column4]],IF(X1375>0,\"1000\")))","v":false}]
[null,null,null,null,null,null,null,null,null,null,null,null,null,null,null,null,0,null,null,null,null,null,null,null,{"$f":"IF(Table1[[#This Row],[Wage differential Bonus                            - NotePay Rate you are bonusing to]]>0, Table1[[#This Row],[Wage differential Bonus                            - NotePay Rate you are bonusing to]]-Table1[[#This Row],[Pay Rate]], \"\")","v":""},{"$f":"IF(Table1[[#This Row],[Wage differential Bonus                            - NotePay Rate you are bonusing to]]>0,Table1[[#This Row],[Bonus Rate]]*Table1[[#This Row],[Hours]],\"\")","v":""},null,null,null,null,null,{"$f":"IF(OR(AH1378>0.001,AH1378<-0.001),Table1[[#This Row],[Employee '#]],\" \")","v":" "},false,{"$f":"SUMIF(Table1[[#This Row],[Total Wage Diff bonus]:[Bank Bonus]],\"<> \")","v":0},{"$f":"IF(AA1378>0, Table1[[#This Row],[Column4]], IF(AB1378>0,Table1[[#This Row],[Column4]],IF(X1378>0,\"1000\")))","v":false}]
[null,null,null,null,null,null,null,null,null,null,null,null,null,null,null,null,0,null,null,null,null,null,null,null,{"$f":"IF(Table1[[#This Row],[Wage differential Bonus                            - NotePay Rate you are bonusing to]]>0, Table1[[#This Row],[Wage differential Bonus                            - NotePay Rate you are bonusing to]]-Table1[[#This Row],[Pay Rate]], \"\")","v":""},{"$f":"IF(Table1[[#This Row],[Wage differential Bonus                            - NotePay Rate you are bonusing to]]>0,Table1[[#This Row],[Bonus Rate]]*Table1[[#This Row],[Hours]],\"\")","v":""},null,null,null,null,null,{"$f":"IF(OR(AH1379>0.001,AH1379<-0.001),Table1[[#This Row],[Employee '#]],\" \")","v":" "},false,{"$f":"SUMIF(Table1[[#This Row],[Total Wage Diff bonus]:[Bank Bonus]],\"<> \")","v":0},{"$f":"IF(AA1379>0, Table1[[#This Row],[Column4]], IF(AB1379>0,Table1[[#This Row],[Column4]],IF(X1379>0,\"1000\")))","v":false}]
[null,null,null,null,null,null,null,null,null,null,null,null,null,null,null,null,0,null,null,null,null,null,null,null,{"$f":"IF(Table1[[#This Row],[Wage differential Bonus                            - NotePay Rate you are bonusing to]]>0, Table1[[#This Row],[Wage differential Bonus                            - NotePay Rate you are bonusing to]]-Table1[[#This Row],[Pay Rate]], \"\")","v":""},{"$f":"IF(Table1[[#This Row],[Wage differential Bonus                            - NotePay Rate you are bonusing to]]>0,Table1[[#This Row],[Bonus Rate]]*Table1[[#This Row],[Hours]],\"\")","v":""},null,null,null,null,null,{"$f":"IF(OR(AH1382>0.001,AH1382<-0.001),Table1[[#This Row],[Employee '#]],\" \")","v":" "},false,{"$f":"SUMIF(Table1[[#This Row],[Total Wage Diff bonus]:[Bank Bonus]],\"<> \")","v":0},{"$f":"IF(AA1382>0, Table1[[#This Row],[Column4]], IF(AB1382>0,Table1[[#This Row],[Column4]],IF(X1382>0,\"1000\")))","v":false}]
[null,null,null,null,null,null,null,null,null,null,null,null,null,null,null,null,0,null,null,null,null,null,null,null,{"$f":"IF(Table1[[#This Row],[Wage differential Bonus                            - NotePay Rate you are bonusing to]]>0, Table1[[#This Row],[Wage differential Bonus                            - NotePay Rate you are bonusing to]]-Table1[[#This Row],[Pay Rate]], \"\")","v":""},{"$f":"IF(Table1[[#This Row],[Wage differential Bonus                            - NotePay Rate you are bonusing to]]>0,Table1[[#This Row],[Bonus Rate]]*Table1[[#This Row],[Hours]],\"\")","v":""},null,null,null,null,null,{"$f":"IF(OR(AH1385>0.001,AH1385<-0.001),Table1[[#This Row],[Employee '#]],\" \")","v":" "},false,{"$f":"SUMIF(Table1[[#This Row],[Total Wage Diff bonus]:[Bank Bonus]],\"<> \")","v":0},{"$f":"IF(AA1385>0, Table1[[#This Row],[Column4]], IF(AB1385>0,Table1[[#This Row],[Column4]],IF(X1385>0,\"1000\")))","v":false}]
[null,null,null,null,null,null,null,null,null,null,null,null,null,null,null,null,0,null,null,null,null,null,null,null,{"$f":"IF(Table1[[#This Row],[Wage differential Bonus                            - NotePay Rate you are bonusing to]]>0, Table1[[#This Row],[Wage differential Bonus                            - NotePay Rate you are bonusing to]]-Table1[[#This Row],[Pay Rate]], \"\")","v":""},{"$f":"IF(Table1[[#This Row],[Wage differential Bonus                            - NotePay Rate you are bonusing to]]>0,Table1[[#This Row],[Bonus Rate]]*Table1[[#This Row],[Hours]],\"\")","v":""},null,null,null,null,null,{"$f":"IF(OR(AH1387>0.001,AH1387<-0.001),Table1[[#This Row],[Employee '#]],\" \")","v":" "},false,{"$f":"SUMIF(Table1[[#This Row],[Total Wage Diff bonus]:[Bank Bonus]],\"<> \")","v":0},{"$f":"IF(AA1387>0, Table1[[#This Row],[Column4]], IF(AB1387>0,Table1[[#This Row],[Column4]],IF(X1387>0,\"1000\")))","v":false}]
[null,null,null,null,null,null,null,null,null,null,null,null,null,null,null,null,0,null,null,null,null,null,null,null,{"$f":"IF(Table1[[#This Row],[Wage differential Bonus                            - NotePay Rate you are bonusing to]]>0, Table1[[#This Row],[Wage differential Bonus                            - NotePay Rate you are bonusing to]]-Table1[[#This Row],[Pay Rate]], \"\")","v":""},{"$f":"IF(Table1[[#This Row],[Wage differential Bonus                            - NotePay Rate you are bonusing to]]>0,Table1[[#This Row],[Bonus Rate]]*Table1[[#This Row],[Hours]],\"\")","v":""},null,null,null,null,null,{"$f":"IF(OR(AH1388>0.001,AH1388<-0.001),Table1[[#This Row],[Employee '#]],\" \")","v":" "},false,{"$f":"SUMIF(Table1[[#This Row],[Total Wage Diff bonus]:[Bank Bonus]],\"<> \")","v":0},{"$f":"IF(AA1388>0, Table1[[#This Row],[Column4]], IF(AB1388>0,Table1[[#This Row],[Column4]],IF(X1388>0,\"1000\")))","v":false}]
[null,null,null,null,null,null,null,null,null,null,null,null,null,null,null,null,0,null,null,null,null,null,null,null,{"$f":"IF(Table1[[#This Row],[Wage differential Bonus                            - NotePay Rate you are bonusing to]]>0, Table1[[#This Row],[Wage differential Bonus                            - NotePay Rate you are bonusing to]]-Table1[[#This Row],[Pay Rate]], \"\")","v":""},{"$f":"IF(Table1[[#This Row],[Wage differential Bonus                            - NotePay Rate you are bonusing to]]>0,Table1[[#This Row],[Bonus Rate]]*Table1[[#This Row],[Hours]],\"\")","v":""},null,null,null,null,null,{"$f":"IF(OR(AH1390>0.001,AH1390<-0.001),Table1[[#This Row],[Employee '#]],\" \")","v":" "},false,{"$f":"SUMIF(Table1[[#This Row],[Total Wage Diff bonus]:[Bank Bonus]],\"<> \")","v":0},{"$f":"IF(AA1390>0, Table1[[#This Row],[Column4]], IF(AB1390>0,Table1[[#This Row],[Column4]],IF(X1390>0,\"1000\")))","v":false}]
[null,null,null,null,null,null,null,null,null,null,null,null,null,null,null,null,0,null,null,null,null,null,null,null,{"$f":"IF(Table1[[#This Row],[Wage differential Bonus                            - NotePay Rate you are bonusing to]]>0, Table1[[#This Row],[Wage differential Bonus                            - NotePay Rate you are bonusing to]]-Table1[[#This Row],[Pay Rate]], \"\")","v":""},{"$f":"IF(Table1[[#This Row],[Wage differential Bonus                            - NotePay Rate you are bonusing to]]>0,Table1[[#This Row],[Bonus Rate]]*Table1[[#This Row],[Hours]],\"\")","v":""},null,null,null,null,null,{"$f":"IF(OR(AH1393>0.001,AH1393<-0.001),Table1[[#This Row],[Employee '#]],\" \")","v":" "},false,{"$f":"SUMIF(Table1[[#This Row],[Total Wage Diff bonus]:[Bank Bonus]],\"<> \")","v":0},{"$f":"IF(AA1393>0, Table1[[#This Row],[Column4]], IF(AB1393>0,Table1[[#This Row],[Column4]],IF(X1393>0,\"1000\")))","v":false}]
[null,null,null,null,null,null,null,null,null,null,null,null,null,null,null,null,0,null,null,null,null,null,null,null,{"$f":"IF(Table1[[#This Row],[Wage differential Bonus                            - NotePay Rate you are bonusing to]]>0, Table1[[#This Row],[Wage differential Bonus                            - NotePay Rate you are bonusing to]]-Table1[[#This Row],[Pay Rate]], \"\")","v":""},{"$f":"IF(Table1[[#This Row],[Wage differential Bonus                            - NotePay Rate you are bonusing to]]>0,Table1[[#This Row],[Bonus Rate]]*Table1[[#This Row],[Hours]],\"\")","v":""},null,null,null,null,null,{"$f":"IF(OR(AH1396>0.001,AH1396<-0.001),Table1[[#This Row],[Employee '#]],\" \")","v":" "},false,{"$f":"SUMIF(Table1[[#This Row],[Total Wage Diff bonus]:[Bank Bonus]],\"<> \")","v":0},{"$f":"IF(AA1396>0, Table1[[#This Row],[Column4]], IF(AB1396>0,Table1[[#This Row],[Column4]],IF(X1396>0,\"1000\")))","v":false}]
[null,null,null,null,null,null,null,null,null,null,null,null,null,null,null,null,0,null,null,null,null,null,null,null,{"$f":"IF(Table1[[#This Row],[Wage differential Bonus                            - NotePay Rate you are bonusing to]]>0, Table1[[#This Row],[Wage differential Bonus                            - NotePay Rate you are bonusing to]]-Table1[[#This Row],[Pay Rate]], \"\")","v":""},{"$f":"IF(Table1[[#This Row],[Wage differential Bonus                            - NotePay Rate you are bonusing to]]>0,Table1[[#This Row],[Bonus Rate]]*Table1[[#This Row],[Hours]],\"\")","v":""},null,null,null,null,null,{"$f":"IF(OR(AH1397>0.001,AH1397<-0.001),Table1[[#This Row],[Employee '#]],\" \")","v":" "},false,{"$f":"SUMIF(Table1[[#This Row],[Total Wage Diff bonus]:[Bank Bonus]],\"<> \")","v":0},{"$f":"IF(AA1397>0, Table1[[#This Row],[Column4]], IF(AB1397>0,Table1[[#This Row],[Column4]],IF(X1397>0,\"1000\")))","v":false}]
[null,null,null,null,null,null,null,null,null,null,null,null,null,null,null,null,0,null,null,null,null,null,null,null,{"$f":"IF(Table1[[#This Row],[Wage differential Bonus                            - NotePay Rate you are bonusing to]]>0, Table1[[#This Row],[Wage differential Bonus                            - NotePay Rate you are bonusing to]]-Table1[[#This Row],[Pay Rate]], \"\")","v":""},{"$f":"IF(Table1[[#This Row],[Wage differential Bonus                            - NotePay Rate you are bonusing to]]>0,Table1[[#This Row],[Bonus Rate]]*Table1[[#This Row],[Hours]],\"\")","v":""},null,null,null,null,null,{"$f":"IF(OR(AH1401>0.001,AH1401<-0.001),Table1[[#This Row],[Employee '#]],\" \")","v":" "},false,{"$f":"SUMIF(Table1[[#This Row],[Total Wage Diff bonus]:[Bank Bonus]],\"<> \")","v":0},{"$f":"IF(AA1401>0, Table1[[#This Row],[Column4]], IF(AB1401>0,Table1[[#This Row],[Column4]],IF(X1401>0,\"1000\")))","v":false}]
[null,null,null,null,null,null,null,null,null,null,null,null,null,null,null,null,0,null,null,null,null,null,null,null,{"$f":"IF(Table1[[#This Row],[Wage differential Bonus                            - NotePay Rate you are bonusing to]]>0, Table1[[#This Row],[Wage differential Bonus                            - NotePay Rate you are bonusing to]]-Table1[[#This Row],[Pay Rate]], \"\")","v":""},{"$f":"IF(Table1[[#This Row],[Wage differential Bonus                            - NotePay Rate you are bonusing to]]>0,Table1[[#This Row],[Bonus Rate]]*Table1[[#This Row],[Hours]],\"\")","v":""},null,null,null,null,null,{"$f":"IF(OR(AH1402>0.001,AH1402<-0.001),Table1[[#This Row],[Employee '#]],\" \")","v":" "},false,{"$f":"SUMIF(Table1[[#This Row],[Total Wage Diff bonus]:[Bank Bonus]],\"<> \")","v":0},{"$f":"IF(AA1402>0, Table1[[#This Row],[Column4]], IF(AB1402>0,Table1[[#This Row],[Column4]],IF(X1402>0,\"1000\")))","v":false}]
[null,null,null,null,null,null,null,null,null,null,null,null,null,null,null,null,0,null,null,null,null,null,null,null,{"$f":"IF(Table1[[#This Row],[Wage differential Bonus                            - NotePay Rate you are bonusing to]]>0, Table1[[#This Row],[Wage differential Bonus                            - NotePay Rate you are bonusing to]]-Table1[[#This Row],[Pay Rate]], \"\")","v":""},{"$f":"IF(Table1[[#This Row],[Wage differential Bonus                            - NotePay Rate you are bonusing to]]>0,Table1[[#This Row],[Bonus Rate]]*Table1[[#This Row],[Hours]],\"\")","v":""},null,null,null,null,null,{"$f":"IF(OR(AH1405>0.001,AH1405<-0.001),Table1[[#This Row],[Employee '#]],\" \")","v":" "},false,{"$f":"SUMIF(Table1[[#This Row],[Total Wage Diff bonus]:[Bank Bonus]],\"<> \")","v":0},{"$f":"IF(AA1405>0, Table1[[#This Row],[Column4]], IF(AB1405>0,Table1[[#This Row],[Column4]],IF(X1405>0,\"1000\")))","v":false}]
[null,null,null,null,null,null,null,null,null,null,null,null,null,null,null,null,0,null,null,null,null,null,null,null,{"$f":"IF(Table1[[#This Row],[Wage differential Bonus                            - NotePay Rate you are bonusing to]]>0, Table1[[#This Row],[Wage differential Bonus                            - NotePay Rate you are bonusing to]]-Table1[[#This Row],[Pay Rate]], \"\")","v":""},{"$f":"IF(Table1[[#This Row],[Wage differential Bonus                            - NotePay Rate you are bonusing to]]>0,Table1[[#This Row],[Bonus Rate]]*Table1[[#This Row],[Hours]],\"\")","v":""},null,null,null,null,null,{"$f":"IF(OR(AH1406>0.001,AH1406<-0.001),Table1[[#This Row],[Employee '#]],\" \")","v":" "},false,{"$f":"SUMIF(Table1[[#This Row],[Total Wage Diff bonus]:[Bank Bonus]],\"<> \")","v":0},{"$f":"IF(AA1406>0, Table1[[#This Row],[Column4]], IF(AB1406>0,Table1[[#This Row],[Column4]],IF(X1406>0,\"1000\")))","v":false}]
[null,null,null,null,null,null,null,null,null,null,null,null,null,null,null,null,0,null,null,null,null,null,null,null,{"$f":"IF(Table1[[#This Row],[Wage differential Bonus                            - NotePay Rate you are bonusing to]]>0, Table1[[#This Row],[Wage differential Bonus                            - NotePay Rate you are bonusing to]]-Table1[[#This Row],[Pay Rate]], \"\")","v":""},{"$f":"IF(Table1[[#This Row],[Wage differential Bonus                            - NotePay Rate you are bonusing to]]>0,Table1[[#This Row],[Bonus Rate]]*Table1[[#This Row],[Hours]],\"\")","v":""},null,null,null,null,null,{"$f":"IF(OR(AH1408>0.001,AH1408<-0.001),Table1[[#This Row],[Employee '#]],\" \")","v":" "},false,{"$f":"SUMIF(Table1[[#This Row],[Total Wage Diff bonus]:[Bank Bonus]],\"<> \")","v":0},{"$f":"IF(AA1408>0, Table1[[#This Row],[Column4]], IF(AB1408>0,Table1[[#This Row],[Column4]],IF(X1408>0,\"1000\")))","v":false}]
[null,null,null,null,null,null,null,null,null,null,null,null,null,null,null,null,0,null,null,null,null,null,null,null,{"$f":"IF(Table1[[#This Row],[Wage differential Bonus                            - NotePay Rate you are bonusing to]]>0, Table1[[#This Row],[Wage differential Bonus                            - NotePay Rate you are bonusing to]]-Table1[[#This Row],[Pay Rate]], \"\")","v":""},{"$f":"IF(Table1[[#This Row],[Wage differential Bonus                            - NotePay Rate you are bonusing to]]>0,Table1[[#This Row],[Bonus Rate]]*Table1[[#This Row],[Hours]],\"\")","v":""},null,null,null,null,null,{"$f":"IF(OR(AH1411>0.001,AH1411<-0.001),Table1[[#This Row],[Employee '#]],\" \")","v":" "},false,{"$f":"SUMIF(Table1[[#This Row],[Total Wage Diff bonus]:[Bank Bonus]],\"<> \")","v":0},{"$f":"IF(AA1411>0, Table1[[#This Row],[Column4]], IF(AB1411>0,Table1[[#This Row],[Column4]],IF(X1411>0,\"1000\")))","v":false}]
[null,null,null,null,null,null,null,null,null,null,null,null,null,null,null,null,0,null,null,null,null,null,null,null,{"$f":"IF(Table1[[#This Row],[Wage differential Bonus                            - NotePay Rate you are bonusing to]]>0, Table1[[#This Row],[Wage differential Bonus                            - NotePay Rate you are bonusing to]]-Table1[[#This Row],[Pay Rate]], \"\")","v":""},{"$f":"IF(Table1[[#This Row],[Wage differential Bonus                            - NotePay Rate you are bonusing to]]>0,Table1[[#This Row],[Bonus Rate]]*Table1[[#This Row],[Hours]],\"\")","v":""},null,null,null,null,null,{"$f":"IF(OR(AH1414>0.001,AH1414<-0.001),Table1[[#This Row],[Employee '#]],\" \")","v":" "},false,{"$f":"SUMIF(Table1[[#This Row],[Total Wage Diff bonus]:[Bank Bonus]],\"<> \")","v":0},{"$f":"IF(AA1414>0, Table1[[#This Row],[Column4]], IF(AB1414>0,Table1[[#This Row],[Column4]],IF(X1414>0,\"1000\")))","v":false}]
[null,null,null,null,null,null,null,null,null,null,null,null,null,null,null,null,0,null,null,null,null,null,null,null,{"$f":"IF(Table1[[#This Row],[Wage differential Bonus                            - NotePay Rate you are bonusing to]]>0, Table1[[#This Row],[Wage differential Bonus                            - NotePay Rate you are bonusing to]]-Table1[[#This Row],[Pay Rate]], \"\")","v":""},{"$f":"IF(Table1[[#This Row],[Wage differential Bonus                            - NotePay Rate you are bonusing to]]>0,Table1[[#This Row],[Bonus Rate]]*Table1[[#This Row],[Hours]],\"\")","v":""},null,null,null,null,null,{"$f":"IF(OR(AH1415>0.001,AH1415<-0.001),Table1[[#This Row],[Employee '#]],\" \")","v":" "},false,{"$f":"SUMIF(Table1[[#This Row],[Total Wage Diff bonus]:[Bank Bonus]],\"<> \")","v":0},{"$f":"IF(AA1415>0, Table1[[#This Row],[Column4]], IF(AB1415>0,Table1[[#This Row],[Column4]],IF(X1415>0,\"1000\")))","v":false}]
[null,null,null,null,null,null,null,null,null,null,null,null,null,null,null,null,0,null,null,null,null,null,null,null,{"$f":"IF(Table1[[#This Row],[Wage differential Bonus                            - NotePay Rate you are bonusing to]]>0, Table1[[#This Row],[Wage differential Bonus                            - NotePay Rate you are bonusing to]]-Table1[[#This Row],[Pay Rate]], \"\")","v":""},{"$f":"IF(Table1[[#This Row],[Wage differential Bonus                            - NotePay Rate you are bonusing to]]>0,Table1[[#This Row],[Bonus Rate]]*Table1[[#This Row],[Hours]],\"\")","v":""},null,null,null,null,null,{"$f":"IF(OR(AH1419>0.001,AH1419<-0.001),Table1[[#This Row],[Employee '#]],\" \")","v":" "},false,{"$f":"SUMIF(Table1[[#This Row],[Total Wage Diff bonus]:[Bank Bonus]],\"<> \")","v":0},{"$f":"IF(AA1419>0, Table1[[#This Row],[Column4]], IF(AB1419>0,Table1[[#This Row],[Column4]],IF(X1419>0,\"1000\")))","v":false}]
[null,null,null,null,null,null,null,null,null,null,null,null,null,null,null,null,0,null,null,null,null,null,null,null,{"$f":"IF(Table1[[#This Row],[Wage differential Bonus                            - NotePay Rate you are bonusing to]]>0, Table1[[#This Row],[Wage differential Bonus                            - NotePay Rate you are bonusing to]]-Table1[[#This Row],[Pay Rate]], \"\")","v":""},{"$f":"IF(Table1[[#This Row],[Wage differential Bonus                            - NotePay Rate you are bonusing to]]>0,Table1[[#This Row],[Bonus Rate]]*Table1[[#This Row],[Hours]],\"\")","v":""},null,null,null,null,null,{"$f":"IF(OR(AH1420>0.001,AH1420<-0.001),Table1[[#This Row],[Employee '#]],\" \")","v":" "},false,{"$f":"SUMIF(Table1[[#This Row],[Total Wage Diff bonus]:[Bank Bonus]],\"<> \")","v":0},{"$f":"IF(AA1420>0, Table1[[#This Row],[Column4]], IF(AB1420>0,Table1[[#This Row],[Column4]],IF(X1420>0,\"1000\")))","v":false}]
[null,null,null,null,null,null,null,null,null,null,null,null,null,null,null,null,0,null,null,null,null,null,null,null,{"$f":"IF(Table1[[#This Row],[Wage differential Bonus                            - NotePay Rate you are bonusing to]]>0, Table1[[#This Row],[Wage differential Bonus                            - NotePay Rate you are bonusing to]]-Table1[[#This Row],[Pay Rate]], \"\")","v":""},{"$f":"IF(Table1[[#This Row],[Wage differential Bonus                            - NotePay Rate you are bonusing to]]>0,Table1[[#This Row],[Bonus Rate]]*Table1[[#This Row],[Hours]],\"\")","v":""},null,null,null,null,null,{"$f":"IF(OR(AH1423>0.001,AH1423<-0.001),Table1[[#This Row],[Employee '#]],\" \")","v":" "},false,{"$f":"SUMIF(Table1[[#This Row],[Total Wage Diff bonus]:[Bank Bonus]],\"<> \")","v":0},{"$f":"IF(AA1423>0, Table1[[#This Row],[Column4]], IF(AB1423>0,Table1[[#This Row],[Column4]],IF(X1423>0,\"1000\")))","v":false}]
[null,null,null,null,null,null,null,null,null,null,null,null,null,null,null,null,0,null,null,null,null,null,null,null,{"$f":"IF(Table1[[#This Row],[Wage differential Bonus                            - NotePay Rate you are bonusing to]]>0, Table1[[#This Row],[Wage differential Bonus                            - NotePay Rate you are bonusing to]]-Table1[[#This Row],[Pay Rate]], \"\")","v":""},{"$f":"IF(Table1[[#This Row],[Wage differential Bonus                            - NotePay Rate you are bonusing to]]>0,Table1[[#This Row],[Bonus Rate]]*Table1[[#This Row],[Hours]],\"\")","v":""},null,null,null,null,null,{"$f":"IF(OR(AH1424>0.001,AH1424<-0.001),Table1[[#This Row],[Employee '#]],\" \")","v":" "},false,{"$f":"SUMIF(Table1[[#This Row],[Total Wage Diff bonus]:[Bank Bonus]],\"<> \")","v":0},{"$f":"IF(AA1424>0, Table1[[#This Row],[Column4]], IF(AB1424>0,Table1[[#This Row],[Column4]],IF(X1424>0,\"1000\")))","v":false}]
[null,null,null,null,null,null,null,null,null,null,null,null,null,null,null,null,0,null,null,null,null,null,null,null,{"$f":"IF(Table1[[#This Row],[Wage differential Bonus                            - NotePay Rate you are bonusing to]]>0, Table1[[#This Row],[Wage differential Bonus                            - NotePay Rate you are bonusing to]]-Table1[[#This Row],[Pay Rate]], \"\")","v":""},{"$f":"IF(Table1[[#This Row],[Wage differential Bonus                            - NotePay Rate you are bonusing to]]>0,Table1[[#This Row],[Bonus Rate]]*Table1[[#This Row],[Hours]],\"\")","v":""},null,null,null,null,null,{"$f":"IF(OR(AH1428>0.001,AH1428<-0.001),Table1[[#This Row],[Employee '#]],\" \")","v":" "},false,{"$f":"SUMIF(Table1[[#This Row],[Total Wage Diff bonus]:[Bank Bonus]],\"<> \")","v":0},{"$f":"IF(AA1428>0, Table1[[#This Row],[Column4]], IF(AB1428>0,Table1[[#This Row],[Column4]],IF(X1428>0,\"1000\")))","v":false}]
[null,null,null,null,null,null,null,null,null,null,null,null,null,null,null,null,0,null,null,null,null,null,null,null,{"$f":"IF(Table1[[#This Row],[Wage differential Bonus                            - NotePay Rate you are bonusing to]]>0, Table1[[#This Row],[Wage differential Bonus                            - NotePay Rate you are bonusing to]]-Table1[[#This Row],[Pay Rate]], \"\")","v":""},{"$f":"IF(Table1[[#This Row],[Wage differential Bonus                            - NotePay Rate you are bonusing to]]>0,Table1[[#This Row],[Bonus Rate]]*Table1[[#This Row],[Hours]],\"\")","v":""},null,null,null,null,null,{"$f":"IF(OR(AH1429>0.001,AH1429<-0.001),Table1[[#This Row],[Employee '#]],\" \")","v":" "},false,{"$f":"SUMIF(Table1[[#This Row],[Total Wage Diff bonus]:[Bank Bonus]],\"<> \")","v":0},{"$f":"IF(AA1429>0, Table1[[#This Row],[Column4]], IF(AB1429>0,Table1[[#This Row],[Column4]],IF(X1429>0,\"1000\")))","v":false}]
[null,null,null,null,null,null,null,null,null,null,null,null,null,null,null,null,0,null,null,null,null,null,null,null,{"$f":"IF(Table1[[#This Row],[Wage differential Bonus                            - NotePay Rate you are bonusing to]]>0, Table1[[#This Row],[Wage differential Bonus                            - NotePay Rate you are bonusing to]]-Table1[[#This Row],[Pay Rate]], \"\")","v":""},{"$f":"IF(Table1[[#This Row],[Wage differential Bonus                            - NotePay Rate you are bonusing to]]>0,Table1[[#This Row],[Bonus Rate]]*Table1[[#This Row],[Hours]],\"\")","v":""},null,null,null,null,null,{"$f":"IF(OR(AH1432>0.001,AH1432<-0.001),Table1[[#This Row],[Employee '#]],\" \")","v":" "},false,{"$f":"SUMIF(Table1[[#This Row],[Total Wage Diff bonus]:[Bank Bonus]],\"<> \")","v":0},{"$f":"IF(AA1432>0, Table1[[#This Row],[Column4]], IF(AB1432>0,Table1[[#This Row],[Column4]],IF(X1432>0,\"1000\")))","v":false}]
[null,null,null,null,null,null,null,null,null,null,null,null,null,null,null,null,0,null,null,null,null,null,null,null,{"$f":"IF(Table1[[#This Row],[Wage differential Bonus                            - NotePay Rate you are bonusing to]]>0, Table1[[#This Row],[Wage differential Bonus                            - NotePay Rate you are bonusing to]]-Table1[[#This Row],[Pay Rate]], \"\")","v":""},{"$f":"IF(Table1[[#This Row],[Wage differential Bonus                            - NotePay Rate you are bonusing to]]>0,Table1[[#This Row],[Bonus Rate]]*Table1[[#This Row],[Hours]],\"\")","v":""},null,null,null,null,null,{"$f":"IF(OR(AH1434>0.001,AH1434<-0.001),Table1[[#This Row],[Employee '#]],\" \")","v":" "},false,{"$f":"SUMIF(Table1[[#This Row],[Total Wage Diff bonus]:[Bank Bonus]],\"<> \")","v":0},{"$f":"IF(AA1434>0, Table1[[#This Row],[Column4]], IF(AB1434>0,Table1[[#This Row],[Column4]],IF(X1434>0,\"1000\")))","v":false}]
[null,null,null,null,null,null,null,null,null,null,null,null,null,null,null,null,0,null,null,null,null,null,null,null,{"$f":"IF(Table1[[#This Row],[Wage differential Bonus                            - NotePay Rate you are bonusing to]]>0, Table1[[#This Row],[Wage differential Bonus                            - NotePay Rate you are bonusing to]]-Table1[[#This Row],[Pay Rate]], \"\")","v":""},{"$f":"IF(Table1[[#This Row],[Wage differential Bonus                            - NotePay Rate you are bonusing to]]>0,Table1[[#This Row],[Bonus Rate]]*Table1[[#This Row],[Hours]],\"\")","v":""},null,null,null,null,null,{"$f":"IF(OR(AH1437>0.001,AH1437<-0.001),Table1[[#This Row],[Employee '#]],\" \")","v":" "},false,{"$f":"SUMIF(Table1[[#This Row],[Total Wage Diff bonus]:[Bank Bonus]],\"<> \")","v":0},{"$f":"IF(AA1437>0, Table1[[#This Row],[Column4]], IF(AB1437>0,Table1[[#This Row],[Column4]],IF(X1437>0,\"1000\")))","v":false}]
[null,null,null,null,null,null,null,null,null,null,null,null,null,null,null,null,0,null,null,null,null,null,null,null,{"$f":"IF(Table1[[#This Row],[Wage differential Bonus                            - NotePay Rate you are bonusing to]]>0, Table1[[#This Row],[Wage differential Bonus                            - NotePay Rate you are bonusing to]]-Table1[[#This Row],[Pay Rate]], \"\")","v":""},{"$f":"IF(Table1[[#This Row],[Wage differential Bonus                            - NotePay Rate you are bonusing to]]>0,Table1[[#This Row],[Bonus Rate]]*Table1[[#This Row],[Hours]],\"\")","v":""},null,null,null,null,null,{"$f":"IF(OR(AH1438>0.001,AH1438<-0.001),Table1[[#This Row],[Employee '#]],\" \")","v":" "},false,{"$f":"SUMIF(Table1[[#This Row],[Total Wage Diff bonus]:[Bank Bonus]],\"<> \")","v":0},{"$f":"IF(AA1438>0, Table1[[#This Row],[Column4]], IF(AB1438>0,Table1[[#This Row],[Column4]],IF(X1438>0,\"1000\")))","v":false}]
[null,null,null,null,null,null,null,null,null,null,null,null,null,null,null,null,0,null,null,null,null,null,null,null,{"$f":"IF(Table1[[#This Row],[Wage differential Bonus                            - NotePay Rate you are bonusing to]]>0, Table1[[#This Row],[Wage differential Bonus                            - NotePay Rate you are bonusing to]]-Table1[[#This Row],[Pay Rate]], \"\")","v":""},{"$f":"IF(Table1[[#This Row],[Wage differential Bonus                            - NotePay Rate you are bonusing to]]>0,Table1[[#This Row],[Bonus Rate]]*Table1[[#This Row],[Hours]],\"\")","v":""},null,null,null,null,null,{"$f":"IF(OR(AH1441>0.001,AH1441<-0.001),Table1[[#This Row],[Employee '#]],\" \")","v":" "},false,{"$f":"SUMIF(Table1[[#This Row],[Total Wage Diff bonus]:[Bank Bonus]],\"<> \")","v":0},{"$f":"IF(AA1441>0, Table1[[#This Row],[Column4]], IF(AB1441>0,Table1[[#This Row],[Column4]],IF(X1441>0,\"1000\")))","v":false}]
[null,null,null,null,null,null,null,null,null,null,null,null,null,null,null,null,0,null,null,null,null,null,null,null,{"$f":"IF(Table1[[#This Row],[Wage differential Bonus                            - NotePay Rate you are bonusing to]]>0, Table1[[#This Row],[Wage differential Bonus                            - NotePay Rate you are bonusing to]]-Table1[[#This Row],[Pay Rate]], \"\")","v":""},{"$f":"IF(Table1[[#This Row],[Wage differential Bonus                            - NotePay Rate you are bonusing to]]>0,Table1[[#This Row],[Bonus Rate]]*Table1[[#This Row],[Hours]],\"\")","v":""},null,null,null,null,null,{"$f":"IF(OR(AH1442>0.001,AH1442<-0.001),Table1[[#This Row],[Employee '#]],\" \")","v":" "},false,{"$f":"SUMIF(Table1[[#This Row],[Total Wage Diff bonus]:[Bank Bonus]],\"<> \")","v":0},{"$f":"IF(AA1442>0, Table1[[#This Row],[Column4]], IF(AB1442>0,Table1[[#This Row],[Column4]],IF(X1442>0,\"1000\")))","v":false}]
[null,null,null,null,null,null,null,null,null,null,null,null,null,null,null,null,0,null,null,null,null,null,null,null,{"$f":"IF(Table1[[#This Row],[Wage differential Bonus                            - NotePay Rate you are bonusing to]]>0, Table1[[#This Row],[Wage differential Bonus                            - NotePay Rate you are bonusing to]]-Table1[[#This Row],[Pay Rate]], \"\")","v":""},{"$f":"IF(Table1[[#This Row],[Wage differential Bonus                            - NotePay Rate you are bonusing to]]>0,Table1[[#This Row],[Bonus Rate]]*Table1[[#This Row],[Hours]],\"\")","v":""},null,null,null,null,null,{"$f":"IF(OR(AH1446>0.001,AH1446<-0.001),Table1[[#This Row],[Employee '#]],\" \")","v":" "},false,{"$f":"SUMIF(Table1[[#This Row],[Total Wage Diff bonus]:[Bank Bonus]],\"<> \")","v":0},{"$f":"IF(AA1446>0, Table1[[#This Row],[Column4]], IF(AB1446>0,Table1[[#This Row],[Column4]],IF(X1446>0,\"1000\")))","v":false}]
[null,null,null,null,null,null,null,null,null,null,null,null,null,null,null,null,0,null,null,null,null,null,null,null,{"$f":"IF(Table1[[#This Row],[Wage differential Bonus                            - NotePay Rate you are bonusing to]]>0, Table1[[#This Row],[Wage differential Bonus                            - NotePay Rate you are bonusing to]]-Table1[[#This Row],[Pay Rate]], \"\")","v":""},{"$f":"IF(Table1[[#This Row],[Wage differential Bonus                            - NotePay Rate you are bonusing to]]>0,Table1[[#This Row],[Bonus Rate]]*Table1[[#This Row],[Hours]],\"\")","v":""},null,null,null,null,null,{"$f":"IF(OR(AH1447>0.001,AH1447<-0.001),Table1[[#This Row],[Employee '#]],\" \")","v":" "},false,{"$f":"SUMIF(Table1[[#This Row],[Total Wage Diff bonus]:[Bank Bonus]],\"<> \")","v":0},{"$f":"IF(AA1447>0, Table1[[#This Row],[Column4]], IF(AB1447>0,Table1[[#This Row],[Column4]],IF(X1447>0,\"1000\")))","v":false}]
[null,null,null,null,null,null,null,null,null,null,null,null,null,null,null,null,0,null,null,null,null,null,null,null,{"$f":"IF(Table1[[#This Row],[Wage differential Bonus                            - NotePay Rate you are bonusing to]]>0, Table1[[#This Row],[Wage differential Bonus                            - NotePay Rate you are bonusing to]]-Table1[[#This Row],[Pay Rate]], \"\")","v":""},{"$f":"IF(Table1[[#This Row],[Wage differential Bonus                            - NotePay Rate you are bonusing to]]>0,Table1[[#This Row],[Bonus Rate]]*Table1[[#This Row],[Hours]],\"\")","v":""},null,null,null,null,null,{"$f":"IF(OR(AH1450>0.001,AH1450<-0.001),Table1[[#This Row],[Employee '#]],\" \")","v":" "},false,{"$f":"SUMIF(Table1[[#This Row],[Total Wage Diff bonus]:[Bank Bonus]],\"<> \")","v":0},{"$f":"IF(AA1450>0, Table1[[#This Row],[Column4]], IF(AB1450>0,Table1[[#This Row],[Column4]],IF(X1450>0,\"1000\")))","v":false}]
[null,null,null,null,null,null,null,null,null,null,null,null,null,null,null,null,0,null,null,null,null,null,null,null,{"$f":"IF(Table1[[#This Row],[Wage differential Bonus                            - NotePay Rate you are bonusing to]]>0, Table1[[#This Row],[Wage differential Bonus                            - NotePay Rate you are bonusing to]]-Table1[[#This Row],[Pay Rate]], \"\")","v":""},{"$f":"IF(Table1[[#This Row],[Wage differential Bonus                            - NotePay Rate you are bonusing to]]>0,Table1[[#This Row],[Bonus Rate]]*Table1[[#This Row],[Hours]],\"\")","v":""},null,null,null,null,null,{"$f":"IF(OR(AH1453>0.001,AH1453<-0.001),Table1[[#This Row],[Employee '#]],\" \")","v":" "},false,{"$f":"SUMIF(Table1[[#This Row],[Total Wage Diff bonus]:[Bank Bonus]],\"<> \")","v":0},{"$f":"IF(AA1453>0, Table1[[#This Row],[Column4]], IF(AB1453>0,Table1[[#This Row],[Column4]],IF(X1453>0,\"1000\")))","v":false}]
[null,null,null,null,null,null,null,null,null,null,null,null,null,null,null,null,0,null,null,null,null,null,null,null,{"$f":"IF(Table1[[#This Row],[Wage differential Bonus                            - NotePay Rate you are bonusing to]]>0, Table1[[#This Row],[Wage differential Bonus                            - NotePay Rate you are bonusing to]]-Table1[[#This Row],[Pay Rate]], \"\")","v":""},{"$f":"IF(Table1[[#This Row],[Wage differential Bonus                            - NotePay Rate you are bonusing to]]>0,Table1[[#This Row],[Bonus Rate]]*Table1[[#This Row],[Hours]],\"\")","v":""},null,null,null,null,null,{"$f":"IF(OR(AH1455>0.001,AH1455<-0.001),Table1[[#This Row],[Employee '#]],\" \")","v":" "},false,{"$f":"SUMIF(Table1[[#This Row],[Total Wage Diff bonus]:[Bank Bonus]],\"<> \")","v":0},{"$f":"IF(AA1455>0, Table1[[#This Row],[Column4]], IF(AB1455>0,Table1[[#This Row],[Column4]],IF(X1455>0,\"1000\")))","v":false}]
[null,null,null,null,null,null,null,null,null,null,null,null,null,null,null,null,0,null,null,null,null,null,null,null,{"$f":"IF(Table1[[#This Row],[Wage differential Bonus                            - NotePay Rate you are bonusing to]]>0, Table1[[#This Row],[Wage differential Bonus                            - NotePay Rate you are bonusing to]]-Table1[[#This Row],[Pay Rate]], \"\")","v":""},{"$f":"IF(Table1[[#This Row],[Wage differential Bonus                            - NotePay Rate you are bonusing to]]>0,Table1[[#This Row],[Bonus Rate]]*Table1[[#This Row],[Hours]],\"\")","v":""},null,null,null,null,null,{"$f":"IF(OR(AH1456>0.001,AH1456<-0.001),Table1[[#This Row],[Employee '#]],\" \")","v":" "},false,{"$f":"SUMIF(Table1[[#This Row],[Total Wage Diff bonus]:[Bank Bonus]],\"<> \")","v":0},{"$f":"IF(AA1456>0, Table1[[#This Row],[Column4]], IF(AB1456>0,Table1[[#This Row],[Column4]],IF(X1456>0,\"1000\")))","v":false}]
[null,null,null,null,null,null,null,null,null,null,null,null,null,null,null,null,0,null,null,null,null,null,null,null,{"$f":"IF(Table1[[#This Row],[Wage differential Bonus                            - NotePay Rate you are bonusing to]]>0, Table1[[#This Row],[Wage differential Bonus                            - NotePay Rate you are bonusing to]]-Table1[[#This Row],[Pay Rate]], \"\")","v":""},{"$f":"IF(Table1[[#This Row],[Wage differential Bonus                            - NotePay Rate you are bonusing to]]>0,Table1[[#This Row],[Bonus Rate]]*Table1[[#This Row],[Hours]],\"\")","v":""},null,null,null,null,null,{"$f":"IF(OR(AH1459>0.001,AH1459<-0.001),Table1[[#This Row],[Employee '#]],\" \")","v":" "},false,{"$f":"SUMIF(Table1[[#This Row],[Total Wage Diff bonus]:[Bank Bonus]],\"<> \")","v":0},{"$f":"IF(AA1459>0, Table1[[#This Row],[Column4]], IF(AB1459>0,Table1[[#This Row],[Column4]],IF(X1459>0,\"1000\")))","v":false}]
[null,null,null,null,null,null,null,null,null,null,null,null,null,null,null,null,0,null,null,null,null,null,null,null,{"$f":"IF(Table1[[#This Row],[Wage differential Bonus                            - NotePay Rate you are bonusing to]]>0, Table1[[#This Row],[Wage differential Bonus                            - NotePay Rate you are bonusing to]]-Table1[[#This Row],[Pay Rate]], \"\")","v":""},{"$f":"IF(Table1[[#This Row],[Wage differential Bonus                            - NotePay Rate you are bonusing to]]>0,Table1[[#This Row],[Bonus Rate]]*Table1[[#This Row],[Hours]],\"\")","v":""},null,null,null,null,null,{"$f":"IF(OR(AH1460>0.001,AH1460<-0.001),Table1[[#This Row],[Employee '#]],\" \")","v":" "},false,{"$f":"SUMIF(Table1[[#This Row],[Total Wage Diff bonus]:[Bank Bonus]],\"<> \")","v":0},{"$f":"IF(AA1460>0, Table1[[#This Row],[Column4]], IF(AB1460>0,Table1[[#This Row],[Column4]],IF(X1460>0,\"1000\")))","v":false}]
[null,null,null,null,null,null,null,null,null,null,null,null,null,null,null,null,0,null,null,null,null,null,null,null,{"$f":"IF(Table1[[#This Row],[Wage differential Bonus                            - NotePay Rate you are bonusing to]]>0, Table1[[#This Row],[Wage differential Bonus                            - NotePay Rate you are bonusing to]]-Table1[[#This Row],[Pay Rate]], \"\")","v":""},{"$f":"IF(Table1[[#This Row],[Wage differential Bonus                            - NotePay Rate you are bonusing to]]>0,Table1[[#This Row],[Bonus Rate]]*Table1[[#This Row],[Hours]],\"\")","v":""},null,null,null,null,null,{"$f":"IF(OR(AH1464>0.001,AH1464<-0.001),Table1[[#This Row],[Employee '#]],\" \")","v":" "},false,{"$f":"SUMIF(Table1[[#This Row],[Total Wage Diff bonus]:[Bank Bonus]],\"<> \")","v":0},{"$f":"IF(AA1464>0, Table1[[#This Row],[Column4]], IF(AB1464>0,Table1[[#This Row],[Column4]],IF(X1464>0,\"1000\")))","v":false}]
[null,null,null,null,null,null,null,null,null,null,null,null,null,null,null,null,0,null,null,null,null,null,null,null,{"$f":"IF(Table1[[#This Row],[Wage differential Bonus                            - NotePay Rate you are bonusing to]]>0, Table1[[#This Row],[Wage differential Bonus                            - NotePay Rate you are bonusing to]]-Table1[[#This Row],[Pay Rate]], \"\")","v":""},{"$f":"IF(Table1[[#This Row],[Wage differential Bonus                            - NotePay Rate you are bonusing to]]>0,Table1[[#This Row],[Bonus Rate]]*Table1[[#This Row],[Hours]],\"\")","v":""},null,null,null,null,null,{"$f":"IF(OR(AH1465>0.001,AH1465<-0.001),Table1[[#This Row],[Employee '#]],\" \")","v":" "},false,{"$f":"SUMIF(Table1[[#This Row],[Total Wage Diff bonus]:[Bank Bonus]],\"<> \")","v":0},{"$f":"IF(AA1465>0, Table1[[#This Row],[Column4]], IF(AB1465>0,Table1[[#This Row],[Column4]],IF(X1465>0,\"1000\")))","v":false}]
[null,null,null,null,null,null,null,null,null,null,null,null,null,null,null,null,0,null,null,null,null,null,null,null,{"$f":"IF(Table1[[#This Row],[Wage differential Bonus                            - NotePay Rate you are bonusing to]]>0, Table1[[#This Row],[Wage differential Bonus                            - NotePay Rate you are bonusing to]]-Table1[[#This Row],[Pay Rate]], \"\")","v":""},{"$f":"IF(Table1[[#This Row],[Wage differential Bonus                            - NotePay Rate you are bonusing to]]>0,Table1[[#This Row],[Bonus Rate]]*Table1[[#This Row],[Hours]],\"\")","v":""},null,null,null,null,null,{"$f":"IF(OR(AH1468>0.001,AH1468<-0.001),Table1[[#This Row],[Employee '#]],\" \")","v":" "},false,{"$f":"SUMIF(Table1[[#This Row],[Total Wage Diff bonus]:[Bank Bonus]],\"<> \")","v":0},{"$f":"IF(AA1468>0, Table1[[#This Row],[Column4]], IF(AB1468>0,Table1[[#This Row],[Column4]],IF(X1468>0,\"1000\")))","v":false}]
[null,null,null,null,null,null,null,null,null,null,null,null,null,null,null,null,0,null,null,null,null,null,null,null,{"$f":"IF(Table1[[#This Row],[Wage differential Bonus                            - NotePay Rate you are bonusing to]]>0, Table1[[#This Row],[Wage differential Bonus                            - NotePay Rate you are bonusing to]]-Table1[[#This Row],[Pay Rate]], \"\")","v":""},{"$f":"IF(Table1[[#This Row],[Wage differential Bonus                            - NotePay Rate you are bonusing to]]>0,Table1[[#This Row],[Bonus Rate]]*Table1[[#This Row],[Hours]],\"\")","v":""},null,null,null,null,null,{"$f":"IF(OR(AH1470>0.001,AH1470<-0.001),Table1[[#This Row],[Employee '#]],\" \")","v":" "},false,{"$f":"SUMIF(Table1[[#This Row],[Total Wage Diff bonus]:[Bank Bonus]],\"<> \")","v":0},{"$f":"IF(AA1470>0, Table1[[#This Row],[Column4]], IF(AB1470>0,Table1[[#This Row],[Column4]],IF(X1470>0,\"1000\")))","v":false}]
[null,null,null,null,null,null,null,null,null,null,null,null,null,null,null,null,0,null,null,null,null,null,null,null,{"$f":"IF(Table1[[#This Row],[Wage differential Bonus                            - NotePay Rate you are bonusing to]]>0, Table1[[#This Row],[Wage differential Bonus                            - NotePay Rate you are bonusing to]]-Table1[[#This Row],[Pay Rate]], \"\")","v":""},{"$f":"IF(Table1[[#This Row],[Wage differential Bonus                            - NotePay Rate you are bonusing to]]>0,Table1[[#This Row],[Bonus Rate]]*Table1[[#This Row],[Hours]],\"\")","v":""},null,null,null,null,null,{"$f":"IF(OR(AH1473>0.001,AH1473<-0.001),Table1[[#This Row],[Employee '#]],\" \")","v":" "},false,{"$f":"SUMIF(Table1[[#This Row],[Total Wage Diff bonus]:[Bank Bonus]],\"<> \")","v":0},{"$f":"IF(AA1473>0, Table1[[#This Row],[Column4]], IF(AB1473>0,Table1[[#This Row],[Column4]],IF(X1473>0,\"1000\")))","v":false}]
[null,null,null,null,null,null,null,null,null,null,null,null,null,null,null,null,0,null,null,null,null,null,null,null,{"$f":"IF(Table1[[#This Row],[Wage differential Bonus                            - NotePay Rate you are bonusing to]]>0, Table1[[#This Row],[Wage differential Bonus                            - NotePay Rate you are bonusing to]]-Table1[[#This Row],[Pay Rate]], \"\")","v":""},{"$f":"IF(Table1[[#This Row],[Wage differential Bonus                            - NotePay Rate you are bonusing to]]>0,Table1[[#This Row],[Bonus Rate]]*Table1[[#This Row],[Hours]],\"\")","v":""},null,null,null,null,null,{"$f":"IF(OR(AH1474>0.001,AH1474<-0.001),Table1[[#This Row],[Employee '#]],\" \")","v":" "},false,{"$f":"SUMIF(Table1[[#This Row],[Total Wage Diff bonus]:[Bank Bonus]],\"<> \")","v":0},{"$f":"IF(AA1474>0, Table1[[#This Row],[Column4]], IF(AB1474>0,Table1[[#This Row],[Column4]],IF(X1474>0,\"1000\")))","v":false}]
[null,null,null,null,null,null,null,null,null,null,null,null,null,null,null,null,{"$f":"L1476+P1476","v":0},null,null,null,null,null,null,null,{"$f":"IF(Table1[[#This Row],[Wage differential Bonus                            - NotePay Rate you are bonusing to]]>0, Table1[[#This Row],[Wage differential Bonus                            - NotePay Rate you are bonusing to]]-Table1[[#This Row],[Pay Rate]], \"\")","v":""},{"$f":"IF(Table1[[#This Row],[Wage differential Bonus                            - NotePay Rate you are bonusing to]]>0,Table1[[#This Row],[Bonus Rate]]*Table1[[#This Row],[Hours]],\"\")","v":""},null,null,null,null,null,{"$f":"IF(OR(AH1476>0.001,AH1476<-0.001),Table1[[#This Row],[Employee '#]],\" \")","v":" "},{"$f":"IF(AA1476>0, \"28\", IF(AB1476>0,\"53\",IF(X1476>0,\"20\")))","v":false},{"$f":"SUMIF(Table1[[#This Row],[Total Wage Diff bonus]:[Bank Bonus]],\"<> \")","v":0},{"$f":"IF(AA1476>0, Table1[[#This Row],[Column4]], IF(AB1476>0,Table1[[#This Row],[Column4]],IF(X1476>0,\"1000\")))","v":false}]
[null,null,null,null,null,null,null,null,null,null,null,null,null,null,null,null,0,null,null,null,null,null,null,null,{"$f":"IF(Table1[[#This Row],[Wage differential Bonus                            - NotePay Rate you are bonusing to]]>0, Table1[[#This Row],[Wage differential Bonus                            - NotePay Rate you are bonusing to]]-Table1[[#This Row],[Pay Rate]], \"\")","v":""},{"$f":"IF(Table1[[#This Row],[Wage differential Bonus                            - NotePay Rate you are bonusing to]]>0,Table1[[#This Row],[Bonus Rate]]*Table1[[#This Row],[Hours]],\"\")","v":""},null,null,null,null,null,{"$f":"IF(OR(AH1479>0.001,AH1479<-0.001),Table1[[#This Row],[Employee '#]],\" \")","v":" "},false,{"$f":"SUMIF(Table1[[#This Row],[Total Wage Diff bonus]:[Bank Bonus]],\"<> \")","v":0},{"$f":"IF(AA1479>0, Table1[[#This Row],[Column4]], IF(AB1479>0,Table1[[#This Row],[Column4]],IF(X1479>0,\"1000\")))","v":false}]
[null,null,null,null,null,null,null,null,null,null,null,null,null,null,null,null,0,null,null,null,null,null,null,null,{"$f":"IF(Table1[[#This Row],[Wage differential Bonus                            - NotePay Rate you are bonusing to]]>0, Table1[[#This Row],[Wage differential Bonus                            - NotePay Rate you are bonusing to]]-Table1[[#This Row],[Pay Rate]], \"\")","v":""},{"$f":"IF(Table1[[#This Row],[Wage differential Bonus                            - NotePay Rate you are bonusing to]]>0,Table1[[#This Row],[Bonus Rate]]*Table1[[#This Row],[Hours]],\"\")","v":""},null,null,null,null,null,{"$f":"IF(OR(AH1482>0.001,AH1482<-0.001),Table1[[#This Row],[Employee '#]],\" \")","v":" "},false,{"$f":"SUMIF(Table1[[#This Row],[Total Wage Diff bonus]:[Bank Bonus]],\"<> \")","v":0},{"$f":"IF(AA1482>0, Table1[[#This Row],[Column4]], IF(AB1482>0,Table1[[#This Row],[Column4]],IF(X1482>0,\"1000\")))","v":false}]
[null,null,null,null,null,null,null,null,null,null,null,null,null,null,null,null,0,null,null,null,null,null,null,null,{"$f":"IF(Table1[[#This Row],[Wage differential Bonus                            - NotePay Rate you are bonusing to]]>0, Table1[[#This Row],[Wage differential Bonus                            - NotePay Rate you are bonusing to]]-Table1[[#This Row],[Pay Rate]], \"\")","v":""},{"$f":"IF(Table1[[#This Row],[Wage differential Bonus                            - NotePay Rate you are bonusing to]]>0,Table1[[#This Row],[Bonus Rate]]*Table1[[#This Row],[Hours]],\"\")","v":""},null,null,null,null,null,{"$f":"IF(OR(AH1483>0.001,AH1483<-0.001),Table1[[#This Row],[Employee '#]],\" \")","v":" "},false,{"$f":"SUMIF(Table1[[#This Row],[Total Wage Diff bonus]:[Bank Bonus]],\"<> \")","v":0},{"$f":"IF(AA1483>0, Table1[[#This Row],[Column4]], IF(AB1483>0,Table1[[#This Row],[Column4]],IF(X1483>0,\"1000\")))","v":false}]
[null,null,null,null,null,null,null,null,null,null,null,null,null,null,null,null,0,null,null,null,null,null,null,null,{"$f":"IF(Table1[[#This Row],[Wage differential Bonus                            - NotePay Rate you are bonusing to]]>0, Table1[[#This Row],[Wage differential Bonus                            - NotePay Rate you are bonusing to]]-Table1[[#This Row],[Pay Rate]], \"\")","v":""},{"$f":"IF(Table1[[#This Row],[Wage differential Bonus                            - NotePay Rate you are bonusing to]]>0,Table1[[#This Row],[Bonus Rate]]*Table1[[#This Row],[Hours]],\"\")","v":""},null,null,null,null,null,{"$f":"IF(OR(AH1486>0.001,AH1486<-0.001),Table1[[#This Row],[Employee '#]],\" \")","v":" "},false,{"$f":"SUMIF(Table1[[#This Row],[Total Wage Diff bonus]:[Bank Bonus]],\"<> \")","v":0},{"$f":"IF(AA1486>0, Table1[[#This Row],[Column4]], IF(AB1486>0,Table1[[#This Row],[Column4]],IF(X1486>0,\"1000\")))","v":false}]
[null,null,null,null,null,null,null,null,null,null,null,null,null,null,null,null,0,null,null,null,null,null,null,null,{"$f":"IF(Table1[[#This Row],[Wage differential Bonus                            - NotePay Rate you are bonusing to]]>0, Table1[[#This Row],[Wage differential Bonus                            - NotePay Rate you are bonusing to]]-Table1[[#This Row],[Pay Rate]], \"\")","v":""},{"$f":"IF(Table1[[#This Row],[Wage differential Bonus                            - NotePay Rate you are bonusing to]]>0,Table1[[#This Row],[Bonus Rate]]*Table1[[#This Row],[Hours]],\"\")","v":""},null,null,null,null,null,{"$f":"IF(OR(AH1488>0.001,AH1488<-0.001),Table1[[#This Row],[Employee '#]],\" \")","v":" "},false,{"$f":"SUMIF(Table1[[#This Row],[Total Wage Diff bonus]:[Bank Bonus]],\"<> \")","v":0},{"$f":"IF(AA1488>0, Table1[[#This Row],[Column4]], IF(AB1488>0,Table1[[#This Row],[Column4]],IF(X1488>0,\"1000\")))","v":false}]
[null,null,null,null,null,null,null,null,null,null,null,null,null,null,null,null,0,null,null,null,null,null,null,null,{"$f":"IF(Table1[[#This Row],[Wage differential Bonus                            - NotePay Rate you are bonusing to]]>0, Table1[[#This Row],[Wage differential Bonus                            - NotePay Rate you are bonusing to]]-Table1[[#This Row],[Pay Rate]], \"\")","v":""},{"$f":"IF(Table1[[#This Row],[Wage differential Bonus                            - NotePay Rate you are bonusing to]]>0,Table1[[#This Row],[Bonus Rate]]*Table1[[#This Row],[Hours]],\"\")","v":""},null,null,null,null,null,{"$f":"IF(OR(AH1491>0.001,AH1491<-0.001),Table1[[#This Row],[Employee '#]],\" \")","v":" "},false,{"$f":"SUMIF(Table1[[#This Row],[Total Wage Diff bonus]:[Bank Bonus]],\"<> \")","v":0},{"$f":"IF(AA1491>0, Table1[[#This Row],[Column4]], IF(AB1491>0,Table1[[#This Row],[Column4]],IF(X1491>0,\"1000\")))","v":false}]
[null,null,null,null,null,null,null,null,null,null,null,null,null,null,null,null,0,null,null,null,null,null,null,null,{"$f":"IF(Table1[[#This Row],[Wage differential Bonus                            - NotePay Rate you are bonusing to]]>0, Table1[[#This Row],[Wage differential Bonus                            - NotePay Rate you are bonusing to]]-Table1[[#This Row],[Pay Rate]], \"\")","v":""},{"$f":"IF(Table1[[#This Row],[Wage differential Bonus                            - NotePay Rate you are bonusing to]]>0,Table1[[#This Row],[Bonus Rate]]*Table1[[#This Row],[Hours]],\"\")","v":""},null,null,null,null,null,{"$f":"IF(OR(AH1492>0.001,AH1492<-0.001),Table1[[#This Row],[Employee '#]],\" \")","v":" "},false,{"$f":"SUMIF(Table1[[#This Row],[Total Wage Diff bonus]:[Bank Bonus]],\"<> \")","v":0},{"$f":"IF(AA1492>0, Table1[[#This Row],[Column4]], IF(AB1492>0,Table1[[#This Row],[Column4]],IF(X1492>0,\"1000\")))","v":false}]
[null,null,null,null,null,null,null,null,null,null,null,null,null,null,null,null,0,null,null,null,null,null,null,null,{"$f":"IF(Table1[[#This Row],[Wage differential Bonus                            - NotePay Rate you are bonusing to]]>0, Table1[[#This Row],[Wage differential Bonus                            - NotePay Rate you are bonusing to]]-Table1[[#This Row],[Pay Rate]], \"\")","v":""},{"$f":"IF(Table1[[#This Row],[Wage differential Bonus                            - NotePay Rate you are bonusing to]]>0,Table1[[#This Row],[Bonus Rate]]*Table1[[#This Row],[Hours]],\"\")","v":""},null,null,null,null,null,{"$f":"IF(OR(AH1494>0.001,AH1494<-0.001),Table1[[#This Row],[Employee '#]],\" \")","v":" "},false,{"$f":"SUMIF(Table1[[#This Row],[Total Wage Diff bonus]:[Bank Bonus]],\"<> \")","v":0},{"$f":"IF(AA1494>0, Table1[[#This Row],[Column4]], IF(AB1494>0,Table1[[#This Row],[Column4]],IF(X1494>0,\"1000\")))","v":false}]
[null,null,null,null,null,null,null,null,null,null,null,null,null,null,null,null,0,null,null,null,null,null,null,null,{"$f":"IF(Table1[[#This Row],[Wage differential Bonus                            - NotePay Rate you are bonusing to]]>0, Table1[[#This Row],[Wage differential Bonus                            - NotePay Rate you are bonusing to]]-Table1[[#This Row],[Pay Rate]], \"\")","v":""},{"$f":"IF(Table1[[#This Row],[Wage differential Bonus                            - NotePay Rate you are bonusing to]]>0,Table1[[#This Row],[Bonus Rate]]*Table1[[#This Row],[Hours]],\"\")","v":""},null,null,null,null,null,{"$f":"IF(OR(AH1497>0.001,AH1497<-0.001),Table1[[#This Row],[Employee '#]],\" \")","v":" "},false,{"$f":"SUMIF(Table1[[#This Row],[Total Wage Diff bonus]:[Bank Bonus]],\"<> \")","v":0},{"$f":"IF(AA1497>0, Table1[[#This Row],[Column4]], IF(AB1497>0,Table1[[#This Row],[Column4]],IF(X1497>0,\"1000\")))","v":false}]
[null,null,null,null,null,null,null,null,null,null,null,null,null,null,null,null,0,null,null,null,null,null,null,null,{"$f":"IF(Table1[[#This Row],[Wage differential Bonus                            - NotePay Rate you are bonusing to]]>0, Table1[[#This Row],[Wage differential Bonus                            - NotePay Rate you are bonusing to]]-Table1[[#This Row],[Pay Rate]], \"\")","v":""},{"$f":"IF(Table1[[#This Row],[Wage differential Bonus                            - NotePay Rate you are bonusing to]]>0,Table1[[#This Row],[Bonus Rate]]*Table1[[#This Row],[Hours]],\"\")","v":""},null,null,null,null,null,{"$f":"IF(OR(AH1500>0.001,AH1500<-0.001),Table1[[#This Row],[Employee '#]],\" \")","v":" "},false,{"$f":"SUMIF(Table1[[#This Row],[Total Wage Diff bonus]:[Bank Bonus]],\"<> \")","v":0},{"$f":"IF(AA1500>0, Table1[[#This Row],[Column4]], IF(AB1500>0,Table1[[#This Row],[Column4]],IF(X1500>0,\"1000\")))","v":false}]
[null,null,null,null,null,null,null,null,null,null,null,null,null,null,null,null,0,null,null,null,null,null,null,null,{"$f":"IF(Table1[[#This Row],[Wage differential Bonus                            - NotePay Rate you are bonusing to]]>0, Table1[[#This Row],[Wage differential Bonus                            - NotePay Rate you are bonusing to]]-Table1[[#This Row],[Pay Rate]], \"\")","v":""},{"$f":"IF(Table1[[#This Row],[Wage differential Bonus                            - NotePay Rate you are bonusing to]]>0,Table1[[#This Row],[Bonus Rate]]*Table1[[#This Row],[Hours]],\"\")","v":""},null,null,null,null,null,{"$f":"IF(OR(AH1502>0.001,AH1502<-0.001),Table1[[#This Row],[Employee '#]],\" \")","v":" "},false,{"$f":"SUMIF(Table1[[#This Row],[Total Wage Diff bonus]:[Bank Bonus]],\"<> \")","v":0},{"$f":"IF(AA1502>0, Table1[[#This Row],[Column4]], IF(AB1502>0,Table1[[#This Row],[Column4]],IF(X1502>0,\"1000\")))","v":false}]
[null,null,null,null,null,null,null,null,null,null,null,null,null,null,null,null,0,null,null,null,null,null,null,null,{"$f":"IF(Table1[[#This Row],[Wage differential Bonus                            - NotePay Rate you are bonusing to]]>0, Table1[[#This Row],[Wage differential Bonus                            - NotePay Rate you are bonusing to]]-Table1[[#This Row],[Pay Rate]], \"\")","v":""},{"$f":"IF(Table1[[#This Row],[Wage differential Bonus                            - NotePay Rate you are bonusing to]]>0,Table1[[#This Row],[Bonus Rate]]*Table1[[#This Row],[Hours]],\"\")","v":""},null,null,null,null,null,{"$f":"IF(OR(AH1505>0.001,AH1505<-0.001),Table1[[#This Row],[Employee '#]],\" \")","v":" "},false,{"$f":"SUMIF(Table1[[#This Row],[Total Wage Diff bonus]:[Bank Bonus]],\"<> \")","v":0},{"$f":"IF(AA1505>0, Table1[[#This Row],[Column4]], IF(AB1505>0,Table1[[#This Row],[Column4]],IF(X1505>0,\"1000\")))","v":false}]
[null,null,null,null,null,null,null,null,null,null,null,null,null,null,null,null,0,null,null,null,null,null,null,null,{"$f":"IF(Table1[[#This Row],[Wage differential Bonus                            - NotePay Rate you are bonusing to]]>0, Table1[[#This Row],[Wage differential Bonus                            - NotePay Rate you are bonusing to]]-Table1[[#This Row],[Pay Rate]], \"\")","v":""},{"$f":"IF(Table1[[#This Row],[Wage differential Bonus                            - NotePay Rate you are bonusing to]]>0,Table1[[#This Row],[Bonus Rate]]*Table1[[#This Row],[Hours]],\"\")","v":""},null,null,null,null,null,{"$f":"IF(OR(AH1506>0.001,AH1506<-0.001),Table1[[#This Row],[Employee '#]],\" \")","v":" "},false,{"$f":"SUMIF(Table1[[#This Row],[Total Wage Diff bonus]:[Bank Bonus]],\"<> \")","v":0},{"$f":"IF(AA1506>0, Table1[[#This Row],[Column4]], IF(AB1506>0,Table1[[#This Row],[Column4]],IF(X1506>0,\"1000\")))","v":false}]
[null,null,null,null,null,null,null,null,null,null,null,null,null,null,null,null,0,null,null,null,null,null,null,null,{"$f":"IF(Table1[[#This Row],[Wage differential Bonus                            - NotePay Rate you are bonusing to]]>0, Table1[[#This Row],[Wage differential Bonus                            - NotePay Rate you are bonusing to]]-Table1[[#This Row],[Pay Rate]], \"\")","v":""},{"$f":"IF(Table1[[#This Row],[Wage differential Bonus                            - NotePay Rate you are bonusing to]]>0,Table1[[#This Row],[Bonus Rate]]*Table1[[#This Row],[Hours]],\"\")","v":""},null,null,null,null,null,{"$f":"IF(OR(AH1509>0.001,AH1509<-0.001),Table1[[#This Row],[Employee '#]],\" \")","v":" "},false,{"$f":"SUMIF(Table1[[#This Row],[Total Wage Diff bonus]:[Bank Bonus]],\"<> \")","v":0},{"$f":"IF(AA1509>0, Table1[[#This Row],[Column4]], IF(AB1509>0,Table1[[#This Row],[Column4]],IF(X1509>0,\"1000\")))","v":false}]
[null,null,null,null,null,null,null,null,null,null,null,null,null,null,null,null,0,null,null,null,null,null,null,null,{"$f":"IF(Table1[[#This Row],[Wage differential Bonus                            - NotePay Rate you are bonusing to]]>0, Table1[[#This Row],[Wage differential Bonus                            - NotePay Rate you are bonusing to]]-Table1[[#This Row],[Pay Rate]], \"\")","v":""},{"$f":"IF(Table1[[#This Row],[Wage differential Bonus                            - NotePay Rate you are bonusing to]]>0,Table1[[#This Row],[Bonus Rate]]*Table1[[#This Row],[Hours]],\"\")","v":""},null,null,null,null,null,{"$f":"IF(OR(AH1512>0.001,AH1512<-0.001),Table1[[#This Row],[Employee '#]],\" \")","v":" "},false,{"$f":"SUMIF(Table1[[#This Row],[Total Wage Diff bonus]:[Bank Bonus]],\"<> \")","v":0},{"$f":"IF(AA1512>0, Table1[[#This Row],[Column4]], IF(AB1512>0,Table1[[#This Row],[Column4]],IF(X1512>0,\"1000\")))","v":false}]
[null,null,null,null,null,null,null,null,null,null,null,null,null,null,null,null,0,null,null,null,null,null,null,null,{"$f":"IF(Table1[[#This Row],[Wage differential Bonus                            - NotePay Rate you are bonusing to]]>0, Table1[[#This Row],[Wage differential Bonus                            - NotePay Rate you are bonusing to]]-Table1[[#This Row],[Pay Rate]], \"\")","v":""},{"$f":"IF(Table1[[#This Row],[Wage differential Bonus                            - NotePay Rate you are bonusing to]]>0,Table1[[#This Row],[Bonus Rate]]*Table1[[#This Row],[Hours]],\"\")","v":""},null,null,null,null,null,{"$f":"IF(OR(AH1514>0.001,AH1514<-0.001),Table1[[#This Row],[Employee '#]],\" \")","v":" "},false,{"$f":"SUMIF(Table1[[#This Row],[Total Wage Diff bonus]:[Bank Bonus]],\"<> \")","v":0},{"$f":"IF(AA1514>0, Table1[[#This Row],[Column4]], IF(AB1514>0,Table1[[#This Row],[Column4]],IF(X1514>0,\"1000\")))","v":false}]
[null,null,null,null,null,null,null,null,null,null,null,null,null,null,null,null,0,null,null,null,null,null,null,null,{"$f":"IF(Table1[[#This Row],[Wage differential Bonus                            - NotePay Rate you are bonusing to]]>0, Table1[[#This Row],[Wage differential Bonus                            - NotePay Rate you are bonusing to]]-Table1[[#This Row],[Pay Rate]], \"\")","v":""},{"$f":"IF(Table1[[#This Row],[Wage differential Bonus                            - NotePay Rate you are bonusing to]]>0,Table1[[#This Row],[Bonus Rate]]*Table1[[#This Row],[Hours]],\"\")","v":""},null,null,null,null,null,{"$f":"IF(OR(AH1515>0.001,AH1515<-0.001),Table1[[#This Row],[Employee '#]],\" \")","v":" "},false,{"$f":"SUMIF(Table1[[#This Row],[Total Wage Diff bonus]:[Bank Bonus]],\"<> \")","v":0},{"$f":"IF(AA1515>0, Table1[[#This Row],[Column4]], IF(AB1515>0,Table1[[#This Row],[Column4]],IF(X1515>0,\"1000\")))","v":false}]
[null,null,null,null,null,null,null,null,null,null,null,null,null,null,null,null,0,null,null,null,null,null,null,null,{"$f":"IF(Table1[[#This Row],[Wage differential Bonus                            - NotePay Rate you are bonusing to]]>0, Table1[[#This Row],[Wage differential Bonus                            - NotePay Rate you are bonusing to]]-Table1[[#This Row],[Pay Rate]], \"\")","v":""},{"$f":"IF(Table1[[#This Row],[Wage differential Bonus                            - NotePay Rate you are bonusing to]]>0,Table1[[#This Row],[Bonus Rate]]*Table1[[#This Row],[Hours]],\"\")","v":""},null,null,null,null,null,{"$f":"IF(OR(AH1518>0.001,AH1518<-0.001),Table1[[#This Row],[Employee '#]],\" \")","v":" "},false,{"$f":"SUMIF(Table1[[#This Row],[Total Wage Diff bonus]:[Bank Bonus]],\"<> \")","v":0},{"$f":"IF(AA1518>0, Table1[[#This Row],[Column4]], IF(AB1518>0,Table1[[#This Row],[Column4]],IF(X1518>0,\"1000\")))","v":false}]
[null,null,null,null,null,null,null,null,null,null,null,null,null,null,null,null,0,null,null,null,null,null,null,null,{"$f":"IF(Table1[[#This Row],[Wage differential Bonus                            - NotePay Rate you are bonusing to]]>0, Table1[[#This Row],[Wage differential Bonus                            - NotePay Rate you are bonusing to]]-Table1[[#This Row],[Pay Rate]], \"\")","v":""},{"$f":"IF(Table1[[#This Row],[Wage differential Bonus                            - NotePay Rate you are bonusing to]]>0,Table1[[#This Row],[Bonus Rate]]*Table1[[#This Row],[Hours]],\"\")","v":""},null,null,null,null,null,{"$f":"IF(OR(AH1520>0.001,AH1520<-0.001),Table1[[#This Row],[Employee '#]],\" \")","v":" "},false,{"$f":"SUMIF(Table1[[#This Row],[Total Wage Diff bonus]:[Bank Bonus]],\"<> \")","v":0},{"$f":"IF(AA1520>0, Table1[[#This Row],[Column4]], IF(AB1520>0,Table1[[#This Row],[Column4]],IF(X1520>0,\"1000\")))","v":false}]
[null,null,null,null,null,null,null,null,null,null,null,null,null,null,null,null,0,null,null,null,null,null,null,null,{"$f":"IF(Table1[[#This Row],[Wage differential Bonus                            - NotePay Rate you are bonusing to]]>0, Table1[[#This Row],[Wage differential Bonus                            - NotePay Rate you are bonusing to]]-Table1[[#This Row],[Pay Rate]], \"\")","v":""},{"$f":"IF(Table1[[#This Row],[Wage differential Bonus                            - NotePay Rate you are bonusing to]]>0,Table1[[#This Row],[Bonus Rate]]*Table1[[#This Row],[Hours]],\"\")","v":""},null,null,null,null,null,{"$f":"IF(OR(AH1523>0.001,AH1523<-0.001),Table1[[#This Row],[Employee '#]],\" \")","v":" "},false,{"$f":"SUMIF(Table1[[#This Row],[Total Wage Diff bonus]:[Bank Bonus]],\"<> \")","v":0},{"$f":"IF(AA1523>0, Table1[[#This Row],[Column4]], IF(AB1523>0,Table1[[#This Row],[Column4]],IF(X1523>0,\"1000\")))","v":false}]
[null,null,null,null,null,null,null,null,null,null,null,null,null,null,null,null,0,null,null,null,null,null,null,null,{"$f":"IF(Table1[[#This Row],[Wage differential Bonus                            - NotePay Rate you are bonusing to]]>0, Table1[[#This Row],[Wage differential Bonus                            - NotePay Rate you are bonusing to]]-Table1[[#This Row],[Pay Rate]], \"\")","v":""},{"$f":"IF(Table1[[#This Row],[Wage differential Bonus                            - NotePay Rate you are bonusing to]]>0,Table1[[#This Row],[Bonus Rate]]*Table1[[#This Row],[Hours]],\"\")","v":""},null,null,null,null,null,{"$f":"IF(OR(AH1524>0.001,AH1524<-0.001),Table1[[#This Row],[Employee '#]],\" \")","v":" "},false,{"$f":"SUMIF(Table1[[#This Row],[Total Wage Diff bonus]:[Bank Bonus]],\"<> \")","v":0},{"$f":"IF(AA1524>0, Table1[[#This Row],[Column4]], IF(AB1524>0,Table1[[#This Row],[Column4]],IF(X1524>0,\"1000\")))","v":false}]
[null,null,null,null,null,null,null,null,null,null,null,null,null,null,null,null,0,null,null,null,null,null,null,null,{"$f":"IF(Table1[[#This Row],[Wage differential Bonus                            - NotePay Rate you are bonusing to]]>0, Table1[[#This Row],[Wage differential Bonus                            - NotePay Rate you are bonusing to]]-Table1[[#This Row],[Pay Rate]], \"\")","v":""},{"$f":"IF(Table1[[#This Row],[Wage differential Bonus                            - NotePay Rate you are bonusing to]]>0,Table1[[#This Row],[Bonus Rate]]*Table1[[#This Row],[Hours]],\"\")","v":""},null,null,null,null,null,{"$f":"IF(OR(AH1527>0.001,AH1527<-0.001),Table1[[#This Row],[Employee '#]],\" \")","v":" "},false,{"$f":"SUMIF(Table1[[#This Row],[Total Wage Diff bonus]:[Bank Bonus]],\"<> \")","v":0},{"$f":"IF(AA1527>0, Table1[[#This Row],[Column4]], IF(AB1527>0,Table1[[#This Row],[Column4]],IF(X1527>0,\"1000\")))","v":false}]
[null,null,null,null,null,null,null,null,null,null,null,null,null,null,null,null,0,null,null,null,null,null,null,null,{"$f":"IF(Table1[[#This Row],[Wage differential Bonus                            - NotePay Rate you are bonusing to]]>0, Table1[[#This Row],[Wage differential Bonus                            - NotePay Rate you are bonusing to]]-Table1[[#This Row],[Pay Rate]], \"\")","v":""},{"$f":"IF(Table1[[#This Row],[Wage differential Bonus                            - NotePay Rate you are bonusing to]]>0,Table1[[#This Row],[Bonus Rate]]*Table1[[#This Row],[Hours]],\"\")","v":""},null,null,null,null,null,{"$f":"IF(OR(AH1530>0.001,AH1530<-0.001),Table1[[#This Row],[Employee '#]],\" \")","v":" "},false,{"$f":"SUMIF(Table1[[#This Row],[Total Wage Diff bonus]:[Bank Bonus]],\"<> \")","v":0},{"$f":"IF(AA1530>0, Table1[[#This Row],[Column4]], IF(AB1530>0,Table1[[#This Row],[Column4]],IF(X1530>0,\"1000\")))","v":false}]
[null,null,null,null,null,null,null,null,null,null,null,null,null,null,null,null,0,null,null,null,null,null,null,null,{"$f":"IF(Table1[[#This Row],[Wage differential Bonus                            - NotePay Rate you are bonusing to]]>0, Table1[[#This Row],[Wage differential Bonus                            - NotePay Rate you are bonusing to]]-Table1[[#This Row],[Pay Rate]], \"\")","v":""},{"$f":"IF(Table1[[#This Row],[Wage differential Bonus                            - NotePay Rate you are bonusing to]]>0,Table1[[#This Row],[Bonus Rate]]*Table1[[#This Row],[Hours]],\"\")","v":""},null,null,null,null,null,{"$f":"IF(OR(AH1532>0.001,AH1532<-0.001),Table1[[#This Row],[Employee '#]],\" \")","v":" "},false,{"$f":"SUMIF(Table1[[#This Row],[Total Wage Diff bonus]:[Bank Bonus]],\"<> \")","v":0},{"$f":"IF(AA1532>0, Table1[[#This Row],[Column4]], IF(AB1532>0,Table1[[#This Row],[Column4]],IF(X1532>0,\"1000\")))","v":false}]
[null,null,null,null,null,null,null,null,null,null,null,null,null,null,null,null,0,null,null,null,null,null,null,null,{"$f":"IF(Table1[[#This Row],[Wage differential Bonus                            - NotePay Rate you are bonusing to]]>0, Table1[[#This Row],[Wage differential Bonus                            - NotePay Rate you are bonusing to]]-Table1[[#This Row],[Pay Rate]], \"\")","v":""},{"$f":"IF(Table1[[#This Row],[Wage differential Bonus                            - NotePay Rate you are bonusing to]]>0,Table1[[#This Row],[Bonus Rate]]*Table1[[#This Row],[Hours]],\"\")","v":""},null,null,null,null,null,{"$f":"IF(OR(AH1533>0.001,AH1533<-0.001),Table1[[#This Row],[Employee '#]],\" \")","v":" "},false,{"$f":"SUMIF(Table1[[#This Row],[Total Wage Diff bonus]:[Bank Bonus]],\"<> \")","v":0},{"$f":"IF(AA1533>0, Table1[[#This Row],[Column4]], IF(AB1533>0,Table1[[#This Row],[Column4]],IF(X1533>0,\"1000\")))","v":false}]
[null,null,null,null,null,null,null,null,null,null,null,null,null,null,null,null,0,null,null,null,null,null,null,null,{"$f":"IF(Table1[[#This Row],[Wage differential Bonus                            - NotePay Rate you are bonusing to]]>0, Table1[[#This Row],[Wage differential Bonus                            - NotePay Rate you are bonusing to]]-Table1[[#This Row],[Pay Rate]], \"\")","v":""},{"$f":"IF(Table1[[#This Row],[Wage differential Bonus                            - NotePay Rate you are bonusing to]]>0,Table1[[#This Row],[Bonus Rate]]*Table1[[#This Row],[Hours]],\"\")","v":""},null,null,null,null,null,{"$f":"IF(OR(AH1536>0.001,AH1536<-0.001),Table1[[#This Row],[Employee '#]],\" \")","v":" "},false,{"$f":"SUMIF(Table1[[#This Row],[Total Wage Diff bonus]:[Bank Bonus]],\"<> \")","v":0},{"$f":"IF(AA1536>0, Table1[[#This Row],[Column4]], IF(AB1536>0,Table1[[#This Row],[Column4]],IF(X1536>0,\"1000\")))","v":false}]
[null,null,null,null,null,null,null,null,null,null,null,null,null,null,null,null,0,null,null,null,null,null,null,null,{"$f":"IF(Table1[[#This Row],[Wage differential Bonus                            - NotePay Rate you are bonusing to]]>0, Table1[[#This Row],[Wage differential Bonus                            - NotePay Rate you are bonusing to]]-Table1[[#This Row],[Pay Rate]], \"\")","v":""},{"$f":"IF(Table1[[#This Row],[Wage differential Bonus                            - NotePay Rate you are bonusing to]]>0,Table1[[#This Row],[Bonus Rate]]*Table1[[#This Row],[Hours]],\"\")","v":""},null,null,null,null,null,{"$f":"IF(OR(AH1538>0.001,AH1538<-0.001),Table1[[#This Row],[Employee '#]],\" \")","v":" "},false,{"$f":"SUMIF(Table1[[#This Row],[Total Wage Diff bonus]:[Bank Bonus]],\"<> \")","v":0},{"$f":"IF(AA1538>0, Table1[[#This Row],[Column4]], IF(AB1538>0,Table1[[#This Row],[Column4]],IF(X1538>0,\"1000\")))","v":false}]
[null,null,null,null,null,null,null,null,null,null,null,null,null,null,null,null,0,null,null,null,null,null,null,null,{"$f":"IF(Table1[[#This Row],[Wage differential Bonus                            - NotePay Rate you are bonusing to]]>0, Table1[[#This Row],[Wage differential Bonus                            - NotePay Rate you are bonusing to]]-Table1[[#This Row],[Pay Rate]], \"\")","v":""},{"$f":"IF(Table1[[#This Row],[Wage differential Bonus                            - NotePay Rate you are bonusing to]]>0,Table1[[#This Row],[Bonus Rate]]*Table1[[#This Row],[Hours]],\"\")","v":""},null,null,null,null,null,{"$f":"IF(OR(AH1541>0.001,AH1541<-0.001),Table1[[#This Row],[Employee '#]],\" \")","v":" "},false,{"$f":"SUMIF(Table1[[#This Row],[Total Wage Diff bonus]:[Bank Bonus]],\"<> \")","v":0},{"$f":"IF(AA1541>0, Table1[[#This Row],[Column4]], IF(AB1541>0,Table1[[#This Row],[Column4]],IF(X1541>0,\"1000\")))","v":false}]
[null,null,null,null,null,null,null,null,null,null,null,null,null,null,null,null,0,null,null,null,null,null,null,null,{"$f":"IF(Table1[[#This Row],[Wage differential Bonus                            - NotePay Rate you are bonusing to]]>0, Table1[[#This Row],[Wage differential Bonus                            - NotePay Rate you are bonusing to]]-Table1[[#This Row],[Pay Rate]], \"\")","v":""},{"$f":"IF(Table1[[#This Row],[Wage differential Bonus                            - NotePay Rate you are bonusing to]]>0,Table1[[#This Row],[Bonus Rate]]*Table1[[#This Row],[Hours]],\"\")","v":""},null,null,null,null,null,{"$f":"IF(OR(AH1542>0.001,AH1542<-0.001),Table1[[#This Row],[Employee '#]],\" \")","v":" "},false,{"$f":"SUMIF(Table1[[#This Row],[Total Wage Diff bonus]:[Bank Bonus]],\"<> \")","v":0},{"$f":"IF(AA1542>0, Table1[[#This Row],[Column4]], IF(AB1542>0,Table1[[#This Row],[Column4]],IF(X1542>0,\"1000\")))","v":false}]
[null,null,null,null,null,null,null,null,null,null,null,null,null,null,null,null,0,null,null,null,null,null,null,null,{"$f":"IF(Table1[[#This Row],[Wage differential Bonus                            - NotePay Rate you are bonusing to]]>0, Table1[[#This Row],[Wage differential Bonus                            - NotePay Rate you are bonusing to]]-Table1[[#This Row],[Pay Rate]], \"\")","v":""},{"$f":"IF(Table1[[#This Row],[Wage differential Bonus                            - NotePay Rate you are bonusing to]]>0,Table1[[#This Row],[Bonus Rate]]*Table1[[#This Row],[Hours]],\"\")","v":""},null,null,null,null,null,{"$f":"IF(OR(AH1546>0.001,AH1546<-0.001),Table1[[#This Row],[Employee '#]],\" \")","v":" "},false,{"$f":"SUMIF(Table1[[#This Row],[Total Wage Diff bonus]:[Bank Bonus]],\"<> \")","v":0},{"$f":"IF(AA1546>0, Table1[[#This Row],[Column4]], IF(AB1546>0,Table1[[#This Row],[Column4]],IF(X1546>0,\"1000\")))","v":false}]
[null,null,null,null,null,null,null,null,null,null,null,null,null,null,null,null,0,null,null,null,null,null,null,null,{"$f":"IF(Table1[[#This Row],[Wage differential Bonus                            - NotePay Rate you are bonusing to]]>0, Table1[[#This Row],[Wage differential Bonus                            - NotePay Rate you are bonusing to]]-Table1[[#This Row],[Pay Rate]], \"\")","v":""},{"$f":"IF(Table1[[#This Row],[Wage differential Bonus                            - NotePay Rate you are bonusing to]]>0,Table1[[#This Row],[Bonus Rate]]*Table1[[#This Row],[Hours]],\"\")","v":""},null,null,null,null,null,{"$f":"IF(OR(AH1547>0.001,AH1547<-0.001),Table1[[#This Row],[Employee '#]],\" \")","v":" "},false,{"$f":"SUMIF(Table1[[#This Row],[Total Wage Diff bonus]:[Bank Bonus]],\"<> \")","v":0},{"$f":"IF(AA1547>0, Table1[[#This Row],[Column4]], IF(AB1547>0,Table1[[#This Row],[Column4]],IF(X1547>0,\"1000\")))","v":false}]
[null,null,null,null,null,null,null,null,null,null,null,null,null,null,null,null,0,null,null,null,null,null,null,null,{"$f":"IF(Table1[[#This Row],[Wage differential Bonus                            - NotePay Rate you are bonusing to]]>0, Table1[[#This Row],[Wage differential Bonus                            - NotePay Rate you are bonusing to]]-Table1[[#This Row],[Pay Rate]], \"\")","v":""},{"$f":"IF(Table1[[#This Row],[Wage differential Bonus                            - NotePay Rate you are bonusing to]]>0,Table1[[#This Row],[Bonus Rate]]*Table1[[#This Row],[Hours]],\"\")","v":""},null,null,null,null,null,{"$f":"IF(OR(AH1550>0.001,AH1550<-0.001),Table1[[#This Row],[Employee '#]],\" \")","v":" "},false,{"$f":"SUMIF(Table1[[#This Row],[Total Wage Diff bonus]:[Bank Bonus]],\"<> \")","v":0},{"$f":"IF(AA1550>0, Table1[[#This Row],[Column4]], IF(AB1550>0,Table1[[#This Row],[Column4]],IF(X1550>0,\"1000\")))","v":false}]
[null,null,null,null,null,null,null,null,null,null,null,null,null,null,null,null,0,null,null,null,null,null,null,null,{"$f":"IF(Table1[[#This Row],[Wage differential Bonus                            - NotePay Rate you are bonusing to]]>0, Table1[[#This Row],[Wage differential Bonus                            - NotePay Rate you are bonusing to]]-Table1[[#This Row],[Pay Rate]], \"\")","v":""},{"$f":"IF(Table1[[#This Row],[Wage differential Bonus                            - NotePay Rate you are bonusing to]]>0,Table1[[#This Row],[Bonus Rate]]*Table1[[#This Row],[Hours]],\"\")","v":""},null,null,null,null,null,{"$f":"IF(OR(AH1551>0.001,AH1551<-0.001),Table1[[#This Row],[Employee '#]],\" \")","v":" "},false,{"$f":"SUMIF(Table1[[#This Row],[Total Wage Diff bonus]:[Bank Bonus]],\"<> \")","v":0},{"$f":"IF(AA1551>0, Table1[[#This Row],[Column4]], IF(AB1551>0,Table1[[#This Row],[Column4]],IF(X1551>0,\"1000\")))","v":false}]
[null,null,null,null,null,null,null,null,null,null,null,null,null,null,null,null,0,null,null,null,null,null,null,null,{"$f":"IF(Table1[[#This Row],[Wage differential Bonus                            - NotePay Rate you are bonusing to]]>0, Table1[[#This Row],[Wage differential Bonus                            - NotePay Rate you are bonusing to]]-Table1[[#This Row],[Pay Rate]], \"\")","v":""},{"$f":"IF(Table1[[#This Row],[Wage differential Bonus                            - NotePay Rate you are bonusing to]]>0,Table1[[#This Row],[Bonus Rate]]*Table1[[#This Row],[Hours]],\"\")","v":""},null,null,null,null,null,{"$f":"IF(OR(AH1554>0.001,AH1554<-0.001),Table1[[#This Row],[Employee '#]],\" \")","v":" "},false,{"$f":"SUMIF(Table1[[#This Row],[Total Wage Diff bonus]:[Bank Bonus]],\"<> \")","v":0},{"$f":"IF(AA1554>0, Table1[[#This Row],[Column4]], IF(AB1554>0,Table1[[#This Row],[Column4]],IF(X1554>0,\"1000\")))","v":false}]
[null,null,null,null,null,null,null,null,null,null,null,null,null,null,null,null,0,null,null,null,null,null,null,null,{"$f":"IF(Table1[[#This Row],[Wage differential Bonus                            - NotePay Rate you are bonusing to]]>0, Table1[[#This Row],[Wage differential Bonus                            - NotePay Rate you are bonusing to]]-Table1[[#This Row],[Pay Rate]], \"\")","v":""},{"$f":"IF(Table1[[#This Row],[Wage differential Bonus                            - NotePay Rate you are bonusing to]]>0,Table1[[#This Row],[Bonus Rate]]*Table1[[#This Row],[Hours]],\"\")","v":""},null,null,null,null,null,{"$f":"IF(OR(AH1556>0.001,AH1556<-0.001),Table1[[#This Row],[Employee '#]],\" \")","v":" "},false,{"$f":"SUMIF(Table1[[#This Row],[Total Wage Diff bonus]:[Bank Bonus]],\"<> \")","v":0},{"$f":"IF(AA1556>0, Table1[[#This Row],[Column4]], IF(AB1556>0,Table1[[#This Row],[Column4]],IF(X1556>0,\"1000\")))","v":false}]
[null,null,null,null,null,null,null,null,null,null,null,null,null,null,null,null,0,null,null,null,null,null,null,null,{"$f":"IF(Table1[[#This Row],[Wage differential Bonus                            - NotePay Rate you are bonusing to]]>0, Table1[[#This Row],[Wage differential Bonus                            - NotePay Rate you are bonusing to]]-Table1[[#This Row],[Pay Rate]], \"\")","v":""},{"$f":"IF(Table1[[#This Row],[Wage differential Bonus                            - NotePay Rate you are bonusing to]]>0,Table1[[#This Row],[Bonus Rate]]*Table1[[#This Row],[Hours]],\"\")","v":""},null,null,null,null,null,{"$f":"IF(OR(AH1559>0.001,AH1559<-0.001),Table1[[#This Row],[Employee '#]],\" \")","v":" "},false,{"$f":"SUMIF(Table1[[#This Row],[Total Wage Diff bonus]:[Bank Bonus]],\"<> \")","v":0},{"$f":"IF(AA1559>0, Table1[[#This Row],[Column4]], IF(AB1559>0,Table1[[#This Row],[Column4]],IF(X1559>0,\"1000\")))","v":false}]
[null,null,null,null,null,null,null,null,null,null,null,null,null,null,null,null,0,null,null,null,null,null,null,null,{"$f":"IF(Table1[[#This Row],[Wage differential Bonus                            - NotePay Rate you are bonusing to]]>0, Table1[[#This Row],[Wage differential Bonus                            - NotePay Rate you are bonusing to]]-Table1[[#This Row],[Pay Rate]], \"\")","v":""},{"$f":"IF(Table1[[#This Row],[Wage differential Bonus                            - NotePay Rate you are bonusing to]]>0,Table1[[#This Row],[Bonus Rate]]*Table1[[#This Row],[Hours]],\"\")","v":""},null,null,null,null,null,{"$f":"IF(OR(AH1560>0.001,AH1560<-0.001),Table1[[#This Row],[Employee '#]],\" \")","v":" "},false,{"$f":"SUMIF(Table1[[#This Row],[Total Wage Diff bonus]:[Bank Bonus]],\"<> \")","v":0},{"$f":"IF(AA1560>0, Table1[[#This Row],[Column4]], IF(AB1560>0,Table1[[#This Row],[Column4]],IF(X1560>0,\"1000\")))","v":false}]
[null,null,null,null,null,null,null,null,null,null,null,null,null,null,null,null,0,null,null,null,null,null,null,null,{"$f":"IF(Table1[[#This Row],[Wage differential Bonus                            - NotePay Rate you are bonusing to]]>0, Table1[[#This Row],[Wage differential Bonus                            - NotePay Rate you are bonusing to]]-Table1[[#This Row],[Pay Rate]], \"\")","v":""},{"$f":"IF(Table1[[#This Row],[Wage differential Bonus                            - NotePay Rate you are bonusing to]]>0,Table1[[#This Row],[Bonus Rate]]*Table1[[#This Row],[Hours]],\"\")","v":""},null,null,null,null,null,{"$f":"IF(OR(AH1564>0.001,AH1564<-0.001),Table1[[#This Row],[Employee '#]],\" \")","v":" "},false,{"$f":"SUMIF(Table1[[#This Row],[Total Wage Diff bonus]:[Bank Bonus]],\"<> \")","v":0},{"$f":"IF(AA1564>0, Table1[[#This Row],[Column4]], IF(AB1564>0,Table1[[#This Row],[Column4]],IF(X1564>0,\"1000\")))","v":false}]
[null,null,null,null,null,null,null,null,null,null,null,null,null,null,null,null,0,null,null,null,null,null,null,null,{"$f":"IF(Table1[[#This Row],[Wage differential Bonus                            - NotePay Rate you are bonusing to]]>0, Table1[[#This Row],[Wage differential Bonus                            - NotePay Rate you are bonusing to]]-Table1[[#This Row],[Pay Rate]], \"\")","v":""},{"$f":"IF(Table1[[#This Row],[Wage differential Bonus                            - NotePay Rate you are bonusing to]]>0,Table1[[#This Row],[Bonus Rate]]*Table1[[#This Row],[Hours]],\"\")","v":""},null,null,null,null,null,{"$f":"IF(OR(AH1565>0.001,AH1565<-0.001),Table1[[#This Row],[Employee '#]],\" \")","v":" "},false,{"$f":"SUMIF(Table1[[#This Row],[Total Wage Diff bonus]:[Bank Bonus]],\"<> \")","v":0},{"$f":"IF(AA1565>0, Table1[[#This Row],[Column4]], IF(AB1565>0,Table1[[#This Row],[Column4]],IF(X1565>0,\"1000\")))","v":false}]
[null,null,null,null,null,null,null,null,null,null,null,null,null,null,null,null,0,null,null,null,null,null,null,null,{"$f":"IF(Table1[[#This Row],[Wage differential Bonus                            - NotePay Rate you are bonusing to]]>0, Table1[[#This Row],[Wage differential Bonus                            - NotePay Rate you are bonusing to]]-Table1[[#This Row],[Pay Rate]], \"\")","v":""},{"$f":"IF(Table1[[#This Row],[Wage differential Bonus                            - NotePay Rate you are bonusing to]]>0,Table1[[#This Row],[Bonus Rate]]*Table1[[#This Row],[Hours]],\"\")","v":""},null,null,null,null,null,{"$f":"IF(OR(AH1568>0.001,AH1568<-0.001),Table1[[#This Row],[Employee '#]],\" \")","v":" "},false,{"$f":"SUMIF(Table1[[#This Row],[Total Wage Diff bonus]:[Bank Bonus]],\"<> \")","v":0},{"$f":"IF(AA1568>0, Table1[[#This Row],[Column4]], IF(AB1568>0,Table1[[#This Row],[Column4]],IF(X1568>0,\"1000\")))","v":false}]
[null,null,null,null,null,null,null,null,null,null,null,null,null,null,null,null,0,null,null,null,null,null,null,null,{"$f":"IF(Table1[[#This Row],[Wage differential Bonus                            - NotePay Rate you are bonusing to]]>0, Table1[[#This Row],[Wage differential Bonus                            - NotePay Rate you are bonusing to]]-Table1[[#This Row],[Pay Rate]], \"\")","v":""},{"$f":"IF(Table1[[#This Row],[Wage differential Bonus                            - NotePay Rate you are bonusing to]]>0,Table1[[#This Row],[Bonus Rate]]*Table1[[#This Row],[Hours]],\"\")","v":""},null,null,null,null,null,{"$f":"IF(OR(AH1569>0.001,AH1569<-0.001),Table1[[#This Row],[Employee '#]],\" \")","v":" "},false,{"$f":"SUMIF(Table1[[#This Row],[Total Wage Diff bonus]:[Bank Bonus]],\"<> \")","v":0},{"$f":"IF(AA1569>0, Table1[[#This Row],[Column4]], IF(AB1569>0,Table1[[#This Row],[Column4]],IF(X1569>0,\"1000\")))","v":false}]
[null,null,null,null,null,null,null,null,null,null,null,null,null,null,null,null,0,null,null,null,null,null,null,null,{"$f":"IF(Table1[[#This Row],[Wage differential Bonus                            - NotePay Rate you are bonusing to]]>0, Table1[[#This Row],[Wage differential Bonus                            - NotePay Rate you are bonusing to]]-Table1[[#This Row],[Pay Rate]], \"\")","v":""},{"$f":"IF(Table1[[#This Row],[Wage differential Bonus                            - NotePay Rate you are bonusing to]]>0,Table1[[#This Row],[Bonus Rate]]*Table1[[#This Row],[Hours]],\"\")","v":""},null,null,null,null,null,{"$f":"IF(OR(AH1573>0.001,AH1573<-0.001),Table1[[#This Row],[Employee '#]],\" \")","v":" "},false,{"$f":"SUMIF(Table1[[#This Row],[Total Wage Diff bonus]:[Bank Bonus]],\"<> \")","v":0},{"$f":"IF(AA1573>0, Table1[[#This Row],[Column4]], IF(AB1573>0,Table1[[#This Row],[Column4]],IF(X1573>0,\"1000\")))","v":false}]
[null,null,null,null,null,null,null,null,null,null,null,null,null,null,null,null,0,null,null,null,null,null,null,null,{"$f":"IF(Table1[[#This Row],[Wage differential Bonus                            - NotePay Rate you are bonusing to]]>0, Table1[[#This Row],[Wage differential Bonus                            - NotePay Rate you are bonusing to]]-Table1[[#This Row],[Pay Rate]], \"\")","v":""},{"$f":"IF(Table1[[#This Row],[Wage differential Bonus                            - NotePay Rate you are bonusing to]]>0,Table1[[#This Row],[Bonus Rate]]*Table1[[#This Row],[Hours]],\"\")","v":""},null,null,null,null,null,{"$f":"IF(OR(AH1574>0.001,AH1574<-0.001),Table1[[#This Row],[Employee '#]],\" \")","v":" "},false,{"$f":"SUMIF(Table1[[#This Row],[Total Wage Diff bonus]:[Bank Bonus]],\"<> \")","v":0},{"$f":"IF(AA1574>0, Table1[[#This Row],[Column4]], IF(AB1574>0,Table1[[#This Row],[Column4]],IF(X1574>0,\"1000\")))","v":false}]
[null,null,null,null,null,null,null,null,null,null,null,null,null,null,null,null,0,null,null,null,null,null,null,null,{"$f":"IF(Table1[[#This Row],[Wage differential Bonus                            - NotePay Rate you are bonusing to]]>0, Table1[[#This Row],[Wage differential Bonus                            - NotePay Rate you are bonusing to]]-Table1[[#This Row],[Pay Rate]], \"\")","v":""},{"$f":"IF(Table1[[#This Row],[Wage differential Bonus                            - NotePay Rate you are bonusing to]]>0,Table1[[#This Row],[Bonus Rate]]*Table1[[#This Row],[Hours]],\"\")","v":""},null,null,null,null,null,{"$f":"IF(OR(AH1577>0.001,AH1577<-0.001),Table1[[#This Row],[Employee '#]],\" \")","v":" "},false,{"$f":"SUMIF(Table1[[#This Row],[Total Wage Diff bonus]:[Bank Bonus]],\"<> \")","v":0},{"$f":"IF(AA1577>0, Table1[[#This Row],[Column4]], IF(AB1577>0,Table1[[#This Row],[Column4]],IF(X1577>0,\"1000\")))","v":false}]
[null,null,null,null,null,null,null,null,null,null,null,null,null,null,null,null,0,null,null,null,null,null,null,null,{"$f":"IF(Table1[[#This Row],[Wage differential Bonus                            - NotePay Rate you are bonusing to]]>0, Table1[[#This Row],[Wage differential Bonus                            - NotePay Rate you are bonusing to]]-Table1[[#This Row],[Pay Rate]], \"\")","v":""},{"$f":"IF(Table1[[#This Row],[Wage differential Bonus                            - NotePay Rate you are bonusing to]]>0,Table1[[#This Row],[Bonus Rate]]*Table1[[#This Row],[Hours]],\"\")","v":""},null,null,null,null,null,{"$f":"IF(OR(AH1580>0.001,AH1580<-0.001),Table1[[#This Row],[Employee '#]],\" \")","v":" "},false,{"$f":"SUMIF(Table1[[#This Row],[Total Wage Diff bonus]:[Bank Bonus]],\"<> \")","v":0},{"$f":"IF(AA1580>0, Table1[[#This Row],[Column4]], IF(AB1580>0,Table1[[#This Row],[Column4]],IF(X1580>0,\"1000\")))","v":false}]
[null,null,null,null,null,null,null,null,null,null,null,null,null,null,null,null,0,null,null,null,null,null,null,null,{"$f":"IF(Table1[[#This Row],[Wage differential Bonus                            - NotePay Rate you are bonusing to]]>0, Table1[[#This Row],[Wage differential Bonus                            - NotePay Rate you are bonusing to]]-Table1[[#This Row],[Pay Rate]], \"\")","v":""},{"$f":"IF(Table1[[#This Row],[Wage differential Bonus                            - NotePay Rate you are bonusing to]]>0,Table1[[#This Row],[Bonus Rate]]*Table1[[#This Row],[Hours]],\"\")","v":""},null,null,null,null,null,{"$f":"IF(OR(AH1582>0.001,AH1582<-0.001),Table1[[#This Row],[Employee '#]],\" \")","v":" "},false,{"$f":"SUMIF(Table1[[#This Row],[Total Wage Diff bonus]:[Bank Bonus]],\"<> \")","v":0},{"$f":"IF(AA1582>0, Table1[[#This Row],[Column4]], IF(AB1582>0,Table1[[#This Row],[Column4]],IF(X1582>0,\"1000\")))","v":false}]
[null,null,null,null,null,null,null,null,null,null,null,null,null,null,null,null,0,null,null,null,null,null,null,null,{"$f":"IF(Table1[[#This Row],[Wage differential Bonus                            - NotePay Rate you are bonusing to]]>0, Table1[[#This Row],[Wage differential Bonus                            - NotePay Rate you are bonusing to]]-Table1[[#This Row],[Pay Rate]], \"\")","v":""},{"$f":"IF(Table1[[#This Row],[Wage differential Bonus                            - NotePay Rate you are bonusing to]]>0,Table1[[#This Row],[Bonus Rate]]*Table1[[#This Row],[Hours]],\"\")","v":""},null,null,null,null,null,{"$f":"IF(OR(AH1583>0.001,AH1583<-0.001),Table1[[#This Row],[Employee '#]],\" \")","v":" "},false,{"$f":"SUMIF(Table1[[#This Row],[Total Wage Diff bonus]:[Bank Bonus]],\"<> \")","v":0},{"$f":"IF(AA1583>0, Table1[[#This Row],[Column4]], IF(AB1583>0,Table1[[#This Row],[Column4]],IF(X1583>0,\"1000\")))","v":false}]
[null,null,null,null,null,null,null,null,null,null,null,null,null,null,null,null,0,null,null,null,null,null,null,null,{"$f":"IF(Table1[[#This Row],[Wage differential Bonus                            - NotePay Rate you are bonusing to]]>0, Table1[[#This Row],[Wage differential Bonus                            - NotePay Rate you are bonusing to]]-Table1[[#This Row],[Pay Rate]], \"\")","v":""},{"$f":"IF(Table1[[#This Row],[Wage differential Bonus                            - NotePay Rate you are bonusing to]]>0,Table1[[#This Row],[Bonus Rate]]*Table1[[#This Row],[Hours]],\"\")","v":""},null,null,null,null,null,{"$f":"IF(OR(AH1586>0.001,AH1586<-0.001),Table1[[#This Row],[Employee '#]],\" \")","v":" "},false,{"$f":"SUMIF(Table1[[#This Row],[Total Wage Diff bonus]:[Bank Bonus]],\"<> \")","v":0},{"$f":"IF(AA1586>0, Table1[[#This Row],[Column4]], IF(AB1586>0,Table1[[#This Row],[Column4]],IF(X1586>0,\"1000\")))","v":false}]
[null,null,null,null,null,null,null,null,null,null,null,null,null,null,null,null,0,null,null,null,null,null,null,null,{"$f":"IF(Table1[[#This Row],[Wage differential Bonus                            - NotePay Rate you are bonusing to]]>0, Table1[[#This Row],[Wage differential Bonus                            - NotePay Rate you are bonusing to]]-Table1[[#This Row],[Pay Rate]], \"\")","v":""},{"$f":"IF(Table1[[#This Row],[Wage differential Bonus                            - NotePay Rate you are bonusing to]]>0,Table1[[#This Row],[Bonus Rate]]*Table1[[#This Row],[Hours]],\"\")","v":""},null,null,null,null,null,{"$f":"IF(OR(AH1587>0.001,AH1587<-0.001),Table1[[#This Row],[Employee '#]],\" \")","v":" "},false,{"$f":"SUMIF(Table1[[#This Row],[Total Wage Diff bonus]:[Bank Bonus]],\"<> \")","v":0},{"$f":"IF(AA1587>0, Table1[[#This Row],[Column4]], IF(AB1587>0,Table1[[#This Row],[Column4]],IF(X1587>0,\"1000\")))","v":false}]
[null,null,null,null,null,null,null,null,null,null,null,null,null,null,null,null,0,null,null,null,null,null,null,null,{"$f":"IF(Table1[[#This Row],[Wage differential Bonus                            - NotePay Rate you are bonusing to]]>0, Table1[[#This Row],[Wage differential Bonus                            - NotePay Rate you are bonusing to]]-Table1[[#This Row],[Pay Rate]], \"\")","v":""},{"$f":"IF(Table1[[#This Row],[Wage differential Bonus                            - NotePay Rate you are bonusing to]]>0,Table1[[#This Row],[Bonus Rate]]*Table1[[#This Row],[Hours]],\"\")","v":""},null,null,null,null,null,{"$f":"IF(OR(AH1591>0.001,AH1591<-0.001),Table1[[#This Row],[Employee '#]],\" \")","v":" "},false,{"$f":"SUMIF(Table1[[#This Row],[Total Wage Diff bonus]:[Bank Bonus]],\"<> \")","v":0},{"$f":"IF(AA1591>0, Table1[[#This Row],[Column4]], IF(AB1591>0,Table1[[#This Row],[Column4]],IF(X1591>0,\"1000\")))","v":false}]
[null,null,null,null,null,null,null,null,null,null,null,null,null,null,null,null,0,null,null,null,null,null,null,null,{"$f":"IF(Table1[[#This Row],[Wage differential Bonus                            - NotePay Rate you are bonusing to]]>0, Table1[[#This Row],[Wage differential Bonus                            - NotePay Rate you are bonusing to]]-Table1[[#This Row],[Pay Rate]], \"\")","v":""},{"$f":"IF(Table1[[#This Row],[Wage differential Bonus                            - NotePay Rate you are bonusing to]]>0,Table1[[#This Row],[Bonus Rate]]*Table1[[#This Row],[Hours]],\"\")","v":""},null,null,null,null,null,{"$f":"IF(OR(AH1592>0.001,AH1592<-0.001),Table1[[#This Row],[Employee '#]],\" \")","v":" "},false,{"$f":"SUMIF(Table1[[#This Row],[Total Wage Diff bonus]:[Bank Bonus]],\"<> \")","v":0},{"$f":"IF(AA1592>0, Table1[[#This Row],[Column4]], IF(AB1592>0,Table1[[#This Row],[Column4]],IF(X1592>0,\"1000\")))","v":false}]
[null,null,null,null,null,null,null,null,null,null,null,null,null,null,null,null,0,null,null,null,null,null,null,null,{"$f":"IF(Table1[[#This Row],[Wage differential Bonus                            - NotePay Rate you are bonusing to]]>0, Table1[[#This Row],[Wage differential Bonus                            - NotePay Rate you are bonusing to]]-Table1[[#This Row],[Pay Rate]], \"\")","v":""},{"$f":"IF(Table1[[#This Row],[Wage differential Bonus                            - NotePay Rate you are bonusing to]]>0,Table1[[#This Row],[Bonus Rate]]*Table1[[#This Row],[Hours]],\"\")","v":""},null,null,null,null,null,{"$f":"IF(OR(AH1595>0.001,AH1595<-0.001),Table1[[#This Row],[Employee '#]],\" \")","v":" "},false,{"$f":"SUMIF(Table1[[#This Row],[Total Wage Diff bonus]:[Bank Bonus]],\"<> \")","v":0},{"$f":"IF(AA1595>0, Table1[[#This Row],[Column4]], IF(AB1595>0,Table1[[#This Row],[Column4]],IF(X1595>0,\"1000\")))","v":false}]
[null,null,null,null,null,null,null,null,null,null,null,null,null,null,null,null,0,null,null,null,null,null,null,null,{"$f":"IF(Table1[[#This Row],[Wage differential Bonus                            - NotePay Rate you are bonusing to]]>0, Table1[[#This Row],[Wage differential Bonus                            - NotePay Rate you are bonusing to]]-Table1[[#This Row],[Pay Rate]], \"\")","v":""},{"$f":"IF(Table1[[#This Row],[Wage differential Bonus                            - NotePay Rate you are bonusing to]]>0,Table1[[#This Row],[Bonus Rate]]*Table1[[#This Row],[Hours]],\"\")","v":""},null,null,null,null,null,{"$f":"IF(OR(AH1598>0.001,AH1598<-0.001),Table1[[#This Row],[Employee '#]],\" \")","v":" "},false,{"$f":"SUMIF(Table1[[#This Row],[Total Wage Diff bonus]:[Bank Bonus]],\"<> \")","v":0},{"$f":"IF(AA1598>0, Table1[[#This Row],[Column4]], IF(AB1598>0,Table1[[#This Row],[Column4]],IF(X1598>0,\"1000\")))","v":false}]
[null,null,null,null,null,null,null,null,null,null,null,null,null,null,null,null,0,null,null,null,null,null,null,null,{"$f":"IF(Table1[[#This Row],[Wage differential Bonus                            - NotePay Rate you are bonusing to]]>0, Table1[[#This Row],[Wage differential Bonus                            - NotePay Rate you are bonusing to]]-Table1[[#This Row],[Pay Rate]], \"\")","v":""},{"$f":"IF(Table1[[#This Row],[Wage differential Bonus                            - NotePay Rate you are bonusing to]]>0,Table1[[#This Row],[Bonus Rate]]*Table1[[#This Row],[Hours]],\"\")","v":""},null,null,null,null,null,{"$f":"IF(OR(AH1600>0.001,AH1600<-0.001),Table1[[#This Row],[Employee '#]],\" \")","v":" "},false,{"$f":"SUMIF(Table1[[#This Row],[Total Wage Diff bonus]:[Bank Bonus]],\"<> \")","v":0},{"$f":"IF(AA1600>0, Table1[[#This Row],[Column4]], IF(AB1600>0,Table1[[#This Row],[Column4]],IF(X1600>0,\"1000\")))","v":false}]
[null,null,null,null,null,null,null,null,null,null,null,null,null,null,null,null,0,null,null,null,null,null,null,null,{"$f":"IF(Table1[[#This Row],[Wage differential Bonus                            - NotePay Rate you are bonusing to]]>0, Table1[[#This Row],[Wage differential Bonus                            - NotePay Rate you are bonusing to]]-Table1[[#This Row],[Pay Rate]], \"\")","v":""},{"$f":"IF(Table1[[#This Row],[Wage differential Bonus                            - NotePay Rate you are bonusing to]]>0,Table1[[#This Row],[Bonus Rate]]*Table1[[#This Row],[Hours]],\"\")","v":""},null,null,null,null,null,{"$f":"IF(OR(AH1601>0.001,AH1601<-0.001),Table1[[#This Row],[Employee '#]],\" \")","v":" "},false,{"$f":"SUMIF(Table1[[#This Row],[Total Wage Diff bonus]:[Bank Bonus]],\"<> \")","v":0},{"$f":"IF(AA1601>0, Table1[[#This Row],[Column4]], IF(AB1601>0,Table1[[#This Row],[Column4]],IF(X1601>0,\"1000\")))","v":false}]
[null,null,null,null,null,null,null,null,null,null,null,null,null,null,null,null,0,null,null,null,null,null,null,null,{"$f":"IF(Table1[[#This Row],[Wage differential Bonus                            - NotePay Rate you are bonusing to]]>0, Table1[[#This Row],[Wage differential Bonus                            - NotePay Rate you are bonusing to]]-Table1[[#This Row],[Pay Rate]], \"\")","v":""},{"$f":"IF(Table1[[#This Row],[Wage differential Bonus                            - NotePay Rate you are bonusing to]]>0,Table1[[#This Row],[Bonus Rate]]*Table1[[#This Row],[Hours]],\"\")","v":""},null,null,null,null,null,{"$f":"IF(OR(AH1603>0.001,AH1603<-0.001),Table1[[#This Row],[Employee '#]],\" \")","v":" "},false,{"$f":"SUMIF(Table1[[#This Row],[Total Wage Diff bonus]:[Bank Bonus]],\"<> \")","v":0},{"$f":"IF(AA1603>0, Table1[[#This Row],[Column4]], IF(AB1603>0,Table1[[#This Row],[Column4]],IF(X1603>0,\"1000\")))","v":false}]
[null,null,null,null,null,null,null,null,null,null,null,null,null,null,null,null,0,null,null,null,null,null,null,null,{"$f":"IF(Table1[[#This Row],[Wage differential Bonus                            - NotePay Rate you are bonusing to]]>0, Table1[[#This Row],[Wage differential Bonus                            - NotePay Rate you are bonusing to]]-Table1[[#This Row],[Pay Rate]], \"\")","v":""},{"$f":"IF(Table1[[#This Row],[Wage differential Bonus                            - NotePay Rate you are bonusing to]]>0,Table1[[#This Row],[Bonus Rate]]*Table1[[#This Row],[Hours]],\"\")","v":""},null,null,null,null,null,{"$f":"IF(OR(AH1606>0.001,AH1606<-0.001),Table1[[#This Row],[Employee '#]],\" \")","v":" "},false,{"$f":"SUMIF(Table1[[#This Row],[Total Wage Diff bonus]:[Bank Bonus]],\"<> \")","v":0},{"$f":"IF(AA1606>0, Table1[[#This Row],[Column4]], IF(AB1606>0,Table1[[#This Row],[Column4]],IF(X1606>0,\"1000\")))","v":false}]
[null,null,null,null,null,null,null,null,null,null,null,null,null,null,null,null,0,null,null,null,null,null,null,null,{"$f":"IF(Table1[[#This Row],[Wage differential Bonus                            - NotePay Rate you are bonusing to]]>0, Table1[[#This Row],[Wage differential Bonus                            - NotePay Rate you are bonusing to]]-Table1[[#This Row],[Pay Rate]], \"\")","v":""},{"$f":"IF(Table1[[#This Row],[Wage differential Bonus                            - NotePay Rate you are bonusing to]]>0,Table1[[#This Row],[Bonus Rate]]*Table1[[#This Row],[Hours]],\"\")","v":""},null,null,null,null,null,{"$f":"IF(OR(AH1609>0.001,AH1609<-0.001),Table1[[#This Row],[Employee '#]],\" \")","v":" "},false,{"$f":"SUMIF(Table1[[#This Row],[Total Wage Diff bonus]:[Bank Bonus]],\"<> \")","v":0},{"$f":"IF(AA1609>0, Table1[[#This Row],[Column4]], IF(AB1609>0,Table1[[#This Row],[Column4]],IF(X1609>0,\"1000\")))","v":false}]
[null,null,null,null,null,null,null,null,null,null,null,null,null,null,null,null,0,null,null,null,null,null,null,null,{"$f":"IF(Table1[[#This Row],[Wage differential Bonus                            - NotePay Rate you are bonusing to]]>0, Table1[[#This Row],[Wage differential Bonus                            - NotePay Rate you are bonusing to]]-Table1[[#This Row],[Pay Rate]], \"\")","v":""},{"$f":"IF(Table1[[#This Row],[Wage differential Bonus                            - NotePay Rate you are bonusing to]]>0,Table1[[#This Row],[Bonus Rate]]*Table1[[#This Row],[Hours]],\"\")","v":""},null,null,null,null,null,{"$f":"IF(OR(AH1610>0.001,AH1610<-0.001),Table1[[#This Row],[Employee '#]],\" \")","v":" "},false,{"$f":"SUMIF(Table1[[#This Row],[Total Wage Diff bonus]:[Bank Bonus]],\"<> \")","v":0},{"$f":"IF(AA1610>0, Table1[[#This Row],[Column4]], IF(AB1610>0,Table1[[#This Row],[Column4]],IF(X1610>0,\"1000\")))","v":false}]
[null,null,null,null,null,null,null,null,null,null,null,null,null,null,null,null,0,null,null,null,null,null,null,null,{"$f":"IF(Table1[[#This Row],[Wage differential Bonus                            - NotePay Rate you are bonusing to]]>0, Table1[[#This Row],[Wage differential Bonus                            - NotePay Rate you are bonusing to]]-Table1[[#This Row],[Pay Rate]], \"\")","v":""},{"$f":"IF(Table1[[#This Row],[Wage differential Bonus                            - NotePay Rate you are bonusing to]]>0,Table1[[#This Row],[Bonus Rate]]*Table1[[#This Row],[Hours]],\"\")","v":""},null,null,null,null,null,{"$f":"IF(OR(AH1614>0.001,AH1614<-0.001),Table1[[#This Row],[Employee '#]],\" \")","v":" "},false,{"$f":"SUMIF(Table1[[#This Row],[Total Wage Diff bonus]:[Bank Bonus]],\"<> \")","v":0},{"$f":"IF(AA1614>0, Table1[[#This Row],[Column4]], IF(AB1614>0,Table1[[#This Row],[Column4]],IF(X1614>0,\"1000\")))","v":false}]
[null,null,null,null,null,null,null,null,null,null,null,null,null,null,null,null,0,null,null,null,null,null,null,null,{"$f":"IF(Table1[[#This Row],[Wage differential Bonus                            - NotePay Rate you are bonusing to]]>0, Table1[[#This Row],[Wage differential Bonus                            - NotePay Rate you are bonusing to]]-Table1[[#This Row],[Pay Rate]], \"\")","v":""},{"$f":"IF(Table1[[#This Row],[Wage differential Bonus                            - NotePay Rate you are bonusing to]]>0,Table1[[#This Row],[Bonus Rate]]*Table1[[#This Row],[Hours]],\"\")","v":""},null,null,null,null,null,{"$f":"IF(OR(AH1615>0.001,AH1615<-0.001),Table1[[#This Row],[Employee '#]],\" \")","v":" "},false,{"$f":"SUMIF(Table1[[#This Row],[Total Wage Diff bonus]:[Bank Bonus]],\"<> \")","v":0},{"$f":"IF(AA1615>0, Table1[[#This Row],[Column4]], IF(AB1615>0,Table1[[#This Row],[Column4]],IF(X1615>0,\"1000\")))","v":false}]
[null,null,null,null,null,null,null,null,null,null,null,null,null,null,null,null,0,null,null,null,null,null,null,null,{"$f":"IF(Table1[[#This Row],[Wage differential Bonus                            - NotePay Rate you are bonusing to]]>0, Table1[[#This Row],[Wage differential Bonus                            - NotePay Rate you are bonusing to]]-Table1[[#This Row],[Pay Rate]], \"\")","v":""},{"$f":"IF(Table1[[#This Row],[Wage differential Bonus                            - NotePay Rate you are bonusing to]]>0,Table1[[#This Row],[Bonus Rate]]*Table1[[#This Row],[Hours]],\"\")","v":""},null,null,null,null,null,{"$f":"IF(OR(AH1618>0.001,AH1618<-0.001),Table1[[#This Row],[Employee '#]],\" \")","v":" "},false,{"$f":"SUMIF(Table1[[#This Row],[Total Wage Diff bonus]:[Bank Bonus]],\"<> \")","v":0},{"$f":"IF(AA1618>0, Table1[[#This Row],[Column4]], IF(AB1618>0,Table1[[#This Row],[Column4]],IF(X1618>0,\"1000\")))","v":false}]
[null,null,null,null,null,null,null,null,null,null,null,null,null,null,null,null,0,null,null,null,null,null,null,null,{"$f":"IF(Table1[[#This Row],[Wage differential Bonus                            - NotePay Rate you are bonusing to]]>0, Table1[[#This Row],[Wage differential Bonus                            - NotePay Rate you are bonusing to]]-Table1[[#This Row],[Pay Rate]], \"\")","v":""},{"$f":"IF(Table1[[#This Row],[Wage differential Bonus                            - NotePay Rate you are bonusing to]]>0,Table1[[#This Row],[Bonus Rate]]*Table1[[#This Row],[Hours]],\"\")","v":""},null,null,null,null,null,{"$f":"IF(OR(AH1619>0.001,AH1619<-0.001),Table1[[#This Row],[Employee '#]],\" \")","v":" "},false,{"$f":"SUMIF(Table1[[#This Row],[Total Wage Diff bonus]:[Bank Bonus]],\"<> \")","v":0},{"$f":"IF(AA1619>0, Table1[[#This Row],[Column4]], IF(AB1619>0,Table1[[#This Row],[Column4]],IF(X1619>0,\"1000\")))","v":false}]
[null,null,null,null,null,null,null,null,null,null,null,null,null,null,null,null,0,null,null,null,null,null,null,null,{"$f":"IF(Table1[[#This Row],[Wage differential Bonus                            - NotePay Rate you are bonusing to]]>0, Table1[[#This Row],[Wage differential Bonus                            - NotePay Rate you are bonusing to]]-Table1[[#This Row],[Pay Rate]], \"\")","v":""},{"$f":"IF(Table1[[#This Row],[Wage differential Bonus                            - NotePay Rate you are bonusing to]]>0,Table1[[#This Row],[Bonus Rate]]*Table1[[#This Row],[Hours]],\"\")","v":""},null,null,null,null,null,{"$f":"IF(OR(AH1621>0.001,AH1621<-0.001),Table1[[#This Row],[Employee '#]],\" \")","v":" "},false,{"$f":"SUMIF(Table1[[#This Row],[Total Wage Diff bonus]:[Bank Bonus]],\"<> \")","v":0},{"$f":"IF(AA1621>0, Table1[[#This Row],[Column4]], IF(AB1621>0,Table1[[#This Row],[Column4]],IF(X1621>0,\"1000\")))","v":false}]
[null,null,null,null,null,null,null,null,null,null,null,null,null,null,null,null,0,null,null,null,null,null,null,null,{"$f":"IF(Table1[[#This Row],[Wage differential Bonus                            - NotePay Rate you are bonusing to]]>0, Table1[[#This Row],[Wage differential Bonus                            - NotePay Rate you are bonusing to]]-Table1[[#This Row],[Pay Rate]], \"\")","v":""},{"$f":"IF(Table1[[#This Row],[Wage differential Bonus                            - NotePay Rate you are bonusing to]]>0,Table1[[#This Row],[Bonus Rate]]*Table1[[#This Row],[Hours]],\"\")","v":""},null,null,null,null,null,{"$f":"IF(OR(AH1624>0.001,AH1624<-0.001),Table1[[#This Row],[Employee '#]],\" \")","v":" "},false,{"$f":"SUMIF(Table1[[#This Row],[Total Wage Diff bonus]:[Bank Bonus]],\"<> \")","v":0},{"$f":"IF(AA1624>0, Table1[[#This Row],[Column4]], IF(AB1624>0,Table1[[#This Row],[Column4]],IF(X1624>0,\"1000\")))","v":false}]
[null,null,null,null,null,null,null,null,null,null,null,null,null,null,null,null,0,null,null,null,null,null,null,null,{"$f":"IF(Table1[[#This Row],[Wage differential Bonus                            - NotePay Rate you are bonusing to]]>0, Table1[[#This Row],[Wage differential Bonus                            - NotePay Rate you are bonusing to]]-Table1[[#This Row],[Pay Rate]], \"\")","v":""},{"$f":"IF(Table1[[#This Row],[Wage differential Bonus                            - NotePay Rate you are bonusing to]]>0,Table1[[#This Row],[Bonus Rate]]*Table1[[#This Row],[Hours]],\"\")","v":""},null,null,null,null,null,{"$f":"IF(OR(AH1627>0.001,AH1627<-0.001),Table1[[#This Row],[Employee '#]],\" \")","v":" "},false,{"$f":"SUMIF(Table1[[#This Row],[Total Wage Diff bonus]:[Bank Bonus]],\"<> \")","v":0},{"$f":"IF(AA1627>0, Table1[[#This Row],[Column4]], IF(AB1627>0,Table1[[#This Row],[Column4]],IF(X1627>0,\"1000\")))","v":false}]
[null,null,null,null,null,null,null,null,null,null,null,null,null,null,null,null,0,null,null,null,null,null,null,null,{"$f":"IF(Table1[[#This Row],[Wage differential Bonus                            - NotePay Rate you are bonusing to]]>0, Table1[[#This Row],[Wage differential Bonus                            - NotePay Rate you are bonusing to]]-Table1[[#This Row],[Pay Rate]], \"\")","v":""},{"$f":"IF(Table1[[#This Row],[Wage differential Bonus                            - NotePay Rate you are bonusing to]]>0,Table1[[#This Row],[Bonus Rate]]*Table1[[#This Row],[Hours]],\"\")","v":""},null,null,null,null,null,{"$f":"IF(OR(AH1628>0.001,AH1628<-0.001),Table1[[#This Row],[Employee '#]],\" \")","v":" "},false,{"$f":"SUMIF(Table1[[#This Row],[Total Wage Diff bonus]:[Bank Bonus]],\"<> \")","v":0},{"$f":"IF(AA1628>0, Table1[[#This Row],[Column4]], IF(AB1628>0,Table1[[#This Row],[Column4]],IF(X1628>0,\"1000\")))","v":false}]
[null,null,null,null,null,null,null,null,null,null,null,null,null,null,null,null,0,null,null,null,null,null,null,null,{"$f":"IF(Table1[[#This Row],[Wage differential Bonus                            - NotePay Rate you are bonusing to]]>0, Table1[[#This Row],[Wage differential Bonus                            - NotePay Rate you are bonusing to]]-Table1[[#This Row],[Pay Rate]], \"\")","v":""},{"$f":"IF(Table1[[#This Row],[Wage differential Bonus                            - NotePay Rate you are bonusing to]]>0,Table1[[#This Row],[Bonus Rate]]*Table1[[#This Row],[Hours]],\"\")","v":""},null,null,null,null,null,{"$f":"IF(OR(AH1632>0.001,AH1632<-0.001),Table1[[#This Row],[Employee '#]],\" \")","v":" "},false,{"$f":"SUMIF(Table1[[#This Row],[Total Wage Diff bonus]:[Bank Bonus]],\"<> \")","v":0},{"$f":"IF(AA1632>0, Table1[[#This Row],[Column4]], IF(AB1632>0,Table1[[#This Row],[Column4]],IF(X1632>0,\"1000\")))","v":false}]
[null,null,null,null,null,null,null,null,null,null,null,null,null,null,null,null,0,null,null,null,null,null,null,null,{"$f":"IF(Table1[[#This Row],[Wage differential Bonus                            - NotePay Rate you are bonusing to]]>0, Table1[[#This Row],[Wage differential Bonus                            - NotePay Rate you are bonusing to]]-Table1[[#This Row],[Pay Rate]], \"\")","v":""},{"$f":"IF(Table1[[#This Row],[Wage differential Bonus                            - NotePay Rate you are bonusing to]]>0,Table1[[#This Row],[Bonus Rate]]*Table1[[#This Row],[Hours]],\"\")","v":""},null,null,null,null,null,{"$f":"IF(OR(AH1633>0.001,AH1633<-0.001),Table1[[#This Row],[Employee '#]],\" \")","v":" "},false,{"$f":"SUMIF(Table1[[#This Row],[Total Wage Diff bonus]:[Bank Bonus]],\"<> \")","v":0},{"$f":"IF(AA1633>0, Table1[[#This Row],[Column4]], IF(AB1633>0,Table1[[#This Row],[Column4]],IF(X1633>0,\"1000\")))","v":false}]
[null,null,null,null,null,null,null,null,null,null,null,null,null,null,null,null,0,null,null,null,null,null,null,null,{"$f":"IF(Table1[[#This Row],[Wage differential Bonus                            - NotePay Rate you are bonusing to]]>0, Table1[[#This Row],[Wage differential Bonus                            - NotePay Rate you are bonusing to]]-Table1[[#This Row],[Pay Rate]], \"\")","v":""},{"$f":"IF(Table1[[#This Row],[Wage differential Bonus                            - NotePay Rate you are bonusing to]]>0,Table1[[#This Row],[Bonus Rate]]*Table1[[#This Row],[Hours]],\"\")","v":""},null,null,null,null,null,{"$f":"IF(OR(AH1636>0.001,AH1636<-0.001),Table1[[#This Row],[Employee '#]],\" \")","v":" "},false,{"$f":"SUMIF(Table1[[#This Row],[Total Wage Diff bonus]:[Bank Bonus]],\"<> \")","v":0},{"$f":"IF(AA1636>0, Table1[[#This Row],[Column4]], IF(AB1636>0,Table1[[#This Row],[Column4]],IF(X1636>0,\"1000\")))","v":false}]
[null,null,null,null,null,null,null,null,null,null,null,null,null,null,null,null,0,null,null,null,null,null,null,null,{"$f":"IF(Table1[[#This Row],[Wage differential Bonus                            - NotePay Rate you are bonusing to]]>0, Table1[[#This Row],[Wage differential Bonus                            - NotePay Rate you are bonusing to]]-Table1[[#This Row],[Pay Rate]], \"\")","v":""},{"$f":"IF(Table1[[#This Row],[Wage differential Bonus                            - NotePay Rate you are bonusing to]]>0,Table1[[#This Row],[Bonus Rate]]*Table1[[#This Row],[Hours]],\"\")","v":""},null,null,null,null,null,{"$f":"IF(OR(AH1637>0.001,AH1637<-0.001),Table1[[#This Row],[Employee '#]],\" \")","v":" "},false,{"$f":"SUMIF(Table1[[#This Row],[Total Wage Diff bonus]:[Bank Bonus]],\"<> \")","v":0},{"$f":"IF(AA1637>0, Table1[[#This Row],[Column4]], IF(AB1637>0,Table1[[#This Row],[Column4]],IF(X1637>0,\"1000\")))","v":false}]
[null,null,null,null,null,null,null,null,null,null,null,null,null,null,null,null,0,null,null,null,null,null,null,null,{"$f":"IF(Table1[[#This Row],[Wage differential Bonus                            - NotePay Rate you are bonusing to]]>0, Table1[[#This Row],[Wage differential Bonus                            - NotePay Rate you are bonusing to]]-Table1[[#This Row],[Pay Rate]], \"\")","v":""},{"$f":"IF(Table1[[#This Row],[Wage differential Bonus                            - NotePay Rate you are bonusing to]]>0,Table1[[#This Row],[Bonus Rate]]*Table1[[#This Row],[Hours]],\"\")","v":""},null,null,null,null,null,{"$f":"IF(OR(AH1641>0.001,AH1641<-0.001),Table1[[#This Row],[Employee '#]],\" \")","v":" "},false,{"$f":"SUMIF(Table1[[#This Row],[Total Wage Diff bonus]:[Bank Bonus]],\"<> \")","v":0},{"$f":"IF(AA1641>0, Table1[[#This Row],[Column4]], IF(AB1641>0,Table1[[#This Row],[Column4]],IF(X1641>0,\"1000\")))","v":false}]
[null,null,null,null,null,null,null,null,null,null,null,null,null,null,null,null,0,null,null,null,null,null,null,null,{"$f":"IF(Table1[[#This Row],[Wage differential Bonus                            - NotePay Rate you are bonusing to]]>0, Table1[[#This Row],[Wage differential Bonus                            - NotePay Rate you are bonusing to]]-Table1[[#This Row],[Pay Rate]], \"\")","v":""},{"$f":"IF(Table1[[#This Row],[Wage differential Bonus                            - NotePay Rate you are bonusing to]]>0,Table1[[#This Row],[Bonus Rate]]*Table1[[#This Row],[Hours]],\"\")","v":""},null,null,null,null,null,{"$f":"IF(OR(AH1642>0.001,AH1642<-0.001),Table1[[#This Row],[Employee '#]],\" \")","v":" "},false,{"$f":"SUMIF(Table1[[#This Row],[Total Wage Diff bonus]:[Bank Bonus]],\"<> \")","v":0},{"$f":"IF(AA1642>0, Table1[[#This Row],[Column4]], IF(AB1642>0,Table1[[#This Row],[Column4]],IF(X1642>0,\"1000\")))","v":false}]
[null,null,null,null,null,null,null,null,null,null,null,null,null,null,null,null,0,null,null,null,null,null,null,null,{"$f":"IF(Table1[[#This Row],[Wage differential Bonus                            - NotePay Rate you are bonusing to]]>0, Table1[[#This Row],[Wage differential Bonus                            - NotePay Rate you are bonusing to]]-Table1[[#This Row],[Pay Rate]], \"\")","v":""},{"$f":"IF(Table1[[#This Row],[Wage differential Bonus                            - NotePay Rate you are bonusing to]]>0,Table1[[#This Row],[Bonus Rate]]*Table1[[#This Row],[Hours]],\"\")","v":""},null,null,null,null,null,{"$f":"IF(OR(AH1645>0.001,AH1645<-0.001),Table1[[#This Row],[Employee '#]],\" \")","v":" "},false,{"$f":"SUMIF(Table1[[#This Row],[Total Wage Diff bonus]:[Bank Bonus]],\"<> \")","v":0},{"$f":"IF(AA1645>0, Table1[[#This Row],[Column4]], IF(AB1645>0,Table1[[#This Row],[Column4]],IF(X1645>0,\"1000\")))","v":false}]
[null,null,null,null,null,null,null,null,null,null,null,null,null,null,null,null,0,null,null,null,null,null,null,null,{"$f":"IF(Table1[[#This Row],[Wage differential Bonus                            - NotePay Rate you are bonusing to]]>0, Table1[[#This Row],[Wage differential Bonus                            - NotePay Rate you are bonusing to]]-Table1[[#This Row],[Pay Rate]], \"\")","v":""},{"$f":"IF(Table1[[#This Row],[Wage differential Bonus                            - NotePay Rate you are bonusing to]]>0,Table1[[#This Row],[Bonus Rate]]*Table1[[#This Row],[Hours]],\"\")","v":""},null,null,null,null,null,{"$f":"IF(OR(AH1647>0.001,AH1647<-0.001),Table1[[#This Row],[Employee '#]],\" \")","v":" "},false,{"$f":"SUMIF(Table1[[#This Row],[Total Wage Diff bonus]:[Bank Bonus]],\"<> \")","v":0},{"$f":"IF(AA1647>0, Table1[[#This Row],[Column4]], IF(AB1647>0,Table1[[#This Row],[Column4]],IF(X1647>0,\"1000\")))","v":false}]
[null,null,null,null,null,null,null,null,null,null,null,null,null,null,null,null,0,null,null,null,null,null,null,null,{"$f":"IF(Table1[[#This Row],[Wage differential Bonus                            - NotePay Rate you are bonusing to]]>0, Table1[[#This Row],[Wage differential Bonus                            - NotePay Rate you are bonusing to]]-Table1[[#This Row],[Pay Rate]], \"\")","v":""},{"$f":"IF(Table1[[#This Row],[Wage differential Bonus                            - NotePay Rate you are bonusing to]]>0,Table1[[#This Row],[Bonus Rate]]*Table1[[#This Row],[Hours]],\"\")","v":""},null,null,null,null,null,{"$f":"IF(OR(AH1650>0.001,AH1650<-0.001),Table1[[#This Row],[Employee '#]],\" \")","v":" "},false,{"$f":"SUMIF(Table1[[#This Row],[Total Wage Diff bonus]:[Bank Bonus]],\"<> \")","v":0},{"$f":"IF(AA1650>0, Table1[[#This Row],[Column4]], IF(AB1650>0,Table1[[#This Row],[Column4]],IF(X1650>0,\"1000\")))","v":false}]
[null,null,null,null,null,null,null,null,null,null,null,null,null,null,null,null,0,null,null,null,null,null,null,null,{"$f":"IF(Table1[[#This Row],[Wage differential Bonus                            - NotePay Rate you are bonusing to]]>0, Table1[[#This Row],[Wage differential Bonus                            - NotePay Rate you are bonusing to]]-Table1[[#This Row],[Pay Rate]], \"\")","v":""},{"$f":"IF(Table1[[#This Row],[Wage differential Bonus                            - NotePay Rate you are bonusing to]]>0,Table1[[#This Row],[Bonus Rate]]*Table1[[#This Row],[Hours]],\"\")","v":""},null,null,null,null,null,{"$f":"IF(OR(AH1651>0.001,AH1651<-0.001),Table1[[#This Row],[Employee '#]],\" \")","v":" "},false,{"$f":"SUMIF(Table1[[#This Row],[Total Wage Diff bonus]:[Bank Bonus]],\"<> \")","v":0},{"$f":"IF(AA1651>0, Table1[[#This Row],[Column4]], IF(AB1651>0,Table1[[#This Row],[Column4]],IF(X1651>0,\"1000\")))","v":false}]
[null,null,null,null,null,null,null,null,null,null,null,null,null,null,null,null,0,null,null,null,null,null,null,null,{"$f":"IF(Table1[[#This Row],[Wage differential Bonus                            - NotePay Rate you are bonusing to]]>0, Table1[[#This Row],[Wage differential Bonus                            - NotePay Rate you are bonusing to]]-Table1[[#This Row],[Pay Rate]], \"\")","v":""},{"$f":"IF(Table1[[#This Row],[Wage differential Bonus                            - NotePay Rate you are bonusing to]]>0,Table1[[#This Row],[Bonus Rate]]*Table1[[#This Row],[Hours]],\"\")","v":""},null,null,null,null,null,{"$f":"IF(OR(AH1654>0.001,AH1654<-0.001),Table1[[#This Row],[Employee '#]],\" \")","v":" "},false,{"$f":"SUMIF(Table1[[#This Row],[Total Wage Diff bonus]:[Bank Bonus]],\"<> \")","v":0},{"$f":"IF(AA1654>0, Table1[[#This Row],[Column4]], IF(AB1654>0,Table1[[#This Row],[Column4]],IF(X1654>0,\"1000\")))","v":false}]
[null,null,null,null,null,null,null,null,null,null,null,null,null,null,null,null,0,null,null,null,null,null,null,null,{"$f":"IF(Table1[[#This Row],[Wage differential Bonus                            - NotePay Rate you are bonusing to]]>0, Table1[[#This Row],[Wage differential Bonus                            - NotePay Rate you are bonusing to]]-Table1[[#This Row],[Pay Rate]], \"\")","v":""},{"$f":"IF(Table1[[#This Row],[Wage differential Bonus                            - NotePay Rate you are bonusing to]]>0,Table1[[#This Row],[Bonus Rate]]*Table1[[#This Row],[Hours]],\"\")","v":""},null,null,null,null,null,{"$f":"IF(OR(AH1655>0.001,AH1655<-0.001),Table1[[#This Row],[Employee '#]],\" \")","v":" "},false,{"$f":"SUMIF(Table1[[#This Row],[Total Wage Diff bonus]:[Bank Bonus]],\"<> \")","v":0},{"$f":"IF(AA1655>0, Table1[[#This Row],[Column4]], IF(AB1655>0,Table1[[#This Row],[Column4]],IF(X1655>0,\"1000\")))","v":false}]
[null,null,null,null,null,null,null,null,null,null,null,null,null,null,null,null,0,null,null,null,null,null,null,null,{"$f":"IF(Table1[[#This Row],[Wage differential Bonus                            - NotePay Rate you are bonusing to]]>0, Table1[[#This Row],[Wage differential Bonus                            - NotePay Rate you are bonusing to]]-Table1[[#This Row],[Pay Rate]], \"\")","v":""},{"$f":"IF(Table1[[#This Row],[Wage differential Bonus                            - NotePay Rate you are bonusing to]]>0,Table1[[#This Row],[Bonus Rate]]*Table1[[#This Row],[Hours]],\"\")","v":""},null,null,null,null,null,{"$f":"IF(OR(AH1659>0.001,AH1659<-0.001),Table1[[#This Row],[Employee '#]],\" \")","v":" "},false,{"$f":"SUMIF(Table1[[#This Row],[Total Wage Diff bonus]:[Bank Bonus]],\"<> \")","v":0},{"$f":"IF(AA1659>0, Table1[[#This Row],[Column4]], IF(AB1659>0,Table1[[#This Row],[Column4]],IF(X1659>0,\"1000\")))","v":false}]
[null,null,null,null,null,null,null,null,null,null,null,null,null,null,null,null,0,null,null,null,null,null,null,null,{"$f":"IF(Table1[[#This Row],[Wage differential Bonus                            - NotePay Rate you are bonusing to]]>0, Table1[[#This Row],[Wage differential Bonus                            - NotePay Rate you are bonusing to]]-Table1[[#This Row],[Pay Rate]], \"\")","v":""},{"$f":"IF(Table1[[#This Row],[Wage differential Bonus                            - NotePay Rate you are bonusing to]]>0,Table1[[#This Row],[Bonus Rate]]*Table1[[#This Row],[Hours]],\"\")","v":""},null,null,null,null,null,{"$f":"IF(OR(AH1660>0.001,AH1660<-0.001),Table1[[#This Row],[Employee '#]],\" \")","v":" "},false,{"$f":"SUMIF(Table1[[#This Row],[Total Wage Diff bonus]:[Bank Bonus]],\"<> \")","v":0},{"$f":"IF(AA1660>0, Table1[[#This Row],[Column4]], IF(AB1660>0,Table1[[#This Row],[Column4]],IF(X1660>0,\"1000\")))","v":false}]
[null,null,null,null,null,null,null,null,null,null,null,null,null,null,null,null,0,null,null,null,null,null,null,null,{"$f":"IF(Table1[[#This Row],[Wage differential Bonus                            - NotePay Rate you are bonusing to]]>0, Table1[[#This Row],[Wage differential Bonus                            - NotePay Rate you are bonusing to]]-Table1[[#This Row],[Pay Rate]], \"\")","v":""},{"$f":"IF(Table1[[#This Row],[Wage differential Bonus                            - NotePay Rate you are bonusing to]]>0,Table1[[#This Row],[Bonus Rate]]*Table1[[#This Row],[Hours]],\"\")","v":""},null,null,null,null,null,{"$f":"IF(OR(AH1663>0.001,AH1663<-0.001),Table1[[#This Row],[Employee '#]],\" \")","v":" "},false,{"$f":"SUMIF(Table1[[#This Row],[Total Wage Diff bonus]:[Bank Bonus]],\"<> \")","v":0},{"$f":"IF(AA1663>0, Table1[[#This Row],[Column4]], IF(AB1663>0,Table1[[#This Row],[Column4]],IF(X1663>0,\"1000\")))","v":false}]
[null,null,null,null,null,null,null,null,null,null,null,null,null,null,null,null,0,null,null,null,null,null,null,null,{"$f":"IF(Table1[[#This Row],[Wage differential Bonus                            - NotePay Rate you are bonusing to]]>0, Table1[[#This Row],[Wage differential Bonus                            - NotePay Rate you are bonusing to]]-Table1[[#This Row],[Pay Rate]], \"\")","v":""},{"$f":"IF(Table1[[#This Row],[Wage differential Bonus                            - NotePay Rate you are bonusing to]]>0,Table1[[#This Row],[Bonus Rate]]*Table1[[#This Row],[Hours]],\"\")","v":""},null,null,null,null,null,{"$f":"IF(OR(AH1665>0.001,AH1665<-0.001),Table1[[#This Row],[Employee '#]],\" \")","v":" "},false,{"$f":"SUMIF(Table1[[#This Row],[Total Wage Diff bonus]:[Bank Bonus]],\"<> \")","v":0},{"$f":"IF(AA1665>0, Table1[[#This Row],[Column4]], IF(AB1665>0,Table1[[#This Row],[Column4]],IF(X1665>0,\"1000\")))","v":false}]
[null,null,null,null,null,null,null,null,null,null,null,null,null,null,null,null,{"$f":"L1668+P1668","v":0},null,null,null,null,null,null,null,{"$f":"IF(Table1[[#This Row],[Wage differential Bonus                            - NotePay Rate you are bonusing to]]>0, Table1[[#This Row],[Wage differential Bonus                            - NotePay Rate you are bonusing to]]-Table1[[#This Row],[Pay Rate]], \"\")","v":""},{"$f":"IF(Table1[[#This Row],[Wage differential Bonus                            - NotePay Rate you are bonusing to]]>0,Table1[[#This Row],[Bonus Rate]]*Table1[[#This Row],[Hours]],\"\")","v":""},null,null,null,null,null,{"$f":"IF(OR(AH1668>0.001,AH1668<-0.001),Table1[[#This Row],[Employee '#]],\" \")","v":" "},{"$f":"IF(AA1668>0, \"28\", IF(AB1668>0,\"53\",IF(X1668>0,\"20\")))","v":false},{"$f":"SUMIF(Table1[[#This Row],[Total Wage Diff bonus]:[Bank Bonus]],\"<> \")","v":0},{"$f":"IF(AA1668>0, Table1[[#This Row],[Column4]], IF(AB1668>0,Table1[[#This Row],[Column4]],IF(X1668>0,\"1000\")))","v":false}]
[null,null,null,null,null,null,null,null,null,null,null,null,null,null,null,null,0,null,null,null,null,null,null,null,{"$f":"IF(Table1[[#This Row],[Wage differential Bonus                            - NotePay Rate you are bonusing to]]>0, Table1[[#This Row],[Wage differential Bonus                            - NotePay Rate you are bonusing to]]-Table1[[#This Row],[Pay Rate]], \"\")","v":""},{"$f":"IF(Table1[[#This Row],[Wage differential Bonus                            - NotePay Rate you are bonusing to]]>0,Table1[[#This Row],[Bonus Rate]]*Table1[[#This Row],[Hours]],\"\")","v":""},null,null,null,null,null,{"$f":"IF(OR(AH1669>0.001,AH1669<-0.001),Table1[[#This Row],[Employee '#]],\" \")","v":" "},false,{"$f":"SUMIF(Table1[[#This Row],[Total Wage Diff bonus]:[Bank Bonus]],\"<> \")","v":0},{"$f":"IF(AA1669>0, Table1[[#This Row],[Column4]], IF(AB1669>0,Table1[[#This Row],[Column4]],IF(X1669>0,\"1000\")))","v":false}]
[null,null,null,null,null,null,null,null,null,null,null,null,null,null,null,null,0,null,null,null,null,null,null,null,{"$f":"IF(Table1[[#This Row],[Wage differential Bonus                            - NotePay Rate you are bonusing to]]>0, Table1[[#This Row],[Wage differential Bonus                            - NotePay Rate you are bonusing to]]-Table1[[#This Row],[Pay Rate]], \"\")","v":""},{"$f":"IF(Table1[[#This Row],[Wage differential Bonus                            - NotePay Rate you are bonusing to]]>0,Table1[[#This Row],[Bonus Rate]]*Table1[[#This Row],[Hours]],\"\")","v":""},null,null,null,null,null,{"$f":"IF(OR(AH1671>0.001,AH1671<-0.001),Table1[[#This Row],[Employee '#]],\" \")","v":" "},false,{"$f":"SUMIF(Table1[[#This Row],[Total Wage Diff bonus]:[Bank Bonus]],\"<> \")","v":0},{"$f":"IF(AA1671>0, Table1[[#This Row],[Column4]], IF(AB1671>0,Table1[[#This Row],[Column4]],IF(X1671>0,\"1000\")))","v":false}]
[null,null,null,null,null,null,null,null,null,null,null,null,null,null,null,null,0,null,null,null,null,null,null,null,{"$f":"IF(Table1[[#This Row],[Wage differential Bonus                            - NotePay Rate you are bonusing to]]>0, Table1[[#This Row],[Wage differential Bonus                            - NotePay Rate you are bonusing to]]-Table1[[#This Row],[Pay Rate]], \"\")","v":""},{"$f":"IF(Table1[[#This Row],[Wage differential Bonus                            - NotePay Rate you are bonusing to]]>0,Table1[[#This Row],[Bonus Rate]]*Table1[[#This Row],[Hours]],\"\")","v":""},null,null,null,null,null,{"$f":"IF(OR(AH1674>0.001,AH1674<-0.001),Table1[[#This Row],[Employee '#]],\" \")","v":" "},false,{"$f":"SUMIF(Table1[[#This Row],[Total Wage Diff bonus]:[Bank Bonus]],\"<> \")","v":0},{"$f":"IF(AA1674>0, Table1[[#This Row],[Column4]], IF(AB1674>0,Table1[[#This Row],[Column4]],IF(X1674>0,\"1000\")))","v":false}]
[null,null,null,null,null,null,null,null,null,null,null,null,null,null,null,null,0,null,null,null,null,null,null,null,{"$f":"IF(Table1[[#This Row],[Wage differential Bonus                            - NotePay Rate you are bonusing to]]>0, Table1[[#This Row],[Wage differential Bonus                            - NotePay Rate you are bonusing to]]-Table1[[#This Row],[Pay Rate]], \"\")","v":""},{"$f":"IF(Table1[[#This Row],[Wage differential Bonus                            - NotePay Rate you are bonusing to]]>0,Table1[[#This Row],[Bonus Rate]]*Table1[[#This Row],[Hours]],\"\")","v":""},null,null,null,null,null,{"$f":"IF(OR(AH1677>0.001,AH1677<-0.001),Table1[[#This Row],[Employee '#]],\" \")","v":" "},false,{"$f":"SUMIF(Table1[[#This Row],[Total Wage Diff bonus]:[Bank Bonus]],\"<> \")","v":0},{"$f":"IF(AA1677>0, Table1[[#This Row],[Column4]], IF(AB1677>0,Table1[[#This Row],[Column4]],IF(X1677>0,\"1000\")))","v":false}]
[null,null,null,null,null,null,null,null,null,null,null,null,null,null,null,null,0,null,null,null,null,null,null,null,{"$f":"IF(Table1[[#This Row],[Wage differential Bonus                            - NotePay Rate you are bonusing to]]>0, Table1[[#This Row],[Wage differential Bonus                            - NotePay Rate you are bonusing to]]-Table1[[#This Row],[Pay Rate]], \"\")","v":""},{"$f":"IF(Table1[[#This Row],[Wage differential Bonus                            - NotePay Rate you are bonusing to]]>0,Table1[[#This Row],[Bonus Rate]]*Table1[[#This Row],[Hours]],\"\")","v":""},null,null,null,null,null,{"$f":"IF(OR(AH1678>0.001,AH1678<-0.001),Table1[[#This Row],[Employee '#]],\" \")","v":" "},false,{"$f":"SUMIF(Table1[[#This Row],[Total Wage Diff bonus]:[Bank Bonus]],\"<> \")","v":0},{"$f":"IF(AA1678>0, Table1[[#This Row],[Column4]], IF(AB1678>0,Table1[[#This Row],[Column4]],IF(X1678>0,\"1000\")))","v":false}]
[null,null,null,null,null,null,null,null,null,null,null,null,null,null,null,null,0,null,null,null,null,null,null,null,{"$f":"IF(Table1[[#This Row],[Wage differential Bonus                            - NotePay Rate you are bonusing to]]>0, Table1[[#This Row],[Wage differential Bonus                            - NotePay Rate you are bonusing to]]-Table1[[#This Row],[Pay Rate]], \"\")","v":""},{"$f":"IF(Table1[[#This Row],[Wage differential Bonus                            - NotePay Rate you are bonusing to]]>0,Table1[[#This Row],[Bonus Rate]]*Table1[[#This Row],[Hours]],\"\")","v":""},null,null,null,null,null,{"$f":"IF(OR(AH1681>0.001,AH1681<-0.001),Table1[[#This Row],[Employee '#]],\" \")","v":" "},false,{"$f":"SUMIF(Table1[[#This Row],[Total Wage Diff bonus]:[Bank Bonus]],\"<> \")","v":0},{"$f":"IF(AA1681>0, Table1[[#This Row],[Column4]], IF(AB1681>0,Table1[[#This Row],[Column4]],IF(X1681>0,\"1000\")))","v":false}]
[null,null,null,null,null,null,null,null,null,null,null,null,null,null,null,null,0,null,null,null,null,null,null,null,{"$f":"IF(Table1[[#This Row],[Wage differential Bonus                            - NotePay Rate you are bonusing to]]>0, Table1[[#This Row],[Wage differential Bonus                            - NotePay Rate you are bonusing to]]-Table1[[#This Row],[Pay Rate]], \"\")","v":""},{"$f":"IF(Table1[[#This Row],[Wage differential Bonus                            - NotePay Rate you are bonusing to]]>0,Table1[[#This Row],[Bonus Rate]]*Table1[[#This Row],[Hours]],\"\")","v":""},null,null,null,null,null,{"$f":"IF(OR(AH1683>0.001,AH1683<-0.001),Table1[[#This Row],[Employee '#]],\" \")","v":" "},false,{"$f":"SUMIF(Table1[[#This Row],[Total Wage Diff bonus]:[Bank Bonus]],\"<> \")","v":0},{"$f":"IF(AA1683>0, Table1[[#This Row],[Column4]], IF(AB1683>0,Table1[[#This Row],[Column4]],IF(X1683>0,\"1000\")))","v":false}]
[null,null,null,null,null,null,null,null,null,null,null,null,null,null,null,null,0,null,null,null,null,null,null,null,{"$f":"IF(Table1[[#This Row],[Wage differential Bonus                            - NotePay Rate you are bonusing to]]>0, Table1[[#This Row],[Wage differential Bonus                            - NotePay Rate you are bonusing to]]-Table1[[#This Row],[Pay Rate]], \"\")","v":""},{"$f":"IF(Table1[[#This Row],[Wage differential Bonus                            - NotePay Rate you are bonusing to]]>0,Table1[[#This Row],[Bonus Rate]]*Table1[[#This Row],[Hours]],\"\")","v":""},null,null,null,null,null,{"$f":"IF(OR(AH1686>0.001,AH1686<-0.001),Table1[[#This Row],[Employee '#]],\" \")","v":" "},false,{"$f":"SUMIF(Table1[[#This Row],[Total Wage Diff bonus]:[Bank Bonus]],\"<> \")","v":0},{"$f":"IF(AA1686>0, Table1[[#This Row],[Column4]], IF(AB1686>0,Table1[[#This Row],[Column4]],IF(X1686>0,\"1000\")))","v":false}]
[null,null,null,null,null,null,null,null,null,null,null,null,null,null,null,null,0,null,null,null,null,null,null,null,{"$f":"IF(Table1[[#This Row],[Wage differential Bonus                            - NotePay Rate you are bonusing to]]>0, Table1[[#This Row],[Wage differential Bonus                            - NotePay Rate you are bonusing to]]-Table1[[#This Row],[Pay Rate]], \"\")","v":""},{"$f":"IF(Table1[[#This Row],[Wage differential Bonus                            - NotePay Rate you are bonusing to]]>0,Table1[[#This Row],[Bonus Rate]]*Table1[[#This Row],[Hours]],\"\")","v":""},null,null,null,null,null,{"$f":"IF(OR(AH1687>0.001,AH1687<-0.001),Table1[[#This Row],[Employee '#]],\" \")","v":" "},false,{"$f":"SUMIF(Table1[[#This Row],[Total Wage Diff bonus]:[Bank Bonus]],\"<> \")","v":0},{"$f":"IF(AA1687>0, Table1[[#This Row],[Column4]], IF(AB1687>0,Table1[[#This Row],[Column4]],IF(X1687>0,\"1000\")))","v":false}]
[null,null,null,null,null,null,null,null,null,null,null,null,null,null,null,null,0,null,null,null,null,null,null,null,{"$f":"IF(Table1[[#This Row],[Wage differential Bonus                            - NotePay Rate you are bonusing to]]>0, Table1[[#This Row],[Wage differential Bonus                            - NotePay Rate you are bonusing to]]-Table1[[#This Row],[Pay Rate]], \"\")","v":""},{"$f":"IF(Table1[[#This Row],[Wage differential Bonus                            - NotePay Rate you are bonusing to]]>0,Table1[[#This Row],[Bonus Rate]]*Table1[[#This Row],[Hours]],\"\")","v":""},null,null,null,null,null,{"$f":"IF(OR(AH1689>0.001,AH1689<-0.001),Table1[[#This Row],[Employee '#]],\" \")","v":" "},false,{"$f":"SUMIF(Table1[[#This Row],[Total Wage Diff bonus]:[Bank Bonus]],\"<> \")","v":0},{"$f":"IF(AA1689>0, Table1[[#This Row],[Column4]], IF(AB1689>0,Table1[[#This Row],[Column4]],IF(X1689>0,\"1000\")))","v":false}]
[null,null,null,null,null,null,null,null,null,null,null,null,null,null,null,null,0,null,null,null,null,null,null,null,{"$f":"IF(Table1[[#This Row],[Wage differential Bonus                            - NotePay Rate you are bonusing to]]>0, Table1[[#This Row],[Wage differential Bonus                            - NotePay Rate you are bonusing to]]-Table1[[#This Row],[Pay Rate]], \"\")","v":""},{"$f":"IF(Table1[[#This Row],[Wage differential Bonus                            - NotePay Rate you are bonusing to]]>0,Table1[[#This Row],[Bonus Rate]]*Table1[[#This Row],[Hours]],\"\")","v":""},null,null,null,null,null,{"$f":"IF(OR(AH1692>0.001,AH1692<-0.001),Table1[[#This Row],[Employee '#]],\" \")","v":" "},false,{"$f":"SUMIF(Table1[[#This Row],[Total Wage Diff bonus]:[Bank Bonus]],\"<> \")","v":0},{"$f":"IF(AA1692>0, Table1[[#This Row],[Column4]], IF(AB1692>0,Table1[[#This Row],[Column4]],IF(X1692>0,\"1000\")))","v":false}]
[null,null,null,null,null,null,null,null,null,null,null,null,null,null,null,null,0,null,null,null,null,null,null,null,{"$f":"IF(Table1[[#This Row],[Wage differential Bonus                            - NotePay Rate you are bonusing to]]>0, Table1[[#This Row],[Wage differential Bonus                            - NotePay Rate you are bonusing to]]-Table1[[#This Row],[Pay Rate]], \"\")","v":""},{"$f":"IF(Table1[[#This Row],[Wage differential Bonus                            - NotePay Rate you are bonusing to]]>0,Table1[[#This Row],[Bonus Rate]]*Table1[[#This Row],[Hours]],\"\")","v":""},null,null,null,null,null,{"$f":"IF(OR(AH1695>0.001,AH1695<-0.001),Table1[[#This Row],[Employee '#]],\" \")","v":" "},false,{"$f":"SUMIF(Table1[[#This Row],[Total Wage Diff bonus]:[Bank Bonus]],\"<> \")","v":0},{"$f":"IF(AA1695>0, Table1[[#This Row],[Column4]], IF(AB1695>0,Table1[[#This Row],[Column4]],IF(X1695>0,\"1000\")))","v":false}]
[null,null,null,null,null,null,null,null,null,null,null,null,null,null,null,null,0,null,null,null,null,null,null,null,{"$f":"IF(Table1[[#This Row],[Wage differential Bonus                            - NotePay Rate you are bonusing to]]>0, Table1[[#This Row],[Wage differential Bonus                            - NotePay Rate you are bonusing to]]-Table1[[#This Row],[Pay Rate]], \"\")","v":""},{"$f":"IF(Table1[[#This Row],[Wage differential Bonus                            - NotePay Rate you are bonusing to]]>0,Table1[[#This Row],[Bonus Rate]]*Table1[[#This Row],[Hours]],\"\")","v":""},null,null,null,null,null,{"$f":"IF(OR(AH1696>0.001,AH1696<-0.001),Table1[[#This Row],[Employee '#]],\" \")","v":" "},false,{"$f":"SUMIF(Table1[[#This Row],[Total Wage Diff bonus]:[Bank Bonus]],\"<> \")","v":0},{"$f":"IF(AA1696>0, Table1[[#This Row],[Column4]], IF(AB1696>0,Table1[[#This Row],[Column4]],IF(X1696>0,\"1000\")))","v":false}]
[null,null,null,null,null,null,null,null,null,null,null,null,null,null,null,null,0,null,null,null,null,null,null,null,{"$f":"IF(Table1[[#This Row],[Wage differential Bonus                            - NotePay Rate you are bonusing to]]>0, Table1[[#This Row],[Wage differential Bonus                            - NotePay Rate you are bonusing to]]-Table1[[#This Row],[Pay Rate]], \"\")","v":""},{"$f":"IF(Table1[[#This Row],[Wage differential Bonus                            - NotePay Rate you are bonusing to]]>0,Table1[[#This Row],[Bonus Rate]]*Table1[[#This Row],[Hours]],\"\")","v":""},null,null,null,null,null,{"$f":"IF(OR(AH1699>0.001,AH1699<-0.001),Table1[[#This Row],[Employee '#]],\" \")","v":" "},false,{"$f":"SUMIF(Table1[[#This Row],[Total Wage Diff bonus]:[Bank Bonus]],\"<> \")","v":0},{"$f":"IF(AA1699>0, Table1[[#This Row],[Column4]], IF(AB1699>0,Table1[[#This Row],[Column4]],IF(X1699>0,\"1000\")))","v":false}]
[null,null,null,null,null,null,null,null,null,null,null,null,null,null,null,null,0,null,null,null,null,null,null,null,{"$f":"IF(Table1[[#This Row],[Wage differential Bonus                            - NotePay Rate you are bonusing to]]>0, Table1[[#This Row],[Wage differential Bonus                            - NotePay Rate you are bonusing to]]-Table1[[#This Row],[Pay Rate]], \"\")","v":""},{"$f":"IF(Table1[[#This Row],[Wage differential Bonus                            - NotePay Rate you are bonusing to]]>0,Table1[[#This Row],[Bonus Rate]]*Table1[[#This Row],[Hours]],\"\")","v":""},null,null,null,null,null,{"$f":"IF(OR(AH1701>0.001,AH1701<-0.001),Table1[[#This Row],[Employee '#]],\" \")","v":" "},false,{"$f":"SUMIF(Table1[[#This Row],[Total Wage Diff bonus]:[Bank Bonus]],\"<> \")","v":0},{"$f":"IF(AA1701>0, Table1[[#This Row],[Column4]], IF(AB1701>0,Table1[[#This Row],[Column4]],IF(X1701>0,\"1000\")))","v":false}]
[null,null,null,null,null,null,null,null,null,null,null,null,null,null,null,null,0,null,null,null,null,null,null,null,{"$f":"IF(Table1[[#This Row],[Wage differential Bonus                            - NotePay Rate you are bonusing to]]>0, Table1[[#This Row],[Wage differential Bonus                            - NotePay Rate you are bonusing to]]-Table1[[#This Row],[Pay Rate]], \"\")","v":""},{"$f":"IF(Table1[[#This Row],[Wage differential Bonus                            - NotePay Rate you are bonusing to]]>0,Table1[[#This Row],[Bonus Rate]]*Table1[[#This Row],[Hours]],\"\")","v":""},null,null,null,null,null,{"$f":"IF(OR(AH1704>0.001,AH1704<-0.001),Table1[[#This Row],[Employee '#]],\" \")","v":" "},false,{"$f":"SUMIF(Table1[[#This Row],[Total Wage Diff bonus]:[Bank Bonus]],\"<> \")","v":0},{"$f":"IF(AA1704>0, Table1[[#This Row],[Column4]], IF(AB1704>0,Table1[[#This Row],[Column4]],IF(X1704>0,\"1000\")))","v":false}]
[null,null,null,null,null,null,null,null,null,null,null,null,null,null,null,null,0,null,null,null,null,null,null,null,{"$f":"IF(Table1[[#This Row],[Wage differential Bonus                            - NotePay Rate you are bonusing to]]>0, Table1[[#This Row],[Wage differential Bonus                            - NotePay Rate you are bonusing to]]-Table1[[#This Row],[Pay Rate]], \"\")","v":""},{"$f":"IF(Table1[[#This Row],[Wage differential Bonus                            - NotePay Rate you are bonusing to]]>0,Table1[[#This Row],[Bonus Rate]]*Table1[[#This Row],[Hours]],\"\")","v":""},null,null,null,null,null,{"$f":"IF(OR(AH1705>0.001,AH1705<-0.001),Table1[[#This Row],[Employee '#]],\" \")","v":" "},false,{"$f":"SUMIF(Table1[[#This Row],[Total Wage Diff bonus]:[Bank Bonus]],\"<> \")","v":0},{"$f":"IF(AA1705>0, Table1[[#This Row],[Column4]], IF(AB1705>0,Table1[[#This Row],[Column4]],IF(X1705>0,\"1000\")))","v":false}]
[null,null,null,null,null,null,null,null,null,null,null,null,null,null,null,null,0,null,null,null,null,null,null,null,{"$f":"IF(Table1[[#This Row],[Wage differential Bonus                            - NotePay Rate you are bonusing to]]>0, Table1[[#This Row],[Wage differential Bonus                            - NotePay Rate you are bonusing to]]-Table1[[#This Row],[Pay Rate]], \"\")","v":""},{"$f":"IF(Table1[[#This Row],[Wage differential Bonus                            - NotePay Rate you are bonusing to]]>0,Table1[[#This Row],[Bonus Rate]]*Table1[[#This Row],[Hours]],\"\")","v":""},null,null,null,null,null,{"$f":"IF(OR(AH1707>0.001,AH1707<-0.001),Table1[[#This Row],[Employee '#]],\" \")","v":" "},false,{"$f":"SUMIF(Table1[[#This Row],[Total Wage Diff bonus]:[Bank Bonus]],\"<> \")","v":0},{"$f":"IF(AA1707>0, Table1[[#This Row],[Column4]], IF(AB1707>0,Table1[[#This Row],[Column4]],IF(X1707>0,\"1000\")))","v":false}]
[null,null,null,null,null,null,null,null,null,null,null,null,null,null,null,null,0,null,null,null,null,null,null,null,{"$f":"IF(Table1[[#This Row],[Wage differential Bonus                            - NotePay Rate you are bonusing to]]>0, Table1[[#This Row],[Wage differential Bonus                            - NotePay Rate you are bonusing to]]-Table1[[#This Row],[Pay Rate]], \"\")","v":""},{"$f":"IF(Table1[[#This Row],[Wage differential Bonus                            - NotePay Rate you are bonusing to]]>0,Table1[[#This Row],[Bonus Rate]]*Table1[[#This Row],[Hours]],\"\")","v":""},null,null,null,null,null,{"$f":"IF(OR(AH1710>0.001,AH1710<-0.001),Table1[[#This Row],[Employee '#]],\" \")","v":" "},false,{"$f":"SUMIF(Table1[[#This Row],[Total Wage Diff bonus]:[Bank Bonus]],\"<> \")","v":0},{"$f":"IF(AA1710>0, Table1[[#This Row],[Column4]], IF(AB1710>0,Table1[[#This Row],[Column4]],IF(X1710>0,\"1000\")))","v":false}]
[null,null,null,null,null,null,null,null,null,null,null,null,null,null,null,null,0,null,null,null,null,null,null,null,{"$f":"IF(Table1[[#This Row],[Wage differential Bonus                            - NotePay Rate you are bonusing to]]>0, Table1[[#This Row],[Wage differential Bonus                            - NotePay Rate you are bonusing to]]-Table1[[#This Row],[Pay Rate]], \"\")","v":""},{"$f":"IF(Table1[[#This Row],[Wage differential Bonus                            - NotePay Rate you are bonusing to]]>0,Table1[[#This Row],[Bonus Rate]]*Table1[[#This Row],[Hours]],\"\")","v":""},null,null,null,null,null,{"$f":"IF(OR(AH1713>0.001,AH1713<-0.001),Table1[[#This Row],[Employee '#]],\" \")","v":" "},false,{"$f":"SUMIF(Table1[[#This Row],[Total Wage Diff bonus]:[Bank Bonus]],\"<> \")","v":0},{"$f":"IF(AA1713>0, Table1[[#This Row],[Column4]], IF(AB1713>0,Table1[[#This Row],[Column4]],IF(X1713>0,\"1000\")))","v":false}]
[null,null,null,null,null,null,null,null,null,null,null,null,null,null,null,null,0,null,null,null,null,null,null,null,{"$f":"IF(Table1[[#This Row],[Wage differential Bonus                            - NotePay Rate you are bonusing to]]>0, Table1[[#This Row],[Wage differential Bonus                            - NotePay Rate you are bonusing to]]-Table1[[#This Row],[Pay Rate]], \"\")","v":""},{"$f":"IF(Table1[[#This Row],[Wage differential Bonus                            - NotePay Rate you are bonusing to]]>0,Table1[[#This Row],[Bonus Rate]]*Table1[[#This Row],[Hours]],\"\")","v":""},null,null,null,null,null,{"$f":"IF(OR(AH1715>0.001,AH1715<-0.001),Table1[[#This Row],[Employee '#]],\" \")","v":" "},false,{"$f":"SUMIF(Table1[[#This Row],[Total Wage Diff bonus]:[Bank Bonus]],\"<> \")","v":0},{"$f":"IF(AA1715>0, Table1[[#This Row],[Column4]], IF(AB1715>0,Table1[[#This Row],[Column4]],IF(X1715>0,\"1000\")))","v":false}]
[null,null,null,null,null,null,null,null,null,null,null,null,null,null,null,null,0,null,null,null,null,null,null,null,{"$f":"IF(Table1[[#This Row],[Wage differential Bonus                            - NotePay Rate you are bonusing to]]>0, Table1[[#This Row],[Wage differential Bonus                            - NotePay Rate you are bonusing to]]-Table1[[#This Row],[Pay Rate]], \"\")","v":""},{"$f":"IF(Table1[[#This Row],[Wage differential Bonus                            - NotePay Rate you are bonusing to]]>0,Table1[[#This Row],[Bonus Rate]]*Table1[[#This Row],[Hours]],\"\")","v":""},null,null,null,null,null,{"$f":"IF(OR(AH1718>0.001,AH1718<-0.001),Table1[[#This Row],[Employee '#]],\" \")","v":" "},false,{"$f":"SUMIF(Table1[[#This Row],[Total Wage Diff bonus]:[Bank Bonus]],\"<> \")","v":0},{"$f":"IF(AA1718>0, Table1[[#This Row],[Column4]], IF(AB1718>0,Table1[[#This Row],[Column4]],IF(X1718>0,\"1000\")))","v":false}]
[null,null,null,null,null,null,null,null,null,null,null,null,null,null,null,null,0,null,null,null,null,null,null,null,{"$f":"IF(Table1[[#This Row],[Wage differential Bonus                            - NotePay Rate you are bonusing to]]>0, Table1[[#This Row],[Wage differential Bonus                            - NotePay Rate you are bonusing to]]-Table1[[#This Row],[Pay Rate]], \"\")","v":""},{"$f":"IF(Table1[[#This Row],[Wage differential Bonus                            - NotePay Rate you are bonusing to]]>0,Table1[[#This Row],[Bonus Rate]]*Table1[[#This Row],[Hours]],\"\")","v":""},null,null,null,null,null,{"$f":"IF(OR(AH1719>0.001,AH1719<-0.001),Table1[[#This Row],[Employee '#]],\" \")","v":" "},false,{"$f":"SUMIF(Table1[[#This Row],[Total Wage Diff bonus]:[Bank Bonus]],\"<> \")","v":0},{"$f":"IF(AA1719>0, Table1[[#This Row],[Column4]], IF(AB1719>0,Table1[[#This Row],[Column4]],IF(X1719>0,\"1000\")))","v":false}]
[null,null,null,null,null,null,null,null,null,null,null,null,null,null,null,null,0,null,null,null,null,null,null,null,{"$f":"IF(Table1[[#This Row],[Wage differential Bonus                            - NotePay Rate you are bonusing to]]>0, Table1[[#This Row],[Wage differential Bonus                            - NotePay Rate you are bonusing to]]-Table1[[#This Row],[Pay Rate]], \"\")","v":""},{"$f":"IF(Table1[[#This Row],[Wage differential Bonus                            - NotePay Rate you are bonusing to]]>0,Table1[[#This Row],[Bonus Rate]]*Table1[[#This Row],[Hours]],\"\")","v":""},null,null,null,null,null,{"$f":"IF(OR(AH1722>0.001,AH1722<-0.001),Table1[[#This Row],[Employee '#]],\" \")","v":" "},false,{"$f":"SUMIF(Table1[[#This Row],[Total Wage Diff bonus]:[Bank Bonus]],\"<> \")","v":0},{"$f":"IF(AA1722>0, Table1[[#This Row],[Column4]], IF(AB1722>0,Table1[[#This Row],[Column4]],IF(X1722>0,\"1000\")))","v":false}]
[null,null,null,null,null,null,null,null,null,null,null,null,null,null,null,null,0,null,null,null,null,null,null,null,{"$f":"IF(Table1[[#This Row],[Wage differential Bonus                            - NotePay Rate you are bonusing to]]>0, Table1[[#This Row],[Wage differential Bonus                            - NotePay Rate you are bonusing to]]-Table1[[#This Row],[Pay Rate]], \"\")","v":""},{"$f":"IF(Table1[[#This Row],[Wage differential Bonus                            - NotePay Rate you are bonusing to]]>0,Table1[[#This Row],[Bonus Rate]]*Table1[[#This Row],[Hours]],\"\")","v":""},null,null,null,null,null,{"$f":"IF(OR(AH1725>0.001,AH1725<-0.001),Table1[[#This Row],[Employee '#]],\" \")","v":" "},false,{"$f":"SUMIF(Table1[[#This Row],[Total Wage Diff bonus]:[Bank Bonus]],\"<> \")","v":0},{"$f":"IF(AA1725>0, Table1[[#This Row],[Column4]], IF(AB1725>0,Table1[[#This Row],[Column4]],IF(X1725>0,\"1000\")))","v":false}]
[null,null,null,null,null,null,null,null,null,null,null,null,null,null,null,null,0,null,null,null,null,null,null,null,{"$f":"IF(Table1[[#This Row],[Wage differential Bonus                            - NotePay Rate you are bonusing to]]>0, Table1[[#This Row],[Wage differential Bonus                            - NotePay Rate you are bonusing to]]-Table1[[#This Row],[Pay Rate]], \"\")","v":""},{"$f":"IF(Table1[[#This Row],[Wage differential Bonus                            - NotePay Rate you are bonusing to]]>0,Table1[[#This Row],[Bonus Rate]]*Table1[[#This Row],[Hours]],\"\")","v":""},null,null,null,null,null,{"$f":"IF(OR(AH1727>0.001,AH1727<-0.001),Table1[[#This Row],[Employee '#]],\" \")","v":" "},false,{"$f":"SUMIF(Table1[[#This Row],[Total Wage Diff bonus]:[Bank Bonus]],\"<> \")","v":0},{"$f":"IF(AA1727>0, Table1[[#This Row],[Column4]], IF(AB1727>0,Table1[[#This Row],[Column4]],IF(X1727>0,\"1000\")))","v":false}]
[null,null,null,null,null,null,null,null,null,null,null,null,null,null,null,null,0,null,null,null,null,null,null,null,{"$f":"IF(Table1[[#This Row],[Wage differential Bonus                            - NotePay Rate you are bonusing to]]>0, Table1[[#This Row],[Wage differential Bonus                            - NotePay Rate you are bonusing to]]-Table1[[#This Row],[Pay Rate]], \"\")","v":""},{"$f":"IF(Table1[[#This Row],[Wage differential Bonus                            - NotePay Rate you are bonusing to]]>0,Table1[[#This Row],[Bonus Rate]]*Table1[[#This Row],[Hours]],\"\")","v":""},null,null,null,null,null,{"$f":"IF(OR(AH1728>0.001,AH1728<-0.001),Table1[[#This Row],[Employee '#]],\" \")","v":" "},false,{"$f":"SUMIF(Table1[[#This Row],[Total Wage Diff bonus]:[Bank Bonus]],\"<> \")","v":0},{"$f":"IF(AA1728>0, Table1[[#This Row],[Column4]], IF(AB1728>0,Table1[[#This Row],[Column4]],IF(X1728>0,\"1000\")))","v":false}]
[null,null,null,null,null,null,null,null,null,null,null,null,null,null,null,null,0,null,null,null,null,null,null,null,{"$f":"IF(Table1[[#This Row],[Wage differential Bonus                            - NotePay Rate you are bonusing to]]>0, Table1[[#This Row],[Wage differential Bonus                            - NotePay Rate you are bonusing to]]-Table1[[#This Row],[Pay Rate]], \"\")","v":""},{"$f":"IF(Table1[[#This Row],[Wage differential Bonus                            - NotePay Rate you are bonusing to]]>0,Table1[[#This Row],[Bonus Rate]]*Table1[[#This Row],[Hours]],\"\")","v":""},null,null,null,null,null,{"$f":"IF(OR(AH1731>0.001,AH1731<-0.001),Table1[[#This Row],[Employee '#]],\" \")","v":" "},false,{"$f":"SUMIF(Table1[[#This Row],[Total Wage Diff bonus]:[Bank Bonus]],\"<> \")","v":0},{"$f":"IF(AA1731>0, Table1[[#This Row],[Column4]], IF(AB1731>0,Table1[[#This Row],[Column4]],IF(X1731>0,\"1000\")))","v":false}]
[null,null,null,null,null,null,null,null,null,null,null,null,null,null,null,null,0,null,null,null,null,null,null,null,{"$f":"IF(Table1[[#This Row],[Wage differential Bonus                            - NotePay Rate you are bonusing to]]>0, Table1[[#This Row],[Wage differential Bonus                            - NotePay Rate you are bonusing to]]-Table1[[#This Row],[Pay Rate]], \"\")","v":""},{"$f":"IF(Table1[[#This Row],[Wage differential Bonus                            - NotePay Rate you are bonusing to]]>0,Table1[[#This Row],[Bonus Rate]]*Table1[[#This Row],[Hours]],\"\")","v":""},null,null,null,null,null,{"$f":"IF(OR(AH1733>0.001,AH1733<-0.001),Table1[[#This Row],[Employee '#]],\" \")","v":" "},false,{"$f":"SUMIF(Table1[[#This Row],[Total Wage Diff bonus]:[Bank Bonus]],\"<> \")","v":0},{"$f":"IF(AA1733>0, Table1[[#This Row],[Column4]], IF(AB1733>0,Table1[[#This Row],[Column4]],IF(X1733>0,\"1000\")))","v":false}]
[null,null,null,null,null,null,null,null,null,null,null,null,null,null,null,null,0,null,null,null,null,null,null,null,{"$f":"IF(Table1[[#This Row],[Wage differential Bonus                            - NotePay Rate you are bonusing to]]>0, Table1[[#This Row],[Wage differential Bonus                            - NotePay Rate you are bonusing to]]-Table1[[#This Row],[Pay Rate]], \"\")","v":""},{"$f":"IF(Table1[[#This Row],[Wage differential Bonus                            - NotePay Rate you are bonusing to]]>0,Table1[[#This Row],[Bonus Rate]]*Table1[[#This Row],[Hours]],\"\")","v":""},null,null,null,null,null,{"$f":"IF(OR(AH1736>0.001,AH1736<-0.001),Table1[[#This Row],[Employee '#]],\" \")","v":" "},false,{"$f":"SUMIF(Table1[[#This Row],[Total Wage Diff bonus]:[Bank Bonus]],\"<> \")","v":0},{"$f":"IF(AA1736>0, Table1[[#This Row],[Column4]], IF(AB1736>0,Table1[[#This Row],[Column4]],IF(X1736>0,\"1000\")))","v":false}]
[null,null,null,null,null,null,null,null,null,null,null,null,null,null,null,null,0,null,null,null,null,null,null,null,{"$f":"IF(Table1[[#This Row],[Wage differential Bonus                            - NotePay Rate you are bonusing to]]>0, Table1[[#This Row],[Wage differential Bonus                            - NotePay Rate you are bonusing to]]-Table1[[#This Row],[Pay Rate]], \"\")","v":""},{"$f":"IF(Table1[[#This Row],[Wage differential Bonus                            - NotePay Rate you are bonusing to]]>0,Table1[[#This Row],[Bonus Rate]]*Table1[[#This Row],[Hours]],\"\")","v":""},null,null,null,null,null,{"$f":"IF(OR(AH1737>0.001,AH1737<-0.001),Table1[[#This Row],[Employee '#]],\" \")","v":" "},false,{"$f":"SUMIF(Table1[[#This Row],[Total Wage Diff bonus]:[Bank Bonus]],\"<> \")","v":0},{"$f":"IF(AA1737>0, Table1[[#This Row],[Column4]], IF(AB1737>0,Table1[[#This Row],[Column4]],IF(X1737>0,\"1000\")))","v":false}]
[null,null,null,null,null,null,null,null,null,null,null,null,null,null,null,null,0,null,null,null,null,null,null,null,{"$f":"IF(Table1[[#This Row],[Wage differential Bonus                            - NotePay Rate you are bonusing to]]>0, Table1[[#This Row],[Wage differential Bonus                            - NotePay Rate you are bonusing to]]-Table1[[#This Row],[Pay Rate]], \"\")","v":""},{"$f":"IF(Table1[[#This Row],[Wage differential Bonus                            - NotePay Rate you are bonusing to]]>0,Table1[[#This Row],[Bonus Rate]]*Table1[[#This Row],[Hours]],\"\")","v":""},null,null,null,null,null,{"$f":"IF(OR(AH1740>0.001,AH1740<-0.001),Table1[[#This Row],[Employee '#]],\" \")","v":" "},false,{"$f":"SUMIF(Table1[[#This Row],[Total Wage Diff bonus]:[Bank Bonus]],\"<> \")","v":0},{"$f":"IF(AA1740>0, Table1[[#This Row],[Column4]], IF(AB1740>0,Table1[[#This Row],[Column4]],IF(X1740>0,\"1000\")))","v":false}]
[null,null,null,null,null,null,null,null,null,null,null,null,null,null,null,null,0,null,null,null,null,null,null,null,{"$f":"IF(Table1[[#This Row],[Wage differential Bonus                            - NotePay Rate you are bonusing to]]>0, Table1[[#This Row],[Wage differential Bonus                            - NotePay Rate you are bonusing to]]-Table1[[#This Row],[Pay Rate]], \"\")","v":""},{"$f":"IF(Table1[[#This Row],[Wage differential Bonus                            - NotePay Rate you are bonusing to]]>0,Table1[[#This Row],[Bonus Rate]]*Table1[[#This Row],[Hours]],\"\")","v":""},null,null,null,null,null,{"$f":"IF(OR(AH1743>0.001,AH1743<-0.001),Table1[[#This Row],[Employee '#]],\" \")","v":" "},false,{"$f":"SUMIF(Table1[[#This Row],[Total Wage Diff bonus]:[Bank Bonus]],\"<> \")","v":0},{"$f":"IF(AA1743>0, Table1[[#This Row],[Column4]], IF(AB1743>0,Table1[[#This Row],[Column4]],IF(X1743>0,\"1000\")))","v":false}]
[null,null,null,null,null,null,null,null,null,null,null,null,null,null,null,null,0,null,null,null,null,null,null,null,{"$f":"IF(Table1[[#This Row],[Wage differential Bonus                            - NotePay Rate you are bonusing to]]>0, Table1[[#This Row],[Wage differential Bonus                            - NotePay Rate you are bonusing to]]-Table1[[#This Row],[Pay Rate]], \"\")","v":""},{"$f":"IF(Table1[[#This Row],[Wage differential Bonus                            - NotePay Rate you are bonusing to]]>0,Table1[[#This Row],[Bonus Rate]]*Table1[[#This Row],[Hours]],\"\")","v":""},null,null,null,null,null,{"$f":"IF(OR(AH1745>0.001,AH1745<-0.001),Table1[[#This Row],[Employee '#]],\" \")","v":" "},false,{"$f":"SUMIF(Table1[[#This Row],[Total Wage Diff bonus]:[Bank Bonus]],\"<> \")","v":0},{"$f":"IF(AA1745>0, Table1[[#This Row],[Column4]], IF(AB1745>0,Table1[[#This Row],[Column4]],IF(X1745>0,\"1000\")))","v":false}]
[null,null,null,null,null,null,null,null,null,null,null,null,null,null,null,null,0,null,null,null,null,null,null,null,{"$f":"IF(Table1[[#This Row],[Wage differential Bonus                            - NotePay Rate you are bonusing to]]>0, Table1[[#This Row],[Wage differential Bonus                            - NotePay Rate you are bonusing to]]-Table1[[#This Row],[Pay Rate]], \"\")","v":""},{"$f":"IF(Table1[[#This Row],[Wage differential Bonus                            - NotePay Rate you are bonusing to]]>0,Table1[[#This Row],[Bonus Rate]]*Table1[[#This Row],[Hours]],\"\")","v":""},null,null,null,null,null,{"$f":"IF(OR(AH1746>0.001,AH1746<-0.001),Table1[[#This Row],[Employee '#]],\" \")","v":" "},false,{"$f":"SUMIF(Table1[[#This Row],[Total Wage Diff bonus]:[Bank Bonus]],\"<> \")","v":0},{"$f":"IF(AA1746>0, Table1[[#This Row],[Column4]], IF(AB1746>0,Table1[[#This Row],[Column4]],IF(X1746>0,\"1000\")))","v":false}]
[null,null,null,null,null,null,null,null,null,null,null,null,null,null,null,null,0,null,null,null,null,null,null,null,{"$f":"IF(Table1[[#This Row],[Wage differential Bonus                            - NotePay Rate you are bonusing to]]>0, Table1[[#This Row],[Wage differential Bonus                            - NotePay Rate you are bonusing to]]-Table1[[#This Row],[Pay Rate]], \"\")","v":""},{"$f":"IF(Table1[[#This Row],[Wage differential Bonus                            - NotePay Rate you are bonusing to]]>0,Table1[[#This Row],[Bonus Rate]]*Table1[[#This Row],[Hours]],\"\")","v":""},null,null,null,null,null,{"$f":"IF(OR(AH1749>0.001,AH1749<-0.001),Table1[[#This Row],[Employee '#]],\" \")","v":" "},false,{"$f":"SUMIF(Table1[[#This Row],[Total Wage Diff bonus]:[Bank Bonus]],\"<> \")","v":0},{"$f":"IF(AA1749>0, Table1[[#This Row],[Column4]], IF(AB1749>0,Table1[[#This Row],[Column4]],IF(X1749>0,\"1000\")))","v":false}]
[null,null,null,null,null,null,null,null,null,null,null,null,null,null,null,null,0,null,null,null,null,null,null,null,{"$f":"IF(Table1[[#This Row],[Wage differential Bonus                            - NotePay Rate you are bonusing to]]>0, Table1[[#This Row],[Wage differential Bonus                            - NotePay Rate you are bonusing to]]-Table1[[#This Row],[Pay Rate]], \"\")","v":""},{"$f":"IF(Table1[[#This Row],[Wage differential Bonus                            - NotePay Rate you are bonusing to]]>0,Table1[[#This Row],[Bonus Rate]]*Table1[[#This Row],[Hours]],\"\")","v":""},null,null,null,null,null,{"$f":"IF(OR(AH1751>0.001,AH1751<-0.001),Table1[[#This Row],[Employee '#]],\" \")","v":" "},false,{"$f":"SUMIF(Table1[[#This Row],[Total Wage Diff bonus]:[Bank Bonus]],\"<> \")","v":0},{"$f":"IF(AA1751>0, Table1[[#This Row],[Column4]], IF(AB1751>0,Table1[[#This Row],[Column4]],IF(X1751>0,\"1000\")))","v":false}]
[null,null,null,null,null,null,null,null,null,null,null,null,null,null,null,null,0,null,null,null,null,null,null,null,{"$f":"IF(Table1[[#This Row],[Wage differential Bonus                            - NotePay Rate you are bonusing to]]>0, Table1[[#This Row],[Wage differential Bonus                            - NotePay Rate you are bonusing to]]-Table1[[#This Row],[Pay Rate]], \"\")","v":""},{"$f":"IF(Table1[[#This Row],[Wage differential Bonus                            - NotePay Rate you are bonusing to]]>0,Table1[[#This Row],[Bonus Rate]]*Table1[[#This Row],[Hours]],\"\")","v":""},null,null,null,null,null,{"$f":"IF(OR(AH1754>0.001,AH1754<-0.001),Table1[[#This Row],[Employee '#]],\" \")","v":" "},false,{"$f":"SUMIF(Table1[[#This Row],[Total Wage Diff bonus]:[Bank Bonus]],\"<> \")","v":0},{"$f":"IF(AA1754>0, Table1[[#This Row],[Column4]], IF(AB1754>0,Table1[[#This Row],[Column4]],IF(X1754>0,\"1000\")))","v":false}]
[null,null,null,null,null,null,null,null,null,null,null,null,null,null,null,null,0,null,null,null,null,null,null,null,{"$f":"IF(Table1[[#This Row],[Wage differential Bonus                            - NotePay Rate you are bonusing to]]>0, Table1[[#This Row],[Wage differential Bonus                            - NotePay Rate you are bonusing to]]-Table1[[#This Row],[Pay Rate]], \"\")","v":""},{"$f":"IF(Table1[[#This Row],[Wage differential Bonus                            - NotePay Rate you are bonusing to]]>0,Table1[[#This Row],[Bonus Rate]]*Table1[[#This Row],[Hours]],\"\")","v":""},null,null,null,null,null,{"$f":"IF(OR(AH1755>0.001,AH1755<-0.001),Table1[[#This Row],[Employee '#]],\" \")","v":" "},false,{"$f":"SUMIF(Table1[[#This Row],[Total Wage Diff bonus]:[Bank Bonus]],\"<> \")","v":0},{"$f":"IF(AA1755>0, Table1[[#This Row],[Column4]], IF(AB1755>0,Table1[[#This Row],[Column4]],IF(X1755>0,\"1000\")))","v":false}]
[null,null,null,null,null,null,null,null,null,null,null,null,null,null,null,null,0,null,null,null,null,null,null,null,{"$f":"IF(Table1[[#This Row],[Wage differential Bonus                            - NotePay Rate you are bonusing to]]>0, Table1[[#This Row],[Wage differential Bonus                            - NotePay Rate you are bonusing to]]-Table1[[#This Row],[Pay Rate]], \"\")","v":""},{"$f":"IF(Table1[[#This Row],[Wage differential Bonus                            - NotePay Rate you are bonusing to]]>0,Table1[[#This Row],[Bonus Rate]]*Table1[[#This Row],[Hours]],\"\")","v":""},null,null,null,null,null,{"$f":"IF(OR(AH1759>0.001,AH1759<-0.001),Table1[[#This Row],[Employee '#]],\" \")","v":" "},false,{"$f":"SUMIF(Table1[[#This Row],[Total Wage Diff bonus]:[Bank Bonus]],\"<> \")","v":0},{"$f":"IF(AA1759>0, Table1[[#This Row],[Column4]], IF(AB1759>0,Table1[[#This Row],[Column4]],IF(X1759>0,\"1000\")))","v":false}]
[null,null,null,null,null,null,null,null,null,null,null,null,null,null,null,null,0,null,null,null,null,null,null,null,{"$f":"IF(Table1[[#This Row],[Wage differential Bonus                            - NotePay Rate you are bonusing to]]>0, Table1[[#This Row],[Wage differential Bonus                            - NotePay Rate you are bonusing to]]-Table1[[#This Row],[Pay Rate]], \"\")","v":""},{"$f":"IF(Table1[[#This Row],[Wage differential Bonus                            - NotePay Rate you are bonusing to]]>0,Table1[[#This Row],[Bonus Rate]]*Table1[[#This Row],[Hours]],\"\")","v":""},null,null,null,null,null,{"$f":"IF(OR(AH1760>0.001,AH1760<-0.001),Table1[[#This Row],[Employee '#]],\" \")","v":" "},false,{"$f":"SUMIF(Table1[[#This Row],[Total Wage Diff bonus]:[Bank Bonus]],\"<> \")","v":0},{"$f":"IF(AA1760>0, Table1[[#This Row],[Column4]], IF(AB1760>0,Table1[[#This Row],[Column4]],IF(X1760>0,\"1000\")))","v":false}]
[null,null,null,null,null,null,null,null,null,null,null,null,null,null,null,null,0,null,null,null,null,null,null,null,{"$f":"IF(Table1[[#This Row],[Wage differential Bonus                            - NotePay Rate you are bonusing to]]>0, Table1[[#This Row],[Wage differential Bonus                            - NotePay Rate you are bonusing to]]-Table1[[#This Row],[Pay Rate]], \"\")","v":""},{"$f":"IF(Table1[[#This Row],[Wage differential Bonus                            - NotePay Rate you are bonusing to]]>0,Table1[[#This Row],[Bonus Rate]]*Table1[[#This Row],[Hours]],\"\")","v":""},null,null,null,null,null,{"$f":"IF(OR(AH1763>0.001,AH1763<-0.001),Table1[[#This Row],[Employee '#]],\" \")","v":" "},false,{"$f":"SUMIF(Table1[[#This Row],[Total Wage Diff bonus]:[Bank Bonus]],\"<> \")","v":0},{"$f":"IF(AA1763>0, Table1[[#This Row],[Column4]], IF(AB1763>0,Table1[[#This Row],[Column4]],IF(X1763>0,\"1000\")))","v":false}]
[null,null,null,null,null,null,null,null,null,null,null,null,null,null,null,null,0,null,null,null,null,null,null,null,{"$f":"IF(Table1[[#This Row],[Wage differential Bonus                            - NotePay Rate you are bonusing to]]>0, Table1[[#This Row],[Wage differential Bonus                            - NotePay Rate you are bonusing to]]-Table1[[#This Row],[Pay Rate]], \"\")","v":""},{"$f":"IF(Table1[[#This Row],[Wage differential Bonus                            - NotePay Rate you are bonusing to]]>0,Table1[[#This Row],[Bonus Rate]]*Table1[[#This Row],[Hours]],\"\")","v":""},null,null,null,null,null,{"$f":"IF(OR(AH1764>0.001,AH1764<-0.001),Table1[[#This Row],[Employee '#]],\" \")","v":" "},false,{"$f":"SUMIF(Table1[[#This Row],[Total Wage Diff bonus]:[Bank Bonus]],\"<> \")","v":0},{"$f":"IF(AA1764>0, Table1[[#This Row],[Column4]], IF(AB1764>0,Table1[[#This Row],[Column4]],IF(X1764>0,\"1000\")))","v":false}]
[null,null,null,null,null,null,null,null,null,null,null,null,null,null,null,null,0,null,null,null,null,null,null,null,{"$f":"IF(Table1[[#This Row],[Wage differential Bonus                            - NotePay Rate you are bonusing to]]>0, Table1[[#This Row],[Wage differential Bonus                            - NotePay Rate you are bonusing to]]-Table1[[#This Row],[Pay Rate]], \"\")","v":""},{"$f":"IF(Table1[[#This Row],[Wage differential Bonus                            - NotePay Rate you are bonusing to]]>0,Table1[[#This Row],[Bonus Rate]]*Table1[[#This Row],[Hours]],\"\")","v":""},null,null,null,null,null,{"$f":"IF(OR(AH1767>0.001,AH1767<-0.001),Table1[[#This Row],[Employee '#]],\" \")","v":" "},false,{"$f":"SUMIF(Table1[[#This Row],[Total Wage Diff bonus]:[Bank Bonus]],\"<> \")","v":0},{"$f":"IF(AA1767>0, Table1[[#This Row],[Column4]], IF(AB1767>0,Table1[[#This Row],[Column4]],IF(X1767>0,\"1000\")))","v":false}]
[null,null,null,null,null,null,null,null,null,null,null,null,null,null,null,null,0,null,null,null,null,null,null,null,{"$f":"IF(Table1[[#This Row],[Wage differential Bonus                            - NotePay Rate you are bonusing to]]>0, Table1[[#This Row],[Wage differential Bonus                            - NotePay Rate you are bonusing to]]-Table1[[#This Row],[Pay Rate]], \"\")","v":""},{"$f":"IF(Table1[[#This Row],[Wage differential Bonus                            - NotePay Rate you are bonusing to]]>0,Table1[[#This Row],[Bonus Rate]]*Table1[[#This Row],[Hours]],\"\")","v":""},null,null,null,null,null,{"$f":"IF(OR(AH1769>0.001,AH1769<-0.001),Table1[[#This Row],[Employee '#]],\" \")","v":" "},false,{"$f":"SUMIF(Table1[[#This Row],[Total Wage Diff bonus]:[Bank Bonus]],\"<> \")","v":0},{"$f":"IF(AA1769>0, Table1[[#This Row],[Column4]], IF(AB1769>0,Table1[[#This Row],[Column4]],IF(X1769>0,\"1000\")))","v":false}]
[null,null,null,null,null,null,null,null,null,null,null,null,null,null,null,null,0,null,null,null,null,null,null,null,{"$f":"IF(Table1[[#This Row],[Wage differential Bonus                            - NotePay Rate you are bonusing to]]>0, Table1[[#This Row],[Wage differential Bonus                            - NotePay Rate you are bonusing to]]-Table1[[#This Row],[Pay Rate]], \"\")","v":""},{"$f":"IF(Table1[[#This Row],[Wage differential Bonus                            - NotePay Rate you are bonusing to]]>0,Table1[[#This Row],[Bonus Rate]]*Table1[[#This Row],[Hours]],\"\")","v":""},null,null,null,null,null,{"$f":"IF(OR(AH1772>0.001,AH1772<-0.001),Table1[[#This Row],[Employee '#]],\" \")","v":" "},false,{"$f":"SUMIF(Table1[[#This Row],[Total Wage Diff bonus]:[Bank Bonus]],\"<> \")","v":0},{"$f":"IF(AA1772>0, Table1[[#This Row],[Column4]], IF(AB1772>0,Table1[[#This Row],[Column4]],IF(X1772>0,\"1000\")))","v":false}]
[null,null,null,null,null,null,null,null,null,null,null,null,null,null,null,null,0,null,null,null,null,null,null,null,{"$f":"IF(Table1[[#This Row],[Wage differential Bonus                            - NotePay Rate you are bonusing to]]>0, Table1[[#This Row],[Wage differential Bonus                            - NotePay Rate you are bonusing to]]-Table1[[#This Row],[Pay Rate]], \"\")","v":""},{"$f":"IF(Table1[[#This Row],[Wage differential Bonus                            - NotePay Rate you are bonusing to]]>0,Table1[[#This Row],[Bonus Rate]]*Table1[[#This Row],[Hours]],\"\")","v":""},null,null,null,null,null,{"$f":"IF(OR(AH1773>0.001,AH1773<-0.001),Table1[[#This Row],[Employee '#]],\" \")","v":" "},false,{"$f":"SUMIF(Table1[[#This Row],[Total Wage Diff bonus]:[Bank Bonus]],\"<> \")","v":0},{"$f":"IF(AA1773>0, Table1[[#This Row],[Column4]], IF(AB1773>0,Table1[[#This Row],[Column4]],IF(X1773>0,\"1000\")))","v":false}]
[null,null,null,null,null,null,null,null,null,null,null,null,null,null,null,null,0,null,null,null,null,null,null,null,{"$f":"IF(Table1[[#This Row],[Wage differential Bonus                            - NotePay Rate you are bonusing to]]>0, Table1[[#This Row],[Wage differential Bonus                            - NotePay Rate you are bonusing to]]-Table1[[#This Row],[Pay Rate]], \"\")","v":""},{"$f":"IF(Table1[[#This Row],[Wage differential Bonus                            - NotePay Rate you are bonusing to]]>0,Table1[[#This Row],[Bonus Rate]]*Table1[[#This Row],[Hours]],\"\")","v":""},null,null,null,null,null,{"$f":"IF(OR(AH1777>0.001,AH1777<-0.001),Table1[[#This Row],[Employee '#]],\" \")","v":" "},false,{"$f":"SUMIF(Table1[[#This Row],[Total Wage Diff bonus]:[Bank Bonus]],\"<> \")","v":0},{"$f":"IF(AA1777>0, Table1[[#This Row],[Column4]], IF(AB1777>0,Table1[[#This Row],[Column4]],IF(X1777>0,\"1000\")))","v":false}]
[null,null,null,null,null,null,null,null,null,null,null,null,null,null,null,null,0,null,null,null,null,null,null,null,{"$f":"IF(Table1[[#This Row],[Wage differential Bonus                            - NotePay Rate you are bonusing to]]>0, Table1[[#This Row],[Wage differential Bonus                            - NotePay Rate you are bonusing to]]-Table1[[#This Row],[Pay Rate]], \"\")","v":""},{"$f":"IF(Table1[[#This Row],[Wage differential Bonus                            - NotePay Rate you are bonusing to]]>0,Table1[[#This Row],[Bonus Rate]]*Table1[[#This Row],[Hours]],\"\")","v":""},null,null,null,null,null,{"$f":"IF(OR(AH1778>0.001,AH1778<-0.001),Table1[[#This Row],[Employee '#]],\" \")","v":" "},false,{"$f":"SUMIF(Table1[[#This Row],[Total Wage Diff bonus]:[Bank Bonus]],\"<> \")","v":0},{"$f":"IF(AA1778>0, Table1[[#This Row],[Column4]], IF(AB1778>0,Table1[[#This Row],[Column4]],IF(X1778>0,\"1000\")))","v":false}]
[null,null,null,null,null,null,null,null,null,null,null,null,null,null,null,null,0,null,null,null,null,null,null,null,{"$f":"IF(Table1[[#This Row],[Wage differential Bonus                            - NotePay Rate you are bonusing to]]>0, Table1[[#This Row],[Wage differential Bonus                            - NotePay Rate you are bonusing to]]-Table1[[#This Row],[Pay Rate]], \"\")","v":""},{"$f":"IF(Table1[[#This Row],[Wage differential Bonus                            - NotePay Rate you are bonusing to]]>0,Table1[[#This Row],[Bonus Rate]]*Table1[[#This Row],[Hours]],\"\")","v":""},null,null,null,null,null,{"$f":"IF(OR(AH1781>0.001,AH1781<-0.001),Table1[[#This Row],[Employee '#]],\" \")","v":" "},false,{"$f":"SUMIF(Table1[[#This Row],[Total Wage Diff bonus]:[Bank Bonus]],\"<> \")","v":0},{"$f":"IF(AA1781>0, Table1[[#This Row],[Column4]], IF(AB1781>0,Table1[[#This Row],[Column4]],IF(X1781>0,\"1000\")))","v":false}]
[null,null,null,null,null,null,null,null,null,null,null,null,null,null,null,null,0,null,null,null,null,null,null,null,{"$f":"IF(Table1[[#This Row],[Wage differential Bonus                            - NotePay Rate you are bonusing to]]>0, Table1[[#This Row],[Wage differential Bonus                            - NotePay Rate you are bonusing to]]-Table1[[#This Row],[Pay Rate]], \"\")","v":""},{"$f":"IF(Table1[[#This Row],[Wage differential Bonus                            - NotePay Rate you are bonusing to]]>0,Table1[[#This Row],[Bonus Rate]]*Table1[[#This Row],[Hours]],\"\")","v":""},null,null,null,null,null,{"$f":"IF(OR(AH1782>0.001,AH1782<-0.001),Table1[[#This Row],[Employee '#]],\" \")","v":" "},false,{"$f":"SUMIF(Table1[[#This Row],[Total Wage Diff bonus]:[Bank Bonus]],\"<> \")","v":0},{"$f":"IF(AA1782>0, Table1[[#This Row],[Column4]], IF(AB1782>0,Table1[[#This Row],[Column4]],IF(X1782>0,\"1000\")))","v":false}]
[null,null,null,null,null,null,null,null,null,null,null,null,null,null,null,null,0,null,null,null,null,null,null,null,{"$f":"IF(Table1[[#This Row],[Wage differential Bonus                            - NotePay Rate you are bonusing to]]>0, Table1[[#This Row],[Wage differential Bonus                            - NotePay Rate you are bonusing to]]-Table1[[#This Row],[Pay Rate]], \"\")","v":""},{"$f":"IF(Table1[[#This Row],[Wage differential Bonus                            - NotePay Rate you are bonusing to]]>0,Table1[[#This Row],[Bonus Rate]]*Table1[[#This Row],[Hours]],\"\")","v":""},null,null,null,null,null,{"$f":"IF(OR(AH1786>0.001,AH1786<-0.001),Table1[[#This Row],[Employee '#]],\" \")","v":" "},false,{"$f":"SUMIF(Table1[[#This Row],[Total Wage Diff bonus]:[Bank Bonus]],\"<> \")","v":0},{"$f":"IF(AA1786>0, Table1[[#This Row],[Column4]], IF(AB1786>0,Table1[[#This Row],[Column4]],IF(X1786>0,\"1000\")))","v":false}]
[null,null,null,null,null,null,null,null,null,null,null,null,null,null,null,null,0,null,null,null,null,null,null,null,{"$f":"IF(Table1[[#This Row],[Wage differential Bonus                            - NotePay Rate you are bonusing to]]>0, Table1[[#This Row],[Wage differential Bonus                            - NotePay Rate you are bonusing to]]-Table1[[#This Row],[Pay Rate]], \"\")","v":""},{"$f":"IF(Table1[[#This Row],[Wage differential Bonus                            - NotePay Rate you are bonusing to]]>0,Table1[[#This Row],[Bonus Rate]]*Table1[[#This Row],[Hours]],\"\")","v":""},null,null,null,null,null,{"$f":"IF(OR(AH1787>0.001,AH1787<-0.001),Table1[[#This Row],[Employee '#]],\" \")","v":" "},false,{"$f":"SUMIF(Table1[[#This Row],[Total Wage Diff bonus]:[Bank Bonus]],\"<> \")","v":0},{"$f":"IF(AA1787>0, Table1[[#This Row],[Column4]], IF(AB1787>0,Table1[[#This Row],[Column4]],IF(X1787>0,\"1000\")))","v":false}]
[null,null,null,null,null,null,null,null,null,null,null,null,null,null,null,null,0,null,null,null,null,null,null,null,{"$f":"IF(Table1[[#This Row],[Wage differential Bonus                            - NotePay Rate you are bonusing to]]>0, Table1[[#This Row],[Wage differential Bonus                            - NotePay Rate you are bonusing to]]-Table1[[#This Row],[Pay Rate]], \"\")","v":""},{"$f":"IF(Table1[[#This Row],[Wage differential Bonus                            - NotePay Rate you are bonusing to]]>0,Table1[[#This Row],[Bonus Rate]]*Table1[[#This Row],[Hours]],\"\")","v":""},null,null,null,null,null,{"$f":"IF(OR(AH1790>0.001,AH1790<-0.001),Table1[[#This Row],[Employee '#]],\" \")","v":" "},false,{"$f":"SUMIF(Table1[[#This Row],[Total Wage Diff bonus]:[Bank Bonus]],\"<> \")","v":0},{"$f":"IF(AA1790>0, Table1[[#This Row],[Column4]], IF(AB1790>0,Table1[[#This Row],[Column4]],IF(X1790>0,\"1000\")))","v":false}]
[null,null,null,null,null,null,null,null,null,null,null,null,null,null,null,null,0,null,null,null,null,null,null,null,{"$f":"IF(Table1[[#This Row],[Wage differential Bonus                            - NotePay Rate you are bonusing to]]>0, Table1[[#This Row],[Wage differential Bonus                            - NotePay Rate you are bonusing to]]-Table1[[#This Row],[Pay Rate]], \"\")","v":""},{"$f":"IF(Table1[[#This Row],[Wage differential Bonus                            - NotePay Rate you are bonusing to]]>0,Table1[[#This Row],[Bonus Rate]]*Table1[[#This Row],[Hours]],\"\")","v":""},null,null,null,null,null,{"$f":"IF(OR(AH1793>0.001,AH1793<-0.001),Table1[[#This Row],[Employee '#]],\" \")","v":" "},false,{"$f":"SUMIF(Table1[[#This Row],[Total Wage Diff bonus]:[Bank Bonus]],\"<> \")","v":0},{"$f":"IF(AA1793>0, Table1[[#This Row],[Column4]], IF(AB1793>0,Table1[[#This Row],[Column4]],IF(X1793>0,\"1000\")))","v":false}]
[null,null,null,null,null,null,null,null,null,null,null,null,null,null,null,null,0,null,null,null,null,null,null,null,{"$f":"IF(Table1[[#This Row],[Wage differential Bonus                            - NotePay Rate you are bonusing to]]>0, Table1[[#This Row],[Wage differential Bonus                            - NotePay Rate you are bonusing to]]-Table1[[#This Row],[Pay Rate]], \"\")","v":""},{"$f":"IF(Table1[[#This Row],[Wage differential Bonus                            - NotePay Rate you are bonusing to]]>0,Table1[[#This Row],[Bonus Rate]]*Table1[[#This Row],[Hours]],\"\")","v":""},null,null,null,null,null,{"$f":"IF(OR(AH1795>0.001,AH1795<-0.001),Table1[[#This Row],[Employee '#]],\" \")","v":" "},false,{"$f":"SUMIF(Table1[[#This Row],[Total Wage Diff bonus]:[Bank Bonus]],\"<> \")","v":0},{"$f":"IF(AA1795>0, Table1[[#This Row],[Column4]], IF(AB1795>0,Table1[[#This Row],[Column4]],IF(X1795>0,\"1000\")))","v":false}]
[null,null,null,null,null,null,null,null,null,null,null,null,null,null,null,null,{"$f":"L1796+P1796","v":0},null,null,null,null,null,null,null,{"$f":"IF(Table1[[#This Row],[Wage differential Bonus                            - NotePay Rate you are bonusing to]]>0, Table1[[#This Row],[Wage differential Bonus                            - NotePay Rate you are bonusing to]]-Table1[[#This Row],[Pay Rate]], \"\")","v":""},{"$f":"IF(Table1[[#This Row],[Wage differential Bonus                            - NotePay Rate you are bonusing to]]>0,Table1[[#This Row],[Bonus Rate]]*Table1[[#This Row],[Hours]],\"\")","v":""},null,null,null,null,null,{"$f":"IF(OR(AH1796>0.001,AH1796<-0.001),Table1[[#This Row],[Employee '#]],\" \")","v":" "},{"$f":"IF(AA1796>0, \"28\", IF(AB1796>0,\"53\",IF(X1796>0,\"20\")))","v":false},{"$f":"SUMIF(Table1[[#This Row],[Total Wage Diff bonus]:[Bank Bonus]],\"<> \")","v":0},{"$f":"IF(AA1796>0, Table1[[#This Row],[Column4]], IF(AB1796>0,Table1[[#This Row],[Column4]],IF(X1796>0,\"1000\")))","v":false}]
[null,null,null,null,null,null,null,null,null,null,null,null,null,null,null,null,0,null,null,null,null,null,null,null,{"$f":"IF(Table1[[#This Row],[Wage differential Bonus                            - NotePay Rate you are bonusing to]]>0, Table1[[#This Row],[Wage differential Bonus                            - NotePay Rate you are bonusing to]]-Table1[[#This Row],[Pay Rate]], \"\")","v":""},{"$f":"IF(Table1[[#This Row],[Wage differential Bonus                            - NotePay Rate you are bonusing to]]>0,Table1[[#This Row],[Bonus Rate]]*Table1[[#This Row],[Hours]],\"\")","v":""},null,null,null,null,null,{"$f":"IF(OR(AH1799>0.001,AH1799<-0.001),Table1[[#This Row],[Employee '#]],\" \")","v":" "},false,{"$f":"SUMIF(Table1[[#This Row],[Total Wage Diff bonus]:[Bank Bonus]],\"<> \")","v":0},{"$f":"IF(AA1799>0, Table1[[#This Row],[Column4]], IF(AB1799>0,Table1[[#This Row],[Column4]],IF(X1799>0,\"1000\")))","v":false}]
[null,null,null,null,null,null,null,null,null,null,null,null,null,null,null,null,0,null,null,null,null,null,null,null,{"$f":"IF(Table1[[#This Row],[Wage differential Bonus                            - NotePay Rate you are bonusing to]]>0, Table1[[#This Row],[Wage differential Bonus                            - NotePay Rate you are bonusing to]]-Table1[[#This Row],[Pay Rate]], \"\")","v":""},{"$f":"IF(Table1[[#This Row],[Wage differential Bonus                            - NotePay Rate you are bonusing to]]>0,Table1[[#This Row],[Bonus Rate]]*Table1[[#This Row],[Hours]],\"\")","v":""},null,null,null,null,null,{"$f":"IF(OR(AH1800>0.001,AH1800<-0.001),Table1[[#This Row],[Employee '#]],\" \")","v":" "},false,{"$f":"SUMIF(Table1[[#This Row],[Total Wage Diff bonus]:[Bank Bonus]],\"<> \")","v":0},{"$f":"IF(AA1800>0, Table1[[#This Row],[Column4]], IF(AB1800>0,Table1[[#This Row],[Column4]],IF(X1800>0,\"1000\")))","v":false}]
[null,null,null,null,null,null,null,null,null,null,null,null,null,null,null,null,0,null,null,null,null,null,null,null,{"$f":"IF(Table1[[#This Row],[Wage differential Bonus                            - NotePay Rate you are bonusing to]]>0, Table1[[#This Row],[Wage differential Bonus                            - NotePay Rate you are bonusing to]]-Table1[[#This Row],[Pay Rate]], \"\")","v":""},{"$f":"IF(Table1[[#This Row],[Wage differential Bonus                            - NotePay Rate you are bonusing to]]>0,Table1[[#This Row],[Bonus Rate]]*Table1[[#This Row],[Hours]],\"\")","v":""},null,null,null,null,null,{"$f":"IF(OR(AH1804>0.001,AH1804<-0.001),Table1[[#This Row],[Employee '#]],\" \")","v":" "},false,{"$f":"SUMIF(Table1[[#This Row],[Total Wage Diff bonus]:[Bank Bonus]],\"<> \")","v":0},{"$f":"IF(AA1804>0, Table1[[#This Row],[Column4]], IF(AB1804>0,Table1[[#This Row],[Column4]],IF(X1804>0,\"1000\")))","v":false}]
[null,null,null,null,null,null,null,null,null,null,null,null,null,null,null,null,0,null,null,null,null,null,null,null,{"$f":"IF(Table1[[#This Row],[Wage differential Bonus                            - NotePay Rate you are bonusing to]]>0, Table1[[#This Row],[Wage differential Bonus                            - NotePay Rate you are bonusing to]]-Table1[[#This Row],[Pay Rate]], \"\")","v":""},{"$f":"IF(Table1[[#This Row],[Wage differential Bonus                            - NotePay Rate you are bonusing to]]>0,Table1[[#This Row],[Bonus Rate]]*Table1[[#This Row],[Hours]],\"\")","v":""},null,null,null,null,null,{"$f":"IF(OR(AH1805>0.001,AH1805<-0.001),Table1[[#This Row],[Employee '#]],\" \")","v":" "},false,{"$f":"SUMIF(Table1[[#This Row],[Total Wage Diff bonus]:[Bank Bonus]],\"<> \")","v":0},{"$f":"IF(AA1805>0, Table1[[#This Row],[Column4]], IF(AB1805>0,Table1[[#This Row],[Column4]],IF(X1805>0,\"1000\")))","v":false}]
[null,null,null,null,null,null,null,null,null,null,null,null,null,null,null,null,0,null,null,null,null,null,null,null,{"$f":"IF(Table1[[#This Row],[Wage differential Bonus                            - NotePay Rate you are bonusing to]]>0, Table1[[#This Row],[Wage differential Bonus                            - NotePay Rate you are bonusing to]]-Table1[[#This Row],[Pay Rate]], \"\")","v":""},{"$f":"IF(Table1[[#This Row],[Wage differential Bonus                            - NotePay Rate you are bonusing to]]>0,Table1[[#This Row],[Bonus Rate]]*Table1[[#This Row],[Hours]],\"\")","v":""},null,null,null,null,null,{"$f":"IF(OR(AH1808>0.001,AH1808<-0.001),Table1[[#This Row],[Employee '#]],\" \")","v":" "},false,{"$f":"SUMIF(Table1[[#This Row],[Total Wage Diff bonus]:[Bank Bonus]],\"<> \")","v":0},{"$f":"IF(AA1808>0, Table1[[#This Row],[Column4]], IF(AB1808>0,Table1[[#This Row],[Column4]],IF(X1808>0,\"1000\")))","v":false}]
[null,null,null,null,null,null,null,null,null,null,null,null,null,null,null,null,0,null,null,null,null,null,null,null,{"$f":"IF(Table1[[#This Row],[Wage differential Bonus                            - NotePay Rate you are bonusing to]]>0, Table1[[#This Row],[Wage differential Bonus                            - NotePay Rate you are bonusing to]]-Table1[[#This Row],[Pay Rate]], \"\")","v":""},{"$f":"IF(Table1[[#This Row],[Wage differential Bonus                            - NotePay Rate you are bonusing to]]>0,Table1[[#This Row],[Bonus Rate]]*Table1[[#This Row],[Hours]],\"\")","v":""},null,null,null,null,null,{"$f":"IF(OR(AH1811>0.001,AH1811<-0.001),Table1[[#This Row],[Employee '#]],\" \")","v":" "},false,{"$f":"SUMIF(Table1[[#This Row],[Total Wage Diff bonus]:[Bank Bonus]],\"<> \")","v":0},{"$f":"IF(AA1811>0, Table1[[#This Row],[Column4]], IF(AB1811>0,Table1[[#This Row],[Column4]],IF(X1811>0,\"1000\")))","v":false}]
[null,null,null,null,null,null,null,null,null,null,null,null,null,null,null,null,0,null,null,null,null,null,null,null,{"$f":"IF(Table1[[#This Row],[Wage differential Bonus                            - NotePay Rate you are bonusing to]]>0, Table1[[#This Row],[Wage differential Bonus                            - NotePay Rate you are bonusing to]]-Table1[[#This Row],[Pay Rate]], \"\")","v":""},{"$f":"IF(Table1[[#This Row],[Wage differential Bonus                            - NotePay Rate you are bonusing to]]>0,Table1[[#This Row],[Bonus Rate]]*Table1[[#This Row],[Hours]],\"\")","v":""},null,null,null,null,null,{"$f":"IF(OR(AH1813>0.001,AH1813<-0.001),Table1[[#This Row],[Employee '#]],\" \")","v":" "},false,{"$f":"SUMIF(Table1[[#This Row],[Total Wage Diff bonus]:[Bank Bonus]],\"<> \")","v":0},{"$f":"IF(AA1813>0, Table1[[#This Row],[Column4]], IF(AB1813>0,Table1[[#This Row],[Column4]],IF(X1813>0,\"1000\")))","v":false}]
[null,null,null,null,null,null,null,null,null,null,null,null,null,null,null,null,0,null,null,null,null,null,null,null,{"$f":"IF(Table1[[#This Row],[Wage differential Bonus                            - NotePay Rate you are bonusing to]]>0, Table1[[#This Row],[Wage differential Bonus                            - NotePay Rate you are bonusing to]]-Table1[[#This Row],[Pay Rate]], \"\")","v":""},{"$f":"IF(Table1[[#This Row],[Wage differential Bonus                            - NotePay Rate you are bonusing to]]>0,Table1[[#This Row],[Bonus Rate]]*Table1[[#This Row],[Hours]],\"\")","v":""},null,null,null,null,null,{"$f":"IF(OR(AH1814>0.001,AH1814<-0.001),Table1[[#This Row],[Employee '#]],\" \")","v":" "},false,{"$f":"SUMIF(Table1[[#This Row],[Total Wage Diff bonus]:[Bank Bonus]],\"<> \")","v":0},{"$f":"IF(AA1814>0, Table1[[#This Row],[Column4]], IF(AB1814>0,Table1[[#This Row],[Column4]],IF(X1814>0,\"1000\")))","v":false}]
[null,null,null,null,null,null,null,null,null,null,null,null,null,null,null,null,0,null,null,null,null,null,null,null,{"$f":"IF(Table1[[#This Row],[Wage differential Bonus                            - NotePay Rate you are bonusing to]]>0, Table1[[#This Row],[Wage differential Bonus                            - NotePay Rate you are bonusing to]]-Table1[[#This Row],[Pay Rate]], \"\")","v":""},{"$f":"IF(Table1[[#This Row],[Wage differential Bonus                            - NotePay Rate you are bonusing to]]>0,Table1[[#This Row],[Bonus Rate]]*Table1[[#This Row],[Hours]],\"\")","v":""},null,null,null,null,null,{"$f":"IF(OR(AH1816>0.001,AH1816<-0.001),Table1[[#This Row],[Employee '#]],\" \")","v":" "},false,{"$f":"SUMIF(Table1[[#This Row],[Total Wage Diff bonus]:[Bank Bonus]],\"<> \")","v":0},{"$f":"IF(AA1816>0, Table1[[#This Row],[Column4]], IF(AB1816>0,Table1[[#This Row],[Column4]],IF(X1816>0,\"1000\")))","v":false}]
[null,null,null,null,null,null,null,null,null,null,null,null,null,null,null,null,0,null,null,null,null,null,null,null,{"$f":"IF(Table1[[#This Row],[Wage differential Bonus                            - NotePay Rate you are bonusing to]]>0, Table1[[#This Row],[Wage differential Bonus                            - NotePay Rate you are bonusing to]]-Table1[[#This Row],[Pay Rate]], \"\")","v":""},{"$f":"IF(Table1[[#This Row],[Wage differential Bonus                            - NotePay Rate you are bonusing to]]>0,Table1[[#This Row],[Bonus Rate]]*Table1[[#This Row],[Hours]],\"\")","v":""},null,null,null,null,null,{"$f":"IF(OR(AH1819>0.001,AH1819<-0.001),Table1[[#This Row],[Employee '#]],\" \")","v":" "},false,{"$f":"SUMIF(Table1[[#This Row],[Total Wage Diff bonus]:[Bank Bonus]],\"<> \")","v":0},{"$f":"IF(AA1819>0, Table1[[#This Row],[Column4]], IF(AB1819>0,Table1[[#This Row],[Column4]],IF(X1819>0,\"1000\")))","v":false}]
[null,null,null,null,null,null,null,null,null,null,null,null,null,null,null,null,0,null,null,null,null,null,null,null,{"$f":"IF(Table1[[#This Row],[Wage differential Bonus                            - NotePay Rate you are bonusing to]]>0, Table1[[#This Row],[Wage differential Bonus                            - NotePay Rate you are bonusing to]]-Table1[[#This Row],[Pay Rate]], \"\")","v":""},{"$f":"IF(Table1[[#This Row],[Wage differential Bonus                            - NotePay Rate you are bonusing to]]>0,Table1[[#This Row],[Bonus Rate]]*Table1[[#This Row],[Hours]],\"\")","v":""},null,null,null,null,null,{"$f":"IF(OR(AH1822>0.001,AH1822<-0.001),Table1[[#This Row],[Employee '#]],\" \")","v":" "},false,{"$f":"SUMIF(Table1[[#This Row],[Total Wage Diff bonus]:[Bank Bonus]],\"<> \")","v":0},{"$f":"IF(AA1822>0, Table1[[#This Row],[Column4]], IF(AB1822>0,Table1[[#This Row],[Column4]],IF(X1822>0,\"1000\")))","v":false}]
[null,null,null,null,null,null,null,null,null,null,null,null,null,null,null,null,0,null,null,null,null,null,null,null,{"$f":"IF(Table1[[#This Row],[Wage differential Bonus                            - NotePay Rate you are bonusing to]]>0, Table1[[#This Row],[Wage differential Bonus                            - NotePay Rate you are bonusing to]]-Table1[[#This Row],[Pay Rate]], \"\")","v":""},{"$f":"IF(Table1[[#This Row],[Wage differential Bonus                            - NotePay Rate you are bonusing to]]>0,Table1[[#This Row],[Bonus Rate]]*Table1[[#This Row],[Hours]],\"\")","v":""},null,null,null,null,null,{"$f":"IF(OR(AH1823>0.001,AH1823<-0.001),Table1[[#This Row],[Employee '#]],\" \")","v":" "},false,{"$f":"SUMIF(Table1[[#This Row],[Total Wage Diff bonus]:[Bank Bonus]],\"<> \")","v":0},{"$f":"IF(AA1823>0, Table1[[#This Row],[Column4]], IF(AB1823>0,Table1[[#This Row],[Column4]],IF(X1823>0,\"1000\")))","v":false}]
[null,null,null,null,null,null,null,null,null,null,null,null,null,null,null,null,0,null,null,null,null,null,null,null,{"$f":"IF(Table1[[#This Row],[Wage differential Bonus                            - NotePay Rate you are bonusing to]]>0, Table1[[#This Row],[Wage differential Bonus                            - NotePay Rate you are bonusing to]]-Table1[[#This Row],[Pay Rate]], \"\")","v":""},{"$f":"IF(Table1[[#This Row],[Wage differential Bonus                            - NotePay Rate you are bonusing to]]>0,Table1[[#This Row],[Bonus Rate]]*Table1[[#This Row],[Hours]],\"\")","v":""},null,null,null,null,null,{"$f":"IF(OR(AH1827>0.001,AH1827<-0.001),Table1[[#This Row],[Employee '#]],\" \")","v":" "},false,{"$f":"SUMIF(Table1[[#This Row],[Total Wage Diff bonus]:[Bank Bonus]],\"<> \")","v":0},{"$f":"IF(AA1827>0, Table1[[#This Row],[Column4]], IF(AB1827>0,Table1[[#This Row],[Column4]],IF(X1827>0,\"1000\")))","v":false}]
[null,null,null,null,null,null,null,null,null,null,null,null,null,null,null,null,0,null,null,null,null,null,null,null,{"$f":"IF(Table1[[#This Row],[Wage differential Bonus                            - NotePay Rate you are bonusing to]]>0, Table1[[#This Row],[Wage differential Bonus                            - NotePay Rate you are bonusing to]]-Table1[[#This Row],[Pay Rate]], \"\")","v":""},{"$f":"IF(Table1[[#This Row],[Wage differential Bonus                            - NotePay Rate you are bonusing to]]>0,Table1[[#This Row],[Bonus Rate]]*Table1[[#This Row],[Hours]],\"\")","v":""},null,null,null,null,null,{"$f":"IF(OR(AH1828>0.001,AH1828<-0.001),Table1[[#This Row],[Employee '#]],\" \")","v":" "},false,{"$f":"SUMIF(Table1[[#This Row],[Total Wage Diff bonus]:[Bank Bonus]],\"<> \")","v":0},{"$f":"IF(AA1828>0, Table1[[#This Row],[Column4]], IF(AB1828>0,Table1[[#This Row],[Column4]],IF(X1828>0,\"1000\")))","v":false}]
[null,null,null,null,null,null,null,null,null,null,null,null,null,null,null,null,0,null,null,null,null,null,null,null,{"$f":"IF(Table1[[#This Row],[Wage differential Bonus                            - NotePay Rate you are bonusing to]]>0, Table1[[#This Row],[Wage differential Bonus                            - NotePay Rate you are bonusing to]]-Table1[[#This Row],[Pay Rate]], \"\")","v":""},{"$f":"IF(Table1[[#This Row],[Wage differential Bonus                            - NotePay Rate you are bonusing to]]>0,Table1[[#This Row],[Bonus Rate]]*Table1[[#This Row],[Hours]],\"\")","v":""},null,null,null,null,null,{"$f":"IF(OR(AH1831>0.001,AH1831<-0.001),Table1[[#This Row],[Employee '#]],\" \")","v":" "},false,{"$f":"SUMIF(Table1[[#This Row],[Total Wage Diff bonus]:[Bank Bonus]],\"<> \")","v":0},{"$f":"IF(AA1831>0, Table1[[#This Row],[Column4]], IF(AB1831>0,Table1[[#This Row],[Column4]],IF(X1831>0,\"1000\")))","v":false}]
[null,null,null,null,null,null,null,null,null,null,null,null,null,null,null,null,0,null,null,null,null,null,null,null,{"$f":"IF(Table1[[#This Row],[Wage differential Bonus                            - NotePay Rate you are bonusing to]]>0, Table1[[#This Row],[Wage differential Bonus                            - NotePay Rate you are bonusing to]]-Table1[[#This Row],[Pay Rate]], \"\")","v":""},{"$f":"IF(Table1[[#This Row],[Wage differential Bonus                            - NotePay Rate you are bonusing to]]>0,Table1[[#This Row],[Bonus Rate]]*Table1[[#This Row],[Hours]],\"\")","v":""},null,null,null,null,null,{"$f":"IF(OR(AH1832>0.001,AH1832<-0.001),Table1[[#This Row],[Employee '#]],\" \")","v":" "},false,{"$f":"SUMIF(Table1[[#This Row],[Total Wage Diff bonus]:[Bank Bonus]],\"<> \")","v":0},{"$f":"IF(AA1832>0, Table1[[#This Row],[Column4]], IF(AB1832>0,Table1[[#This Row],[Column4]],IF(X1832>0,\"1000\")))","v":false}]
[null,null,null,null,null,null,null,null,null,null,null,null,null,null,null,null,0,null,null,null,null,null,null,null,{"$f":"IF(Table1[[#This Row],[Wage differential Bonus                            - NotePay Rate you are bonusing to]]>0, Table1[[#This Row],[Wage differential Bonus                            - NotePay Rate you are bonusing to]]-Table1[[#This Row],[Pay Rate]], \"\")","v":""},{"$f":"IF(Table1[[#This Row],[Wage differential Bonus                            - NotePay Rate you are bonusing to]]>0,Table1[[#This Row],[Bonus Rate]]*Table1[[#This Row],[Hours]],\"\")","v":""},null,null,null,null,null,{"$f":"IF(OR(AH1834>0.001,AH1834<-0.001),Table1[[#This Row],[Employee '#]],\" \")","v":" "},false,{"$f":"SUMIF(Table1[[#This Row],[Total Wage Diff bonus]:[Bank Bonus]],\"<> \")","v":0},{"$f":"IF(AA1834>0, Table1[[#This Row],[Column4]], IF(AB1834>0,Table1[[#This Row],[Column4]],IF(X1834>0,\"1000\")))","v":false}]
[null,null,null,null,null,null,null,null,null,null,null,null,null,null,null,null,0,null,null,null,null,null,null,null,{"$f":"IF(Table1[[#This Row],[Wage differential Bonus                            - NotePay Rate you are bonusing to]]>0, Table1[[#This Row],[Wage differential Bonus                            - NotePay Rate you are bonusing to]]-Table1[[#This Row],[Pay Rate]], \"\")","v":""},{"$f":"IF(Table1[[#This Row],[Wage differential Bonus                            - NotePay Rate you are bonusing to]]>0,Table1[[#This Row],[Bonus Rate]]*Table1[[#This Row],[Hours]],\"\")","v":""},null,null,null,null,null,{"$f":"IF(OR(AH1837>0.001,AH1837<-0.001),Table1[[#This Row],[Employee '#]],\" \")","v":" "},false,{"$f":"SUMIF(Table1[[#This Row],[Total Wage Diff bonus]:[Bank Bonus]],\"<> \")","v":0},{"$f":"IF(AA1837>0, Table1[[#This Row],[Column4]], IF(AB1837>0,Table1[[#This Row],[Column4]],IF(X1837>0,\"1000\")))","v":false}]
[null,null,null,null,null,null,null,null,null,null,null,null,null,null,null,null,0,null,null,null,null,null,null,null,{"$f":"IF(Table1[[#This Row],[Wage differential Bonus                            - NotePay Rate you are bonusing to]]>0, Table1[[#This Row],[Wage differential Bonus                            - NotePay Rate you are bonusing to]]-Table1[[#This Row],[Pay Rate]], \"\")","v":""},{"$f":"IF(Table1[[#This Row],[Wage differential Bonus                            - NotePay Rate you are bonusing to]]>0,Table1[[#This Row],[Bonus Rate]]*Table1[[#This Row],[Hours]],\"\")","v":""},null,null,null,null,null,{"$f":"IF(OR(AH1840>0.001,AH1840<-0.001),Table1[[#This Row],[Employee '#]],\" \")","v":" "},false,{"$f":"SUMIF(Table1[[#This Row],[Total Wage Diff bonus]:[Bank Bonus]],\"<> \")","v":0},{"$f":"IF(AA1840>0, Table1[[#This Row],[Column4]], IF(AB1840>0,Table1[[#This Row],[Column4]],IF(X1840>0,\"1000\")))","v":false}]
[null,null,null,null,null,null,null,null,null,null,null,null,null,null,null,null,0,null,null,null,null,null,null,null,{"$f":"IF(Table1[[#This Row],[Wage differential Bonus                            - NotePay Rate you are bonusing to]]>0, Table1[[#This Row],[Wage differential Bonus                            - NotePay Rate you are bonusing to]]-Table1[[#This Row],[Pay Rate]], \"\")","v":""},{"$f":"IF(Table1[[#This Row],[Wage differential Bonus                            - NotePay Rate you are bonusing to]]>0,Table1[[#This Row],[Bonus Rate]]*Table1[[#This Row],[Hours]],\"\")","v":""},null,null,null,null,null,{"$f":"IF(OR(AH1841>0.001,AH1841<-0.001),Table1[[#This Row],[Employee '#]],\" \")","v":" "},false,{"$f":"SUMIF(Table1[[#This Row],[Total Wage Diff bonus]:[Bank Bonus]],\"<> \")","v":0},{"$f":"IF(AA1841>0, Table1[[#This Row],[Column4]], IF(AB1841>0,Table1[[#This Row],[Column4]],IF(X1841>0,\"1000\")))","v":false}]
[null,null,null,null,null,null,null,null,null,null,null,null,null,null,null,null,0,null,null,null,null,null,null,null,{"$f":"IF(Table1[[#This Row],[Wage differential Bonus                            - NotePay Rate you are bonusing to]]>0, Table1[[#This Row],[Wage differential Bonus                            - NotePay Rate you are bonusing to]]-Table1[[#This Row],[Pay Rate]], \"\")","v":""},{"$f":"IF(Table1[[#This Row],[Wage differential Bonus                            - NotePay Rate you are bonusing to]]>0,Table1[[#This Row],[Bonus Rate]]*Table1[[#This Row],[Hours]],\"\")","v":""},null,null,null,null,null,{"$f":"IF(OR(AH1845>0.001,AH1845<-0.001),Table1[[#This Row],[Employee '#]],\" \")","v":" "},false,{"$f":"SUMIF(Table1[[#This Row],[Total Wage Diff bonus]:[Bank Bonus]],\"<> \")","v":0},{"$f":"IF(AA1845>0, Table1[[#This Row],[Column4]], IF(AB1845>0,Table1[[#This Row],[Column4]],IF(X1845>0,\"1000\")))","v":false}]
[null,null,null,null,null,null,null,null,null,null,null,null,null,null,null,null,0,null,null,null,null,null,null,null,{"$f":"IF(Table1[[#This Row],[Wage differential Bonus                            - NotePay Rate you are bonusing to]]>0, Table1[[#This Row],[Wage differential Bonus                            - NotePay Rate you are bonusing to]]-Table1[[#This Row],[Pay Rate]], \"\")","v":""},{"$f":"IF(Table1[[#This Row],[Wage differential Bonus                            - NotePay Rate you are bonusing to]]>0,Table1[[#This Row],[Bonus Rate]]*Table1[[#This Row],[Hours]],\"\")","v":""},null,null,null,null,null,{"$f":"IF(OR(AH1846>0.001,AH1846<-0.001),Table1[[#This Row],[Employee '#]],\" \")","v":" "},false,{"$f":"SUMIF(Table1[[#This Row],[Total Wage Diff bonus]:[Bank Bonus]],\"<> \")","v":0},{"$f":"IF(AA1846>0, Table1[[#This Row],[Column4]], IF(AB1846>0,Table1[[#This Row],[Column4]],IF(X1846>0,\"1000\")))","v":false}]
[null,null,null,null,null,null,null,null,null,null,null,null,null,null,null,null,0,null,null,null,null,null,null,null,{"$f":"IF(Table1[[#This Row],[Wage differential Bonus                            - NotePay Rate you are bonusing to]]>0, Table1[[#This Row],[Wage differential Bonus                            - NotePay Rate you are bonusing to]]-Table1[[#This Row],[Pay Rate]], \"\")","v":""},{"$f":"IF(Table1[[#This Row],[Wage differential Bonus                            - NotePay Rate you are bonusing to]]>0,Table1[[#This Row],[Bonus Rate]]*Table1[[#This Row],[Hours]],\"\")","v":""},null,null,null,null,null,{"$f":"IF(OR(AH1849>0.001,AH1849<-0.001),Table1[[#This Row],[Employee '#]],\" \")","v":" "},false,{"$f":"SUMIF(Table1[[#This Row],[Total Wage Diff bonus]:[Bank Bonus]],\"<> \")","v":0},{"$f":"IF(AA1849>0, Table1[[#This Row],[Column4]], IF(AB1849>0,Table1[[#This Row],[Column4]],IF(X1849>0,\"1000\")))","v":false}]
[null,null,null,null,null,null,null,null,null,null,null,null,null,null,null,null,0,null,null,null,null,null,null,null,{"$f":"IF(Table1[[#This Row],[Wage differential Bonus                            - NotePay Rate you are bonusing to]]>0, Table1[[#This Row],[Wage differential Bonus                            - NotePay Rate you are bonusing to]]-Table1[[#This Row],[Pay Rate]], \"\")","v":""},{"$f":"IF(Table1[[#This Row],[Wage differential Bonus                            - NotePay Rate you are bonusing to]]>0,Table1[[#This Row],[Bonus Rate]]*Table1[[#This Row],[Hours]],\"\")","v":""},null,null,null,null,null,{"$f":"IF(OR(AH1850>0.001,AH1850<-0.001),Table1[[#This Row],[Employee '#]],\" \")","v":" "},false,{"$f":"SUMIF(Table1[[#This Row],[Total Wage Diff bonus]:[Bank Bonus]],\"<> \")","v":0},{"$f":"IF(AA1850>0, Table1[[#This Row],[Column4]], IF(AB1850>0,Table1[[#This Row],[Column4]],IF(X1850>0,\"1000\")))","v":false}]
[null,null,null,null,null,null,null,null,null,null,null,null,null,null,null,null,0,null,null,null,null,null,null,null,{"$f":"IF(Table1[[#This Row],[Wage differential Bonus                            - NotePay Rate you are bonusing to]]>0, Table1[[#This Row],[Wage differential Bonus                            - NotePay Rate you are bonusing to]]-Table1[[#This Row],[Pay Rate]], \"\")","v":""},{"$f":"IF(Table1[[#This Row],[Wage differential Bonus                            - NotePay Rate you are bonusing to]]>0,Table1[[#This Row],[Bonus Rate]]*Table1[[#This Row],[Hours]],\"\")","v":""},null,null,null,null,null,{"$f":"IF(OR(AH1854>0.001,AH1854<-0.001),Table1[[#This Row],[Employee '#]],\" \")","v":" "},false,{"$f":"SUMIF(Table1[[#This Row],[Total Wage Diff bonus]:[Bank Bonus]],\"<> \")","v":0},{"$f":"IF(AA1854>0, Table1[[#This Row],[Column4]], IF(AB1854>0,Table1[[#This Row],[Column4]],IF(X1854>0,\"1000\")))","v":false}]
[null,null,null,null,null,null,null,null,null,null,null,null,null,null,null,null,0,null,null,null,null,null,null,null,{"$f":"IF(Table1[[#This Row],[Wage differential Bonus                            - NotePay Rate you are bonusing to]]>0, Table1[[#This Row],[Wage differential Bonus                            - NotePay Rate you are bonusing to]]-Table1[[#This Row],[Pay Rate]], \"\")","v":""},{"$f":"IF(Table1[[#This Row],[Wage differential Bonus                            - NotePay Rate you are bonusing to]]>0,Table1[[#This Row],[Bonus Rate]]*Table1[[#This Row],[Hours]],\"\")","v":""},null,null,null,null,null,{"$f":"IF(OR(AH1855>0.001,AH1855<-0.001),Table1[[#This Row],[Employee '#]],\" \")","v":" "},false,{"$f":"SUMIF(Table1[[#This Row],[Total Wage Diff bonus]:[Bank Bonus]],\"<> \")","v":0},{"$f":"IF(AA1855>0, Table1[[#This Row],[Column4]], IF(AB1855>0,Table1[[#This Row],[Column4]],IF(X1855>0,\"1000\")))","v":false}]
[null,null,null,null,null,null,null,null,null,null,null,null,null,null,null,null,0,null,null,null,null,null,null,null,{"$f":"IF(Table1[[#This Row],[Wage differential Bonus                            - NotePay Rate you are bonusing to]]>0, Table1[[#This Row],[Wage differential Bonus                            - NotePay Rate you are bonusing to]]-Table1[[#This Row],[Pay Rate]], \"\")","v":""},{"$f":"IF(Table1[[#This Row],[Wage differential Bonus                            - NotePay Rate you are bonusing to]]>0,Table1[[#This Row],[Bonus Rate]]*Table1[[#This Row],[Hours]],\"\")","v":""},null,null,null,null,null,{"$f":"IF(OR(AH1858>0.001,AH1858<-0.001),Table1[[#This Row],[Employee '#]],\" \")","v":" "},false,{"$f":"SUMIF(Table1[[#This Row],[Total Wage Diff bonus]:[Bank Bonus]],\"<> \")","v":0},{"$f":"IF(AA1858>0, Table1[[#This Row],[Column4]], IF(AB1858>0,Table1[[#This Row],[Column4]],IF(X1858>0,\"1000\")))","v":false}]
[null,null,null,null,null,null,null,null,null,null,null,null,null,null,null,null,{"$f":"L1860+P1860","v":0},null,null,null,null,null,null,null,{"$f":"IF(Table1[[#This Row],[Wage differential Bonus                            - NotePay Rate you are bonusing to]]>0, Table1[[#This Row],[Wage differential Bonus                            - NotePay Rate you are bonusing to]]-Table1[[#This Row],[Pay Rate]], \"\")","v":""},{"$f":"IF(Table1[[#This Row],[Wage differential Bonus                            - NotePay Rate you are bonusing to]]>0,Table1[[#This Row],[Bonus Rate]]*Table1[[#This Row],[Hours]],\"\")","v":""},null,null,null,null,null,{"$f":"IF(OR(AH1860>0.001,AH1860<-0.001),Table1[[#This Row],[Employee '#]],\" \")","v":" "},{"$f":"IF(AA1860>0, \"28\", IF(AB1860>0,\"53\",IF(X1860>0,\"20\")))","v":false},{"$f":"SUMIF(Table1[[#This Row],[Total Wage Diff bonus]:[Bank Bonus]],\"<> \")","v":0},{"$f":"IF(AA1860>0, Table1[[#This Row],[Column4]], IF(AB1860>0,Table1[[#This Row],[Column4]],IF(X1860>0,\"1000\")))","v":false}]
[null,null,null,null,null,null,null,null,null,null,null,null,null,null,null,null,0,null,null,null,null,null,null,null,{"$f":"IF(Table1[[#This Row],[Wage differential Bonus                            - NotePay Rate you are bonusing to]]>0, Table1[[#This Row],[Wage differential Bonus                            - NotePay Rate you are bonusing to]]-Table1[[#This Row],[Pay Rate]], \"\")","v":""},{"$f":"IF(Table1[[#This Row],[Wage differential Bonus                            - NotePay Rate you are bonusing to]]>0,Table1[[#This Row],[Bonus Rate]]*Table1[[#This Row],[Hours]],\"\")","v":""},null,null,null,null,null,{"$f":"IF(OR(AH1863>0.001,AH1863<-0.001),Table1[[#This Row],[Employee '#]],\" \")","v":" "},false,{"$f":"SUMIF(Table1[[#This Row],[Total Wage Diff bonus]:[Bank Bonus]],\"<> \")","v":0},{"$f":"IF(AA1863>0, Table1[[#This Row],[Column4]], IF(AB1863>0,Table1[[#This Row],[Column4]],IF(X1863>0,\"1000\")))","v":false}]
[null,null,null,null,null,null,null,null,null,null,null,null,null,null,null,null,0,null,null,null,null,null,null,null,{"$f":"IF(Table1[[#This Row],[Wage differential Bonus                            - NotePay Rate you are bonusing to]]>0, Table1[[#This Row],[Wage differential Bonus                            - NotePay Rate you are bonusing to]]-Table1[[#This Row],[Pay Rate]], \"\")","v":""},{"$f":"IF(Table1[[#This Row],[Wage differential Bonus                            - NotePay Rate you are bonusing to]]>0,Table1[[#This Row],[Bonus Rate]]*Table1[[#This Row],[Hours]],\"\")","v":""},null,null,null,null,null,{"$f":"IF(OR(AH1864>0.001,AH1864<-0.001),Table1[[#This Row],[Employee '#]],\" \")","v":" "},false,{"$f":"SUMIF(Table1[[#This Row],[Total Wage Diff bonus]:[Bank Bonus]],\"<> \")","v":0},{"$f":"IF(AA1864>0, Table1[[#This Row],[Column4]], IF(AB1864>0,Table1[[#This Row],[Column4]],IF(X1864>0,\"1000\")))","v":false}]
[null,null,null,null,null,null,null,null,null,null,null,null,null,null,null,null,0,null,null,null,null,null,null,null,{"$f":"IF(Table1[[#This Row],[Wage differential Bonus                            - NotePay Rate you are bonusing to]]>0, Table1[[#This Row],[Wage differential Bonus                            - NotePay Rate you are bonusing to]]-Table1[[#This Row],[Pay Rate]], \"\")","v":""},{"$f":"IF(Table1[[#This Row],[Wage differential Bonus                            - NotePay Rate you are bonusing to]]>0,Table1[[#This Row],[Bonus Rate]]*Table1[[#This Row],[Hours]],\"\")","v":""},null,null,null,null,null,{"$f":"IF(OR(AH1867>0.001,AH1867<-0.001),Table1[[#This Row],[Employee '#]],\" \")","v":" "},false,{"$f":"SUMIF(Table1[[#This Row],[Total Wage Diff bonus]:[Bank Bonus]],\"<> \")","v":0},{"$f":"IF(AA1867>0, Table1[[#This Row],[Column4]], IF(AB1867>0,Table1[[#This Row],[Column4]],IF(X1867>0,\"1000\")))","v":false}]
[null,null,null,null,null,null,null,null,null,null,null,null,null,null,null,null,0,null,null,null,null,null,null,null,{"$f":"IF(Table1[[#This Row],[Wage differential Bonus                            - NotePay Rate you are bonusing to]]>0, Table1[[#This Row],[Wage differential Bonus                            - NotePay Rate you are bonusing to]]-Table1[[#This Row],[Pay Rate]], \"\")","v":""},{"$f":"IF(Table1[[#This Row],[Wage differential Bonus                            - NotePay Rate you are bonusing to]]>0,Table1[[#This Row],[Bonus Rate]]*Table1[[#This Row],[Hours]],\"\")","v":""},null,null,null,null,null,{"$f":"IF(OR(AH1868>0.001,AH1868<-0.001),Table1[[#This Row],[Employee '#]],\" \")","v":" "},false,{"$f":"SUMIF(Table1[[#This Row],[Total Wage Diff bonus]:[Bank Bonus]],\"<> \")","v":0},{"$f":"IF(AA1868>0, Table1[[#This Row],[Column4]], IF(AB1868>0,Table1[[#This Row],[Column4]],IF(X1868>0,\"1000\")))","v":false}]
[null,null,null,null,null,null,null,null,null,null,null,null,null,null,null,null,0,null,null,null,null,null,null,null,{"$f":"IF(Table1[[#This Row],[Wage differential Bonus                            - NotePay Rate you are bonusing to]]>0, Table1[[#This Row],[Wage differential Bonus                            - NotePay Rate you are bonusing to]]-Table1[[#This Row],[Pay Rate]], \"\")","v":""},{"$f":"IF(Table1[[#This Row],[Wage differential Bonus                            - NotePay Rate you are bonusing to]]>0,Table1[[#This Row],[Bonus Rate]]*Table1[[#This Row],[Hours]],\"\")","v":""},null,null,null,null,null,{"$f":"IF(OR(AH1872>0.001,AH1872<-0.001),Table1[[#This Row],[Employee '#]],\" \")","v":" "},false,{"$f":"SUMIF(Table1[[#This Row],[Total Wage Diff bonus]:[Bank Bonus]],\"<> \")","v":0},{"$f":"IF(AA1872>0, Table1[[#This Row],[Column4]], IF(AB1872>0,Table1[[#This Row],[Column4]],IF(X1872>0,\"1000\")))","v":false}]
[null,null,null,null,null,null,null,null,null,null,null,null,null,null,null,null,0,null,null,null,null,null,null,null,{"$f":"IF(Table1[[#This Row],[Wage differential Bonus                            - NotePay Rate you are bonusing to]]>0, Table1[[#This Row],[Wage differential Bonus                            - NotePay Rate you are bonusing to]]-Table1[[#This Row],[Pay Rate]], \"\")","v":""},{"$f":"IF(Table1[[#This Row],[Wage differential Bonus                            - NotePay Rate you are bonusing to]]>0,Table1[[#This Row],[Bonus Rate]]*Table1[[#This Row],[Hours]],\"\")","v":""},null,null,null,null,null,{"$f":"IF(OR(AH1873>0.001,AH1873<-0.001),Table1[[#This Row],[Employee '#]],\" \")","v":" "},false,{"$f":"SUMIF(Table1[[#This Row],[Total Wage Diff bonus]:[Bank Bonus]],\"<> \")","v":0},{"$f":"IF(AA1873>0, Table1[[#This Row],[Column4]], IF(AB1873>0,Table1[[#This Row],[Column4]],IF(X1873>0,\"1000\")))","v":false}]
[null,null,null,null,null,null,null,null,null,null,null,null,null,null,null,null,0,null,null,null,null,null,null,null,{"$f":"IF(Table1[[#This Row],[Wage differential Bonus                            - NotePay Rate you are bonusing to]]>0, Table1[[#This Row],[Wage differential Bonus                            - NotePay Rate you are bonusing to]]-Table1[[#This Row],[Pay Rate]], \"\")","v":""},{"$f":"IF(Table1[[#This Row],[Wage differential Bonus                            - NotePay Rate you are bonusing to]]>0,Table1[[#This Row],[Bonus Rate]]*Table1[[#This Row],[Hours]],\"\")","v":""},null,null,null,null,null,{"$f":"IF(OR(AH1876>0.001,AH1876<-0.001),Table1[[#This Row],[Employee '#]],\" \")","v":" "},false,{"$f":"SUMIF(Table1[[#This Row],[Total Wage Diff bonus]:[Bank Bonus]],\"<> \")","v":0},{"$f":"IF(AA1876>0, Table1[[#This Row],[Column4]], IF(AB1876>0,Table1[[#This Row],[Column4]],IF(X1876>0,\"1000\")))","v":false}]
[null,null,null,null,null,null,null,null,null,null,null,null,null,null,null,null,0,null,null,null,null,null,null,null,{"$f":"IF(Table1[[#This Row],[Wage differential Bonus                            - NotePay Rate you are bonusing to]]>0, Table1[[#This Row],[Wage differential Bonus                            - NotePay Rate you are bonusing to]]-Table1[[#This Row],[Pay Rate]], \"\")","v":""},{"$f":"IF(Table1[[#This Row],[Wage differential Bonus                            - NotePay Rate you are bonusing to]]>0,Table1[[#This Row],[Bonus Rate]]*Table1[[#This Row],[Hours]],\"\")","v":""},null,null,null,null,null,{"$f":"IF(OR(AH1878>0.001,AH1878<-0.001),Table1[[#This Row],[Employee '#]],\" \")","v":" "},false,{"$f":"SUMIF(Table1[[#This Row],[Total Wage Diff bonus]:[Bank Bonus]],\"<> \")","v":0},{"$f":"IF(AA1878>0, Table1[[#This Row],[Column4]], IF(AB1878>0,Table1[[#This Row],[Column4]],IF(X1878>0,\"1000\")))","v":false}]
[null,null,null,null,null,null,null,null,null,null,null,null,null,null,null,null,0,null,null,null,null,null,null,null,{"$f":"IF(Table1[[#This Row],[Wage differential Bonus                            - NotePay Rate you are bonusing to]]>0, Table1[[#This Row],[Wage differential Bonus                            - NotePay Rate you are bonusing to]]-Table1[[#This Row],[Pay Rate]], \"\")","v":""},{"$f":"IF(Table1[[#This Row],[Wage differential Bonus                            - NotePay Rate you are bonusing to]]>0,Table1[[#This Row],[Bonus Rate]]*Table1[[#This Row],[Hours]],\"\")","v":""},null,null,null,null,null,{"$f":"IF(OR(AH1881>0.001,AH1881<-0.001),Table1[[#This Row],[Employee '#]],\" \")","v":" "},false,{"$f":"SUMIF(Table1[[#This Row],[Total Wage Diff bonus]:[Bank Bonus]],\"<> \")","v":0},{"$f":"IF(AA1881>0, Table1[[#This Row],[Column4]], IF(AB1881>0,Table1[[#This Row],[Column4]],IF(X1881>0,\"1000\")))","v":false}]
[null,null,null,null,null,null,null,null,null,null,null,null,null,null,null,null,0,null,null,null,null,null,null,null,{"$f":"IF(Table1[[#This Row],[Wage differential Bonus                            - NotePay Rate you are bonusing to]]>0, Table1[[#This Row],[Wage differential Bonus                            - NotePay Rate you are bonusing to]]-Table1[[#This Row],[Pay Rate]], \"\")","v":""},{"$f":"IF(Table1[[#This Row],[Wage differential Bonus                            - NotePay Rate you are bonusing to]]>0,Table1[[#This Row],[Bonus Rate]]*Table1[[#This Row],[Hours]],\"\")","v":""},null,null,null,null,null,{"$f":"IF(OR(AH1882>0.001,AH1882<-0.001),Table1[[#This Row],[Employee '#]],\" \")","v":" "},false,{"$f":"SUMIF(Table1[[#This Row],[Total Wage Diff bonus]:[Bank Bonus]],\"<> \")","v":0},{"$f":"IF(AA1882>0, Table1[[#This Row],[Column4]], IF(AB1882>0,Table1[[#This Row],[Column4]],IF(X1882>0,\"1000\")))","v":false}]
[null,null,null,null,null,null,null,null,null,null,null,null,null,null,null,null,0,null,null,null,null,null,null,null,{"$f":"IF(Table1[[#This Row],[Wage differential Bonus                            - NotePay Rate you are bonusing to]]>0, Table1[[#This Row],[Wage differential Bonus                            - NotePay Rate you are bonusing to]]-Table1[[#This Row],[Pay Rate]], \"\")","v":""},{"$f":"IF(Table1[[#This Row],[Wage differential Bonus                            - NotePay Rate you are bonusing to]]>0,Table1[[#This Row],[Bonus Rate]]*Table1[[#This Row],[Hours]],\"\")","v":""},null,null,null,null,null,{"$f":"IF(OR(AH1886>0.001,AH1886<-0.001),Table1[[#This Row],[Employee '#]],\" \")","v":" "},false,{"$f":"SUMIF(Table1[[#This Row],[Total Wage Diff bonus]:[Bank Bonus]],\"<> \")","v":0},{"$f":"IF(AA1886>0, Table1[[#This Row],[Column4]], IF(AB1886>0,Table1[[#This Row],[Column4]],IF(X1886>0,\"1000\")))","v":false}]
[null,null,null,null,null,null,null,null,null,null,null,null,null,null,null,null,0,null,null,null,null,null,null,null,{"$f":"IF(Table1[[#This Row],[Wage differential Bonus                            - NotePay Rate you are bonusing to]]>0, Table1[[#This Row],[Wage differential Bonus                            - NotePay Rate you are bonusing to]]-Table1[[#This Row],[Pay Rate]], \"\")","v":""},{"$f":"IF(Table1[[#This Row],[Wage differential Bonus                            - NotePay Rate you are bonusing to]]>0,Table1[[#This Row],[Bonus Rate]]*Table1[[#This Row],[Hours]],\"\")","v":""},null,null,null,null,null,{"$f":"IF(OR(AH1887>0.001,AH1887<-0.001),Table1[[#This Row],[Employee '#]],\" \")","v":" "},false,{"$f":"SUMIF(Table1[[#This Row],[Total Wage Diff bonus]:[Bank Bonus]],\"<> \")","v":0},{"$f":"IF(AA1887>0, Table1[[#This Row],[Column4]], IF(AB1887>0,Table1[[#This Row],[Column4]],IF(X1887>0,\"1000\")))","v":false}]
[null,null,null,null,null,null,null,null,null,null,null,null,null,null,null,null,0,null,null,null,null,null,null,null,{"$f":"IF(Table1[[#This Row],[Wage differential Bonus                            - NotePay Rate you are bonusing to]]>0, Table1[[#This Row],[Wage differential Bonus                            - NotePay Rate you are bonusing to]]-Table1[[#This Row],[Pay Rate]], \"\")","v":""},{"$f":"IF(Table1[[#This Row],[Wage differential Bonus                            - NotePay Rate you are bonusing to]]>0,Table1[[#This Row],[Bonus Rate]]*Table1[[#This Row],[Hours]],\"\")","v":""},null,null,null,null,null,{"$f":"IF(OR(AH1890>0.001,AH1890<-0.001),Table1[[#This Row],[Employee '#]],\" \")","v":" "},false,{"$f":"SUMIF(Table1[[#This Row],[Total Wage Diff bonus]:[Bank Bonus]],\"<> \")","v":0},{"$f":"IF(AA1890>0, Table1[[#This Row],[Column4]], IF(AB1890>0,Table1[[#This Row],[Column4]],IF(X1890>0,\"1000\")))","v":false}]
[null,null,null,null,null,null,null,null,null,null,null,null,null,null,null,null,0,null,null,null,null,null,null,null,{"$f":"IF(Table1[[#This Row],[Wage differential Bonus                            - NotePay Rate you are bonusing to]]>0, Table1[[#This Row],[Wage differential Bonus                            - NotePay Rate you are bonusing to]]-Table1[[#This Row],[Pay Rate]], \"\")","v":""},{"$f":"IF(Table1[[#This Row],[Wage differential Bonus                            - NotePay Rate you are bonusing to]]>0,Table1[[#This Row],[Bonus Rate]]*Table1[[#This Row],[Hours]],\"\")","v":""},null,null,null,null,null,{"$f":"IF(OR(AH1891>0.001,AH1891<-0.001),Table1[[#This Row],[Employee '#]],\" \")","v":" "},false,{"$f":"SUMIF(Table1[[#This Row],[Total Wage Diff bonus]:[Bank Bonus]],\"<> \")","v":0},{"$f":"IF(AA1891>0, Table1[[#This Row],[Column4]], IF(AB1891>0,Table1[[#This Row],[Column4]],IF(X1891>0,\"1000\")))","v":false}]
[null,null,null,null,null,null,null,null,null,null,null,null,null,null,null,null,0,null,null,null,null,null,null,null,{"$f":"IF(Table1[[#This Row],[Wage differential Bonus                            - NotePay Rate you are bonusing to]]>0, Table1[[#This Row],[Wage differential Bonus                            - NotePay Rate you are bonusing to]]-Table1[[#This Row],[Pay Rate]], \"\")","v":""},{"$f":"IF(Table1[[#This Row],[Wage differential Bonus                            - NotePay Rate you are bonusing to]]>0,Table1[[#This Row],[Bonus Rate]]*Table1[[#This Row],[Hours]],\"\")","v":""},null,null,null,null,null,{"$f":"IF(OR(AH1894>0.001,AH1894<-0.001),Table1[[#This Row],[Employee '#]],\" \")","v":" "},false,{"$f":"SUMIF(Table1[[#This Row],[Total Wage Diff bonus]:[Bank Bonus]],\"<> \")","v":0},{"$f":"IF(AA1894>0, Table1[[#This Row],[Column4]], IF(AB1894>0,Table1[[#This Row],[Column4]],IF(X1894>0,\"1000\")))","v":false}]
[null,null,null,null,null,null,null,null,null,null,null,null,null,null,null,null,0,null,null,null,null,null,null,null,{"$f":"IF(Table1[[#This Row],[Wage differential Bonus                            - NotePay Rate you are bonusing to]]>0, Table1[[#This Row],[Wage differential Bonus                            - NotePay Rate you are bonusing to]]-Table1[[#This Row],[Pay Rate]], \"\")","v":""},{"$f":"IF(Table1[[#This Row],[Wage differential Bonus                            - NotePay Rate you are bonusing to]]>0,Table1[[#This Row],[Bonus Rate]]*Table1[[#This Row],[Hours]],\"\")","v":""},null,null,null,null,null,{"$f":"IF(OR(AH1896>0.001,AH1896<-0.001),Table1[[#This Row],[Employee '#]],\" \")","v":" "},false,{"$f":"SUMIF(Table1[[#This Row],[Total Wage Diff bonus]:[Bank Bonus]],\"<> \")","v":0},{"$f":"IF(AA1896>0, Table1[[#This Row],[Column4]], IF(AB1896>0,Table1[[#This Row],[Column4]],IF(X1896>0,\"1000\")))","v":false}]
[null,null,null,null,null,null,null,null,null,null,null,null,null,null,null,null,0,null,null,null,null,null,null,null,{"$f":"IF(Table1[[#This Row],[Wage differential Bonus                            - NotePay Rate you are bonusing to]]>0, Table1[[#This Row],[Wage differential Bonus                            - NotePay Rate you are bonusing to]]-Table1[[#This Row],[Pay Rate]], \"\")","v":""},{"$f":"IF(Table1[[#This Row],[Wage differential Bonus                            - NotePay Rate you are bonusing to]]>0,Table1[[#This Row],[Bonus Rate]]*Table1[[#This Row],[Hours]],\"\")","v":""},null,null,null,null,null,{"$f":"IF(OR(AH1899>0.001,AH1899<-0.001),Table1[[#This Row],[Employee '#]],\" \")","v":" "},false,{"$f":"SUMIF(Table1[[#This Row],[Total Wage Diff bonus]:[Bank Bonus]],\"<> \")","v":0},{"$f":"IF(AA1899>0, Table1[[#This Row],[Column4]], IF(AB1899>0,Table1[[#This Row],[Column4]],IF(X1899>0,\"1000\")))","v":false}]
[null,null,null,null,null,null,null,null,null,null,null,null,null,null,null,null,0,null,null,null,null,null,null,null,{"$f":"IF(Table1[[#This Row],[Wage differential Bonus                            - NotePay Rate you are bonusing to]]>0, Table1[[#This Row],[Wage differential Bonus                            - NotePay Rate you are bonusing to]]-Table1[[#This Row],[Pay Rate]], \"\")","v":""},{"$f":"IF(Table1[[#This Row],[Wage differential Bonus                            - NotePay Rate you are bonusing to]]>0,Table1[[#This Row],[Bonus Rate]]*Table1[[#This Row],[Hours]],\"\")","v":""},null,null,null,null,null,{"$f":"IF(OR(AH1900>0.001,AH1900<-0.001),Table1[[#This Row],[Employee '#]],\" \")","v":" "},false,{"$f":"SUMIF(Table1[[#This Row],[Total Wage Diff bonus]:[Bank Bonus]],\"<> \")","v":0},{"$f":"IF(AA1900>0, Table1[[#This Row],[Column4]], IF(AB1900>0,Table1[[#This Row],[Column4]],IF(X1900>0,\"1000\")))","v":false}]
[null,null,null,null,null,null,null,null,null,null,null,null,null,null,null,null,0,null,null,null,null,null,null,null,{"$f":"IF(Table1[[#This Row],[Wage differential Bonus                            - NotePay Rate you are bonusing to]]>0, Table1[[#This Row],[Wage differential Bonus                            - NotePay Rate you are bonusing to]]-Table1[[#This Row],[Pay Rate]], \"\")","v":""},{"$f":"IF(Table1[[#This Row],[Wage differential Bonus                            - NotePay Rate you are bonusing to]]>0,Table1[[#This Row],[Bonus Rate]]*Table1[[#This Row],[Hours]],\"\")","v":""},null,null,null,null,null,{"$f":"IF(OR(AH1902>0.001,AH1902<-0.001),Table1[[#This Row],[Employee '#]],\" \")","v":" "},false,{"$f":"SUMIF(Table1[[#This Row],[Total Wage Diff bonus]:[Bank Bonus]],\"<> \")","v":0},{"$f":"IF(AA1902>0, Table1[[#This Row],[Column4]], IF(AB1902>0,Table1[[#This Row],[Column4]],IF(X1902>0,\"1000\")))","v":false}]
[null,null,null,null,null,null,null,null,null,null,null,null,null,null,null,null,0,null,null,null,null,null,null,null,{"$f":"IF(Table1[[#This Row],[Wage differential Bonus                            - NotePay Rate you are bonusing to]]>0, Table1[[#This Row],[Wage differential Bonus                            - NotePay Rate you are bonusing to]]-Table1[[#This Row],[Pay Rate]], \"\")","v":""},{"$f":"IF(Table1[[#This Row],[Wage differential Bonus                            - NotePay Rate you are bonusing to]]>0,Table1[[#This Row],[Bonus Rate]]*Table1[[#This Row],[Hours]],\"\")","v":""},null,null,null,null,null,{"$f":"IF(OR(AH1905>0.001,AH1905<-0.001),Table1[[#This Row],[Employee '#]],\" \")","v":" "},false,{"$f":"SUMIF(Table1[[#This Row],[Total Wage Diff bonus]:[Bank Bonus]],\"<> \")","v":0},{"$f":"IF(AA1905>0, Table1[[#This Row],[Column4]], IF(AB1905>0,Table1[[#This Row],[Column4]],IF(X1905>0,\"1000\")))","v":false}]
[null,null,null,null,null,null,null,null,null,null,null,null,null,null,null,null,0,null,null,null,null,null,null,null,{"$f":"IF(Table1[[#This Row],[Wage differential Bonus                            - NotePay Rate you are bonusing to]]>0, Table1[[#This Row],[Wage differential Bonus                            - NotePay Rate you are bonusing to]]-Table1[[#This Row],[Pay Rate]], \"\")","v":""},{"$f":"IF(Table1[[#This Row],[Wage differential Bonus                            - NotePay Rate you are bonusing to]]>0,Table1[[#This Row],[Bonus Rate]]*Table1[[#This Row],[Hours]],\"\")","v":""},null,null,null,null,null,{"$f":"IF(OR(AH1908>0.001,AH1908<-0.001),Table1[[#This Row],[Employee '#]],\" \")","v":" "},false,{"$f":"SUMIF(Table1[[#This Row],[Total Wage Diff bonus]:[Bank Bonus]],\"<> \")","v":0},{"$f":"IF(AA1908>0, Table1[[#This Row],[Column4]], IF(AB1908>0,Table1[[#This Row],[Column4]],IF(X1908>0,\"1000\")))","v":false}]
[null,null,null,null,null,null,null,null,null,null,null,null,null,null,null,null,0,null,null,null,null,null,null,null,{"$f":"IF(Table1[[#This Row],[Wage differential Bonus                            - NotePay Rate you are bonusing to]]>0, Table1[[#This Row],[Wage differential Bonus                            - NotePay Rate you are bonusing to]]-Table1[[#This Row],[Pay Rate]], \"\")","v":""},{"$f":"IF(Table1[[#This Row],[Wage differential Bonus                            - NotePay Rate you are bonusing to]]>0,Table1[[#This Row],[Bonus Rate]]*Table1[[#This Row],[Hours]],\"\")","v":""},null,null,null,null,null,{"$f":"IF(OR(AH1909>0.001,AH1909<-0.001),Table1[[#This Row],[Employee '#]],\" \")","v":" "},false,{"$f":"SUMIF(Table1[[#This Row],[Total Wage Diff bonus]:[Bank Bonus]],\"<> \")","v":0},{"$f":"IF(AA1909>0, Table1[[#This Row],[Column4]], IF(AB1909>0,Table1[[#This Row],[Column4]],IF(X1909>0,\"1000\")))","v":false}]
[null,null,null,null,null,null,null,null,null,null,null,null,null,null,null,null,0,null,null,null,null,null,null,null,{"$f":"IF(Table1[[#This Row],[Wage differential Bonus                            - NotePay Rate you are bonusing to]]>0, Table1[[#This Row],[Wage differential Bonus                            - NotePay Rate you are bonusing to]]-Table1[[#This Row],[Pay Rate]], \"\")","v":""},{"$f":"IF(Table1[[#This Row],[Wage differential Bonus                            - NotePay Rate you are bonusing to]]>0,Table1[[#This Row],[Bonus Rate]]*Table1[[#This Row],[Hours]],\"\")","v":""},null,null,null,null,null,{"$f":"IF(OR(AH1912>0.001,AH1912<-0.001),Table1[[#This Row],[Employee '#]],\" \")","v":" "},false,{"$f":"SUMIF(Table1[[#This Row],[Total Wage Diff bonus]:[Bank Bonus]],\"<> \")","v":0},{"$f":"IF(AA1912>0, Table1[[#This Row],[Column4]], IF(AB1912>0,Table1[[#This Row],[Column4]],IF(X1912>0,\"1000\")))","v":false}]
[null,null,null,null,null,null,null,null,null,null,null,null,null,null,null,null,0,null,null,null,null,null,null,null,{"$f":"IF(Table1[[#This Row],[Wage differential Bonus                            - NotePay Rate you are bonusing to]]>0, Table1[[#This Row],[Wage differential Bonus                            - NotePay Rate you are bonusing to]]-Table1[[#This Row],[Pay Rate]], \"\")","v":""},{"$f":"IF(Table1[[#This Row],[Wage differential Bonus                            - NotePay Rate you are bonusing to]]>0,Table1[[#This Row],[Bonus Rate]]*Table1[[#This Row],[Hours]],\"\")","v":""},null,null,null,null,null,{"$f":"IF(OR(AH1914>0.001,AH1914<-0.001),Table1[[#This Row],[Employee '#]],\" \")","v":" "},false,{"$f":"SUMIF(Table1[[#This Row],[Total Wage Diff bonus]:[Bank Bonus]],\"<> \")","v":0},{"$f":"IF(AA1914>0, Table1[[#This Row],[Column4]], IF(AB1914>0,Table1[[#This Row],[Column4]],IF(X1914>0,\"1000\")))","v":false}]
[null,null,null,null,null,null,null,null,null,null,null,null,null,null,null,null,0,null,null,null,null,null,null,null,{"$f":"IF(Table1[[#This Row],[Wage differential Bonus                            - NotePay Rate you are bonusing to]]>0, Table1[[#This Row],[Wage differential Bonus                            - NotePay Rate you are bonusing to]]-Table1[[#This Row],[Pay Rate]], \"\")","v":""},{"$f":"IF(Table1[[#This Row],[Wage differential Bonus                            - NotePay Rate you are bonusing to]]>0,Table1[[#This Row],[Bonus Rate]]*Table1[[#This Row],[Hours]],\"\")","v":""},null,null,null,null,null,{"$f":"IF(OR(AH1917>0.001,AH1917<-0.001),Table1[[#This Row],[Employee '#]],\" \")","v":" "},false,{"$f":"SUMIF(Table1[[#This Row],[Total Wage Diff bonus]:[Bank Bonus]],\"<> \")","v":0},{"$f":"IF(AA1917>0, Table1[[#This Row],[Column4]], IF(AB1917>0,Table1[[#This Row],[Column4]],IF(X1917>0,\"1000\")))","v":false}]
[null,null,null,null,null,null,null,null,null,null,null,null,null,null,null,null,0,null,null,null,null,null,null,null,{"$f":"IF(Table1[[#This Row],[Wage differential Bonus                            - NotePay Rate you are bonusing to]]>0, Table1[[#This Row],[Wage differential Bonus                            - NotePay Rate you are bonusing to]]-Table1[[#This Row],[Pay Rate]], \"\")","v":""},{"$f":"IF(Table1[[#This Row],[Wage differential Bonus                            - NotePay Rate you are bonusing to]]>0,Table1[[#This Row],[Bonus Rate]]*Table1[[#This Row],[Hours]],\"\")","v":""},null,null,null,null,null,{"$f":"IF(OR(AH1918>0.001,AH1918<-0.001),Table1[[#This Row],[Employee '#]],\" \")","v":" "},false,{"$f":"SUMIF(Table1[[#This Row],[Total Wage Diff bonus]:[Bank Bonus]],\"<> \")","v":0},{"$f":"IF(AA1918>0, Table1[[#This Row],[Column4]], IF(AB1918>0,Table1[[#This Row],[Column4]],IF(X1918>0,\"1000\")))","v":false}]
[null,null,null,null,null,null,null,null,null,null,null,null,null,null,null,null,0,null,null,null,null,null,null,null,{"$f":"IF(Table1[[#This Row],[Wage differential Bonus                            - NotePay Rate you are bonusing to]]>0, Table1[[#This Row],[Wage differential Bonus                            - NotePay Rate you are bonusing to]]-Table1[[#This Row],[Pay Rate]], \"\")","v":""},{"$f":"IF(Table1[[#This Row],[Wage differential Bonus                            - NotePay Rate you are bonusing to]]>0,Table1[[#This Row],[Bonus Rate]]*Table1[[#This Row],[Hours]],\"\")","v":""},null,null,null,null,null,{"$f":"IF(OR(AH1920>0.001,AH1920<-0.001),Table1[[#This Row],[Employee '#]],\" \")","v":" "},false,{"$f":"SUMIF(Table1[[#This Row],[Total Wage Diff bonus]:[Bank Bonus]],\"<> \")","v":0},{"$f":"IF(AA1920>0, Table1[[#This Row],[Column4]], IF(AB1920>0,Table1[[#This Row],[Column4]],IF(X1920>0,\"1000\")))","v":false}]
[null,null,null,null,null,null,null,null,null,null,null,null,null,null,null,null,0,null,null,null,null,null,null,null,{"$f":"IF(Table1[[#This Row],[Wage differential Bonus                            - NotePay Rate you are bonusing to]]>0, Table1[[#This Row],[Wage differential Bonus                            - NotePay Rate you are bonusing to]]-Table1[[#This Row],[Pay Rate]], \"\")","v":""},{"$f":"IF(Table1[[#This Row],[Wage differential Bonus                            - NotePay Rate you are bonusing to]]>0,Table1[[#This Row],[Bonus Rate]]*Table1[[#This Row],[Hours]],\"\")","v":""},null,null,null,null,null,{"$f":"IF(OR(AH1923>0.001,AH1923<-0.001),Table1[[#This Row],[Employee '#]],\" \")","v":" "},false,{"$f":"SUMIF(Table1[[#This Row],[Total Wage Diff bonus]:[Bank Bonus]],\"<> \")","v":0},{"$f":"IF(AA1923>0, Table1[[#This Row],[Column4]], IF(AB1923>0,Table1[[#This Row],[Column4]],IF(X1923>0,\"1000\")))","v":false}]
[null,null,null,null,null,null,null,null,null,null,null,null,null,null,null,null,0,null,null,null,null,null,null,null,{"$f":"IF(Table1[[#This Row],[Wage differential Bonus                            - NotePay Rate you are bonusing to]]>0, Table1[[#This Row],[Wage differential Bonus                            - NotePay Rate you are bonusing to]]-Table1[[#This Row],[Pay Rate]], \"\")","v":""},{"$f":"IF(Table1[[#This Row],[Wage differential Bonus                            - NotePay Rate you are bonusing to]]>0,Table1[[#This Row],[Bonus Rate]]*Table1[[#This Row],[Hours]],\"\")","v":""},null,null,null,null,null,{"$f":"IF(OR(AH1926>0.001,AH1926<-0.001),Table1[[#This Row],[Employee '#]],\" \")","v":" "},false,{"$f":"SUMIF(Table1[[#This Row],[Total Wage Diff bonus]:[Bank Bonus]],\"<> \")","v":0},{"$f":"IF(AA1926>0, Table1[[#This Row],[Column4]], IF(AB1926>0,Table1[[#This Row],[Column4]],IF(X1926>0,\"1000\")))","v":false}]
[null,null,null,null,null,null,null,null,null,null,null,null,null,null,null,null,0,null,null,null,null,null,null,null,{"$f":"IF(Table1[[#This Row],[Wage differential Bonus                            - NotePay Rate you are bonusing to]]>0, Table1[[#This Row],[Wage differential Bonus                            - NotePay Rate you are bonusing to]]-Table1[[#This Row],[Pay Rate]], \"\")","v":""},{"$f":"IF(Table1[[#This Row],[Wage differential Bonus                            - NotePay Rate you are bonusing to]]>0,Table1[[#This Row],[Bonus Rate]]*Table1[[#This Row],[Hours]],\"\")","v":""},null,null,null,null,null,{"$f":"IF(OR(AH1928>0.001,AH1928<-0.001),Table1[[#This Row],[Employee '#]],\" \")","v":" "},false,{"$f":"SUMIF(Table1[[#This Row],[Total Wage Diff bonus]:[Bank Bonus]],\"<> \")","v":0},{"$f":"IF(AA1928>0, Table1[[#This Row],[Column4]], IF(AB1928>0,Table1[[#This Row],[Column4]],IF(X1928>0,\"1000\")))","v":false}]
[null,null,null,null,null,null,null,null,null,null,null,null,null,null,null,null,0,null,null,null,null,null,null,null,{"$f":"IF(Table1[[#This Row],[Wage differential Bonus                            - NotePay Rate you are bonusing to]]>0, Table1[[#This Row],[Wage differential Bonus                            - NotePay Rate you are bonusing to]]-Table1[[#This Row],[Pay Rate]], \"\")","v":""},{"$f":"IF(Table1[[#This Row],[Wage differential Bonus                            - NotePay Rate you are bonusing to]]>0,Table1[[#This Row],[Bonus Rate]]*Table1[[#This Row],[Hours]],\"\")","v":""},null,null,null,null,null,{"$f":"IF(OR(AH1931>0.001,AH1931<-0.001),Table1[[#This Row],[Employee '#]],\" \")","v":" "},false,{"$f":"SUMIF(Table1[[#This Row],[Total Wage Diff bonus]:[Bank Bonus]],\"<> \")","v":0},{"$f":"IF(AA1931>0, Table1[[#This Row],[Column4]], IF(AB1931>0,Table1[[#This Row],[Column4]],IF(X1931>0,\"1000\")))","v":false}]
[null,null,null,null,null,null,null,null,null,null,null,null,null,null,null,null,0,null,null,null,null,null,null,null,{"$f":"IF(Table1[[#This Row],[Wage differential Bonus                            - NotePay Rate you are bonusing to]]>0, Table1[[#This Row],[Wage differential Bonus                            - NotePay Rate you are bonusing to]]-Table1[[#This Row],[Pay Rate]], \"\")","v":""},{"$f":"IF(Table1[[#This Row],[Wage differential Bonus                            - NotePay Rate you are bonusing to]]>0,Table1[[#This Row],[Bonus Rate]]*Table1[[#This Row],[Hours]],\"\")","v":""},null,null,null,null,null,{"$f":"IF(OR(AH1932>0.001,AH1932<-0.001),Table1[[#This Row],[Employee '#]],\" \")","v":" "},false,{"$f":"SUMIF(Table1[[#This Row],[Total Wage Diff bonus]:[Bank Bonus]],\"<> \")","v":0},{"$f":"IF(AA1932>0, Table1[[#This Row],[Column4]], IF(AB1932>0,Table1[[#This Row],[Column4]],IF(X1932>0,\"1000\")))","v":false}]
[null,null,null,null,null,null,null,null,null,null,null,null,null,null,null,null,0,null,null,null,null,null,null,null,{"$f":"IF(Table1[[#This Row],[Wage differential Bonus                            - NotePay Rate you are bonusing to]]>0, Table1[[#This Row],[Wage differential Bonus                            - NotePay Rate you are bonusing to]]-Table1[[#This Row],[Pay Rate]], \"\")","v":""},{"$f":"IF(Table1[[#This Row],[Wage differential Bonus                            - NotePay Rate you are bonusing to]]>0,Table1[[#This Row],[Bonus Rate]]*Table1[[#This Row],[Hours]],\"\")","v":""},null,null,null,null,null,{"$f":"IF(OR(AH1935>0.001,AH1935<-0.001),Table1[[#This Row],[Employee '#]],\" \")","v":" "},false,{"$f":"SUMIF(Table1[[#This Row],[Total Wage Diff bonus]:[Bank Bonus]],\"<> \")","v":0},{"$f":"IF(AA1935>0, Table1[[#This Row],[Column4]], IF(AB1935>0,Table1[[#This Row],[Column4]],IF(X1935>0,\"1000\")))","v":false}]
[null,null,null,null,null,null,null,null,null,null,null,null,null,null,null,null,0,null,null,null,null,null,null,null,{"$f":"IF(Table1[[#This Row],[Wage differential Bonus                            - NotePay Rate you are bonusing to]]>0, Table1[[#This Row],[Wage differential Bonus                            - NotePay Rate you are bonusing to]]-Table1[[#This Row],[Pay Rate]], \"\")","v":""},{"$f":"IF(Table1[[#This Row],[Wage differential Bonus                            - NotePay Rate you are bonusing to]]>0,Table1[[#This Row],[Bonus Rate]]*Table1[[#This Row],[Hours]],\"\")","v":""},null,null,null,null,null,{"$f":"IF(OR(AH1938>0.001,AH1938<-0.001),Table1[[#This Row],[Employee '#]],\" \")","v":" "},false,{"$f":"SUMIF(Table1[[#This Row],[Total Wage Diff bonus]:[Bank Bonus]],\"<> \")","v":0},{"$f":"IF(AA1938>0, Table1[[#This Row],[Column4]], IF(AB1938>0,Table1[[#This Row],[Column4]],IF(X1938>0,\"1000\")))","v":false}]
[null,null,null,null,null,null,null,null,null,null,null,null,null,null,null,null,0,null,null,null,null,null,null,null,{"$f":"IF(Table1[[#This Row],[Wage differential Bonus                            - NotePay Rate you are bonusing to]]>0, Table1[[#This Row],[Wage differential Bonus                            - NotePay Rate you are bonusing to]]-Table1[[#This Row],[Pay Rate]], \"\")","v":""},{"$f":"IF(Table1[[#This Row],[Wage differential Bonus                            - NotePay Rate you are bonusing to]]>0,Table1[[#This Row],[Bonus Rate]]*Table1[[#This Row],[Hours]],\"\")","v":""},null,null,null,null,null,{"$f":"IF(OR(AH1940>0.001,AH1940<-0.001),Table1[[#This Row],[Employee '#]],\" \")","v":" "},false,{"$f":"SUMIF(Table1[[#This Row],[Total Wage Diff bonus]:[Bank Bonus]],\"<> \")","v":0},{"$f":"IF(AA1940>0, Table1[[#This Row],[Column4]], IF(AB1940>0,Table1[[#This Row],[Column4]],IF(X1940>0,\"1000\")))","v":false}]
[null,null,null,null,null,null,null,null,null,null,null,null,null,null,null,null,0,null,null,null,null,null,null,null,{"$f":"IF(Table1[[#This Row],[Wage differential Bonus                            - NotePay Rate you are bonusing to]]>0, Table1[[#This Row],[Wage differential Bonus                            - NotePay Rate you are bonusing to]]-Table1[[#This Row],[Pay Rate]], \"\")","v":""},{"$f":"IF(Table1[[#This Row],[Wage differential Bonus                            - NotePay Rate you are bonusing to]]>0,Table1[[#This Row],[Bonus Rate]]*Table1[[#This Row],[Hours]],\"\")","v":""},null,null,null,null,null,{"$f":"IF(OR(AH1941>0.001,AH1941<-0.001),Table1[[#This Row],[Employee '#]],\" \")","v":" "},false,{"$f":"SUMIF(Table1[[#This Row],[Total Wage Diff bonus]:[Bank Bonus]],\"<> \")","v":0},{"$f":"IF(AA1941>0, Table1[[#This Row],[Column4]], IF(AB1941>0,Table1[[#This Row],[Column4]],IF(X1941>0,\"1000\")))","v":false}]
[null,null,null,null,null,null,null,null,null,null,null,null,null,null,null,null,0,null,null,null,null,null,null,null,{"$f":"IF(Table1[[#This Row],[Wage differential Bonus                            - NotePay Rate you are bonusing to]]>0, Table1[[#This Row],[Wage differential Bonus                            - NotePay Rate you are bonusing to]]-Table1[[#This Row],[Pay Rate]], \"\")","v":""},{"$f":"IF(Table1[[#This Row],[Wage differential Bonus                            - NotePay Rate you are bonusing to]]>0,Table1[[#This Row],[Bonus Rate]]*Table1[[#This Row],[Hours]],\"\")","v":""},null,null,null,null,null,{"$f":"IF(OR(AH1944>0.001,AH1944<-0.001),Table1[[#This Row],[Employee '#]],\" \")","v":" "},false,{"$f":"SUMIF(Table1[[#This Row],[Total Wage Diff bonus]:[Bank Bonus]],\"<> \")","v":0},{"$f":"IF(AA1944>0, Table1[[#This Row],[Column4]], IF(AB1944>0,Table1[[#This Row],[Column4]],IF(X1944>0,\"1000\")))","v":false}]
[null,null,null,null,null,null,null,null,null,null,null,null,null,null,null,null,0,null,null,null,null,null,null,null,{"$f":"IF(Table1[[#This Row],[Wage differential Bonus                            - NotePay Rate you are bonusing to]]>0, Table1[[#This Row],[Wage differential Bonus                            - NotePay Rate you are bonusing to]]-Table1[[#This Row],[Pay Rate]], \"\")","v":""},{"$f":"IF(Table1[[#This Row],[Wage differential Bonus                            - NotePay Rate you are bonusing to]]>0,Table1[[#This Row],[Bonus Rate]]*Table1[[#This Row],[Hours]],\"\")","v":""},null,null,null,null,null,{"$f":"IF(OR(AH1946>0.001,AH1946<-0.001),Table1[[#This Row],[Employee '#]],\" \")","v":" "},false,{"$f":"SUMIF(Table1[[#This Row],[Total Wage Diff bonus]:[Bank Bonus]],\"<> \")","v":0},{"$f":"IF(AA1946>0, Table1[[#This Row],[Column4]], IF(AB1946>0,Table1[[#This Row],[Column4]],IF(X1946>0,\"1000\")))","v":false}]
[null,null,null,null,null,null,null,null,null,null,null,null,null,null,null,null,0,null,null,null,null,null,null,null,{"$f":"IF(Table1[[#This Row],[Wage differential Bonus                            - NotePay Rate you are bonusing to]]>0, Table1[[#This Row],[Wage differential Bonus                            - NotePay Rate you are bonusing to]]-Table1[[#This Row],[Pay Rate]], \"\")","v":""},{"$f":"IF(Table1[[#This Row],[Wage differential Bonus                            - NotePay Rate you are bonusing to]]>0,Table1[[#This Row],[Bonus Rate]]*Table1[[#This Row],[Hours]],\"\")","v":""},null,null,null,null,null,{"$f":"IF(OR(AH1949>0.001,AH1949<-0.001),Table1[[#This Row],[Employee '#]],\" \")","v":" "},false,{"$f":"SUMIF(Table1[[#This Row],[Total Wage Diff bonus]:[Bank Bonus]],\"<> \")","v":0},{"$f":"IF(AA1949>0, Table1[[#This Row],[Column4]], IF(AB1949>0,Table1[[#This Row],[Column4]],IF(X1949>0,\"1000\")))","v":false}]
[null,null,null,null,null,null,null,null,null,null,null,null,null,null,null,null,0,null,null,null,null,null,null,null,{"$f":"IF(Table1[[#This Row],[Wage differential Bonus                            - NotePay Rate you are bonusing to]]>0, Table1[[#This Row],[Wage differential Bonus                            - NotePay Rate you are bonusing to]]-Table1[[#This Row],[Pay Rate]], \"\")","v":""},{"$f":"IF(Table1[[#This Row],[Wage differential Bonus                            - NotePay Rate you are bonusing to]]>0,Table1[[#This Row],[Bonus Rate]]*Table1[[#This Row],[Hours]],\"\")","v":""},null,null,null,null,null,{"$f":"IF(OR(AH1950>0.001,AH1950<-0.001),Table1[[#This Row],[Employee '#]],\" \")","v":" "},false,{"$f":"SUMIF(Table1[[#This Row],[Total Wage Diff bonus]:[Bank Bonus]],\"<> \")","v":0},{"$f":"IF(AA1950>0, Table1[[#This Row],[Column4]], IF(AB1950>0,Table1[[#This Row],[Column4]],IF(X1950>0,\"1000\")))","v":false}]
[null,null,null,null,null,null,null,null,null,null,null,null,null,null,null,null,0,null,null,null,null,null,null,null,{"$f":"IF(Table1[[#This Row],[Wage differential Bonus                            - NotePay Rate you are bonusing to]]>0, Table1[[#This Row],[Wage differential Bonus                            - NotePay Rate you are bonusing to]]-Table1[[#This Row],[Pay Rate]], \"\")","v":""},{"$f":"IF(Table1[[#This Row],[Wage differential Bonus                            - NotePay Rate you are bonusing to]]>0,Table1[[#This Row],[Bonus Rate]]*Table1[[#This Row],[Hours]],\"\")","v":""},null,null,null,null,null,{"$f":"IF(OR(AH1953>0.001,AH1953<-0.001),Table1[[#This Row],[Employee '#]],\" \")","v":" "},false,{"$f":"SUMIF(Table1[[#This Row],[Total Wage Diff bonus]:[Bank Bonus]],\"<> \")","v":0},{"$f":"IF(AA1953>0, Table1[[#This Row],[Column4]], IF(AB1953>0,Table1[[#This Row],[Column4]],IF(X1953>0,\"1000\")))","v":false}]
[null,null,null,null,null,null,null,null,null,null,null,null,null,null,null,null,0,null,null,null,null,null,null,null,{"$f":"IF(Table1[[#This Row],[Wage differential Bonus                            - NotePay Rate you are bonusing to]]>0, Table1[[#This Row],[Wage differential Bonus                            - NotePay Rate you are bonusing to]]-Table1[[#This Row],[Pay Rate]], \"\")","v":""},{"$f":"IF(Table1[[#This Row],[Wage differential Bonus                            - NotePay Rate you are bonusing to]]>0,Table1[[#This Row],[Bonus Rate]]*Table1[[#This Row],[Hours]],\"\")","v":""},null,null,null,null,null,{"$f":"IF(OR(AH1956>0.001,AH1956<-0.001),Table1[[#This Row],[Employee '#]],\" \")","v":" "},false,{"$f":"SUMIF(Table1[[#This Row],[Total Wage Diff bonus]:[Bank Bonus]],\"<> \")","v":0},{"$f":"IF(AA1956>0, Table1[[#This Row],[Column4]], IF(AB1956>0,Table1[[#This Row],[Column4]],IF(X1956>0,\"1000\")))","v":false}]
[null,null,null,null,null,null,null,null,null,null,null,null,null,null,null,null,0,null,null,null,null,null,null,null,{"$f":"IF(Table1[[#This Row],[Wage differential Bonus                            - NotePay Rate you are bonusing to]]>0, Table1[[#This Row],[Wage differential Bonus                            - NotePay Rate you are bonusing to]]-Table1[[#This Row],[Pay Rate]], \"\")","v":""},{"$f":"IF(Table1[[#This Row],[Wage differential Bonus                            - NotePay Rate you are bonusing to]]>0,Table1[[#This Row],[Bonus Rate]]*Table1[[#This Row],[Hours]],\"\")","v":""},null,null,null,null,null,{"$f":"IF(OR(AH1958>0.001,AH1958<-0.001),Table1[[#This Row],[Employee '#]],\" \")","v":" "},false,{"$f":"SUMIF(Table1[[#This Row],[Total Wage Diff bonus]:[Bank Bonus]],\"<> \")","v":0},{"$f":"IF(AA1958>0, Table1[[#This Row],[Column4]], IF(AB1958>0,Table1[[#This Row],[Column4]],IF(X1958>0,\"1000\")))","v":false}]
[null,null,null,null,null,null,null,null,null,null,null,null,null,null,null,null,0,null,null,null,null,null,null,null,{"$f":"IF(Table1[[#This Row],[Wage differential Bonus                            - NotePay Rate you are bonusing to]]>0, Table1[[#This Row],[Wage differential Bonus                            - NotePay Rate you are bonusing to]]-Table1[[#This Row],[Pay Rate]], \"\")","v":""},{"$f":"IF(Table1[[#This Row],[Wage differential Bonus                            - NotePay Rate you are bonusing to]]>0,Table1[[#This Row],[Bonus Rate]]*Table1[[#This Row],[Hours]],\"\")","v":""},null,null,null,null,null,{"$f":"IF(OR(AH1959>0.001,AH1959<-0.001),Table1[[#This Row],[Employee '#]],\" \")","v":" "},false,{"$f":"SUMIF(Table1[[#This Row],[Total Wage Diff bonus]:[Bank Bonus]],\"<> \")","v":0},{"$f":"IF(AA1959>0, Table1[[#This Row],[Column4]], IF(AB1959>0,Table1[[#This Row],[Column4]],IF(X1959>0,\"1000\")))","v":false}]
[null,null,null,null,null,null,null,null,null,null,null,null,null,null,null,null,0,null,null,null,null,null,null,null,{"$f":"IF(Table1[[#This Row],[Wage differential Bonus                            - NotePay Rate you are bonusing to]]>0, Table1[[#This Row],[Wage differential Bonus                            - NotePay Rate you are bonusing to]]-Table1[[#This Row],[Pay Rate]], \"\")","v":""},{"$f":"IF(Table1[[#This Row],[Wage differential Bonus                            - NotePay Rate you are bonusing to]]>0,Table1[[#This Row],[Bonus Rate]]*Table1[[#This Row],[Hours]],\"\")","v":""},null,null,null,null,null,{"$f":"IF(OR(AH1961>0.001,AH1961<-0.001),Table1[[#This Row],[Employee '#]],\" \")","v":" "},false,{"$f":"SUMIF(Table1[[#This Row],[Total Wage Diff bonus]:[Bank Bonus]],\"<> \")","v":0},{"$f":"IF(AA1961>0, Table1[[#This Row],[Column4]], IF(AB1961>0,Table1[[#This Row],[Column4]],IF(X1961>0,\"1000\")))","v":false}]
[null,null,null,null,null,null,null,null,null,null,null,null,null,null,null,null,0,null,null,null,null,null,null,null,{"$f":"IF(Table1[[#This Row],[Wage differential Bonus                            - NotePay Rate you are bonusing to]]>0, Table1[[#This Row],[Wage differential Bonus                            - NotePay Rate you are bonusing to]]-Table1[[#This Row],[Pay Rate]], \"\")","v":""},{"$f":"IF(Table1[[#This Row],[Wage differential Bonus                            - NotePay Rate you are bonusing to]]>0,Table1[[#This Row],[Bonus Rate]]*Table1[[#This Row],[Hours]],\"\")","v":""},null,null,null,null,null,{"$f":"IF(OR(AH1964>0.001,AH1964<-0.001),Table1[[#This Row],[Employee '#]],\" \")","v":" "},false,{"$f":"SUMIF(Table1[[#This Row],[Total Wage Diff bonus]:[Bank Bonus]],\"<> \")","v":0},{"$f":"IF(AA1964>0, Table1[[#This Row],[Column4]], IF(AB1964>0,Table1[[#This Row],[Column4]],IF(X1964>0,\"1000\")))","v":false}]
[null,null,null,null,null,null,null,null,null,null,null,null,null,null,null,null,0,null,null,null,null,null,null,null,{"$f":"IF(Table1[[#This Row],[Wage differential Bonus                            - NotePay Rate you are bonusing to]]>0, Table1[[#This Row],[Wage differential Bonus                            - NotePay Rate you are bonusing to]]-Table1[[#This Row],[Pay Rate]], \"\")","v":""},{"$f":"IF(Table1[[#This Row],[Wage differential Bonus                            - NotePay Rate you are bonusing to]]>0,Table1[[#This Row],[Bonus Rate]]*Table1[[#This Row],[Hours]],\"\")","v":""},null,null,null,null,null,{"$f":"IF(OR(AH1967>0.001,AH1967<-0.001),Table1[[#This Row],[Employee '#]],\" \")","v":" "},false,{"$f":"SUMIF(Table1[[#This Row],[Total Wage Diff bonus]:[Bank Bonus]],\"<> \")","v":0},{"$f":"IF(AA1967>0, Table1[[#This Row],[Column4]], IF(AB1967>0,Table1[[#This Row],[Column4]],IF(X1967>0,\"1000\")))","v":false}]
[null,null,null,null,null,null,null,null,null,null,null,null,null,null,null,null,0,null,null,null,null,null,null,null,{"$f":"IF(Table1[[#This Row],[Wage differential Bonus                            - NotePay Rate you are bonusing to]]>0, Table1[[#This Row],[Wage differential Bonus                            - NotePay Rate you are bonusing to]]-Table1[[#This Row],[Pay Rate]], \"\")","v":""},{"$f":"IF(Table1[[#This Row],[Wage differential Bonus                            - NotePay Rate you are bonusing to]]>0,Table1[[#This Row],[Bonus Rate]]*Table1[[#This Row],[Hours]],\"\")","v":""},null,null,null,null,null,{"$f":"IF(OR(AH1968>0.001,AH1968<-0.001),Table1[[#This Row],[Employee '#]],\" \")","v":" "},false,{"$f":"SUMIF(Table1[[#This Row],[Total Wage Diff bonus]:[Bank Bonus]],\"<> \")","v":0},{"$f":"IF(AA1968>0, Table1[[#This Row],[Column4]], IF(AB1968>0,Table1[[#This Row],[Column4]],IF(X1968>0,\"1000\")))","v":false}]
[null,null,null,null,null,null,null,null,null,null,null,null,null,null,null,null,0,null,null,null,null,null,null,null,{"$f":"IF(Table1[[#This Row],[Wage differential Bonus                            - NotePay Rate you are bonusing to]]>0, Table1[[#This Row],[Wage differential Bonus                            - NotePay Rate you are bonusing to]]-Table1[[#This Row],[Pay Rate]], \"\")","v":""},{"$f":"IF(Table1[[#This Row],[Wage differential Bonus                            - NotePay Rate you are bonusing to]]>0,Table1[[#This Row],[Bonus Rate]]*Table1[[#This Row],[Hours]],\"\")","v":""},null,null,null,null,null,{"$f":"IF(OR(AH1972>0.001,AH1972<-0.001),Table1[[#This Row],[Employee '#]],\" \")","v":" "},false,{"$f":"SUMIF(Table1[[#This Row],[Total Wage Diff bonus]:[Bank Bonus]],\"<> \")","v":0},{"$f":"IF(AA1972>0, Table1[[#This Row],[Column4]], IF(AB1972>0,Table1[[#This Row],[Column4]],IF(X1972>0,\"1000\")))","v":false}]
[null,null,null,null,null,null,null,null,null,null,null,null,null,null,null,null,0,null,null,null,null,null,null,null,{"$f":"IF(Table1[[#This Row],[Wage differential Bonus                            - NotePay Rate you are bonusing to]]>0, Table1[[#This Row],[Wage differential Bonus                            - NotePay Rate you are bonusing to]]-Table1[[#This Row],[Pay Rate]], \"\")","v":""},{"$f":"IF(Table1[[#This Row],[Wage differential Bonus                            - NotePay Rate you are bonusing to]]>0,Table1[[#This Row],[Bonus Rate]]*Table1[[#This Row],[Hours]],\"\")","v":""},null,null,null,null,null,{"$f":"IF(OR(AH1973>0.001,AH1973<-0.001),Table1[[#This Row],[Employee '#]],\" \")","v":" "},false,{"$f":"SUMIF(Table1[[#This Row],[Total Wage Diff bonus]:[Bank Bonus]],\"<> \")","v":0},{"$f":"IF(AA1973>0, Table1[[#This Row],[Column4]], IF(AB1973>0,Table1[[#This Row],[Column4]],IF(X1973>0,\"1000\")))","v":false}]
[null,null,null,null,null,null,null,null,null,null,null,null,null,null,null,null,0,null,null,null,null,null,null,null,{"$f":"IF(Table1[[#This Row],[Wage differential Bonus                            - NotePay Rate you are bonusing to]]>0, Table1[[#This Row],[Wage differential Bonus                            - NotePay Rate you are bonusing to]]-Table1[[#This Row],[Pay Rate]], \"\")","v":""},{"$f":"IF(Table1[[#This Row],[Wage differential Bonus                            - NotePay Rate you are bonusing to]]>0,Table1[[#This Row],[Bonus Rate]]*Table1[[#This Row],[Hours]],\"\")","v":""},null,null,null,null,null,{"$f":"IF(OR(AH1976>0.001,AH1976<-0.001),Table1[[#This Row],[Employee '#]],\" \")","v":" "},false,{"$f":"SUMIF(Table1[[#This Row],[Total Wage Diff bonus]:[Bank Bonus]],\"<> \")","v":0},{"$f":"IF(AA1976>0, Table1[[#This Row],[Column4]], IF(AB1976>0,Table1[[#This Row],[Column4]],IF(X1976>0,\"1000\")))","v":false}]
[null,null,null,null,null,null,null,null,null,null,null,null,null,null,null,null,0,null,null,null,null,null,null,null,{"$f":"IF(Table1[[#This Row],[Wage differential Bonus                            - NotePay Rate you are bonusing to]]>0, Table1[[#This Row],[Wage differential Bonus                            - NotePay Rate you are bonusing to]]-Table1[[#This Row],[Pay Rate]], \"\")","v":""},{"$f":"IF(Table1[[#This Row],[Wage differential Bonus                            - NotePay Rate you are bonusing to]]>0,Table1[[#This Row],[Bonus Rate]]*Table1[[#This Row],[Hours]],\"\")","v":""},null,null,null,null,null,{"$f":"IF(OR(AH1977>0.001,AH1977<-0.001),Table1[[#This Row],[Employee '#]],\" \")","v":" "},false,{"$f":"SUMIF(Table1[[#This Row],[Total Wage Diff bonus]:[Bank Bonus]],\"<> \")","v":0},{"$f":"IF(AA1977>0, Table1[[#This Row],[Column4]], IF(AB1977>0,Table1[[#This Row],[Column4]],IF(X1977>0,\"1000\")))","v":false}]
[null,null,null,null,null,null,null,null,null,null,null,null,null,null,null,null,0,null,null,null,null,null,null,null,{"$f":"IF(Table1[[#This Row],[Wage differential Bonus                            - NotePay Rate you are bonusing to]]>0, Table1[[#This Row],[Wage differential Bonus                            - NotePay Rate you are bonusing to]]-Table1[[#This Row],[Pay Rate]], \"\")","v":""},{"$f":"IF(Table1[[#This Row],[Wage differential Bonus                            - NotePay Rate you are bonusing to]]>0,Table1[[#This Row],[Bonus Rate]]*Table1[[#This Row],[Hours]],\"\")","v":""},null,null,null,null,null,{"$f":"IF(OR(AH1980>0.001,AH1980<-0.001),Table1[[#This Row],[Employee '#]],\" \")","v":" "},false,{"$f":"SUMIF(Table1[[#This Row],[Total Wage Diff bonus]:[Bank Bonus]],\"<> \")","v":0},{"$f":"IF(AA1980>0, Table1[[#This Row],[Column4]], IF(AB1980>0,Table1[[#This Row],[Column4]],IF(X1980>0,\"1000\")))","v":false}]
[null,null,null,null,null,null,null,null,null,null,null,null,null,null,null,null,0,null,null,null,null,null,null,null,{"$f":"IF(Table1[[#This Row],[Wage differential Bonus                            - NotePay Rate you are bonusing to]]>0, Table1[[#This Row],[Wage differential Bonus                            - NotePay Rate you are bonusing to]]-Table1[[#This Row],[Pay Rate]], \"\")","v":""},{"$f":"IF(Table1[[#This Row],[Wage differential Bonus                            - NotePay Rate you are bonusing to]]>0,Table1[[#This Row],[Bonus Rate]]*Table1[[#This Row],[Hours]],\"\")","v":""},null,null,null,null,null,{"$f":"IF(OR(AH1982>0.001,AH1982<-0.001),Table1[[#This Row],[Employee '#]],\" \")","v":" "},false,{"$f":"SUMIF(Table1[[#This Row],[Total Wage Diff bonus]:[Bank Bonus]],\"<> \")","v":0},{"$f":"IF(AA1982>0, Table1[[#This Row],[Column4]], IF(AB1982>0,Table1[[#This Row],[Column4]],IF(X1982>0,\"1000\")))","v":false}]
[null,null,null,null,null,null,null,null,null,null,null,null,null,null,null,null,0,null,null,null,null,null,null,null,{"$f":"IF(Table1[[#This Row],[Wage differential Bonus                            - NotePay Rate you are bonusing to]]>0, Table1[[#This Row],[Wage differential Bonus                            - NotePay Rate you are bonusing to]]-Table1[[#This Row],[Pay Rate]], \"\")","v":""},{"$f":"IF(Table1[[#This Row],[Wage differential Bonus                            - NotePay Rate you are bonusing to]]>0,Table1[[#This Row],[Bonus Rate]]*Table1[[#This Row],[Hours]],\"\")","v":""},null,null,null,null,null,{"$f":"IF(OR(AH1985>0.001,AH1985<-0.001),Table1[[#This Row],[Employee '#]],\" \")","v":" "},false,{"$f":"SUMIF(Table1[[#This Row],[Total Wage Diff bonus]:[Bank Bonus]],\"<> \")","v":0},{"$f":"IF(AA1985>0, Table1[[#This Row],[Column4]], IF(AB1985>0,Table1[[#This Row],[Column4]],IF(X1985>0,\"1000\")))","v":false}]
[null,null,null,null,null,null,null,null,null,null,null,null,null,null,null,null,0,null,null,null,null,null,null,null,{"$f":"IF(Table1[[#This Row],[Wage differential Bonus                            - NotePay Rate you are bonusing to]]>0, Table1[[#This Row],[Wage differential Bonus                            - NotePay Rate you are bonusing to]]-Table1[[#This Row],[Pay Rate]], \"\")","v":""},{"$f":"IF(Table1[[#This Row],[Wage differential Bonus                            - NotePay Rate you are bonusing to]]>0,Table1[[#This Row],[Bonus Rate]]*Table1[[#This Row],[Hours]],\"\")","v":""},null,null,null,null,null,{"$f":"IF(OR(AH1986>0.001,AH1986<-0.001),Table1[[#This Row],[Employee '#]],\" \")","v":" "},false,{"$f":"SUMIF(Table1[[#This Row],[Total Wage Diff bonus]:[Bank Bonus]],\"<> \")","v":0},{"$f":"IF(AA1986>0, Table1[[#This Row],[Column4]], IF(AB1986>0,Table1[[#This Row],[Column4]],IF(X1986>0,\"1000\")))","v":false}]
[null,null,null,null,null,null,null,null,null,null,null,null,null,null,null,null,0,null,null,null,null,null,null,null,{"$f":"IF(Table1[[#This Row],[Wage differential Bonus                            - NotePay Rate you are bonusing to]]>0, Table1[[#This Row],[Wage differential Bonus                            - NotePay Rate you are bonusing to]]-Table1[[#This Row],[Pay Rate]], \"\")","v":""},{"$f":"IF(Table1[[#This Row],[Wage differential Bonus                            - NotePay Rate you are bonusing to]]>0,Table1[[#This Row],[Bonus Rate]]*Table1[[#This Row],[Hours]],\"\")","v":""},null,null,null,null,null,{"$f":"IF(OR(AH1990>0.001,AH1990<-0.001),Table1[[#This Row],[Employee '#]],\" \")","v":" "},false,{"$f":"SUMIF(Table1[[#This Row],[Total Wage Diff bonus]:[Bank Bonus]],\"<> \")","v":0},{"$f":"IF(AA1990>0, Table1[[#This Row],[Column4]], IF(AB1990>0,Table1[[#This Row],[Column4]],IF(X1990>0,\"1000\")))","v":false}]
[null,null,null,null,null,null,null,null,null,null,null,null,null,null,null,null,0,null,null,null,null,null,null,null,{"$f":"IF(Table1[[#This Row],[Wage differential Bonus                            - NotePay Rate you are bonusing to]]>0, Table1[[#This Row],[Wage differential Bonus                            - NotePay Rate you are bonusing to]]-Table1[[#This Row],[Pay Rate]], \"\")","v":""},{"$f":"IF(Table1[[#This Row],[Wage differential Bonus                            - NotePay Rate you are bonusing to]]>0,Table1[[#This Row],[Bonus Rate]]*Table1[[#This Row],[Hours]],\"\")","v":""},null,null,null,null,null,{"$f":"IF(OR(AH1991>0.001,AH1991<-0.001),Table1[[#This Row],[Employee '#]],\" \")","v":" "},false,{"$f":"SUMIF(Table1[[#This Row],[Total Wage Diff bonus]:[Bank Bonus]],\"<> \")","v":0},{"$f":"IF(AA1991>0, Table1[[#This Row],[Column4]], IF(AB1991>0,Table1[[#This Row],[Column4]],IF(X1991>0,\"1000\")))","v":false}]
[null,null,null,null,null,null,null,null,null,null,null,null,null,null,null,null,0,null,null,null,null,null,null,null,{"$f":"IF(Table1[[#This Row],[Wage differential Bonus                            - NotePay Rate you are bonusing to]]>0, Table1[[#This Row],[Wage differential Bonus                            - NotePay Rate you are bonusing to]]-Table1[[#This Row],[Pay Rate]], \"\")","v":""},{"$f":"IF(Table1[[#This Row],[Wage differential Bonus                            - NotePay Rate you are bonusing to]]>0,Table1[[#This Row],[Bonus Rate]]*Table1[[#This Row],[Hours]],\"\")","v":""},null,null,null,null,null,{"$f":"IF(OR(AH1994>0.001,AH1994<-0.001),Table1[[#This Row],[Employee '#]],\" \")","v":" "},false,{"$f":"SUMIF(Table1[[#This Row],[Total Wage Diff bonus]:[Bank Bonus]],\"<> \")","v":0},{"$f":"IF(AA1994>0, Table1[[#This Row],[Column4]], IF(AB1994>0,Table1[[#This Row],[Column4]],IF(X1994>0,\"1000\")))","v":false}]
[null,null,null,null,null,null,null,null,null,null,null,null,null,null,null,null,0,null,null,null,null,null,null,null,{"$f":"IF(Table1[[#This Row],[Wage differential Bonus                            - NotePay Rate you are bonusing to]]>0, Table1[[#This Row],[Wage differential Bonus                            - NotePay Rate you are bonusing to]]-Table1[[#This Row],[Pay Rate]], \"\")","v":""},{"$f":"IF(Table1[[#This Row],[Wage differential Bonus                            - NotePay Rate you are bonusing to]]>0,Table1[[#This Row],[Bonus Rate]]*Table1[[#This Row],[Hours]],\"\")","v":""},null,null,null,null,null,{"$f":"IF(OR(AH1995>0.001,AH1995<-0.001),Table1[[#This Row],[Employee '#]],\" \")","v":" "},false,{"$f":"SUMIF(Table1[[#This Row],[Total Wage Diff bonus]:[Bank Bonus]],\"<> \")","v":0},{"$f":"IF(AA1995>0, Table1[[#This Row],[Column4]], IF(AB1995>0,Table1[[#This Row],[Column4]],IF(X1995>0,\"1000\")))","v":false}]
[null,null,null,null,null,null,null,null,null,null,null,null,null,null,null,null,0,null,null,null,null,null,null,null,{"$f":"IF(Table1[[#This Row],[Wage differential Bonus                            - NotePay Rate you are bonusing to]]>0, Table1[[#This Row],[Wage differential Bonus                            - NotePay Rate you are bonusing to]]-Table1[[#This Row],[Pay Rate]], \"\")","v":""},{"$f":"IF(Table1[[#This Row],[Wage differential Bonus                            - NotePay Rate you are bonusing to]]>0,Table1[[#This Row],[Bonus Rate]]*Table1[[#This Row],[Hours]],\"\")","v":""},null,null,null,null,null,{"$f":"IF(OR(AH1999>0.001,AH1999<-0.001),Table1[[#This Row],[Employee '#]],\" \")","v":" "},false,{"$f":"SUMIF(Table1[[#This Row],[Total Wage Diff bonus]:[Bank Bonus]],\"<> \")","v":0},{"$f":"IF(AA1999>0, Table1[[#This Row],[Column4]], IF(AB1999>0,Table1[[#This Row],[Column4]],IF(X1999>0,\"1000\")))","v":false}]
[null,null,null,null,null,null,null,null,null,null,null,null,null,null,null,null,0,null,null,null,null,null,null,null,{"$f":"IF(Table1[[#This Row],[Wage differential Bonus                            - NotePay Rate you are bonusing to]]>0, Table1[[#This Row],[Wage differential Bonus                            - NotePay Rate you are bonusing to]]-Table1[[#This Row],[Pay Rate]], \"\")","v":""},{"$f":"IF(Table1[[#This Row],[Wage differential Bonus                            - NotePay Rate you are bonusing to]]>0,Table1[[#This Row],[Bonus Rate]]*Table1[[#This Row],[Hours]],\"\")","v":""},null,null,null,null,null,{"$f":"IF(OR(AH2000>0.001,AH2000<-0.001),Table1[[#This Row],[Employee '#]],\" \")","v":" "},false,{"$f":"SUMIF(Table1[[#This Row],[Total Wage Diff bonus]:[Bank Bonus]],\"<> \")","v":0},{"$f":"IF(AA2000>0, Table1[[#This Row],[Column4]], IF(AB2000>0,Table1[[#This Row],[Column4]],IF(X2000>0,\"1000\")))","v":false}]
[null,null,null,null,null,null,null,null,null,null,null,null,null,null,null,null,0,null,null,null,null,null,null,null,{"$f":"IF(Table1[[#This Row],[Wage differential Bonus                            - NotePay Rate you are bonusing to]]>0, Table1[[#This Row],[Wage differential Bonus                            - NotePay Rate you are bonusing to]]-Table1[[#This Row],[Pay Rate]], \"\")","v":""},{"$f":"IF(Table1[[#This Row],[Wage differential Bonus                            - NotePay Rate you are bonusing to]]>0,Table1[[#This Row],[Bonus Rate]]*Table1[[#This Row],[Hours]],\"\")","v":""},null,null,null,null,null,{"$f":"IF(OR(AH2003>0.001,AH2003<-0.001),Table1[[#This Row],[Employee '#]],\" \")","v":" "},false,{"$f":"SUMIF(Table1[[#This Row],[Total Wage Diff bonus]:[Bank Bonus]],\"<> \")","v":0},{"$f":"IF(AA2003>0, Table1[[#This Row],[Column4]], IF(AB2003>0,Table1[[#This Row],[Column4]],IF(X2003>0,\"1000\")))","v":false}]
[null,null,null,null,null,null,null,null,null,null,null,null,null,null,null,null,0,null,null,null,null,null,null,null,{"$f":"IF(Table1[[#This Row],[Wage differential Bonus                            - NotePay Rate you are bonusing to]]>0, Table1[[#This Row],[Wage differential Bonus                            - NotePay Rate you are bonusing to]]-Table1[[#This Row],[Pay Rate]], \"\")","v":""},{"$f":"IF(Table1[[#This Row],[Wage differential Bonus                            - NotePay Rate you are bonusing to]]>0,Table1[[#This Row],[Bonus Rate]]*Table1[[#This Row],[Hours]],\"\")","v":""},null,null,null,null,null,{"$f":"IF(OR(AH2006>0.001,AH2006<-0.001),Table1[[#This Row],[Employee '#]],\" \")","v":" "},false,{"$f":"SUMIF(Table1[[#This Row],[Total Wage Diff bonus]:[Bank Bonus]],\"<> \")","v":0},{"$f":"IF(AA2006>0, Table1[[#This Row],[Column4]], IF(AB2006>0,Table1[[#This Row],[Column4]],IF(X2006>0,\"1000\")))","v":false}]
[null,null,null,null,null,null,null,null,null,null,null,null,null,null,null,null,0,null,null,null,null,null,null,null,{"$f":"IF(Table1[[#This Row],[Wage differential Bonus                            - NotePay Rate you are bonusing to]]>0, Table1[[#This Row],[Wage differential Bonus                            - NotePay Rate you are bonusing to]]-Table1[[#This Row],[Pay Rate]], \"\")","v":""},{"$f":"IF(Table1[[#This Row],[Wage differential Bonus                            - NotePay Rate you are bonusing to]]>0,Table1[[#This Row],[Bonus Rate]]*Table1[[#This Row],[Hours]],\"\")","v":""},null,null,null,null,null,{"$f":"IF(OR(AH2008>0.001,AH2008<-0.001),Table1[[#This Row],[Employee '#]],\" \")","v":" "},false,{"$f":"SUMIF(Table1[[#This Row],[Total Wage Diff bonus]:[Bank Bonus]],\"<> \")","v":0},{"$f":"IF(AA2008>0, Table1[[#This Row],[Column4]], IF(AB2008>0,Table1[[#This Row],[Column4]],IF(X2008>0,\"1000\")))","v":false}]
[null,null,null,null,null,null,null,null,null,null,null,null,null,null,null,null,0,null,null,null,null,null,null,null,{"$f":"IF(Table1[[#This Row],[Wage differential Bonus                            - NotePay Rate you are bonusing to]]>0, Table1[[#This Row],[Wage differential Bonus                            - NotePay Rate you are bonusing to]]-Table1[[#This Row],[Pay Rate]], \"\")","v":""},{"$f":"IF(Table1[[#This Row],[Wage differential Bonus                            - NotePay Rate you are bonusing to]]>0,Table1[[#This Row],[Bonus Rate]]*Table1[[#This Row],[Hours]],\"\")","v":""},null,null,null,null,null,{"$f":"IF(OR(AH2009>0.001,AH2009<-0.001),Table1[[#This Row],[Employee '#]],\" \")","v":" "},false,{"$f":"SUMIF(Table1[[#This Row],[Total Wage Diff bonus]:[Bank Bonus]],\"<> \")","v":0},{"$f":"IF(AA2009>0, Table1[[#This Row],[Column4]], IF(AB2009>0,Table1[[#This Row],[Column4]],IF(X2009>0,\"1000\")))","v":false}]
[null,null,null,null,null,null,null,null,null,null,null,null,null,null,null,null,0,null,null,null,null,null,null,null,{"$f":"IF(Table1[[#This Row],[Wage differential Bonus                            - NotePay Rate you are bonusing to]]>0, Table1[[#This Row],[Wage differential Bonus                            - NotePay Rate you are bonusing to]]-Table1[[#This Row],[Pay Rate]], \"\")","v":""},{"$f":"IF(Table1[[#This Row],[Wage differential Bonus                            - NotePay Rate you are bonusing to]]>0,Table1[[#This Row],[Bonus Rate]]*Table1[[#This Row],[Hours]],\"\")","v":""},null,null,null,null,null,{"$f":"IF(OR(AH2012>0.001,AH2012<-0.001),Table1[[#This Row],[Employee '#]],\" \")","v":" "},false,{"$f":"SUMIF(Table1[[#This Row],[Total Wage Diff bonus]:[Bank Bonus]],\"<> \")","v":0},{"$f":"IF(AA2012>0, Table1[[#This Row],[Column4]], IF(AB2012>0,Table1[[#This Row],[Column4]],IF(X2012>0,\"1000\")))","v":false}]
[null,null,null,null,null,null,null,null,null,null,null,null,null,null,null,null,0,null,null,null,null,null,null,null,{"$f":"IF(Table1[[#This Row],[Wage differential Bonus                            - NotePay Rate you are bonusing to]]>0, Table1[[#This Row],[Wage differential Bonus                            - NotePay Rate you are bonusing to]]-Table1[[#This Row],[Pay Rate]], \"\")","v":""},{"$f":"IF(Table1[[#This Row],[Wage differential Bonus                            - NotePay Rate you are bonusing to]]>0,Table1[[#This Row],[Bonus Rate]]*Table1[[#This Row],[Hours]],\"\")","v":""},null,null,null,null,null,{"$f":"IF(OR(AH2013>0.001,AH2013<-0.001),Table1[[#This Row],[Employee '#]],\" \")","v":" "},false,{"$f":"SUMIF(Table1[[#This Row],[Total Wage Diff bonus]:[Bank Bonus]],\"<> \")","v":0},{"$f":"IF(AA2013>0, Table1[[#This Row],[Column4]], IF(AB2013>0,Table1[[#This Row],[Column4]],IF(X2013>0,\"1000\")))","v":false}]
[null,null,null,null,null,null,null,null,null,null,null,null,null,null,null,null,0,null,null,null,null,null,null,null,{"$f":"IF(Table1[[#This Row],[Wage differential Bonus                            - NotePay Rate you are bonusing to]]>0, Table1[[#This Row],[Wage differential Bonus                            - NotePay Rate you are bonusing to]]-Table1[[#This Row],[Pay Rate]], \"\")","v":""},{"$f":"IF(Table1[[#This Row],[Wage differential Bonus                            - NotePay Rate you are bonusing to]]>0,Table1[[#This Row],[Bonus Rate]]*Table1[[#This Row],[Hours]],\"\")","v":""},null,null,null,null,null,{"$f":"IF(OR(AH2017>0.001,AH2017<-0.001),Table1[[#This Row],[Employee '#]],\" \")","v":" "},false,{"$f":"SUMIF(Table1[[#This Row],[Total Wage Diff bonus]:[Bank Bonus]],\"<> \")","v":0},{"$f":"IF(AA2017>0, Table1[[#This Row],[Column4]], IF(AB2017>0,Table1[[#This Row],[Column4]],IF(X2017>0,\"1000\")))","v":false}]
[null,null,null,null,null,null,null,null,null,null,null,null,null,null,null,null,0,null,null,null,null,null,null,null,{"$f":"IF(Table1[[#This Row],[Wage differential Bonus                            - NotePay Rate you are bonusing to]]>0, Table1[[#This Row],[Wage differential Bonus                            - NotePay Rate you are bonusing to]]-Table1[[#This Row],[Pay Rate]], \"\")","v":""},{"$f":"IF(Table1[[#This Row],[Wage differential Bonus                            - NotePay Rate you are bonusing to]]>0,Table1[[#This Row],[Bonus Rate]]*Table1[[#This Row],[Hours]],\"\")","v":""},null,null,null,null,null,{"$f":"IF(OR(AH2018>0.001,AH2018<-0.001),Table1[[#This Row],[Employee '#]],\" \")","v":" "},false,{"$f":"SUMIF(Table1[[#This Row],[Total Wage Diff bonus]:[Bank Bonus]],\"<> \")","v":0},{"$f":"IF(AA2018>0, Table1[[#This Row],[Column4]], IF(AB2018>0,Table1[[#This Row],[Column4]],IF(X2018>0,\"1000\")))","v":false}]
[null,null,null,null,null,null,null,null,null,null,null,null,null,null,null,null,0,null,null,null,null,null,null,null,{"$f":"IF(Table1[[#This Row],[Wage differential Bonus                            - NotePay Rate you are bonusing to]]>0, Table1[[#This Row],[Wage differential Bonus                            - NotePay Rate you are bonusing to]]-Table1[[#This Row],[Pay Rate]], \"\")","v":""},{"$f":"IF(Table1[[#This Row],[Wage differential Bonus                            - NotePay Rate you are bonusing to]]>0,Table1[[#This Row],[Bonus Rate]]*Table1[[#This Row],[Hours]],\"\")","v":""},null,null,null,null,null,{"$f":"IF(OR(AH2021>0.001,AH2021<-0.001),Table1[[#This Row],[Employee '#]],\" \")","v":" "},false,{"$f":"SUMIF(Table1[[#This Row],[Total Wage Diff bonus]:[Bank Bonus]],\"<> \")","v":0},{"$f":"IF(AA2021>0, Table1[[#This Row],[Column4]], IF(AB2021>0,Table1[[#This Row],[Column4]],IF(X2021>0,\"1000\")))","v":false}]
[null,null,null,null,null,null,null,null,null,null,null,null,null,null,null,null,0,null,null,null,null,null,null,null,{"$f":"IF(Table1[[#This Row],[Wage differential Bonus                            - NotePay Rate you are bonusing to]]>0, Table1[[#This Row],[Wage differential Bonus                            - NotePay Rate you are bonusing to]]-Table1[[#This Row],[Pay Rate]], \"\")","v":""},{"$f":"IF(Table1[[#This Row],[Wage differential Bonus                            - NotePay Rate you are bonusing to]]>0,Table1[[#This Row],[Bonus Rate]]*Table1[[#This Row],[Hours]],\"\")","v":""},null,null,null,null,null,{"$f":"IF(OR(AH2024>0.001,AH2024<-0.001),Table1[[#This Row],[Employee '#]],\" \")","v":" "},false,{"$f":"SUMIF(Table1[[#This Row],[Total Wage Diff bonus]:[Bank Bonus]],\"<> \")","v":0},{"$f":"IF(AA2024>0, Table1[[#This Row],[Column4]], IF(AB2024>0,Table1[[#This Row],[Column4]],IF(X2024>0,\"1000\")))","v":false}]
[null,null,null,null,null,null,null,null,null,null,null,null,null,null,null,null,0,null,null,null,null,null,null,null,{"$f":"IF(Table1[[#This Row],[Wage differential Bonus                            - NotePay Rate you are bonusing to]]>0, Table1[[#This Row],[Wage differential Bonus                            - NotePay Rate you are bonusing to]]-Table1[[#This Row],[Pay Rate]], \"\")","v":""},{"$f":"IF(Table1[[#This Row],[Wage differential Bonus                            - NotePay Rate you are bonusing to]]>0,Table1[[#This Row],[Bonus Rate]]*Table1[[#This Row],[Hours]],\"\")","v":""},null,null,null,null,null,{"$f":"IF(OR(AH2026>0.001,AH2026<-0.001),Table1[[#This Row],[Employee '#]],\" \")","v":" "},false,{"$f":"SUMIF(Table1[[#This Row],[Total Wage Diff bonus]:[Bank Bonus]],\"<> \")","v":0},{"$f":"IF(AA2026>0, Table1[[#This Row],[Column4]], IF(AB2026>0,Table1[[#This Row],[Column4]],IF(X2026>0,\"1000\")))","v":false}]
[null,null,null,null,null,null,null,null,null,null,null,null,null,null,null,null,0,null,null,null,null,null,null,null,{"$f":"IF(Table1[[#This Row],[Wage differential Bonus                            - NotePay Rate you are bonusing to]]>0, Table1[[#This Row],[Wage differential Bonus                            - NotePay Rate you are bonusing to]]-Table1[[#This Row],[Pay Rate]], \"\")","v":""},{"$f":"IF(Table1[[#This Row],[Wage differential Bonus                            - NotePay Rate you are bonusing to]]>0,Table1[[#This Row],[Bonus Rate]]*Table1[[#This Row],[Hours]],\"\")","v":""},null,null,null,null,null,{"$f":"IF(OR(AH2027>0.001,AH2027<-0.001),Table1[[#This Row],[Employee '#]],\" \")","v":" "},false,{"$f":"SUMIF(Table1[[#This Row],[Total Wage Diff bonus]:[Bank Bonus]],\"<> \")","v":0},{"$f":"IF(AA2027>0, Table1[[#This Row],[Column4]], IF(AB2027>0,Table1[[#This Row],[Column4]],IF(X2027>0,\"1000\")))","v":false}]
[null,null,null,null,null,null,null,null,null,null,null,null,null,null,null,null,0,null,null,null,null,null,null,null,{"$f":"IF(Table1[[#This Row],[Wage differential Bonus                            - NotePay Rate you are bonusing to]]>0, Table1[[#This Row],[Wage differential Bonus                            - NotePay Rate you are bonusing to]]-Table1[[#This Row],[Pay Rate]], \"\")","v":""},{"$f":"IF(Table1[[#This Row],[Wage differential Bonus                            - NotePay Rate you are bonusing to]]>0,Table1[[#This Row],[Bonus Rate]]*Table1[[#This Row],[Hours]],\"\")","v":""},null,null,null,null,null,{"$f":"IF(OR(AH2029>0.001,AH2029<-0.001),Table1[[#This Row],[Employee '#]],\" \")","v":" "},false,{"$f":"SUMIF(Table1[[#This Row],[Total Wage Diff bonus]:[Bank Bonus]],\"<> \")","v":0},{"$f":"IF(AA2029>0, Table1[[#This Row],[Column4]], IF(AB2029>0,Table1[[#This Row],[Column4]],IF(X2029>0,\"1000\")))","v":false}]
[null,null,null,null,null,null,null,null,null,null,null,null,null,null,null,null,0,null,null,null,null,null,null,null,{"$f":"IF(Table1[[#This Row],[Wage differential Bonus                            - NotePay Rate you are bonusing to]]>0, Table1[[#This Row],[Wage differential Bonus                            - NotePay Rate you are bonusing to]]-Table1[[#This Row],[Pay Rate]], \"\")","v":""},{"$f":"IF(Table1[[#This Row],[Wage differential Bonus                            - NotePay Rate you are bonusing to]]>0,Table1[[#This Row],[Bonus Rate]]*Table1[[#This Row],[Hours]],\"\")","v":""},null,null,null,null,null,{"$f":"IF(OR(AH2032>0.001,AH2032<-0.001),Table1[[#This Row],[Employee '#]],\" \")","v":" "},false,{"$f":"SUMIF(Table1[[#This Row],[Total Wage Diff bonus]:[Bank Bonus]],\"<> \")","v":0},{"$f":"IF(AA2032>0, Table1[[#This Row],[Column4]], IF(AB2032>0,Table1[[#This Row],[Column4]],IF(X2032>0,\"1000\")))","v":false}]
[null,null,null,null,null,null,null,null,null,null,null,null,null,null,null,null,0,null,null,null,null,null,null,null,{"$f":"IF(Table1[[#This Row],[Wage differential Bonus                            - NotePay Rate you are bonusing to]]>0, Table1[[#This Row],[Wage differential Bonus                            - NotePay Rate you are bonusing to]]-Table1[[#This Row],[Pay Rate]], \"\")","v":""},{"$f":"IF(Table1[[#This Row],[Wage differential Bonus                            - NotePay Rate you are bonusing to]]>0,Table1[[#This Row],[Bonus Rate]]*Table1[[#This Row],[Hours]],\"\")","v":""},null,null,null,null,null,{"$f":"IF(OR(AH2035>0.001,AH2035<-0.001),Table1[[#This Row],[Employee '#]],\" \")","v":" "},false,{"$f":"SUMIF(Table1[[#This Row],[Total Wage Diff bonus]:[Bank Bonus]],\"<> \")","v":0},{"$f":"IF(AA2035>0, Table1[[#This Row],[Column4]], IF(AB2035>0,Table1[[#This Row],[Column4]],IF(X2035>0,\"1000\")))","v":false}]
[null,null,null,null,null,null,null,null,null,null,null,null,null,null,null,null,0,null,null,null,null,null,null,null,{"$f":"IF(Table1[[#This Row],[Wage differential Bonus                            - NotePay Rate you are bonusing to]]>0, Table1[[#This Row],[Wage differential Bonus                            - NotePay Rate you are bonusing to]]-Table1[[#This Row],[Pay Rate]], \"\")","v":""},{"$f":"IF(Table1[[#This Row],[Wage differential Bonus                            - NotePay Rate you are bonusing to]]>0,Table1[[#This Row],[Bonus Rate]]*Table1[[#This Row],[Hours]],\"\")","v":""},null,null,null,null,null,{"$f":"IF(OR(AH2036>0.001,AH2036<-0.001),Table1[[#This Row],[Employee '#]],\" \")","v":" "},false,{"$f":"SUMIF(Table1[[#This Row],[Total Wage Diff bonus]:[Bank Bonus]],\"<> \")","v":0},{"$f":"IF(AA2036>0, Table1[[#This Row],[Column4]], IF(AB2036>0,Table1[[#This Row],[Column4]],IF(X2036>0,\"1000\")))","v":false}]
[null,null,null,null,null,null,null,null,null,null,null,null,null,null,null,null,0,null,null,null,null,null,null,null,{"$f":"IF(Table1[[#This Row],[Wage differential Bonus                            - NotePay Rate you are bonusing to]]>0, Table1[[#This Row],[Wage differential Bonus                            - NotePay Rate you are bonusing to]]-Table1[[#This Row],[Pay Rate]], \"\")","v":""},{"$f":"IF(Table1[[#This Row],[Wage differential Bonus                            - NotePay Rate you are bonusing to]]>0,Table1[[#This Row],[Bonus Rate]]*Table1[[#This Row],[Hours]],\"\")","v":""},null,null,null,null,null,{"$f":"IF(OR(AH2039>0.001,AH2039<-0.001),Table1[[#This Row],[Employee '#]],\" \")","v":" "},false,{"$f":"SUMIF(Table1[[#This Row],[Total Wage Diff bonus]:[Bank Bonus]],\"<> \")","v":0},{"$f":"IF(AA2039>0, Table1[[#This Row],[Column4]], IF(AB2039>0,Table1[[#This Row],[Column4]],IF(X2039>0,\"1000\")))","v":false}]
[null,null,null,null,null,null,null,null,null,null,null,null,null,null,null,null,0,null,null,null,null,null,null,null,{"$f":"IF(Table1[[#This Row],[Wage differential Bonus                            - NotePay Rate you are bonusing to]]>0, Table1[[#This Row],[Wage differential Bonus                            - NotePay Rate you are bonusing to]]-Table1[[#This Row],[Pay Rate]], \"\")","v":""},{"$f":"IF(Table1[[#This Row],[Wage differential Bonus                            - NotePay Rate you are bonusing to]]>0,Table1[[#This Row],[Bonus Rate]]*Table1[[#This Row],[Hours]],\"\")","v":""},null,null,null,null,null,{"$f":"IF(OR(AH2041>0.001,AH2041<-0.001),Table1[[#This Row],[Employee '#]],\" \")","v":" "},false,{"$f":"SUMIF(Table1[[#This Row],[Total Wage Diff bonus]:[Bank Bonus]],\"<> \")","v":0},{"$f":"IF(AA2041>0, Table1[[#This Row],[Column4]], IF(AB2041>0,Table1[[#This Row],[Column4]],IF(X2041>0,\"1000\")))","v":false}]
[null,null,null,null,null,null,null,null,null,null,null,null,null,null,null,null,0,null,null,null,null,null,null,null,{"$f":"IF(Table1[[#This Row],[Wage differential Bonus                            - NotePay Rate you are bonusing to]]>0, Table1[[#This Row],[Wage differential Bonus                            - NotePay Rate you are bonusing to]]-Table1[[#This Row],[Pay Rate]], \"\")","v":""},{"$f":"IF(Table1[[#This Row],[Wage differential Bonus                            - NotePay Rate you are bonusing to]]>0,Table1[[#This Row],[Bonus Rate]]*Table1[[#This Row],[Hours]],\"\")","v":""},null,null,null,null,null,{"$f":"IF(OR(AH2044>0.001,AH2044<-0.001),Table1[[#This Row],[Employee '#]],\" \")","v":" "},false,{"$f":"SUMIF(Table1[[#This Row],[Total Wage Diff bonus]:[Bank Bonus]],\"<> \")","v":0},{"$f":"IF(AA2044>0, Table1[[#This Row],[Column4]], IF(AB2044>0,Table1[[#This Row],[Column4]],IF(X2044>0,\"1000\")))","v":false}]
[null,null,null,null,null,null,null,null,null,null,null,null,null,null,null,null,0,null,null,null,null,null,null,null,{"$f":"IF(Table1[[#This Row],[Wage differential Bonus                            - NotePay Rate you are bonusing to]]>0, Table1[[#This Row],[Wage differential Bonus                            - NotePay Rate you are bonusing to]]-Table1[[#This Row],[Pay Rate]], \"\")","v":""},{"$f":"IF(Table1[[#This Row],[Wage differential Bonus                            - NotePay Rate you are bonusing to]]>0,Table1[[#This Row],[Bonus Rate]]*Table1[[#This Row],[Hours]],\"\")","v":""},null,null,null,null,null,{"$f":"IF(OR(AH2045>0.001,AH2045<-0.001),Table1[[#This Row],[Employee '#]],\" \")","v":" "},false,{"$f":"SUMIF(Table1[[#This Row],[Total Wage Diff bonus]:[Bank Bonus]],\"<> \")","v":0},{"$f":"IF(AA2045>0, Table1[[#This Row],[Column4]], IF(AB2045>0,Table1[[#This Row],[Column4]],IF(X2045>0,\"1000\")))","v":false}]
[null,null,null,null,null,null,null,null,null,null,null,null,null,null,null,null,0,null,null,null,null,null,null,null,{"$f":"IF(Table1[[#This Row],[Wage differential Bonus                            - NotePay Rate you are bonusing to]]>0, Table1[[#This Row],[Wage differential Bonus                            - NotePay Rate you are bonusing to]]-Table1[[#This Row],[Pay Rate]], \"\")","v":""},{"$f":"IF(Table1[[#This Row],[Wage differential Bonus                            - NotePay Rate you are bonusing to]]>0,Table1[[#This Row],[Bonus Rate]]*Table1[[#This Row],[Hours]],\"\")","v":""},null,null,null,null,null,{"$f":"IF(OR(AH2047>0.001,AH2047<-0.001),Table1[[#This Row],[Employee '#]],\" \")","v":" "},false,{"$f":"SUMIF(Table1[[#This Row],[Total Wage Diff bonus]:[Bank Bonus]],\"<> \")","v":0},{"$f":"IF(AA2047>0, Table1[[#This Row],[Column4]], IF(AB2047>0,Table1[[#This Row],[Column4]],IF(X2047>0,\"1000\")))","v":false}]
[null,null,null,null,null,null,null,null,null,null,null,null,null,null,null,null,0,null,null,null,null,null,null,null,{"$f":"IF(Table1[[#This Row],[Wage differential Bonus                            - NotePay Rate you are bonusing to]]>0, Table1[[#This Row],[Wage differential Bonus                            - NotePay Rate you are bonusing to]]-Table1[[#This Row],[Pay Rate]], \"\")","v":""},{"$f":"IF(Table1[[#This Row],[Wage differential Bonus                            - NotePay Rate you are bonusing to]]>0,Table1[[#This Row],[Bonus Rate]]*Table1[[#This Row],[Hours]],\"\")","v":""},null,null,null,null,null,{"$f":"IF(OR(AH2050>0.001,AH2050<-0.001),Table1[[#This Row],[Employee '#]],\" \")","v":" "},false,{"$f":"SUMIF(Table1[[#This Row],[Total Wage Diff bonus]:[Bank Bonus]],\"<> \")","v":0},{"$f":"IF(AA2050>0, Table1[[#This Row],[Column4]], IF(AB2050>0,Table1[[#This Row],[Column4]],IF(X2050>0,\"1000\")))","v":false}]
[null,null,null,null,null,null,null,null,null,null,null,null,null,null,null,null,0,null,null,null,null,null,null,null,{"$f":"IF(Table1[[#This Row],[Wage differential Bonus                            - NotePay Rate you are bonusing to]]>0, Table1[[#This Row],[Wage differential Bonus                            - NotePay Rate you are bonusing to]]-Table1[[#This Row],[Pay Rate]], \"\")","v":""},{"$f":"IF(Table1[[#This Row],[Wage differential Bonus                            - NotePay Rate you are bonusing to]]>0,Table1[[#This Row],[Bonus Rate]]*Table1[[#This Row],[Hours]],\"\")","v":""},null,null,null,null,null,{"$f":"IF(OR(AH2053>0.001,AH2053<-0.001),Table1[[#This Row],[Employee '#]],\" \")","v":" "},false,{"$f":"SUMIF(Table1[[#This Row],[Total Wage Diff bonus]:[Bank Bonus]],\"<> \")","v":0},{"$f":"IF(AA2053>0, Table1[[#This Row],[Column4]], IF(AB2053>0,Table1[[#This Row],[Column4]],IF(X2053>0,\"1000\")))","v":false}]
[null,null,null,null,null,null,null,null,null,null,null,null,null,null,null,null,0,null,null,null,null,null,null,null,{"$f":"IF(Table1[[#This Row],[Wage differential Bonus                            - NotePay Rate you are bonusing to]]>0, Table1[[#This Row],[Wage differential Bonus                            - NotePay Rate you are bonusing to]]-Table1[[#This Row],[Pay Rate]], \"\")","v":""},{"$f":"IF(Table1[[#This Row],[Wage differential Bonus                            - NotePay Rate you are bonusing to]]>0,Table1[[#This Row],[Bonus Rate]]*Table1[[#This Row],[Hours]],\"\")","v":""},null,null,null,null,null,{"$f":"IF(OR(AH2054>0.001,AH2054<-0.001),Table1[[#This Row],[Employee '#]],\" \")","v":" "},false,{"$f":"SUMIF(Table1[[#This Row],[Total Wage Diff bonus]:[Bank Bonus]],\"<> \")","v":0},{"$f":"IF(AA2054>0, Table1[[#This Row],[Column4]], IF(AB2054>0,Table1[[#This Row],[Column4]],IF(X2054>0,\"1000\")))","v":false}]
[null,null,null,null,null,null,null,null,null,null,null,null,null,null,null,null,0,null,null,null,null,null,null,null,{"$f":"IF(Table1[[#This Row],[Wage differential Bonus                            - NotePay Rate you are bonusing to]]>0, Table1[[#This Row],[Wage differential Bonus                            - NotePay Rate you are bonusing to]]-Table1[[#This Row],[Pay Rate]], \"\")","v":""},{"$f":"IF(Table1[[#This Row],[Wage differential Bonus                            - NotePay Rate you are bonusing to]]>0,Table1[[#This Row],[Bonus Rate]]*Table1[[#This Row],[Hours]],\"\")","v":""},null,null,null,null,null,{"$f":"IF(OR(AH2057>0.001,AH2057<-0.001),Table1[[#This Row],[Employee '#]],\" \")","v":" "},false,{"$f":"SUMIF(Table1[[#This Row],[Total Wage Diff bonus]:[Bank Bonus]],\"<> \")","v":0},{"$f":"IF(AA2057>0, Table1[[#This Row],[Column4]], IF(AB2057>0,Table1[[#This Row],[Column4]],IF(X2057>0,\"1000\")))","v":false}]
[null,null,null,null,null,null,null,null,null,null,null,null,null,null,null,null,0,null,null,null,null,null,null,null,{"$f":"IF(Table1[[#This Row],[Wage differential Bonus                            - NotePay Rate you are bonusing to]]>0, Table1[[#This Row],[Wage differential Bonus                            - NotePay Rate you are bonusing to]]-Table1[[#This Row],[Pay Rate]], \"\")","v":""},{"$f":"IF(Table1[[#This Row],[Wage differential Bonus                            - NotePay Rate you are bonusing to]]>0,Table1[[#This Row],[Bonus Rate]]*Table1[[#This Row],[Hours]],\"\")","v":""},null,null,null,null,null,{"$f":"IF(OR(AH2059>0.001,AH2059<-0.001),Table1[[#This Row],[Employee '#]],\" \")","v":" "},false,{"$f":"SUMIF(Table1[[#This Row],[Total Wage Diff bonus]:[Bank Bonus]],\"<> \")","v":0},{"$f":"IF(AA2059>0, Table1[[#This Row],[Column4]], IF(AB2059>0,Table1[[#This Row],[Column4]],IF(X2059>0,\"1000\")))","v":false}]
[null,null,null,null,null,null,null,null,null,null,null,null,null,null,null,null,0,null,null,null,null,null,null,null,{"$f":"IF(Table1[[#This Row],[Wage differential Bonus                            - NotePay Rate you are bonusing to]]>0, Table1[[#This Row],[Wage differential Bonus                            - NotePay Rate you are bonusing to]]-Table1[[#This Row],[Pay Rate]], \"\")","v":""},{"$f":"IF(Table1[[#This Row],[Wage differential Bonus                            - NotePay Rate you are bonusing to]]>0,Table1[[#This Row],[Bonus Rate]]*Table1[[#This Row],[Hours]],\"\")","v":""},null,null,null,null,null,{"$f":"IF(OR(AH2062>0.001,AH2062<-0.001),Table1[[#This Row],[Employee '#]],\" \")","v":" "},false,{"$f":"SUMIF(Table1[[#This Row],[Total Wage Diff bonus]:[Bank Bonus]],\"<> \")","v":0},{"$f":"IF(AA2062>0, Table1[[#This Row],[Column4]], IF(AB2062>0,Table1[[#This Row],[Column4]],IF(X2062>0,\"1000\")))","v":false}]
[null,null,null,null,null,null,null,null,null,null,null,null,null,null,null,null,0,null,null,null,null,null,null,null,{"$f":"IF(Table1[[#This Row],[Wage differential Bonus                            - NotePay Rate you are bonusing to]]>0, Table1[[#This Row],[Wage differential Bonus                            - NotePay Rate you are bonusing to]]-Table1[[#This Row],[Pay Rate]], \"\")","v":""},{"$f":"IF(Table1[[#This Row],[Wage differential Bonus                            - NotePay Rate you are bonusing to]]>0,Table1[[#This Row],[Bonus Rate]]*Table1[[#This Row],[Hours]],\"\")","v":""},null,null,null,null,null,{"$f":"IF(OR(AH2063>0.001,AH2063<-0.001),Table1[[#This Row],[Employee '#]],\" \")","v":" "},false,{"$f":"SUMIF(Table1[[#This Row],[Total Wage Diff bonus]:[Bank Bonus]],\"<> \")","v":0},{"$f":"IF(AA2063>0, Table1[[#This Row],[Column4]], IF(AB2063>0,Table1[[#This Row],[Column4]],IF(X2063>0,\"1000\")))","v":false}]
[null,null,null,null,null,null,null,null,null,null,null,null,null,null,null,null,0,null,null,null,null,null,null,null,{"$f":"IF(Table1[[#This Row],[Wage differential Bonus                            - NotePay Rate you are bonusing to]]>0, Table1[[#This Row],[Wage differential Bonus                            - NotePay Rate you are bonusing to]]-Table1[[#This Row],[Pay Rate]], \"\")","v":""},{"$f":"IF(Table1[[#This Row],[Wage differential Bonus                            - NotePay Rate you are bonusing to]]>0,Table1[[#This Row],[Bonus Rate]]*Table1[[#This Row],[Hours]],\"\")","v":""},null,null,null,null,null,{"$f":"IF(OR(AH2067>0.001,AH2067<-0.001),Table1[[#This Row],[Employee '#]],\" \")","v":" "},false,{"$f":"SUMIF(Table1[[#This Row],[Total Wage Diff bonus]:[Bank Bonus]],\"<> \")","v":0},{"$f":"IF(AA2067>0, Table1[[#This Row],[Column4]], IF(AB2067>0,Table1[[#This Row],[Column4]],IF(X2067>0,\"1000\")))","v":false}]
[null,null,null,null,null,null,null,null,null,null,null,null,null,null,null,null,0,null,null,null,null,null,null,null,{"$f":"IF(Table1[[#This Row],[Wage differential Bonus                            - NotePay Rate you are bonusing to]]>0, Table1[[#This Row],[Wage differential Bonus                            - NotePay Rate you are bonusing to]]-Table1[[#This Row],[Pay Rate]], \"\")","v":""},{"$f":"IF(Table1[[#This Row],[Wage differential Bonus                            - NotePay Rate you are bonusing to]]>0,Table1[[#This Row],[Bonus Rate]]*Table1[[#This Row],[Hours]],\"\")","v":""},null,null,null,null,null,{"$f":"IF(OR(AH2068>0.001,AH2068<-0.001),Table1[[#This Row],[Employee '#]],\" \")","v":" "},false,{"$f":"SUMIF(Table1[[#This Row],[Total Wage Diff bonus]:[Bank Bonus]],\"<> \")","v":0},{"$f":"IF(AA2068>0, Table1[[#This Row],[Column4]], IF(AB2068>0,Table1[[#This Row],[Column4]],IF(X2068>0,\"1000\")))","v":false}]
[null,null,null,null,null,null,null,null,null,null,null,null,null,null,null,null,0,null,null,null,null,null,null,null,{"$f":"IF(Table1[[#This Row],[Wage differential Bonus                            - NotePay Rate you are bonusing to]]>0, Table1[[#This Row],[Wage differential Bonus                            - NotePay Rate you are bonusing to]]-Table1[[#This Row],[Pay Rate]], \"\")","v":""},{"$f":"IF(Table1[[#This Row],[Wage differential Bonus                            - NotePay Rate you are bonusing to]]>0,Table1[[#This Row],[Bonus Rate]]*Table1[[#This Row],[Hours]],\"\")","v":""},null,null,null,null,null,{"$f":"IF(OR(AH2071>0.001,AH2071<-0.001),Table1[[#This Row],[Employee '#]],\" \")","v":" "},false,{"$f":"SUMIF(Table1[[#This Row],[Total Wage Diff bonus]:[Bank Bonus]],\"<> \")","v":0},{"$f":"IF(AA2071>0, Table1[[#This Row],[Column4]], IF(AB2071>0,Table1[[#This Row],[Column4]],IF(X2071>0,\"1000\")))","v":false}]
[null,null,null,null,null,null,null,null,null,null,null,null,null,null,null,null,0,null,null,null,null,null,null,null,{"$f":"IF(Table1[[#This Row],[Wage differential Bonus                            - NotePay Rate you are bonusing to]]>0, Table1[[#This Row],[Wage differential Bonus                            - NotePay Rate you are bonusing to]]-Table1[[#This Row],[Pay Rate]], \"\")","v":""},{"$f":"IF(Table1[[#This Row],[Wage differential Bonus                            - NotePay Rate you are bonusing to]]>0,Table1[[#This Row],[Bonus Rate]]*Table1[[#This Row],[Hours]],\"\")","v":""},null,null,null,null,null,{"$f":"IF(OR(AH2073>0.001,AH2073<-0.001),Table1[[#This Row],[Employee '#]],\" \")","v":" "},false,{"$f":"SUMIF(Table1[[#This Row],[Total Wage Diff bonus]:[Bank Bonus]],\"<> \")","v":0},{"$f":"IF(AA2073>0, Table1[[#This Row],[Column4]], IF(AB2073>0,Table1[[#This Row],[Column4]],IF(X2073>0,\"1000\")))","v":false}]
[null,null,null,null,null,null,null,null,null,null,null,null,null,null,null,null,0,null,null,null,null,null,null,null,{"$f":"IF(Table1[[#This Row],[Wage differential Bonus                            - NotePay Rate you are bonusing to]]>0, Table1[[#This Row],[Wage differential Bonus                            - NotePay Rate you are bonusing to]]-Table1[[#This Row],[Pay Rate]], \"\")","v":""},{"$f":"IF(Table1[[#This Row],[Wage differential Bonus                            - NotePay Rate you are bonusing to]]>0,Table1[[#This Row],[Bonus Rate]]*Table1[[#This Row],[Hours]],\"\")","v":""},null,null,null,null,null,{"$f":"IF(OR(AH2076>0.001,AH2076<-0.001),Table1[[#This Row],[Employee '#]],\" \")","v":" "},false,{"$f":"SUMIF(Table1[[#This Row],[Total Wage Diff bonus]:[Bank Bonus]],\"<> \")","v":0},{"$f":"IF(AA2076>0, Table1[[#This Row],[Column4]], IF(AB2076>0,Table1[[#This Row],[Column4]],IF(X2076>0,\"1000\")))","v":false}]
[null,null,null,null,null,null,null,null,null,null,null,null,null,null,null,null,0,null,null,null,null,null,null,null,{"$f":"IF(Table1[[#This Row],[Wage differential Bonus                            - NotePay Rate you are bonusing to]]>0, Table1[[#This Row],[Wage differential Bonus                            - NotePay Rate you are bonusing to]]-Table1[[#This Row],[Pay Rate]], \"\")","v":""},{"$f":"IF(Table1[[#This Row],[Wage differential Bonus                            - NotePay Rate you are bonusing to]]>0,Table1[[#This Row],[Bonus Rate]]*Table1[[#This Row],[Hours]],\"\")","v":""},null,null,null,null,null,{"$f":"IF(OR(AH2077>0.001,AH2077<-0.001),Table1[[#This Row],[Employee '#]],\" \")","v":" "},false,{"$f":"SUMIF(Table1[[#This Row],[Total Wage Diff bonus]:[Bank Bonus]],\"<> \")","v":0},{"$f":"IF(AA2077>0, Table1[[#This Row],[Column4]], IF(AB2077>0,Table1[[#This Row],[Column4]],IF(X2077>0,\"1000\")))","v":false}]
[null,null,null,null,null,null,null,null,null,null,null,null,null,null,null,null,0,null,null,null,null,null,null,null,{"$f":"IF(Table1[[#This Row],[Wage differential Bonus                            - NotePay Rate you are bonusing to]]>0, Table1[[#This Row],[Wage differential Bonus                            - NotePay Rate you are bonusing to]]-Table1[[#This Row],[Pay Rate]], \"\")","v":""},{"$f":"IF(Table1[[#This Row],[Wage differential Bonus                            - NotePay Rate you are bonusing to]]>0,Table1[[#This Row],[Bonus Rate]]*Table1[[#This Row],[Hours]],\"\")","v":""},null,null,null,null,null,{"$f":"IF(OR(AH2080>0.001,AH2080<-0.001),Table1[[#This Row],[Employee '#]],\" \")","v":" "},false,{"$f":"SUMIF(Table1[[#This Row],[Total Wage Diff bonus]:[Bank Bonus]],\"<> \")","v":0},{"$f":"IF(AA2080>0, Table1[[#This Row],[Column4]], IF(AB2080>0,Table1[[#This Row],[Column4]],IF(X2080>0,\"1000\")))","v":false}]
[null,null,null,null,null,null,null,null,null,null,null,null,null,null,null,null,0,null,null,null,null,null,null,null,{"$f":"IF(Table1[[#This Row],[Wage differential Bonus                            - NotePay Rate you are bonusing to]]>0, Table1[[#This Row],[Wage differential Bonus                            - NotePay Rate you are bonusing to]]-Table1[[#This Row],[Pay Rate]], \"\")","v":""},{"$f":"IF(Table1[[#This Row],[Wage differential Bonus                            - NotePay Rate you are bonusing to]]>0,Table1[[#This Row],[Bonus Rate]]*Table1[[#This Row],[Hours]],\"\")","v":""},null,null,null,null,null,{"$f":"IF(OR(AH2081>0.001,AH2081<-0.001),Table1[[#This Row],[Employee '#]],\" \")","v":" "},false,{"$f":"SUMIF(Table1[[#This Row],[Total Wage Diff bonus]:[Bank Bonus]],\"<> \")","v":0},{"$f":"IF(AA2081>0, Table1[[#This Row],[Column4]], IF(AB2081>0,Table1[[#This Row],[Column4]],IF(X2081>0,\"1000\")))","v":false}]
[null,null,null,null,null,null,null,null,null,null,null,null,null,null,null,null,0,null,null,null,null,null,null,null,{"$f":"IF(Table1[[#This Row],[Wage differential Bonus                            - NotePay Rate you are bonusing to]]>0, Table1[[#This Row],[Wage differential Bonus                            - NotePay Rate you are bonusing to]]-Table1[[#This Row],[Pay Rate]], \"\")","v":""},{"$f":"IF(Table1[[#This Row],[Wage differential Bonus                            - NotePay Rate you are bonusing to]]>0,Table1[[#This Row],[Bonus Rate]]*Table1[[#This Row],[Hours]],\"\")","v":""},null,null,null,null,null,{"$f":"IF(OR(AH2085>0.001,AH2085<-0.001),Table1[[#This Row],[Employee '#]],\" \")","v":" "},false,{"$f":"SUMIF(Table1[[#This Row],[Total Wage Diff bonus]:[Bank Bonus]],\"<> \")","v":0},{"$f":"IF(AA2085>0, Table1[[#This Row],[Column4]], IF(AB2085>0,Table1[[#This Row],[Column4]],IF(X2085>0,\"1000\")))","v":false}]
[null,null,null,null,null,null,null,null,null,null,null,null,null,null,null,null,0,null,null,null,null,null,null,null,{"$f":"IF(Table1[[#This Row],[Wage differential Bonus                            - NotePay Rate you are bonusing to]]>0, Table1[[#This Row],[Wage differential Bonus                            - NotePay Rate you are bonusing to]]-Table1[[#This Row],[Pay Rate]], \"\")","v":""},{"$f":"IF(Table1[[#This Row],[Wage differential Bonus                            - NotePay Rate you are bonusing to]]>0,Table1[[#This Row],[Bonus Rate]]*Table1[[#This Row],[Hours]],\"\")","v":""},null,null,null,null,null,{"$f":"IF(OR(AH2086>0.001,AH2086<-0.001),Table1[[#This Row],[Employee '#]],\" \")","v":" "},false,{"$f":"SUMIF(Table1[[#This Row],[Total Wage Diff bonus]:[Bank Bonus]],\"<> \")","v":0},{"$f":"IF(AA2086>0, Table1[[#This Row],[Column4]], IF(AB2086>0,Table1[[#This Row],[Column4]],IF(X2086>0,\"1000\")))","v":false}]
[null,null,null,null,null,null,null,null,null,null,null,null,null,null,null,null,0,null,null,null,null,null,null,null,{"$f":"IF(Table1[[#This Row],[Wage differential Bonus                            - NotePay Rate you are bonusing to]]>0, Table1[[#This Row],[Wage differential Bonus                            - NotePay Rate you are bonusing to]]-Table1[[#This Row],[Pay Rate]], \"\")","v":""},{"$f":"IF(Table1[[#This Row],[Wage differential Bonus                            - NotePay Rate you are bonusing to]]>0,Table1[[#This Row],[Bonus Rate]]*Table1[[#This Row],[Hours]],\"\")","v":""},null,null,null,null,null,{"$f":"IF(OR(AH2089>0.001,AH2089<-0.001),Table1[[#This Row],[Employee '#]],\" \")","v":" "},false,{"$f":"SUMIF(Table1[[#This Row],[Total Wage Diff bonus]:[Bank Bonus]],\"<> \")","v":0},{"$f":"IF(AA2089>0, Table1[[#This Row],[Column4]], IF(AB2089>0,Table1[[#This Row],[Column4]],IF(X2089>0,\"1000\")))","v":false}]
[null,null,null,null,null,null,null,null,null,null,null,null,null,null,null,null,0,null,null,null,null,null,null,null,{"$f":"IF(Table1[[#This Row],[Wage differential Bonus                            - NotePay Rate you are bonusing to]]>0, Table1[[#This Row],[Wage differential Bonus                            - NotePay Rate you are bonusing to]]-Table1[[#This Row],[Pay Rate]], \"\")","v":""},{"$f":"IF(Table1[[#This Row],[Wage differential Bonus                            - NotePay Rate you are bonusing to]]>0,Table1[[#This Row],[Bonus Rate]]*Table1[[#This Row],[Hours]],\"\")","v":""},null,null,null,null,null,{"$f":"IF(OR(AH2091>0.001,AH2091<-0.001),Table1[[#This Row],[Employee '#]],\" \")","v":" "},false,{"$f":"SUMIF(Table1[[#This Row],[Total Wage Diff bonus]:[Bank Bonus]],\"<> \")","v":0},{"$f":"IF(AA2091>0, Table1[[#This Row],[Column4]], IF(AB2091>0,Table1[[#This Row],[Column4]],IF(X2091>0,\"1000\")))","v":false}]
[null,null,null,null,null,null,null,null,null,null,null,null,null,null,null,null,0,null,null,null,null,null,null,null,{"$f":"IF(Table1[[#This Row],[Wage differential Bonus                            - NotePay Rate you are bonusing to]]>0, Table1[[#This Row],[Wage differential Bonus                            - NotePay Rate you are bonusing to]]-Table1[[#This Row],[Pay Rate]], \"\")","v":""},{"$f":"IF(Table1[[#This Row],[Wage differential Bonus                            - NotePay Rate you are bonusing to]]>0,Table1[[#This Row],[Bonus Rate]]*Table1[[#This Row],[Hours]],\"\")","v":""},null,null,null,null,null,{"$f":"IF(OR(AH2094>0.001,AH2094<-0.001),Table1[[#This Row],[Employee '#]],\" \")","v":" "},false,{"$f":"SUMIF(Table1[[#This Row],[Total Wage Diff bonus]:[Bank Bonus]],\"<> \")","v":0},{"$f":"IF(AA2094>0, Table1[[#This Row],[Column4]], IF(AB2094>0,Table1[[#This Row],[Column4]],IF(X2094>0,\"1000\")))","v":false}]
[null,null,null,null,null,null,null,null,null,null,null,null,null,null,null,null,0,null,null,null,null,null,null,null,{"$f":"IF(Table1[[#This Row],[Wage differential Bonus                            - NotePay Rate you are bonusing to]]>0, Table1[[#This Row],[Wage differential Bonus                            - NotePay Rate you are bonusing to]]-Table1[[#This Row],[Pay Rate]], \"\")","v":""},{"$f":"IF(Table1[[#This Row],[Wage differential Bonus                            - NotePay Rate you are bonusing to]]>0,Table1[[#This Row],[Bonus Rate]]*Table1[[#This Row],[Hours]],\"\")","v":""},null,null,null,null,null,{"$f":"IF(OR(AH2095>0.001,AH2095<-0.001),Table1[[#This Row],[Employee '#]],\" \")","v":" "},false,{"$f":"SUMIF(Table1[[#This Row],[Total Wage Diff bonus]:[Bank Bonus]],\"<> \")","v":0},{"$f":"IF(AA2095>0, Table1[[#This Row],[Column4]], IF(AB2095>0,Table1[[#This Row],[Column4]],IF(X2095>0,\"1000\")))","v":false}]
[null,null,null,null,null,null,null,null,null,null,null,null,null,null,null,null,0,null,null,null,null,null,null,null,{"$f":"IF(Table1[[#This Row],[Wage differential Bonus                            - NotePay Rate you are bonusing to]]>0, Table1[[#This Row],[Wage differential Bonus                            - NotePay Rate you are bonusing to]]-Table1[[#This Row],[Pay Rate]], \"\")","v":""},{"$f":"IF(Table1[[#This Row],[Wage differential Bonus                            - NotePay Rate you are bonusing to]]>0,Table1[[#This Row],[Bonus Rate]]*Table1[[#This Row],[Hours]],\"\")","v":""},null,null,null,null,null,{"$f":"IF(OR(AH2099>0.001,AH2099<-0.001),Table1[[#This Row],[Employee '#]],\" \")","v":" "},false,{"$f":"SUMIF(Table1[[#This Row],[Total Wage Diff bonus]:[Bank Bonus]],\"<> \")","v":0},{"$f":"IF(AA2099>0, Table1[[#This Row],[Column4]], IF(AB2099>0,Table1[[#This Row],[Column4]],IF(X2099>0,\"1000\")))","v":false}]
[null,null,null,null,null,null,null,null,null,null,null,null,null,null,null,null,0,null,null,null,null,null,null,null,{"$f":"IF(Table1[[#This Row],[Wage differential Bonus                            - NotePay Rate you are bonusing to]]>0, Table1[[#This Row],[Wage differential Bonus                            - NotePay Rate you are bonusing to]]-Table1[[#This Row],[Pay Rate]], \"\")","v":""},{"$f":"IF(Table1[[#This Row],[Wage differential Bonus                            - NotePay Rate you are bonusing to]]>0,Table1[[#This Row],[Bonus Rate]]*Table1[[#This Row],[Hours]],\"\")","v":""},null,null,null,null,null,{"$f":"IF(OR(AH2100>0.001,AH2100<-0.001),Table1[[#This Row],[Employee '#]],\" \")","v":" "},false,{"$f":"SUMIF(Table1[[#This Row],[Total Wage Diff bonus]:[Bank Bonus]],\"<> \")","v":0},{"$f":"IF(AA2100>0, Table1[[#This Row],[Column4]], IF(AB2100>0,Table1[[#This Row],[Column4]],IF(X2100>0,\"1000\")))","v":false}]
[null,null,null,null,null,null,null,null,null,null,null,null,null,null,null,null,0,null,null,null,null,null,null,null,{"$f":"IF(Table1[[#This Row],[Wage differential Bonus                            - NotePay Rate you are bonusing to]]>0, Table1[[#This Row],[Wage differential Bonus                            - NotePay Rate you are bonusing to]]-Table1[[#This Row],[Pay Rate]], \"\")","v":""},{"$f":"IF(Table1[[#This Row],[Wage differential Bonus                            - NotePay Rate you are bonusing to]]>0,Table1[[#This Row],[Bonus Rate]]*Table1[[#This Row],[Hours]],\"\")","v":""},null,null,null,null,null,{"$f":"IF(OR(AH2103>0.001,AH2103<-0.001),Table1[[#This Row],[Employee '#]],\" \")","v":" "},false,{"$f":"SUMIF(Table1[[#This Row],[Total Wage Diff bonus]:[Bank Bonus]],\"<> \")","v":0},{"$f":"IF(AA2103>0, Table1[[#This Row],[Column4]], IF(AB2103>0,Table1[[#This Row],[Column4]],IF(X2103>0,\"1000\")))","v":false}]
[null,null,null,null,null,null,null,null,null,null,null,null,null,null,null,null,0,null,null,null,null,null,null,null,{"$f":"IF(Table1[[#This Row],[Wage differential Bonus                            - NotePay Rate you are bonusing to]]>0, Table1[[#This Row],[Wage differential Bonus                            - NotePay Rate you are bonusing to]]-Table1[[#This Row],[Pay Rate]], \"\")","v":""},{"$f":"IF(Table1[[#This Row],[Wage differential Bonus                            - NotePay Rate you are bonusing to]]>0,Table1[[#This Row],[Bonus Rate]]*Table1[[#This Row],[Hours]],\"\")","v":""},null,null,null,null,null,{"$f":"IF(OR(AH2104>0.001,AH2104<-0.001),Table1[[#This Row],[Employee '#]],\" \")","v":" "},false,{"$f":"SUMIF(Table1[[#This Row],[Total Wage Diff bonus]:[Bank Bonus]],\"<> \")","v":0},{"$f":"IF(AA2104>0, Table1[[#This Row],[Column4]], IF(AB2104>0,Table1[[#This Row],[Column4]],IF(X2104>0,\"1000\")))","v":false}]
[null,null,null,null,null,null,null,null,null,null,null,null,null,null,null,null,0,null,null,null,null,null,null,null,{"$f":"IF(Table1[[#This Row],[Wage differential Bonus                            - NotePay Rate you are bonusing to]]>0, Table1[[#This Row],[Wage differential Bonus                            - NotePay Rate you are bonusing to]]-Table1[[#This Row],[Pay Rate]], \"\")","v":""},{"$f":"IF(Table1[[#This Row],[Wage differential Bonus                            - NotePay Rate you are bonusing to]]>0,Table1[[#This Row],[Bonus Rate]]*Table1[[#This Row],[Hours]],\"\")","v":""},null,null,null,null,null,{"$f":"IF(OR(AH2107>0.001,AH2107<-0.001),Table1[[#This Row],[Employee '#]],\" \")","v":" "},false,{"$f":"SUMIF(Table1[[#This Row],[Total Wage Diff bonus]:[Bank Bonus]],\"<> \")","v":0},{"$f":"IF(AA2107>0, Table1[[#This Row],[Column4]], IF(AB2107>0,Table1[[#This Row],[Column4]],IF(X2107>0,\"1000\")))","v":false}]
[null,null,null,null,null,null,null,null,null,null,null,null,null,null,null,null,0,null,null,null,null,null,null,null,{"$f":"IF(Table1[[#This Row],[Wage differential Bonus                            - NotePay Rate you are bonusing to]]>0, Table1[[#This Row],[Wage differential Bonus                            - NotePay Rate you are bonusing to]]-Table1[[#This Row],[Pay Rate]], \"\")","v":""},{"$f":"IF(Table1[[#This Row],[Wage differential Bonus                            - NotePay Rate you are bonusing to]]>0,Table1[[#This Row],[Bonus Rate]]*Table1[[#This Row],[Hours]],\"\")","v":""},null,null,null,null,null,{"$f":"IF(OR(AH2109>0.001,AH2109<-0.001),Table1[[#This Row],[Employee '#]],\" \")","v":" "},false,{"$f":"SUMIF(Table1[[#This Row],[Total Wage Diff bonus]:[Bank Bonus]],\"<> \")","v":0},{"$f":"IF(AA2109>0, Table1[[#This Row],[Column4]], IF(AB2109>0,Table1[[#This Row],[Column4]],IF(X2109>0,\"1000\")))","v":false}]
[null,null,null,null,null,null,null,null,null,null,null,null,null,null,null,null,0,null,null,null,null,null,null,null,{"$f":"IF(Table1[[#This Row],[Wage differential Bonus                            - NotePay Rate you are bonusing to]]>0, Table1[[#This Row],[Wage differential Bonus                            - NotePay Rate you are bonusing to]]-Table1[[#This Row],[Pay Rate]], \"\")","v":""},{"$f":"IF(Table1[[#This Row],[Wage differential Bonus                            - NotePay Rate you are bonusing to]]>0,Table1[[#This Row],[Bonus Rate]]*Table1[[#This Row],[Hours]],\"\")","v":""},null,null,null,null,null,{"$f":"IF(OR(AH2112>0.001,AH2112<-0.001),Table1[[#This Row],[Employee '#]],\" \")","v":" "},false,{"$f":"SUMIF(Table1[[#This Row],[Total Wage Diff bonus]:[Bank Bonus]],\"<> \")","v":0},{"$f":"IF(AA2112>0, Table1[[#This Row],[Column4]], IF(AB2112>0,Table1[[#This Row],[Column4]],IF(X2112>0,\"1000\")))","v":false}]
[null,null,null,null,null,null,null,null,null,null,null,null,null,null,null,null,0,null,null,null,null,null,null,null,{"$f":"IF(Table1[[#This Row],[Wage differential Bonus                            - NotePay Rate you are bonusing to]]>0, Table1[[#This Row],[Wage differential Bonus                            - NotePay Rate you are bonusing to]]-Table1[[#This Row],[Pay Rate]], \"\")","v":""},{"$f":"IF(Table1[[#This Row],[Wage differential Bonus                            - NotePay Rate you are bonusing to]]>0,Table1[[#This Row],[Bonus Rate]]*Table1[[#This Row],[Hours]],\"\")","v":""},null,null,null,null,null,{"$f":"IF(OR(AH2113>0.001,AH2113<-0.001),Table1[[#This Row],[Employee '#]],\" \")","v":" "},false,{"$f":"SUMIF(Table1[[#This Row],[Total Wage Diff bonus]:[Bank Bonus]],\"<> \")","v":0},{"$f":"IF(AA2113>0, Table1[[#This Row],[Column4]], IF(AB2113>0,Table1[[#This Row],[Column4]],IF(X2113>0,\"1000\")))","v":false}]
[null,null,null,null,null,null,null,null,null,null,null,null,null,null,null,null,0,null,null,null,null,null,null,null,{"$f":"IF(Table1[[#This Row],[Wage differential Bonus                            - NotePay Rate you are bonusing to]]>0, Table1[[#This Row],[Wage differential Bonus                            - NotePay Rate you are bonusing to]]-Table1[[#This Row],[Pay Rate]], \"\")","v":""},{"$f":"IF(Table1[[#This Row],[Wage differential Bonus                            - NotePay Rate you are bonusing to]]>0,Table1[[#This Row],[Bonus Rate]]*Table1[[#This Row],[Hours]],\"\")","v":""},null,null,null,null,null,{"$f":"IF(OR(AH2117>0.001,AH2117<-0.001),Table1[[#This Row],[Employee '#]],\" \")","v":" "},false,{"$f":"SUMIF(Table1[[#This Row],[Total Wage Diff bonus]:[Bank Bonus]],\"<> \")","v":0},{"$f":"IF(AA2117>0, Table1[[#This Row],[Column4]], IF(AB2117>0,Table1[[#This Row],[Column4]],IF(X2117>0,\"1000\")))","v":false}]
[null,null,null,null,null,null,null,null,null,null,null,null,null,null,null,null,0,null,null,null,null,null,null,null,{"$f":"IF(Table1[[#This Row],[Wage differential Bonus                            - NotePay Rate you are bonusing to]]>0, Table1[[#This Row],[Wage differential Bonus                            - NotePay Rate you are bonusing to]]-Table1[[#This Row],[Pay Rate]], \"\")","v":""},{"$f":"IF(Table1[[#This Row],[Wage differential Bonus                            - NotePay Rate you are bonusing to]]>0,Table1[[#This Row],[Bonus Rate]]*Table1[[#This Row],[Hours]],\"\")","v":""},null,null,null,null,null,{"$f":"IF(OR(AH2118>0.001,AH2118<-0.001),Table1[[#This Row],[Employee '#]],\" \")","v":" "},false,{"$f":"SUMIF(Table1[[#This Row],[Total Wage Diff bonus]:[Bank Bonus]],\"<> \")","v":0},{"$f":"IF(AA2118>0, Table1[[#This Row],[Column4]], IF(AB2118>0,Table1[[#This Row],[Column4]],IF(X2118>0,\"1000\")))","v":false}]
[null,null,null,null,null,null,null,null,null,null,null,null,null,null,null,null,0,null,null,null,null,null,null,null,{"$f":"IF(Table1[[#This Row],[Wage differential Bonus                            - NotePay Rate you are bonusing to]]>0, Table1[[#This Row],[Wage differential Bonus                            - NotePay Rate you are bonusing to]]-Table1[[#This Row],[Pay Rate]], \"\")","v":""},{"$f":"IF(Table1[[#This Row],[Wage differential Bonus                            - NotePay Rate you are bonusing to]]>0,Table1[[#This Row],[Bonus Rate]]*Table1[[#This Row],[Hours]],\"\")","v":""},null,null,null,null,null,{"$f":"IF(OR(AH2121>0.001,AH2121<-0.001),Table1[[#This Row],[Employee '#]],\" \")","v":" "},false,{"$f":"SUMIF(Table1[[#This Row],[Total Wage Diff bonus]:[Bank Bonus]],\"<> \")","v":0},{"$f":"IF(AA2121>0, Table1[[#This Row],[Column4]], IF(AB2121>0,Table1[[#This Row],[Column4]],IF(X2121>0,\"1000\")))","v":false}]
[null,null,null,null,null,null,null,null,null,null,null,null,null,null,null,null,0,null,null,null,null,null,null,null,{"$f":"IF(Table1[[#This Row],[Wage differential Bonus                            - NotePay Rate you are bonusing to]]>0, Table1[[#This Row],[Wage differential Bonus                            - NotePay Rate you are bonusing to]]-Table1[[#This Row],[Pay Rate]], \"\")","v":""},{"$f":"IF(Table1[[#This Row],[Wage differential Bonus                            - NotePay Rate you are bonusing to]]>0,Table1[[#This Row],[Bonus Rate]]*Table1[[#This Row],[Hours]],\"\")","v":""},null,null,null,null,null,{"$f":"IF(OR(AH2122>0.001,AH2122<-0.001),Table1[[#This Row],[Employee '#]],\" \")","v":" "},false,{"$f":"SUMIF(Table1[[#This Row],[Total Wage Diff bonus]:[Bank Bonus]],\"<> \")","v":0},{"$f":"IF(AA2122>0, Table1[[#This Row],[Column4]], IF(AB2122>0,Table1[[#This Row],[Column4]],IF(X2122>0,\"1000\")))","v":false}]
[null,null,null,null,null,null,null,null,null,null,null,null,null,null,null,null,0,null,null,null,null,null,null,null,{"$f":"IF(Table1[[#This Row],[Wage differential Bonus                            - NotePay Rate you are bonusing to]]>0, Table1[[#This Row],[Wage differential Bonus                            - NotePay Rate you are bonusing to]]-Table1[[#This Row],[Pay Rate]], \"\")","v":""},{"$f":"IF(Table1[[#This Row],[Wage differential Bonus                            - NotePay Rate you are bonusing to]]>0,Table1[[#This Row],[Bonus Rate]]*Table1[[#This Row],[Hours]],\"\")","v":""},null,null,null,null,null,{"$f":"IF(OR(AH2125>0.001,AH2125<-0.001),Table1[[#This Row],[Employee '#]],\" \")","v":" "},false,{"$f":"SUMIF(Table1[[#This Row],[Total Wage Diff bonus]:[Bank Bonus]],\"<> \")","v":0},{"$f":"IF(AA2125>0, Table1[[#This Row],[Column4]], IF(AB2125>0,Table1[[#This Row],[Column4]],IF(X2125>0,\"1000\")))","v":false}]
[null,null,null,null,null,null,null,null,null,null,null,null,null,null,null,null,0,null,null,null,null,null,null,null,{"$f":"IF(Table1[[#This Row],[Wage differential Bonus                            - NotePay Rate you are bonusing to]]>0, Table1[[#This Row],[Wage differential Bonus                            - NotePay Rate you are bonusing to]]-Table1[[#This Row],[Pay Rate]], \"\")","v":""},{"$f":"IF(Table1[[#This Row],[Wage differential Bonus                            - NotePay Rate you are bonusing to]]>0,Table1[[#This Row],[Bonus Rate]]*Table1[[#This Row],[Hours]],\"\")","v":""},null,null,null,null,null,{"$f":"IF(OR(AH2127>0.001,AH2127<-0.001),Table1[[#This Row],[Employee '#]],\" \")","v":" "},false,{"$f":"SUMIF(Table1[[#This Row],[Total Wage Diff bonus]:[Bank Bonus]],\"<> \")","v":0},{"$f":"IF(AA2127>0, Table1[[#This Row],[Column4]], IF(AB2127>0,Table1[[#This Row],[Column4]],IF(X2127>0,\"1000\")))","v":false}]
[null,null,null,null,null,null,null,null,null,null,null,null,null,null,null,null,0,null,null,null,null,null,null,null,{"$f":"IF(Table1[[#This Row],[Wage differential Bonus                            - NotePay Rate you are bonusing to]]>0, Table1[[#This Row],[Wage differential Bonus                            - NotePay Rate you are bonusing to]]-Table1[[#This Row],[Pay Rate]], \"\")","v":""},{"$f":"IF(Table1[[#This Row],[Wage differential Bonus                            - NotePay Rate you are bonusing to]]>0,Table1[[#This Row],[Bonus Rate]]*Table1[[#This Row],[Hours]],\"\")","v":""},null,null,null,null,null,{"$f":"IF(OR(AH2130>0.001,AH2130<-0.001),Table1[[#This Row],[Employee '#]],\" \")","v":" "},false,{"$f":"SUMIF(Table1[[#This Row],[Total Wage Diff bonus]:[Bank Bonus]],\"<> \")","v":0},{"$f":"IF(AA2130>0, Table1[[#This Row],[Column4]], IF(AB2130>0,Table1[[#This Row],[Column4]],IF(X2130>0,\"1000\")))","v":false}]
[null,null,null,null,null,null,null,null,null,null,null,null,null,null,null,null,0,null,null,null,null,null,null,null,{"$f":"IF(Table1[[#This Row],[Wage differential Bonus                            - NotePay Rate you are bonusing to]]>0, Table1[[#This Row],[Wage differential Bonus                            - NotePay Rate you are bonusing to]]-Table1[[#This Row],[Pay Rate]], \"\")","v":""},{"$f":"IF(Table1[[#This Row],[Wage differential Bonus                            - NotePay Rate you are bonusing to]]>0,Table1[[#This Row],[Bonus Rate]]*Table1[[#This Row],[Hours]],\"\")","v":""},null,null,null,null,null,{"$f":"IF(OR(AH2133>0.001,AH2133<-0.001),Table1[[#This Row],[Employee '#]],\" \")","v":" "},false,{"$f":"SUMIF(Table1[[#This Row],[Total Wage Diff bonus]:[Bank Bonus]],\"<> \")","v":0},{"$f":"IF(AA2133>0, Table1[[#This Row],[Column4]], IF(AB2133>0,Table1[[#This Row],[Column4]],IF(X2133>0,\"1000\")))","v":false}]
[null,null,null,null,null,null,null,null,null,null,null,null,null,null,null,null,0,null,null,null,null,null,null,null,{"$f":"IF(Table1[[#This Row],[Wage differential Bonus                            - NotePay Rate you are bonusing to]]>0, Table1[[#This Row],[Wage differential Bonus                            - NotePay Rate you are bonusing to]]-Table1[[#This Row],[Pay Rate]], \"\")","v":""},{"$f":"IF(Table1[[#This Row],[Wage differential Bonus                            - NotePay Rate you are bonusing to]]>0,Table1[[#This Row],[Bonus Rate]]*Table1[[#This Row],[Hours]],\"\")","v":""},null,null,null,null,null,{"$f":"IF(OR(AH2135>0.001,AH2135<-0.001),Table1[[#This Row],[Employee '#]],\" \")","v":" "},false,{"$f":"SUMIF(Table1[[#This Row],[Total Wage Diff bonus]:[Bank Bonus]],\"<> \")","v":0},{"$f":"IF(AA2135>0, Table1[[#This Row],[Column4]], IF(AB2135>0,Table1[[#This Row],[Column4]],IF(X2135>0,\"1000\")))","v":false}]
[null,null,null,null,null,null,null,null,null,null,null,null,null,null,null,null,0,null,null,null,null,null,null,null,{"$f":"IF(Table1[[#This Row],[Wage differential Bonus                            - NotePay Rate you are bonusing to]]>0, Table1[[#This Row],[Wage differential Bonus                            - NotePay Rate you are bonusing to]]-Table1[[#This Row],[Pay Rate]], \"\")","v":""},{"$f":"IF(Table1[[#This Row],[Wage differential Bonus                            - NotePay Rate you are bonusing to]]>0,Table1[[#This Row],[Bonus Rate]]*Table1[[#This Row],[Hours]],\"\")","v":""},null,null,null,null,null,{"$f":"IF(OR(AH2136>0.001,AH2136<-0.001),Table1[[#This Row],[Employee '#]],\" \")","v":" "},false,{"$f":"SUMIF(Table1[[#This Row],[Total Wage Diff bonus]:[Bank Bonus]],\"<> \")","v":0},{"$f":"IF(AA2136>0, Table1[[#This Row],[Column4]], IF(AB2136>0,Table1[[#This Row],[Column4]],IF(X2136>0,\"1000\")))","v":false}]
[null,null,null,null,null,null,null,null,null,null,null,null,null,null,null,null,0,null,null,null,null,null,null,null,{"$f":"IF(Table1[[#This Row],[Wage differential Bonus                            - NotePay Rate you are bonusing to]]>0, Table1[[#This Row],[Wage differential Bonus                            - NotePay Rate you are bonusing to]]-Table1[[#This Row],[Pay Rate]], \"\")","v":""},{"$f":"IF(Table1[[#This Row],[Wage differential Bonus                            - NotePay Rate you are bonusing to]]>0,Table1[[#This Row],[Bonus Rate]]*Table1[[#This Row],[Hours]],\"\")","v":""},null,null,null,null,null,{"$f":"IF(OR(AH2139>0.001,AH2139<-0.001),Table1[[#This Row],[Employee '#]],\" \")","v":" "},false,{"$f":"SUMIF(Table1[[#This Row],[Total Wage Diff bonus]:[Bank Bonus]],\"<> \")","v":0},{"$f":"IF(AA2139>0, Table1[[#This Row],[Column4]], IF(AB2139>0,Table1[[#This Row],[Column4]],IF(X2139>0,\"1000\")))","v":false}]
[null,null,null,null,null,null,null,null,null,null,null,null,null,null,null,null,0,null,null,null,null,null,null,null,{"$f":"IF(Table1[[#This Row],[Wage differential Bonus                            - NotePay Rate you are bonusing to]]>0, Table1[[#This Row],[Wage differential Bonus                            - NotePay Rate you are bonusing to]]-Table1[[#This Row],[Pay Rate]], \"\")","v":""},{"$f":"IF(Table1[[#This Row],[Wage differential Bonus                            - NotePay Rate you are bonusing to]]>0,Table1[[#This Row],[Bonus Rate]]*Table1[[#This Row],[Hours]],\"\")","v":""},null,null,null,null,null,{"$f":"IF(OR(AH2141>0.001,AH2141<-0.001),Table1[[#This Row],[Employee '#]],\" \")","v":" "},false,{"$f":"SUMIF(Table1[[#This Row],[Total Wage Diff bonus]:[Bank Bonus]],\"<> \")","v":0},{"$f":"IF(AA2141>0, Table1[[#This Row],[Column4]], IF(AB2141>0,Table1[[#This Row],[Column4]],IF(X2141>0,\"1000\")))","v":false}]
[null,null,null,null,null,null,null,null,null,null,null,null,null,null,null,null,0,null,null,null,null,null,null,null,{"$f":"IF(Table1[[#This Row],[Wage differential Bonus                            - NotePay Rate you are bonusing to]]>0, Table1[[#This Row],[Wage differential Bonus                            - NotePay Rate you are bonusing to]]-Table1[[#This Row],[Pay Rate]], \"\")","v":""},{"$f":"IF(Table1[[#This Row],[Wage differential Bonus                            - NotePay Rate you are bonusing to]]>0,Table1[[#This Row],[Bonus Rate]]*Table1[[#This Row],[Hours]],\"\")","v":""},null,null,null,null,null,{"$f":"IF(OR(AH2144>0.001,AH2144<-0.001),Table1[[#This Row],[Employee '#]],\" \")","v":" "},false,{"$f":"SUMIF(Table1[[#This Row],[Total Wage Diff bonus]:[Bank Bonus]],\"<> \")","v":0},{"$f":"IF(AA2144>0, Table1[[#This Row],[Column4]], IF(AB2144>0,Table1[[#This Row],[Column4]],IF(X2144>0,\"1000\")))","v":false}]
[null,null,null,null,null,null,null,null,null,null,null,null,null,null,null,null,0,null,null,null,null,null,null,null,{"$f":"IF(Table1[[#This Row],[Wage differential Bonus                            - NotePay Rate you are bonusing to]]>0, Table1[[#This Row],[Wage differential Bonus                            - NotePay Rate you are bonusing to]]-Table1[[#This Row],[Pay Rate]], \"\")","v":""},{"$f":"IF(Table1[[#This Row],[Wage differential Bonus                            - NotePay Rate you are bonusing to]]>0,Table1[[#This Row],[Bonus Rate]]*Table1[[#This Row],[Hours]],\"\")","v":""},null,null,null,null,null,{"$f":"IF(OR(AH2145>0.001,AH2145<-0.001),Table1[[#This Row],[Employee '#]],\" \")","v":" "},false,{"$f":"SUMIF(Table1[[#This Row],[Total Wage Diff bonus]:[Bank Bonus]],\"<> \")","v":0},{"$f":"IF(AA2145>0, Table1[[#This Row],[Column4]], IF(AB2145>0,Table1[[#This Row],[Column4]],IF(X2145>0,\"1000\")))","v":false}]
[null,null,null,null,null,null,null,null,null,null,null,null,null,null,null,null,0,null,null,null,null,null,null,null,{"$f":"IF(Table1[[#This Row],[Wage differential Bonus                            - NotePay Rate you are bonusing to]]>0, Table1[[#This Row],[Wage differential Bonus                            - NotePay Rate you are bonusing to]]-Table1[[#This Row],[Pay Rate]], \"\")","v":""},{"$f":"IF(Table1[[#This Row],[Wage differential Bonus                            - NotePay Rate you are bonusing to]]>0,Table1[[#This Row],[Bonus Rate]]*Table1[[#This Row],[Hours]],\"\")","v":""},null,null,null,null,null,{"$f":"IF(OR(AH2148>0.001,AH2148<-0.001),Table1[[#This Row],[Employee '#]],\" \")","v":" "},false,{"$f":"SUMIF(Table1[[#This Row],[Total Wage Diff bonus]:[Bank Bonus]],\"<> \")","v":0},{"$f":"IF(AA2148>0, Table1[[#This Row],[Column4]], IF(AB2148>0,Table1[[#This Row],[Column4]],IF(X2148>0,\"1000\")))","v":false}]
[null,null,null,null,null,null,null,null,null,null,null,null,null,null,null,null,0,null,null,null,null,null,null,null,{"$f":"IF(Table1[[#This Row],[Wage differential Bonus                            - NotePay Rate you are bonusing to]]>0, Table1[[#This Row],[Wage differential Bonus                            - NotePay Rate you are bonusing to]]-Table1[[#This Row],[Pay Rate]], \"\")","v":""},{"$f":"IF(Table1[[#This Row],[Wage differential Bonus                            - NotePay Rate you are bonusing to]]>0,Table1[[#This Row],[Bonus Rate]]*Table1[[#This Row],[Hours]],\"\")","v":""},null,null,null,null,null,{"$f":"IF(OR(AH2151>0.001,AH2151<-0.001),Table1[[#This Row],[Employee '#]],\" \")","v":" "},false,{"$f":"SUMIF(Table1[[#This Row],[Total Wage Diff bonus]:[Bank Bonus]],\"<> \")","v":0},{"$f":"IF(AA2151>0, Table1[[#This Row],[Column4]], IF(AB2151>0,Table1[[#This Row],[Column4]],IF(X2151>0,\"1000\")))","v":false}]
[null,null,null,null,null,null,null,null,null,null,null,null,null,null,null,null,0,null,null,null,null,null,null,null,{"$f":"IF(Table1[[#This Row],[Wage differential Bonus                            - NotePay Rate you are bonusing to]]>0, Table1[[#This Row],[Wage differential Bonus                            - NotePay Rate you are bonusing to]]-Table1[[#This Row],[Pay Rate]], \"\")","v":""},{"$f":"IF(Table1[[#This Row],[Wage differential Bonus                            - NotePay Rate you are bonusing to]]>0,Table1[[#This Row],[Bonus Rate]]*Table1[[#This Row],[Hours]],\"\")","v":""},null,null,null,null,null,{"$f":"IF(OR(AH2153>0.001,AH2153<-0.001),Table1[[#This Row],[Employee '#]],\" \")","v":" "},false,{"$f":"SUMIF(Table1[[#This Row],[Total Wage Diff bonus]:[Bank Bonus]],\"<> \")","v":0},{"$f":"IF(AA2153>0, Table1[[#This Row],[Column4]], IF(AB2153>0,Table1[[#This Row],[Column4]],IF(X2153>0,\"1000\")))","v":false}]
[null,null,null,null,null,null,null,null,null,null,null,null,null,null,null,null,0,null,null,null,null,null,null,null,{"$f":"IF(Table1[[#This Row],[Wage differential Bonus                            - NotePay Rate you are bonusing to]]>0, Table1[[#This Row],[Wage differential Bonus                            - NotePay Rate you are bonusing to]]-Table1[[#This Row],[Pay Rate]], \"\")","v":""},{"$f":"IF(Table1[[#This Row],[Wage differential Bonus                            - NotePay Rate you are bonusing to]]>0,Table1[[#This Row],[Bonus Rate]]*Table1[[#This Row],[Hours]],\"\")","v":""},null,null,null,null,null,{"$f":"IF(OR(AH2154>0.001,AH2154<-0.001),Table1[[#This Row],[Employee '#]],\" \")","v":" "},false,{"$f":"SUMIF(Table1[[#This Row],[Total Wage Diff bonus]:[Bank Bonus]],\"<> \")","v":0},{"$f":"IF(AA2154>0, Table1[[#This Row],[Column4]], IF(AB2154>0,Table1[[#This Row],[Column4]],IF(X2154>0,\"1000\")))","v":false}]
[null,null,null,null,null,null,null,null,null,null,null,null,null,null,null,null,0,null,null,null,null,null,null,null,{"$f":"IF(Table1[[#This Row],[Wage differential Bonus                            - NotePay Rate you are bonusing to]]>0, Table1[[#This Row],[Wage differential Bonus                            - NotePay Rate you are bonusing to]]-Table1[[#This Row],[Pay Rate]], \"\")","v":""},{"$f":"IF(Table1[[#This Row],[Wage differential Bonus                            - NotePay Rate you are bonusing to]]>0,Table1[[#This Row],[Bonus Rate]]*Table1[[#This Row],[Hours]],\"\")","v":""},null,null,null,null,null,{"$f":"IF(OR(AH2157>0.001,AH2157<-0.001),Table1[[#This Row],[Employee '#]],\" \")","v":" "},false,{"$f":"SUMIF(Table1[[#This Row],[Total Wage Diff bonus]:[Bank Bonus]],\"<> \")","v":0},{"$f":"IF(AA2157>0, Table1[[#This Row],[Column4]], IF(AB2157>0,Table1[[#This Row],[Column4]],IF(X2157>0,\"1000\")))","v":false}]
[null,null,null,null,null,null,null,null,null,null,null,null,null,null,null,null,0,null,null,null,null,null,null,null,{"$f":"IF(Table1[[#This Row],[Wage differential Bonus                            - NotePay Rate you are bonusing to]]>0, Table1[[#This Row],[Wage differential Bonus                            - NotePay Rate you are bonusing to]]-Table1[[#This Row],[Pay Rate]], \"\")","v":""},{"$f":"IF(Table1[[#This Row],[Wage differential Bonus                            - NotePay Rate you are bonusing to]]>0,Table1[[#This Row],[Bonus Rate]]*Table1[[#This Row],[Hours]],\"\")","v":""},null,null,null,null,null,{"$f":"IF(OR(AH2159>0.001,AH2159<-0.001),Table1[[#This Row],[Employee '#]],\" \")","v":" "},false,{"$f":"SUMIF(Table1[[#This Row],[Total Wage Diff bonus]:[Bank Bonus]],\"<> \")","v":0},{"$f":"IF(AA2159>0, Table1[[#This Row],[Column4]], IF(AB2159>0,Table1[[#This Row],[Column4]],IF(X2159>0,\"1000\")))","v":false}]
[null,null,null,null,null,null,null,null,null,null,null,null,null,null,null,null,0,null,null,null,null,null,null,null,{"$f":"IF(Table1[[#This Row],[Wage differential Bonus                            - NotePay Rate you are bonusing to]]>0, Table1[[#This Row],[Wage differential Bonus                            - NotePay Rate you are bonusing to]]-Table1[[#This Row],[Pay Rate]], \"\")","v":""},{"$f":"IF(Table1[[#This Row],[Wage differential Bonus                            - NotePay Rate you are bonusing to]]>0,Table1[[#This Row],[Bonus Rate]]*Table1[[#This Row],[Hours]],\"\")","v":""},null,null,null,null,null,{"$f":"IF(OR(AH2162>0.001,AH2162<-0.001),Table1[[#This Row],[Employee '#]],\" \")","v":" "},false,{"$f":"SUMIF(Table1[[#This Row],[Total Wage Diff bonus]:[Bank Bonus]],\"<> \")","v":0},{"$f":"IF(AA2162>0, Table1[[#This Row],[Column4]], IF(AB2162>0,Table1[[#This Row],[Column4]],IF(X2162>0,\"1000\")))","v":false}]
[null,null,null,null,null,null,null,null,null,null,null,null,null,null,null,null,0,null,null,null,null,null,null,null,{"$f":"IF(Table1[[#This Row],[Wage differential Bonus                            - NotePay Rate you are bonusing to]]>0, Table1[[#This Row],[Wage differential Bonus                            - NotePay Rate you are bonusing to]]-Table1[[#This Row],[Pay Rate]], \"\")","v":""},{"$f":"IF(Table1[[#This Row],[Wage differential Bonus                            - NotePay Rate you are bonusing to]]>0,Table1[[#This Row],[Bonus Rate]]*Table1[[#This Row],[Hours]],\"\")","v":""},null,null,null,null,null,{"$f":"IF(OR(AH2163>0.001,AH2163<-0.001),Table1[[#This Row],[Employee '#]],\" \")","v":" "},false,{"$f":"SUMIF(Table1[[#This Row],[Total Wage Diff bonus]:[Bank Bonus]],\"<> \")","v":0},{"$f":"IF(AA2163>0, Table1[[#This Row],[Column4]], IF(AB2163>0,Table1[[#This Row],[Column4]],IF(X2163>0,\"1000\")))","v":false}]
[null,null,null,null,null,null,null,null,null,null,null,null,null,null,null,null,0,null,null,null,null,null,null,null,{"$f":"IF(Table1[[#This Row],[Wage differential Bonus                            - NotePay Rate you are bonusing to]]>0, Table1[[#This Row],[Wage differential Bonus                            - NotePay Rate you are bonusing to]]-Table1[[#This Row],[Pay Rate]], \"\")","v":""},{"$f":"IF(Table1[[#This Row],[Wage differential Bonus                            - NotePay Rate you are bonusing to]]>0,Table1[[#This Row],[Bonus Rate]]*Table1[[#This Row],[Hours]],\"\")","v":""},null,null,null,null,null,{"$f":"IF(OR(AH2166>0.001,AH2166<-0.001),Table1[[#This Row],[Employee '#]],\" \")","v":" "},false,{"$f":"SUMIF(Table1[[#This Row],[Total Wage Diff bonus]:[Bank Bonus]],\"<> \")","v":0},{"$f":"IF(AA2166>0, Table1[[#This Row],[Column4]], IF(AB2166>0,Table1[[#This Row],[Column4]],IF(X2166>0,\"1000\")))","v":false}]
[null,null,null,null,null,null,null,null,null,null,null,null,null,null,null,null,0,null,null,null,null,null,null,null,{"$f":"IF(Table1[[#This Row],[Wage differential Bonus                            - NotePay Rate you are bonusing to]]>0, Table1[[#This Row],[Wage differential Bonus                            - NotePay Rate you are bonusing to]]-Table1[[#This Row],[Pay Rate]], \"\")","v":""},{"$f":"IF(Table1[[#This Row],[Wage differential Bonus                            - NotePay Rate you are bonusing to]]>0,Table1[[#This Row],[Bonus Rate]]*Table1[[#This Row],[Hours]],\"\")","v":""},null,null,null,null,null,{"$f":"IF(OR(AH2169>0.001,AH2169<-0.001),Table1[[#This Row],[Employee '#]],\" \")","v":" "},false,{"$f":"SUMIF(Table1[[#This Row],[Total Wage Diff bonus]:[Bank Bonus]],\"<> \")","v":0},{"$f":"IF(AA2169>0, Table1[[#This Row],[Column4]], IF(AB2169>0,Table1[[#This Row],[Column4]],IF(X2169>0,\"1000\")))","v":false}]
[null,null,null,null,null,null,null,null,null,null,null,null,null,null,null,null,0,null,null,null,null,null,null,null,{"$f":"IF(Table1[[#This Row],[Wage differential Bonus                            - NotePay Rate you are bonusing to]]>0, Table1[[#This Row],[Wage differential Bonus                            - NotePay Rate you are bonusing to]]-Table1[[#This Row],[Pay Rate]], \"\")","v":""},{"$f":"IF(Table1[[#This Row],[Wage differential Bonus                            - NotePay Rate you are bonusing to]]>0,Table1[[#This Row],[Bonus Rate]]*Table1[[#This Row],[Hours]],\"\")","v":""},null,null,null,null,null,{"$f":"IF(OR(AH2171>0.001,AH2171<-0.001),Table1[[#This Row],[Employee '#]],\" \")","v":" "},false,{"$f":"SUMIF(Table1[[#This Row],[Total Wage Diff bonus]:[Bank Bonus]],\"<> \")","v":0},{"$f":"IF(AA2171>0, Table1[[#This Row],[Column4]], IF(AB2171>0,Table1[[#This Row],[Column4]],IF(X2171>0,\"1000\")))","v":false}]
[null,null,null,null,null,null,null,null,null,null,null,null,null,null,null,null,0,null,null,null,null,null,null,null,{"$f":"IF(Table1[[#This Row],[Wage differential Bonus                            - NotePay Rate you are bonusing to]]>0, Table1[[#This Row],[Wage differential Bonus                            - NotePay Rate you are bonusing to]]-Table1[[#This Row],[Pay Rate]], \"\")","v":""},{"$f":"IF(Table1[[#This Row],[Wage differential Bonus                            - NotePay Rate you are bonusing to]]>0,Table1[[#This Row],[Bonus Rate]]*Table1[[#This Row],[Hours]],\"\")","v":""},null,null,null,null,null,{"$f":"IF(OR(AH2172>0.001,AH2172<-0.001),Table1[[#This Row],[Employee '#]],\" \")","v":" "},false,{"$f":"SUMIF(Table1[[#This Row],[Total Wage Diff bonus]:[Bank Bonus]],\"<> \")","v":0},{"$f":"IF(AA2172>0, Table1[[#This Row],[Column4]], IF(AB2172>0,Table1[[#This Row],[Column4]],IF(X2172>0,\"1000\")))","v":false}]
[null,null,null,null,null,null,null,null,null,null,null,null,null,null,null,null,0,null,null,null,null,null,null,null,{"$f":"IF(Table1[[#This Row],[Wage differential Bonus                            - NotePay Rate you are bonusing to]]>0, Table1[[#This Row],[Wage differential Bonus                            - NotePay Rate you are bonusing to]]-Table1[[#This Row],[Pay Rate]], \"\")","v":""},{"$f":"IF(Table1[[#This Row],[Wage differential Bonus                            - NotePay Rate you are bonusing to]]>0,Table1[[#This Row],[Bonus Rate]]*Table1[[#This Row],[Hours]],\"\")","v":""},null,null,null,null,null,{"$f":"IF(OR(AH2174>0.001,AH2174<-0.001),Table1[[#This Row],[Employee '#]],\" \")","v":" "},false,{"$f":"SUMIF(Table1[[#This Row],[Total Wage Diff bonus]:[Bank Bonus]],\"<> \")","v":0},{"$f":"IF(AA2174>0, Table1[[#This Row],[Column4]], IF(AB2174>0,Table1[[#This Row],[Column4]],IF(X2174>0,\"1000\")))","v":false}]
[null,null,null,null,null,null,null,null,null,null,null,null,null,null,null,null,0,null,null,null,null,null,null,null,{"$f":"IF(Table1[[#This Row],[Wage differential Bonus                            - NotePay Rate you are bonusing to]]>0, Table1[[#This Row],[Wage differential Bonus                            - NotePay Rate you are bonusing to]]-Table1[[#This Row],[Pay Rate]], \"\")","v":""},{"$f":"IF(Table1[[#This Row],[Wage differential Bonus                            - NotePay Rate you are bonusing to]]>0,Table1[[#This Row],[Bonus Rate]]*Table1[[#This Row],[Hours]],\"\")","v":""},null,null,null,null,null,{"$f":"IF(OR(AH2177>0.001,AH2177<-0.001),Table1[[#This Row],[Employee '#]],\" \")","v":" "},false,{"$f":"SUMIF(Table1[[#This Row],[Total Wage Diff bonus]:[Bank Bonus]],\"<> \")","v":0},{"$f":"IF(AA2177>0, Table1[[#This Row],[Column4]], IF(AB2177>0,Table1[[#This Row],[Column4]],IF(X2177>0,\"1000\")))","v":false}]
[null,null,null,null,null,null,null,null,null,null,null,null,null,null,null,null,{"$f":"L2180+P2180","v":0},null,null,null,null,null,null,null,{"$f":"IF(Table1[[#This Row],[Wage differential Bonus                            - NotePay Rate you are bonusing to]]>0, Table1[[#This Row],[Wage differential Bonus                            - NotePay Rate you are bonusing to]]-Table1[[#This Row],[Pay Rate]], \"\")","v":""},{"$f":"IF(Table1[[#This Row],[Wage differential Bonus                            - NotePay Rate you are bonusing to]]>0,Table1[[#This Row],[Bonus Rate]]*Table1[[#This Row],[Hours]],\"\")","v":""},null,null,null,null,null,{"$f":"IF(OR(AH2180>0.001,AH2180<-0.001),Table1[[#This Row],[Employee '#]],\" \")","v":" "},{"$f":"IF(AA2180>0, \"28\", IF(AB2180>0,\"53\",IF(X2180>0,\"20\")))","v":false},{"$f":"SUMIF(Table1[[#This Row],[Total Wage Diff bonus]:[Bank Bonus]],\"<> \")","v":0},{"$f":"IF(AA2180>0, Table1[[#This Row],[Column4]], IF(AB2180>0,Table1[[#This Row],[Column4]],IF(X2180>0,\"1000\")))","v":false}]
[null,null,null,null,null,null,null,null,null,null,null,null,null,null,null,null,0,null,null,null,null,null,null,null,{"$f":"IF(Table1[[#This Row],[Wage differential Bonus                            - NotePay Rate you are bonusing to]]>0, Table1[[#This Row],[Wage differential Bonus                            - NotePay Rate you are bonusing to]]-Table1[[#This Row],[Pay Rate]], \"\")","v":""},{"$f":"IF(Table1[[#This Row],[Wage differential Bonus                            - NotePay Rate you are bonusing to]]>0,Table1[[#This Row],[Bonus Rate]]*Table1[[#This Row],[Hours]],\"\")","v":""},null,null,null,null,null,{"$f":"IF(OR(AH2181>0.001,AH2181<-0.001),Table1[[#This Row],[Employee '#]],\" \")","v":" "},false,{"$f":"SUMIF(Table1[[#This Row],[Total Wage Diff bonus]:[Bank Bonus]],\"<> \")","v":0},{"$f":"IF(AA2181>0, Table1[[#This Row],[Column4]], IF(AB2181>0,Table1[[#This Row],[Column4]],IF(X2181>0,\"1000\")))","v":false}]
[null,null,null,null,null,null,null,null,null,null,null,null,null,null,null,null,0,null,null,null,null,null,null,null,{"$f":"IF(Table1[[#This Row],[Wage differential Bonus                            - NotePay Rate you are bonusing to]]>0, Table1[[#This Row],[Wage differential Bonus                            - NotePay Rate you are bonusing to]]-Table1[[#This Row],[Pay Rate]], \"\")","v":""},{"$f":"IF(Table1[[#This Row],[Wage differential Bonus                            - NotePay Rate you are bonusing to]]>0,Table1[[#This Row],[Bonus Rate]]*Table1[[#This Row],[Hours]],\"\")","v":""},null,null,null,null,null,{"$f":"IF(OR(AH2185>0.001,AH2185<-0.001),Table1[[#This Row],[Employee '#]],\" \")","v":" "},false,{"$f":"SUMIF(Table1[[#This Row],[Total Wage Diff bonus]:[Bank Bonus]],\"<> \")","v":0},{"$f":"IF(AA2185>0, Table1[[#This Row],[Column4]], IF(AB2185>0,Table1[[#This Row],[Column4]],IF(X2185>0,\"1000\")))","v":false}]
[null,null,null,null,null,null,null,null,null,null,null,null,null,null,null,null,0,null,null,null,null,null,null,null,{"$f":"IF(Table1[[#This Row],[Wage differential Bonus                            - NotePay Rate you are bonusing to]]>0, Table1[[#This Row],[Wage differential Bonus                            - NotePay Rate you are bonusing to]]-Table1[[#This Row],[Pay Rate]], \"\")","v":""},{"$f":"IF(Table1[[#This Row],[Wage differential Bonus                            - NotePay Rate you are bonusing to]]>0,Table1[[#This Row],[Bonus Rate]]*Table1[[#This Row],[Hours]],\"\")","v":""},null,null,null,null,null,{"$f":"IF(OR(AH2186>0.001,AH2186<-0.001),Table1[[#This Row],[Employee '#]],\" \")","v":" "},false,{"$f":"SUMIF(Table1[[#This Row],[Total Wage Diff bonus]:[Bank Bonus]],\"<> \")","v":0},{"$f":"IF(AA2186>0, Table1[[#This Row],[Column4]], IF(AB2186>0,Table1[[#This Row],[Column4]],IF(X2186>0,\"1000\")))","v":false}]
[null,null,null,null,null,null,null,null,null,null,null,null,null,null,null,null,0,null,null,null,null,null,null,null,{"$f":"IF(Table1[[#This Row],[Wage differential Bonus                            - NotePay Rate you are bonusing to]]>0, Table1[[#This Row],[Wage differential Bonus                            - NotePay Rate you are bonusing to]]-Table1[[#This Row],[Pay Rate]], \"\")","v":""},{"$f":"IF(Table1[[#This Row],[Wage differential Bonus                            - NotePay Rate you are bonusing to]]>0,Table1[[#This Row],[Bonus Rate]]*Table1[[#This Row],[Hours]],\"\")","v":""},null,null,null,null,null,{"$f":"IF(OR(AH2189>0.001,AH2189<-0.001),Table1[[#This Row],[Employee '#]],\" \")","v":" "},false,{"$f":"SUMIF(Table1[[#This Row],[Total Wage Diff bonus]:[Bank Bonus]],\"<> \")","v":0},{"$f":"IF(AA2189>0, Table1[[#This Row],[Column4]], IF(AB2189>0,Table1[[#This Row],[Column4]],IF(X2189>0,\"1000\")))","v":false}]
[null,null,null,null,null,null,null,null,null,null,null,null,null,null,null,null,0,null,null,null,null,null,null,null,{"$f":"IF(Table1[[#This Row],[Wage differential Bonus                            - NotePay Rate you are bonusing to]]>0, Table1[[#This Row],[Wage differential Bonus                            - NotePay Rate you are bonusing to]]-Table1[[#This Row],[Pay Rate]], \"\")","v":""},{"$f":"IF(Table1[[#This Row],[Wage differential Bonus                            - NotePay Rate you are bonusing to]]>0,Table1[[#This Row],[Bonus Rate]]*Table1[[#This Row],[Hours]],\"\")","v":""},null,null,null,null,null,{"$f":"IF(OR(AH2190>0.001,AH2190<-0.001),Table1[[#This Row],[Employee '#]],\" \")","v":" "},false,{"$f":"SUMIF(Table1[[#This Row],[Total Wage Diff bonus]:[Bank Bonus]],\"<> \")","v":0},{"$f":"IF(AA2190>0, Table1[[#This Row],[Column4]], IF(AB2190>0,Table1[[#This Row],[Column4]],IF(X2190>0,\"1000\")))","v":false}]
[null,null,null,null,null,null,null,null,null,null,null,null,null,null,null,null,0,null,null,null,null,null,null,null,{"$f":"IF(Table1[[#This Row],[Wage differential Bonus                            - NotePay Rate you are bonusing to]]>0, Table1[[#This Row],[Wage differential Bonus                            - NotePay Rate you are bonusing to]]-Table1[[#This Row],[Pay Rate]], \"\")","v":""},{"$f":"IF(Table1[[#This Row],[Wage differential Bonus                            - NotePay Rate you are bonusing to]]>0,Table1[[#This Row],[Bonus Rate]]*Table1[[#This Row],[Hours]],\"\")","v":""},null,null,null,null,null,{"$f":"IF(OR(AH2192>0.001,AH2192<-0.001),Table1[[#This Row],[Employee '#]],\" \")","v":" "},false,{"$f":"SUMIF(Table1[[#This Row],[Total Wage Diff bonus]:[Bank Bonus]],\"<> \")","v":0},{"$f":"IF(AA2192>0, Table1[[#This Row],[Column4]], IF(AB2192>0,Table1[[#This Row],[Column4]],IF(X2192>0,\"1000\")))","v":false}]
[null,null,null,null,null,null,null,null,null,null,null,null,null,null,null,null,0,null,null,null,null,null,null,null,{"$f":"IF(Table1[[#This Row],[Wage differential Bonus                            - NotePay Rate you are bonusing to]]>0, Table1[[#This Row],[Wage differential Bonus                            - NotePay Rate you are bonusing to]]-Table1[[#This Row],[Pay Rate]], \"\")","v":""},{"$f":"IF(Table1[[#This Row],[Wage differential Bonus                            - NotePay Rate you are bonusing to]]>0,Table1[[#This Row],[Bonus Rate]]*Table1[[#This Row],[Hours]],\"\")","v":""},null,null,null,null,null,{"$f":"IF(OR(AH2195>0.001,AH2195<-0.001),Table1[[#This Row],[Employee '#]],\" \")","v":" "},false,{"$f":"SUMIF(Table1[[#This Row],[Total Wage Diff bonus]:[Bank Bonus]],\"<> \")","v":0},{"$f":"IF(AA2195>0, Table1[[#This Row],[Column4]], IF(AB2195>0,Table1[[#This Row],[Column4]],IF(X2195>0,\"1000\")))","v":false}]
[null,null,null,null,null,null,null,null,null,null,null,null,null,null,null,null,0,null,null,null,null,null,null,null,{"$f":"IF(Table1[[#This Row],[Wage differential Bonus                            - NotePay Rate you are bonusing to]]>0, Table1[[#This Row],[Wage differential Bonus                            - NotePay Rate you are bonusing to]]-Table1[[#This Row],[Pay Rate]], \"\")","v":""},{"$f":"IF(Table1[[#This Row],[Wage differential Bonus                            - NotePay Rate you are bonusing to]]>0,Table1[[#This Row],[Bonus Rate]]*Table1[[#This Row],[Hours]],\"\")","v":""},null,null,null,null,null,{"$f":"IF(OR(AH2198>0.001,AH2198<-0.001),Table1[[#This Row],[Employee '#]],\" \")","v":" "},false,{"$f":"SUMIF(Table1[[#This Row],[Total Wage Diff bonus]:[Bank Bonus]],\"<> \")","v":0},{"$f":"IF(AA2198>0, Table1[[#This Row],[Column4]], IF(AB2198>0,Table1[[#This Row],[Column4]],IF(X2198>0,\"1000\")))","v":false}]
[null,null,null,null,null,null,null,null,null,null,null,null,null,null,null,null,0,null,null,null,null,null,null,null,{"$f":"IF(Table1[[#This Row],[Wage differential Bonus                            - NotePay Rate you are bonusing to]]>0, Table1[[#This Row],[Wage differential Bonus                            - NotePay Rate you are bonusing to]]-Table1[[#This Row],[Pay Rate]], \"\")","v":""},{"$f":"IF(Table1[[#This Row],[Wage differential Bonus                            - NotePay Rate you are bonusing to]]>0,Table1[[#This Row],[Bonus Rate]]*Table1[[#This Row],[Hours]],\"\")","v":""},null,null,null,null,null,{"$f":"IF(OR(AH2199>0.001,AH2199<-0.001),Table1[[#This Row],[Employee '#]],\" \")","v":" "},false,{"$f":"SUMIF(Table1[[#This Row],[Total Wage Diff bonus]:[Bank Bonus]],\"<> \")","v":0},{"$f":"IF(AA2199>0, Table1[[#This Row],[Column4]], IF(AB2199>0,Table1[[#This Row],[Column4]],IF(X2199>0,\"1000\")))","v":false}]
[null,null,null,null,null,null,null,null,null,null,null,null,null,null,null,null,0,null,null,null,null,null,null,null,{"$f":"IF(Table1[[#This Row],[Wage differential Bonus                            - NotePay Rate you are bonusing to]]>0, Table1[[#This Row],[Wage differential Bonus                            - NotePay Rate you are bonusing to]]-Table1[[#This Row],[Pay Rate]], \"\")","v":""},{"$f":"IF(Table1[[#This Row],[Wage differential Bonus                            - NotePay Rate you are bonusing to]]>0,Table1[[#This Row],[Bonus Rate]]*Table1[[#This Row],[Hours]],\"\")","v":""},null,null,null,null,null,{"$f":"IF(OR(AH2203>0.001,AH2203<-0.001),Table1[[#This Row],[Employee '#]],\" \")","v":" "},false,{"$f":"SUMIF(Table1[[#This Row],[Total Wage Diff bonus]:[Bank Bonus]],\"<> \")","v":0},{"$f":"IF(AA2203>0, Table1[[#This Row],[Column4]], IF(AB2203>0,Table1[[#This Row],[Column4]],IF(X2203>0,\"1000\")))","v":false}]
[null,null,null,null,null,null,null,null,null,null,null,null,null,null,null,null,0,null,null,null,null,null,null,null,{"$f":"IF(Table1[[#This Row],[Wage differential Bonus                            - NotePay Rate you are bonusing to]]>0, Table1[[#This Row],[Wage differential Bonus                            - NotePay Rate you are bonusing to]]-Table1[[#This Row],[Pay Rate]], \"\")","v":""},{"$f":"IF(Table1[[#This Row],[Wage differential Bonus                            - NotePay Rate you are bonusing to]]>0,Table1[[#This Row],[Bonus Rate]]*Table1[[#This Row],[Hours]],\"\")","v":""},null,null,null,null,null,{"$f":"IF(OR(AH2204>0.001,AH2204<-0.001),Table1[[#This Row],[Employee '#]],\" \")","v":" "},false,{"$f":"SUMIF(Table1[[#This Row],[Total Wage Diff bonus]:[Bank Bonus]],\"<> \")","v":0},{"$f":"IF(AA2204>0, Table1[[#This Row],[Column4]], IF(AB2204>0,Table1[[#This Row],[Column4]],IF(X2204>0,\"1000\")))","v":false}]
[null,null,null,null,null,null,null,null,null,null,null,null,null,null,null,null,0,null,null,null,null,null,null,null,{"$f":"IF(Table1[[#This Row],[Wage differential Bonus                            - NotePay Rate you are bonusing to]]>0, Table1[[#This Row],[Wage differential Bonus                            - NotePay Rate you are bonusing to]]-Table1[[#This Row],[Pay Rate]], \"\")","v":""},{"$f":"IF(Table1[[#This Row],[Wage differential Bonus                            - NotePay Rate you are bonusing to]]>0,Table1[[#This Row],[Bonus Rate]]*Table1[[#This Row],[Hours]],\"\")","v":""},null,null,null,null,null,{"$f":"IF(OR(AH2207>0.001,AH2207<-0.001),Table1[[#This Row],[Employee '#]],\" \")","v":" "},false,{"$f":"SUMIF(Table1[[#This Row],[Total Wage Diff bonus]:[Bank Bonus]],\"<> \")","v":0},{"$f":"IF(AA2207>0, Table1[[#This Row],[Column4]], IF(AB2207>0,Table1[[#This Row],[Column4]],IF(X2207>0,\"1000\")))","v":false}]
[null,null,null,null,null,null,null,null,null,null,null,null,null,null,null,null,0,null,null,null,null,null,null,null,{"$f":"IF(Table1[[#This Row],[Wage differential Bonus                            - NotePay Rate you are bonusing to]]>0, Table1[[#This Row],[Wage differential Bonus                            - NotePay Rate you are bonusing to]]-Table1[[#This Row],[Pay Rate]], \"\")","v":""},{"$f":"IF(Table1[[#This Row],[Wage differential Bonus                            - NotePay Rate you are bonusing to]]>0,Table1[[#This Row],[Bonus Rate]]*Table1[[#This Row],[Hours]],\"\")","v":""},null,null,null,null,null,{"$f":"IF(OR(AH2208>0.001,AH2208<-0.001),Table1[[#This Row],[Employee '#]],\" \")","v":" "},false,{"$f":"SUMIF(Table1[[#This Row],[Total Wage Diff bonus]:[Bank Bonus]],\"<> \")","v":0},{"$f":"IF(AA2208>0, Table1[[#This Row],[Column4]], IF(AB2208>0,Table1[[#This Row],[Column4]],IF(X2208>0,\"1000\")))","v":false}]
[null,null,null,null,null,null,null,null,null,null,null,null,null,null,null,null,0,null,null,null,null,null,null,null,{"$f":"IF(Table1[[#This Row],[Wage differential Bonus                            - NotePay Rate you are bonusing to]]>0, Table1[[#This Row],[Wage differential Bonus                            - NotePay Rate you are bonusing to]]-Table1[[#This Row],[Pay Rate]], \"\")","v":""},{"$f":"IF(Table1[[#This Row],[Wage differential Bonus                            - NotePay Rate you are bonusing to]]>0,Table1[[#This Row],[Bonus Rate]]*Table1[[#This Row],[Hours]],\"\")","v":""},null,null,null,null,null,{"$f":"IF(OR(AH2212>0.001,AH2212<-0.001),Table1[[#This Row],[Employee '#]],\" \")","v":" "},false,{"$f":"SUMIF(Table1[[#This Row],[Total Wage Diff bonus]:[Bank Bonus]],\"<> \")","v":0},{"$f":"IF(AA2212>0, Table1[[#This Row],[Column4]], IF(AB2212>0,Table1[[#This Row],[Column4]],IF(X2212>0,\"1000\")))","v":false}]
[null,null,null,null,null,null,null,null,null,null,null,null,null,null,null,null,0,null,null,null,null,null,null,null,{"$f":"IF(Table1[[#This Row],[Wage differential Bonus                            - NotePay Rate you are bonusing to]]>0, Table1[[#This Row],[Wage differential Bonus                            - NotePay Rate you are bonusing to]]-Table1[[#This Row],[Pay Rate]], \"\")","v":""},{"$f":"IF(Table1[[#This Row],[Wage differential Bonus                            - NotePay Rate you are bonusing to]]>0,Table1[[#This Row],[Bonus Rate]]*Table1[[#This Row],[Hours]],\"\")","v":""},null,null,null,null,null,{"$f":"IF(OR(AH2213>0.001,AH2213<-0.001),Table1[[#This Row],[Employee '#]],\" \")","v":" "},false,{"$f":"SUMIF(Table1[[#This Row],[Total Wage Diff bonus]:[Bank Bonus]],\"<> \")","v":0},{"$f":"IF(AA2213>0, Table1[[#This Row],[Column4]], IF(AB2213>0,Table1[[#This Row],[Column4]],IF(X2213>0,\"1000\")))","v":false}]
[null,null,null,null,null,null,null,null,null,null,null,null,null,null,null,null,0,null,null,null,null,null,null,null,{"$f":"IF(Table1[[#This Row],[Wage differential Bonus                            - NotePay Rate you are bonusing to]]>0, Table1[[#This Row],[Wage differential Bonus                            - NotePay Rate you are bonusing to]]-Table1[[#This Row],[Pay Rate]], \"\")","v":""},{"$f":"IF(Table1[[#This Row],[Wage differential Bonus                            - NotePay Rate you are bonusing to]]>0,Table1[[#This Row],[Bonus Rate]]*Table1[[#This Row],[Hours]],\"\")","v":""},null,null,null,null,null,{"$f":"IF(OR(AH2216>0.001,AH2216<-0.001),Table1[[#This Row],[Employee '#]],\" \")","v":" "},false,{"$f":"SUMIF(Table1[[#This Row],[Total Wage Diff bonus]:[Bank Bonus]],\"<> \")","v":0},{"$f":"IF(AA2216>0, Table1[[#This Row],[Column4]], IF(AB2216>0,Table1[[#This Row],[Column4]],IF(X2216>0,\"1000\")))","v":false}]
[null,null,null,null,null,null,null,null,null,null,null,null,null,null,null,null,0,null,null,null,null,null,null,null,{"$f":"IF(Table1[[#This Row],[Wage differential Bonus                            - NotePay Rate you are bonusing to]]>0, Table1[[#This Row],[Wage differential Bonus                            - NotePay Rate you are bonusing to]]-Table1[[#This Row],[Pay Rate]], \"\")","v":""},{"$f":"IF(Table1[[#This Row],[Wage differential Bonus                            - NotePay Rate you are bonusing to]]>0,Table1[[#This Row],[Bonus Rate]]*Table1[[#This Row],[Hours]],\"\")","v":""},null,null,null,null,null,{"$f":"IF(OR(AH2219>0.001,AH2219<-0.001),Table1[[#This Row],[Employee '#]],\" \")","v":" "},false,{"$f":"SUMIF(Table1[[#This Row],[Total Wage Diff bonus]:[Bank Bonus]],\"<> \")","v":0},{"$f":"IF(AA2219>0, Table1[[#This Row],[Column4]], IF(AB2219>0,Table1[[#This Row],[Column4]],IF(X2219>0,\"1000\")))","v":false}]
[null,null,null,null,null,null,null,null,null,null,null,null,null,null,null,null,0,null,null,null,null,null,null,null,{"$f":"IF(Table1[[#This Row],[Wage differential Bonus                            - NotePay Rate you are bonusing to]]>0, Table1[[#This Row],[Wage differential Bonus                            - NotePay Rate you are bonusing to]]-Table1[[#This Row],[Pay Rate]], \"\")","v":""},{"$f":"IF(Table1[[#This Row],[Wage differential Bonus                            - NotePay Rate you are bonusing to]]>0,Table1[[#This Row],[Bonus Rate]]*Table1[[#This Row],[Hours]],\"\")","v":""},null,null,null,null,null,{"$f":"IF(OR(AH2221>0.001,AH2221<-0.001),Table1[[#This Row],[Employee '#]],\" \")","v":" "},false,{"$f":"SUMIF(Table1[[#This Row],[Total Wage Diff bonus]:[Bank Bonus]],\"<> \")","v":0},{"$f":"IF(AA2221>0, Table1[[#This Row],[Column4]], IF(AB2221>0,Table1[[#This Row],[Column4]],IF(X2221>0,\"1000\")))","v":false}]
[null,null,null,null,null,null,null,null,null,null,null,null,null,null,null,null,0,null,null,null,null,null,null,null,{"$f":"IF(Table1[[#This Row],[Wage differential Bonus                            - NotePay Rate you are bonusing to]]>0, Table1[[#This Row],[Wage differential Bonus                            - NotePay Rate you are bonusing to]]-Table1[[#This Row],[Pay Rate]], \"\")","v":""},{"$f":"IF(Table1[[#This Row],[Wage differential Bonus                            - NotePay Rate you are bonusing to]]>0,Table1[[#This Row],[Bonus Rate]]*Table1[[#This Row],[Hours]],\"\")","v":""},null,null,null,null,null,{"$f":"IF(OR(AH2222>0.001,AH2222<-0.001),Table1[[#This Row],[Employee '#]],\" \")","v":" "},false,{"$f":"SUMIF(Table1[[#This Row],[Total Wage Diff bonus]:[Bank Bonus]],\"<> \")","v":0},{"$f":"IF(AA2222>0, Table1[[#This Row],[Column4]], IF(AB2222>0,Table1[[#This Row],[Column4]],IF(X2222>0,\"1000\")))","v":false}]
[null,null,null,null,null,null,null,null,null,null,null,null,null,null,null,null,0,null,null,null,null,null,null,null,{"$f":"IF(Table1[[#This Row],[Wage differential Bonus                            - NotePay Rate you are bonusing to]]>0, Table1[[#This Row],[Wage differential Bonus                            - NotePay Rate you are bonusing to]]-Table1[[#This Row],[Pay Rate]], \"\")","v":""},{"$f":"IF(Table1[[#This Row],[Wage differential Bonus                            - NotePay Rate you are bonusing to]]>0,Table1[[#This Row],[Bonus Rate]]*Table1[[#This Row],[Hours]],\"\")","v":""},null,null,null,null,null,{"$f":"IF(OR(AH2225>0.001,AH2225<-0.001),Table1[[#This Row],[Employee '#]],\" \")","v":" "},false,{"$f":"SUMIF(Table1[[#This Row],[Total Wage Diff bonus]:[Bank Bonus]],\"<> \")","v":0},{"$f":"IF(AA2225>0, Table1[[#This Row],[Column4]], IF(AB2225>0,Table1[[#This Row],[Column4]],IF(X2225>0,\"1000\")))","v":false}]
[null,null,null,null,null,null,null,null,null,null,null,null,null,null,null,null,0,null,null,null,null,null,null,null,{"$f":"IF(Table1[[#This Row],[Wage differential Bonus                            - NotePay Rate you are bonusing to]]>0, Table1[[#This Row],[Wage differential Bonus                            - NotePay Rate you are bonusing to]]-Table1[[#This Row],[Pay Rate]], \"\")","v":""},{"$f":"IF(Table1[[#This Row],[Wage differential Bonus                            - NotePay Rate you are bonusing to]]>0,Table1[[#This Row],[Bonus Rate]]*Table1[[#This Row],[Hours]],\"\")","v":""},null,null,null,null,null,{"$f":"IF(OR(AH2226>0.001,AH2226<-0.001),Table1[[#This Row],[Employee '#]],\" \")","v":" "},false,{"$f":"SUMIF(Table1[[#This Row],[Total Wage Diff bonus]:[Bank Bonus]],\"<> \")","v":0},{"$f":"IF(AA2226>0, Table1[[#This Row],[Column4]], IF(AB2226>0,Table1[[#This Row],[Column4]],IF(X2226>0,\"1000\")))","v":false}]
[null,null,null,null,null,null,null,null,null,null,null,null,null,null,null,null,0,null,null,null,null,null,null,null,{"$f":"IF(Table1[[#This Row],[Wage differential Bonus                            - NotePay Rate you are bonusing to]]>0, Table1[[#This Row],[Wage differential Bonus                            - NotePay Rate you are bonusing to]]-Table1[[#This Row],[Pay Rate]], \"\")","v":""},{"$f":"IF(Table1[[#This Row],[Wage differential Bonus                            - NotePay Rate you are bonusing to]]>0,Table1[[#This Row],[Bonus Rate]]*Table1[[#This Row],[Hours]],\"\")","v":""},null,null,null,null,null,{"$f":"IF(OR(AH2230>0.001,AH2230<-0.001),Table1[[#This Row],[Employee '#]],\" \")","v":" "},false,{"$f":"SUMIF(Table1[[#This Row],[Total Wage Diff bonus]:[Bank Bonus]],\"<> \")","v":0},{"$f":"IF(AA2230>0, Table1[[#This Row],[Column4]], IF(AB2230>0,Table1[[#This Row],[Column4]],IF(X2230>0,\"1000\")))","v":false}]
[null,null,null,null,null,null,null,null,null,null,null,null,null,null,null,null,0,null,null,null,null,null,null,null,{"$f":"IF(Table1[[#This Row],[Wage differential Bonus                            - NotePay Rate you are bonusing to]]>0, Table1[[#This Row],[Wage differential Bonus                            - NotePay Rate you are bonusing to]]-Table1[[#This Row],[Pay Rate]], \"\")","v":""},{"$f":"IF(Table1[[#This Row],[Wage differential Bonus                            - NotePay Rate you are bonusing to]]>0,Table1[[#This Row],[Bonus Rate]]*Table1[[#This Row],[Hours]],\"\")","v":""},null,null,null,null,null,{"$f":"IF(OR(AH2231>0.001,AH2231<-0.001),Table1[[#This Row],[Employee '#]],\" \")","v":" "},false,{"$f":"SUMIF(Table1[[#This Row],[Total Wage Diff bonus]:[Bank Bonus]],\"<> \")","v":0},{"$f":"IF(AA2231>0, Table1[[#This Row],[Column4]], IF(AB2231>0,Table1[[#This Row],[Column4]],IF(X2231>0,\"1000\")))","v":false}]
[null,null,null,null,null,null,null,null,null,null,null,null,null,null,null,null,0,null,null,null,null,null,null,null,{"$f":"IF(Table1[[#This Row],[Wage differential Bonus                            - NotePay Rate you are bonusing to]]>0, Table1[[#This Row],[Wage differential Bonus                            - NotePay Rate you are bonusing to]]-Table1[[#This Row],[Pay Rate]], \"\")","v":""},{"$f":"IF(Table1[[#This Row],[Wage differential Bonus                            - NotePay Rate you are bonusing to]]>0,Table1[[#This Row],[Bonus Rate]]*Table1[[#This Row],[Hours]],\"\")","v":""},null,null,null,null,null,{"$f":"IF(OR(AH2234>0.001,AH2234<-0.001),Table1[[#This Row],[Employee '#]],\" \")","v":" "},false,{"$f":"SUMIF(Table1[[#This Row],[Total Wage Diff bonus]:[Bank Bonus]],\"<> \")","v":0},{"$f":"IF(AA2234>0, Table1[[#This Row],[Column4]], IF(AB2234>0,Table1[[#This Row],[Column4]],IF(X2234>0,\"1000\")))","v":false}]
[null,null,null,null,null,null,null,null,null,null,null,null,null,null,null,null,0,null,null,null,null,null,null,null,{"$f":"IF(Table1[[#This Row],[Wage differential Bonus                            - NotePay Rate you are bonusing to]]>0, Table1[[#This Row],[Wage differential Bonus                            - NotePay Rate you are bonusing to]]-Table1[[#This Row],[Pay Rate]], \"\")","v":""},{"$f":"IF(Table1[[#This Row],[Wage differential Bonus                            - NotePay Rate you are bonusing to]]>0,Table1[[#This Row],[Bonus Rate]]*Table1[[#This Row],[Hours]],\"\")","v":""},null,null,null,null,null,{"$f":"IF(OR(AH2237>0.001,AH2237<-0.001),Table1[[#This Row],[Employee '#]],\" \")","v":" "},false,{"$f":"SUMIF(Table1[[#This Row],[Total Wage Diff bonus]:[Bank Bonus]],\"<> \")","v":0},{"$f":"IF(AA2237>0, Table1[[#This Row],[Column4]], IF(AB2237>0,Table1[[#This Row],[Column4]],IF(X2237>0,\"1000\")))","v":false}]
[null,null,null,null,null,null,null,null,null,null,null,null,null,null,null,null,0,null,null,null,null,null,null,null,{"$f":"IF(Table1[[#This Row],[Wage differential Bonus                            - NotePay Rate you are bonusing to]]>0, Table1[[#This Row],[Wage differential Bonus                            - NotePay Rate you are bonusing to]]-Table1[[#This Row],[Pay Rate]], \"\")","v":""},{"$f":"IF(Table1[[#This Row],[Wage differential Bonus                            - NotePay Rate you are bonusing to]]>0,Table1[[#This Row],[Bonus Rate]]*Table1[[#This Row],[Hours]],\"\")","v":""},null,null,null,null,null,{"$f":"IF(OR(AH2239>0.001,AH2239<-0.001),Table1[[#This Row],[Employee '#]],\" \")","v":" "},false,{"$f":"SUMIF(Table1[[#This Row],[Total Wage Diff bonus]:[Bank Bonus]],\"<> \")","v":0},{"$f":"IF(AA2239>0, Table1[[#This Row],[Column4]], IF(AB2239>0,Table1[[#This Row],[Column4]],IF(X2239>0,\"1000\")))","v":false}]
[null,null,null,null,null,null,null,null,null,null,null,null,null,null,null,null,0,null,null,null,null,null,null,null,{"$f":"IF(Table1[[#This Row],[Wage differential Bonus                            - NotePay Rate you are bonusing to]]>0, Table1[[#This Row],[Wage differential Bonus                            - NotePay Rate you are bonusing to]]-Table1[[#This Row],[Pay Rate]], \"\")","v":""},{"$f":"IF(Table1[[#This Row],[Wage differential Bonus                            - NotePay Rate you are bonusing to]]>0,Table1[[#This Row],[Bonus Rate]]*Table1[[#This Row],[Hours]],\"\")","v":""},null,null,null,null,null,{"$f":"IF(OR(AH2240>0.001,AH2240<-0.001),Table1[[#This Row],[Employee '#]],\" \")","v":" "},false,{"$f":"SUMIF(Table1[[#This Row],[Total Wage Diff bonus]:[Bank Bonus]],\"<> \")","v":0},{"$f":"IF(AA2240>0, Table1[[#This Row],[Column4]], IF(AB2240>0,Table1[[#This Row],[Column4]],IF(X2240>0,\"1000\")))","v":false}]
[null,null,null,null,null,null,null,null,null,null,null,null,null,null,null,null,0,null,null,null,null,null,null,null,{"$f":"IF(Table1[[#This Row],[Wage differential Bonus                            - NotePay Rate you are bonusing to]]>0, Table1[[#This Row],[Wage differential Bonus                            - NotePay Rate you are bonusing to]]-Table1[[#This Row],[Pay Rate]], \"\")","v":""},{"$f":"IF(Table1[[#This Row],[Wage differential Bonus                            - NotePay Rate you are bonusing to]]>0,Table1[[#This Row],[Bonus Rate]]*Table1[[#This Row],[Hours]],\"\")","v":""},null,null,null,null,null,{"$f":"IF(OR(AH2242>0.001,AH2242<-0.001),Table1[[#This Row],[Employee '#]],\" \")","v":" "},false,{"$f":"SUMIF(Table1[[#This Row],[Total Wage Diff bonus]:[Bank Bonus]],\"<> \")","v":0},{"$f":"IF(AA2242>0, Table1[[#This Row],[Column4]], IF(AB2242>0,Table1[[#This Row],[Column4]],IF(X2242>0,\"1000\")))","v":false}]
[null,null,null,null,null,null,null,null,null,null,null,null,null,null,null,null,0,null,null,null,null,null,null,null,{"$f":"IF(Table1[[#This Row],[Wage differential Bonus                            - NotePay Rate you are bonusing to]]>0, Table1[[#This Row],[Wage differential Bonus                            - NotePay Rate you are bonusing to]]-Table1[[#This Row],[Pay Rate]], \"\")","v":""},{"$f":"IF(Table1[[#This Row],[Wage differential Bonus                            - NotePay Rate you are bonusing to]]>0,Table1[[#This Row],[Bonus Rate]]*Table1[[#This Row],[Hours]],\"\")","v":""},null,null,null,null,null,{"$f":"IF(OR(AH2245>0.001,AH2245<-0.001),Table1[[#This Row],[Employee '#]],\" \")","v":" "},false,{"$f":"SUMIF(Table1[[#This Row],[Total Wage Diff bonus]:[Bank Bonus]],\"<> \")","v":0},{"$f":"IF(AA2245>0, Table1[[#This Row],[Column4]], IF(AB2245>0,Table1[[#This Row],[Column4]],IF(X2245>0,\"1000\")))","v":false}]
[null,null,null,null,null,null,null,null,null,null,null,null,null,null,null,null,0,null,null,null,null,null,null,null,{"$f":"IF(Table1[[#This Row],[Wage differential Bonus                            - NotePay Rate you are bonusing to]]>0, Table1[[#This Row],[Wage differential Bonus                            - NotePay Rate you are bonusing to]]-Table1[[#This Row],[Pay Rate]], \"\")","v":""},{"$f":"IF(Table1[[#This Row],[Wage differential Bonus                            - NotePay Rate you are bonusing to]]>0,Table1[[#This Row],[Bonus Rate]]*Table1[[#This Row],[Hours]],\"\")","v":""},null,null,null,null,null,{"$f":"IF(OR(AH2248>0.001,AH2248<-0.001),Table1[[#This Row],[Employee '#]],\" \")","v":" "},false,{"$f":"SUMIF(Table1[[#This Row],[Total Wage Diff bonus]:[Bank Bonus]],\"<> \")","v":0},{"$f":"IF(AA2248>0, Table1[[#This Row],[Column4]], IF(AB2248>0,Table1[[#This Row],[Column4]],IF(X2248>0,\"1000\")))","v":false}]
[null,null,null,null,null,null,null,null,null,null,null,null,null,null,null,null,0,null,null,null,null,null,null,null,{"$f":"IF(Table1[[#This Row],[Wage differential Bonus                            - NotePay Rate you are bonusing to]]>0, Table1[[#This Row],[Wage differential Bonus                            - NotePay Rate you are bonusing to]]-Table1[[#This Row],[Pay Rate]], \"\")","v":""},{"$f":"IF(Table1[[#This Row],[Wage differential Bonus                            - NotePay Rate you are bonusing to]]>0,Table1[[#This Row],[Bonus Rate]]*Table1[[#This Row],[Hours]],\"\")","v":""},null,null,null,null,null,{"$f":"IF(OR(AH2249>0.001,AH2249<-0.001),Table1[[#This Row],[Employee '#]],\" \")","v":" "},false,{"$f":"SUMIF(Table1[[#This Row],[Total Wage Diff bonus]:[Bank Bonus]],\"<> \")","v":0},{"$f":"IF(AA2249>0, Table1[[#This Row],[Column4]], IF(AB2249>0,Table1[[#This Row],[Column4]],IF(X2249>0,\"1000\")))","v":false}]
[null,null,null,null,null,null,null,null,null,null,null,null,null,null,null,null,0,null,null,null,null,null,null,null,{"$f":"IF(Table1[[#This Row],[Wage differential Bonus                            - NotePay Rate you are bonusing to]]>0, Table1[[#This Row],[Wage differential Bonus                            - NotePay Rate you are bonusing to]]-Table1[[#This Row],[Pay Rate]], \"\")","v":""},{"$f":"IF(Table1[[#This Row],[Wage differential Bonus                            - NotePay Rate you are bonusing to]]>0,Table1[[#This Row],[Bonus Rate]]*Table1[[#This Row],[Hours]],\"\")","v":""},null,null,null,null,null,{"$f":"IF(OR(AH2252>0.001,AH2252<-0.001),Table1[[#This Row],[Employee '#]],\" \")","v":" "},false,{"$f":"SUMIF(Table1[[#This Row],[Total Wage Diff bonus]:[Bank Bonus]],\"<> \")","v":0},{"$f":"IF(AA2252>0, Table1[[#This Row],[Column4]], IF(AB2252>0,Table1[[#This Row],[Column4]],IF(X2252>0,\"1000\")))","v":false}]
[null,null,null,null,null,null,null,null,null,null,null,null,null,null,null,null,0,null,null,null,null,null,null,null,{"$f":"IF(Table1[[#This Row],[Wage differential Bonus                            - NotePay Rate you are bonusing to]]>0, Table1[[#This Row],[Wage differential Bonus                            - NotePay Rate you are bonusing to]]-Table1[[#This Row],[Pay Rate]], \"\")","v":""},{"$f":"IF(Table1[[#This Row],[Wage differential Bonus                            - NotePay Rate you are bonusing to]]>0,Table1[[#This Row],[Bonus Rate]]*Table1[[#This Row],[Hours]],\"\")","v":""},null,null,null,null,null,{"$f":"IF(OR(AH2254>0.001,AH2254<-0.001),Table1[[#This Row],[Employee '#]],\" \")","v":" "},false,{"$f":"SUMIF(Table1[[#This Row],[Total Wage Diff bonus]:[Bank Bonus]],\"<> \")","v":0},{"$f":"IF(AA2254>0, Table1[[#This Row],[Column4]], IF(AB2254>0,Table1[[#This Row],[Column4]],IF(X2254>0,\"1000\")))","v":false}]
[null,null,null,null,null,null,null,null,null,null,null,null,null,null,null,null,0,null,null,null,null,null,null,null,{"$f":"IF(Table1[[#This Row],[Wage differential Bonus                            - NotePay Rate you are bonusing to]]>0, Table1[[#This Row],[Wage differential Bonus                            - NotePay Rate you are bonusing to]]-Table1[[#This Row],[Pay Rate]], \"\")","v":""},{"$f":"IF(Table1[[#This Row],[Wage differential Bonus                            - NotePay Rate you are bonusing to]]>0,Table1[[#This Row],[Bonus Rate]]*Table1[[#This Row],[Hours]],\"\")","v":""},null,null,null,null,null,{"$f":"IF(OR(AH2257>0.001,AH2257<-0.001),Table1[[#This Row],[Employee '#]],\" \")","v":" "},false,{"$f":"SUMIF(Table1[[#This Row],[Total Wage Diff bonus]:[Bank Bonus]],\"<> \")","v":0},{"$f":"IF(AA2257>0, Table1[[#This Row],[Column4]], IF(AB2257>0,Table1[[#This Row],[Column4]],IF(X2257>0,\"1000\")))","v":false}]
[null,null,null,null,null,null,null,null,null,null,null,null,null,null,null,null,0,null,null,null,null,null,null,null,{"$f":"IF(Table1[[#This Row],[Wage differential Bonus                            - NotePay Rate you are bonusing to]]>0, Table1[[#This Row],[Wage differential Bonus                            - NotePay Rate you are bonusing to]]-Table1[[#This Row],[Pay Rate]], \"\")","v":""},{"$f":"IF(Table1[[#This Row],[Wage differential Bonus                            - NotePay Rate you are bonusing to]]>0,Table1[[#This Row],[Bonus Rate]]*Table1[[#This Row],[Hours]],\"\")","v":""},null,null,null,null,null,{"$f":"IF(OR(AH2258>0.001,AH2258<-0.001),Table1[[#This Row],[Employee '#]],\" \")","v":" "},false,{"$f":"SUMIF(Table1[[#This Row],[Total Wage Diff bonus]:[Bank Bonus]],\"<> \")","v":0},{"$f":"IF(AA2258>0, Table1[[#This Row],[Column4]], IF(AB2258>0,Table1[[#This Row],[Column4]],IF(X2258>0,\"1000\")))","v":false}]
[null,null,null,null,null,null,null,null,null,null,null,null,null,null,null,null,0,null,null,null,null,null,null,null,{"$f":"IF(Table1[[#This Row],[Wage differential Bonus                            - NotePay Rate you are bonusing to]]>0, Table1[[#This Row],[Wage differential Bonus                            - NotePay Rate you are bonusing to]]-Table1[[#This Row],[Pay Rate]], \"\")","v":""},{"$f":"IF(Table1[[#This Row],[Wage differential Bonus                            - NotePay Rate you are bonusing to]]>0,Table1[[#This Row],[Bonus Rate]]*Table1[[#This Row],[Hours]],\"\")","v":""},null,null,null,null,null,{"$f":"IF(OR(AH2260>0.001,AH2260<-0.001),Table1[[#This Row],[Employee '#]],\" \")","v":" "},false,{"$f":"SUMIF(Table1[[#This Row],[Total Wage Diff bonus]:[Bank Bonus]],\"<> \")","v":0},{"$f":"IF(AA2260>0, Table1[[#This Row],[Column4]], IF(AB2260>0,Table1[[#This Row],[Column4]],IF(X2260>0,\"1000\")))","v":false}]
[null,null,null,null,null,null,null,null,null,null,null,null,null,null,null,null,0,null,null,null,null,null,null,null,{"$f":"IF(Table1[[#This Row],[Wage differential Bonus                            - NotePay Rate you are bonusing to]]>0, Table1[[#This Row],[Wage differential Bonus                            - NotePay Rate you are bonusing to]]-Table1[[#This Row],[Pay Rate]], \"\")","v":""},{"$f":"IF(Table1[[#This Row],[Wage differential Bonus                            - NotePay Rate you are bonusing to]]>0,Table1[[#This Row],[Bonus Rate]]*Table1[[#This Row],[Hours]],\"\")","v":""},null,null,null,null,null,{"$f":"IF(OR(AH2263>0.001,AH2263<-0.001),Table1[[#This Row],[Employee '#]],\" \")","v":" "},false,{"$f":"SUMIF(Table1[[#This Row],[Total Wage Diff bonus]:[Bank Bonus]],\"<> \")","v":0},{"$f":"IF(AA2263>0, Table1[[#This Row],[Column4]], IF(AB2263>0,Table1[[#This Row],[Column4]],IF(X2263>0,\"1000\")))","v":false}]
[null,null,null,null,null,null,null,null,null,null,null,null,null,null,null,null,0,null,null,null,null,null,null,null,{"$f":"IF(Table1[[#This Row],[Wage differential Bonus                            - NotePay Rate you are bonusing to]]>0, Table1[[#This Row],[Wage differential Bonus                            - NotePay Rate you are bonusing to]]-Table1[[#This Row],[Pay Rate]], \"\")","v":""},{"$f":"IF(Table1[[#This Row],[Wage differential Bonus                            - NotePay Rate you are bonusing to]]>0,Table1[[#This Row],[Bonus Rate]]*Table1[[#This Row],[Hours]],\"\")","v":""},null,null,null,null,null,{"$f":"IF(OR(AH2266>0.001,AH2266<-0.001),Table1[[#This Row],[Employee '#]],\" \")","v":" "},false,{"$f":"SUMIF(Table1[[#This Row],[Total Wage Diff bonus]:[Bank Bonus]],\"<> \")","v":0},{"$f":"IF(AA2266>0, Table1[[#This Row],[Column4]], IF(AB2266>0,Table1[[#This Row],[Column4]],IF(X2266>0,\"1000\")))","v":false}]
[null,null,null,null,null,null,null,null,null,null,null,null,null,null,null,null,0,null,null,null,null,null,null,null,{"$f":"IF(Table1[[#This Row],[Wage differential Bonus                            - NotePay Rate you are bonusing to]]>0, Table1[[#This Row],[Wage differential Bonus                            - NotePay Rate you are bonusing to]]-Table1[[#This Row],[Pay Rate]], \"\")","v":""},{"$f":"IF(Table1[[#This Row],[Wage differential Bonus                            - NotePay Rate you are bonusing to]]>0,Table1[[#This Row],[Bonus Rate]]*Table1[[#This Row],[Hours]],\"\")","v":""},null,null,null,null,null,{"$f":"IF(OR(AH2267>0.001,AH2267<-0.001),Table1[[#This Row],[Employee '#]],\" \")","v":" "},false,{"$f":"SUMIF(Table1[[#This Row],[Total Wage Diff bonus]:[Bank Bonus]],\"<> \")","v":0},{"$f":"IF(AA2267>0, Table1[[#This Row],[Column4]], IF(AB2267>0,Table1[[#This Row],[Column4]],IF(X2267>0,\"1000\")))","v":false}]
[null,null,null,null,null,null,null,null,null,null,null,null,null,null,null,null,0,null,null,null,null,null,null,null,{"$f":"IF(Table1[[#This Row],[Wage differential Bonus                            - NotePay Rate you are bonusing to]]>0, Table1[[#This Row],[Wage differential Bonus                            - NotePay Rate you are bonusing to]]-Table1[[#This Row],[Pay Rate]], \"\")","v":""},{"$f":"IF(Table1[[#This Row],[Wage differential Bonus                            - NotePay Rate you are bonusing to]]>0,Table1[[#This Row],[Bonus Rate]]*Table1[[#This Row],[Hours]],\"\")","v":""},null,null,null,null,null,{"$f":"IF(OR(AH2270>0.001,AH2270<-0.001),Table1[[#This Row],[Employee '#]],\" \")","v":" "},false,{"$f":"SUMIF(Table1[[#This Row],[Total Wage Diff bonus]:[Bank Bonus]],\"<> \")","v":0},{"$f":"IF(AA2270>0, Table1[[#This Row],[Column4]], IF(AB2270>0,Table1[[#This Row],[Column4]],IF(X2270>0,\"1000\")))","v":false}]
[null,null,null,null,null,null,null,null,null,null,null,null,null,null,null,null,0,null,null,null,null,null,null,null,{"$f":"IF(Table1[[#This Row],[Wage differential Bonus                            - NotePay Rate you are bonusing to]]>0, Table1[[#This Row],[Wage differential Bonus                            - NotePay Rate you are bonusing to]]-Table1[[#This Row],[Pay Rate]], \"\")","v":""},{"$f":"IF(Table1[[#This Row],[Wage differential Bonus                            - NotePay Rate you are bonusing to]]>0,Table1[[#This Row],[Bonus Rate]]*Table1[[#This Row],[Hours]],\"\")","v":""},null,null,null,null,null,{"$f":"IF(OR(AH2272>0.001,AH2272<-0.001),Table1[[#This Row],[Employee '#]],\" \")","v":" "},false,{"$f":"SUMIF(Table1[[#This Row],[Total Wage Diff bonus]:[Bank Bonus]],\"<> \")","v":0},{"$f":"IF(AA2272>0, Table1[[#This Row],[Column4]], IF(AB2272>0,Table1[[#This Row],[Column4]],IF(X2272>0,\"1000\")))","v":false}]
[null,null,null,null,null,null,null,null,null,null,null,null,null,null,null,null,0,null,null,null,null,null,null,null,{"$f":"IF(Table1[[#This Row],[Wage differential Bonus                            - NotePay Rate you are bonusing to]]>0, Table1[[#This Row],[Wage differential Bonus                            - NotePay Rate you are bonusing to]]-Table1[[#This Row],[Pay Rate]], \"\")","v":""},{"$f":"IF(Table1[[#This Row],[Wage differential Bonus                            - NotePay Rate you are bonusing to]]>0,Table1[[#This Row],[Bonus Rate]]*Table1[[#This Row],[Hours]],\"\")","v":""},null,null,null,null,null,{"$f":"IF(OR(AH2275>0.001,AH2275<-0.001),Table1[[#This Row],[Employee '#]],\" \")","v":" "},false,{"$f":"SUMIF(Table1[[#This Row],[Total Wage Diff bonus]:[Bank Bonus]],\"<> \")","v":0},{"$f":"IF(AA2275>0, Table1[[#This Row],[Column4]], IF(AB2275>0,Table1[[#This Row],[Column4]],IF(X2275>0,\"1000\")))","v":false}]
[null,null,null,null,null,null,null,null,null,null,null,null,null,null,null,null,0,null,null,null,null,null,null,null,{"$f":"IF(Table1[[#This Row],[Wage differential Bonus                            - NotePay Rate you are bonusing to]]>0, Table1[[#This Row],[Wage differential Bonus                            - NotePay Rate you are bonusing to]]-Table1[[#This Row],[Pay Rate]], \"\")","v":""},{"$f":"IF(Table1[[#This Row],[Wage differential Bonus                            - NotePay Rate you are bonusing to]]>0,Table1[[#This Row],[Bonus Rate]]*Table1[[#This Row],[Hours]],\"\")","v":""},null,null,null,null,null,{"$f":"IF(OR(AH2276>0.001,AH2276<-0.001),Table1[[#This Row],[Employee '#]],\" \")","v":" "},false,{"$f":"SUMIF(Table1[[#This Row],[Total Wage Diff bonus]:[Bank Bonus]],\"<> \")","v":0},{"$f":"IF(AA2276>0, Table1[[#This Row],[Column4]], IF(AB2276>0,Table1[[#This Row],[Column4]],IF(X2276>0,\"1000\")))","v":false}]
[null,null,null,null,null,null,null,null,null,null,null,null,null,null,null,null,0,null,null,null,null,null,null,null,{"$f":"IF(Table1[[#This Row],[Wage differential Bonus                            - NotePay Rate you are bonusing to]]>0, Table1[[#This Row],[Wage differential Bonus                            - NotePay Rate you are bonusing to]]-Table1[[#This Row],[Pay Rate]], \"\")","v":""},{"$f":"IF(Table1[[#This Row],[Wage differential Bonus                            - NotePay Rate you are bonusing to]]>0,Table1[[#This Row],[Bonus Rate]]*Table1[[#This Row],[Hours]],\"\")","v":""},null,null,null,null,null,{"$f":"IF(OR(AH2280>0.001,AH2280<-0.001),Table1[[#This Row],[Employee '#]],\" \")","v":" "},false,{"$f":"SUMIF(Table1[[#This Row],[Total Wage Diff bonus]:[Bank Bonus]],\"<> \")","v":0},{"$f":"IF(AA2280>0, Table1[[#This Row],[Column4]], IF(AB2280>0,Table1[[#This Row],[Column4]],IF(X2280>0,\"1000\")))","v":false}]
[null,null,null,null,null,null,null,null,null,null,null,null,null,null,null,null,0,null,null,null,null,null,null,null,{"$f":"IF(Table1[[#This Row],[Wage differential Bonus                            - NotePay Rate you are bonusing to]]>0, Table1[[#This Row],[Wage differential Bonus                            - NotePay Rate you are bonusing to]]-Table1[[#This Row],[Pay Rate]], \"\")","v":""},{"$f":"IF(Table1[[#This Row],[Wage differential Bonus                            - NotePay Rate you are bonusing to]]>0,Table1[[#This Row],[Bonus Rate]]*Table1[[#This Row],[Hours]],\"\")","v":""},null,null,null,null,null,{"$f":"IF(OR(AH2281>0.001,AH2281<-0.001),Table1[[#This Row],[Employee '#]],\" \")","v":" "},false,{"$f":"SUMIF(Table1[[#This Row],[Total Wage Diff bonus]:[Bank Bonus]],\"<> \")","v":0},{"$f":"IF(AA2281>0, Table1[[#This Row],[Column4]], IF(AB2281>0,Table1[[#This Row],[Column4]],IF(X2281>0,\"1000\")))","v":false}]
[null,null,null,null,null,null,null,null,null,null,null,null,null,null,null,null,0,null,null,null,null,null,null,null,{"$f":"IF(Table1[[#This Row],[Wage differential Bonus                            - NotePay Rate you are bonusing to]]>0, Table1[[#This Row],[Wage differential Bonus                            - NotePay Rate you are bonusing to]]-Table1[[#This Row],[Pay Rate]], \"\")","v":""},{"$f":"IF(Table1[[#This Row],[Wage differential Bonus                            - NotePay Rate you are bonusing to]]>0,Table1[[#This Row],[Bonus Rate]]*Table1[[#This Row],[Hours]],\"\")","v":""},null,null,null,null,null,{"$f":"IF(OR(AH2284>0.001,AH2284<-0.001),Table1[[#This Row],[Employee '#]],\" \")","v":" "},false,{"$f":"SUMIF(Table1[[#This Row],[Total Wage Diff bonus]:[Bank Bonus]],\"<> \")","v":0},{"$f":"IF(AA2284>0, Table1[[#This Row],[Column4]], IF(AB2284>0,Table1[[#This Row],[Column4]],IF(X2284>0,\"1000\")))","v":false}]
[null,null,null,null,null,null,null,null,null,null,null,null,null,null,null,null,0,null,null,null,null,null,null,null,{"$f":"IF(Table1[[#This Row],[Wage differential Bonus                            - NotePay Rate you are bonusing to]]>0, Table1[[#This Row],[Wage differential Bonus                            - NotePay Rate you are bonusing to]]-Table1[[#This Row],[Pay Rate]], \"\")","v":""},{"$f":"IF(Table1[[#This Row],[Wage differential Bonus                            - NotePay Rate you are bonusing to]]>0,Table1[[#This Row],[Bonus Rate]]*Table1[[#This Row],[Hours]],\"\")","v":""},null,null,null,null,null,{"$f":"IF(OR(AH2286>0.001,AH2286<-0.001),Table1[[#This Row],[Employee '#]],\" \")","v":" "},false,{"$f":"SUMIF(Table1[[#This Row],[Total Wage Diff bonus]:[Bank Bonus]],\"<> \")","v":0},{"$f":"IF(AA2286>0, Table1[[#This Row],[Column4]], IF(AB2286>0,Table1[[#This Row],[Column4]],IF(X2286>0,\"1000\")))","v":false}]
[null,null,null,null,null,null,null,null,null,null,null,null,null,null,null,null,0,null,null,null,null,null,null,null,{"$f":"IF(Table1[[#This Row],[Wage differential Bonus                            - NotePay Rate you are bonusing to]]>0, Table1[[#This Row],[Wage differential Bonus                            - NotePay Rate you are bonusing to]]-Table1[[#This Row],[Pay Rate]], \"\")","v":""},{"$f":"IF(Table1[[#This Row],[Wage differential Bonus                            - NotePay Rate you are bonusing to]]>0,Table1[[#This Row],[Bonus Rate]]*Table1[[#This Row],[Hours]],\"\")","v":""},null,null,null,null,null,{"$f":"IF(OR(AH2289>0.001,AH2289<-0.001),Table1[[#This Row],[Employee '#]],\" \")","v":" "},false,{"$f":"SUMIF(Table1[[#This Row],[Total Wage Diff bonus]:[Bank Bonus]],\"<> \")","v":0},{"$f":"IF(AA2289>0, Table1[[#This Row],[Column4]], IF(AB2289>0,Table1[[#This Row],[Column4]],IF(X2289>0,\"1000\")))","v":false}]
[null,null,null,null,null,null,null,null,null,null,null,null,null,null,null,null,0,null,null,null,null,null,null,null,{"$f":"IF(Table1[[#This Row],[Wage differential Bonus                            - NotePay Rate you are bonusing to]]>0, Table1[[#This Row],[Wage differential Bonus                            - NotePay Rate you are bonusing to]]-Table1[[#This Row],[Pay Rate]], \"\")","v":""},{"$f":"IF(Table1[[#This Row],[Wage differential Bonus                            - NotePay Rate you are bonusing to]]>0,Table1[[#This Row],[Bonus Rate]]*Table1[[#This Row],[Hours]],\"\")","v":""},null,null,null,null,null,{"$f":"IF(OR(AH2290>0.001,AH2290<-0.001),Table1[[#This Row],[Employee '#]],\" \")","v":" "},false,{"$f":"SUMIF(Table1[[#This Row],[Total Wage Diff bonus]:[Bank Bonus]],\"<> \")","v":0},{"$f":"IF(AA2290>0, Table1[[#This Row],[Column4]], IF(AB2290>0,Table1[[#This Row],[Column4]],IF(X2290>0,\"1000\")))","v":false}]
[null,null,null,null,null,null,null,null,null,null,null,null,null,null,null,null,0,null,null,null,null,null,null,null,{"$f":"IF(Table1[[#This Row],[Wage differential Bonus                            - NotePay Rate you are bonusing to]]>0, Table1[[#This Row],[Wage differential Bonus                            - NotePay Rate you are bonusing to]]-Table1[[#This Row],[Pay Rate]], \"\")","v":""},{"$f":"IF(Table1[[#This Row],[Wage differential Bonus                            - NotePay Rate you are bonusing to]]>0,Table1[[#This Row],[Bonus Rate]]*Table1[[#This Row],[Hours]],\"\")","v":""},null,null,null,null,null,{"$f":"IF(OR(AH2293>0.001,AH2293<-0.001),Table1[[#This Row],[Employee '#]],\" \")","v":" "},false,{"$f":"SUMIF(Table1[[#This Row],[Total Wage Diff bonus]:[Bank Bonus]],\"<> \")","v":0},{"$f":"IF(AA2293>0, Table1[[#This Row],[Column4]], IF(AB2293>0,Table1[[#This Row],[Column4]],IF(X2293>0,\"1000\")))","v":false}]
[null,null,null,null,null,null,null,null,null,null,null,null,null,null,null,null,0,null,null,null,null,null,null,null,{"$f":"IF(Table1[[#This Row],[Wage differential Bonus                            - NotePay Rate you are bonusing to]]>0, Table1[[#This Row],[Wage differential Bonus                            - NotePay Rate you are bonusing to]]-Table1[[#This Row],[Pay Rate]], \"\")","v":""},{"$f":"IF(Table1[[#This Row],[Wage differential Bonus                            - NotePay Rate you are bonusing to]]>0,Table1[[#This Row],[Bonus Rate]]*Table1[[#This Row],[Hours]],\"\")","v":""},null,null,null,null,null,{"$f":"IF(OR(AH2294>0.001,AH2294<-0.001),Table1[[#This Row],[Employee '#]],\" \")","v":" "},false,{"$f":"SUMIF(Table1[[#This Row],[Total Wage Diff bonus]:[Bank Bonus]],\"<> \")","v":0},{"$f":"IF(AA2294>0, Table1[[#This Row],[Column4]], IF(AB2294>0,Table1[[#This Row],[Column4]],IF(X2294>0,\"1000\")))","v":false}]
[null,null,null,null,null,null,null,null,null,null,null,null,null,null,null,null,0,null,null,null,null,null,null,null,{"$f":"IF(Table1[[#This Row],[Wage differential Bonus                            - NotePay Rate you are bonusing to]]>0, Table1[[#This Row],[Wage differential Bonus                            - NotePay Rate you are bonusing to]]-Table1[[#This Row],[Pay Rate]], \"\")","v":""},{"$f":"IF(Table1[[#This Row],[Wage differential Bonus                            - NotePay Rate you are bonusing to]]>0,Table1[[#This Row],[Bonus Rate]]*Table1[[#This Row],[Hours]],\"\")","v":""},null,null,null,null,null,{"$f":"IF(OR(AH2298>0.001,AH2298<-0.001),Table1[[#This Row],[Employee '#]],\" \")","v":" "},false,{"$f":"SUMIF(Table1[[#This Row],[Total Wage Diff bonus]:[Bank Bonus]],\"<> \")","v":0},{"$f":"IF(AA2298>0, Table1[[#This Row],[Column4]], IF(AB2298>0,Table1[[#This Row],[Column4]],IF(X2298>0,\"1000\")))","v":false}]
[null,null,null,null,null,null,null,null,null,null,null,null,null,null,null,null,0,null,null,null,null,null,null,null,{"$f":"IF(Table1[[#This Row],[Wage differential Bonus                            - NotePay Rate you are bonusing to]]>0, Table1[[#This Row],[Wage differential Bonus                            - NotePay Rate you are bonusing to]]-Table1[[#This Row],[Pay Rate]], \"\")","v":""},{"$f":"IF(Table1[[#This Row],[Wage differential Bonus                            - NotePay Rate you are bonusing to]]>0,Table1[[#This Row],[Bonus Rate]]*Table1[[#This Row],[Hours]],\"\")","v":""},null,null,null,null,null,{"$f":"IF(OR(AH2299>0.001,AH2299<-0.001),Table1[[#This Row],[Employee '#]],\" \")","v":" "},false,{"$f":"SUMIF(Table1[[#This Row],[Total Wage Diff bonus]:[Bank Bonus]],\"<> \")","v":0},{"$f":"IF(AA2299>0, Table1[[#This Row],[Column4]], IF(AB2299>0,Table1[[#This Row],[Column4]],IF(X2299>0,\"1000\")))","v":false}]
[null,null,null,null,null,null,null,null,null,null,null,null,null,null,null,null,0,null,null,null,null,null,null,null,{"$f":"IF(Table1[[#This Row],[Wage differential Bonus                            - NotePay Rate you are bonusing to]]>0, Table1[[#This Row],[Wage differential Bonus                            - NotePay Rate you are bonusing to]]-Table1[[#This Row],[Pay Rate]], \"\")","v":""},{"$f":"IF(Table1[[#This Row],[Wage differential Bonus                            - NotePay Rate you are bonusing to]]>0,Table1[[#This Row],[Bonus Rate]]*Table1[[#This Row],[Hours]],\"\")","v":""},null,null,null,null,null,{"$f":"IF(OR(AH2302>0.001,AH2302<-0.001),Table1[[#This Row],[Employee '#]],\" \")","v":" "},false,{"$f":"SUMIF(Table1[[#This Row],[Total Wage Diff bonus]:[Bank Bonus]],\"<> \")","v":0},{"$f":"IF(AA2302>0, Table1[[#This Row],[Column4]], IF(AB2302>0,Table1[[#This Row],[Column4]],IF(X2302>0,\"1000\")))","v":false}]
[null,null,null,null,null,null,null,null,null,null,null,null,null,null,null,null,0,null,null,null,null,null,null,null,{"$f":"IF(Table1[[#This Row],[Wage differential Bonus                            - NotePay Rate you are bonusing to]]>0, Table1[[#This Row],[Wage differential Bonus                            - NotePay Rate you are bonusing to]]-Table1[[#This Row],[Pay Rate]], \"\")","v":""},{"$f":"IF(Table1[[#This Row],[Wage differential Bonus                            - NotePay Rate you are bonusing to]]>0,Table1[[#This Row],[Bonus Rate]]*Table1[[#This Row],[Hours]],\"\")","v":""},null,null,null,null,null,{"$f":"IF(OR(AH2304>0.001,AH2304<-0.001),Table1[[#This Row],[Employee '#]],\" \")","v":" "},false,{"$f":"SUMIF(Table1[[#This Row],[Total Wage Diff bonus]:[Bank Bonus]],\"<> \")","v":0},{"$f":"IF(AA2304>0, Table1[[#This Row],[Column4]], IF(AB2304>0,Table1[[#This Row],[Column4]],IF(X2304>0,\"1000\")))","v":false}]
[null,null,null,null,null,null,null,null,null,null,null,null,null,null,null,null,0,null,null,null,null,null,null,null,{"$f":"IF(Table1[[#This Row],[Wage differential Bonus                            - NotePay Rate you are bonusing to]]>0, Table1[[#This Row],[Wage differential Bonus                            - NotePay Rate you are bonusing to]]-Table1[[#This Row],[Pay Rate]], \"\")","v":""},{"$f":"IF(Table1[[#This Row],[Wage differential Bonus                            - NotePay Rate you are bonusing to]]>0,Table1[[#This Row],[Bonus Rate]]*Table1[[#This Row],[Hours]],\"\")","v":""},null,null,null,null,null,{"$f":"IF(OR(AH2307>0.001,AH2307<-0.001),Table1[[#This Row],[Employee '#]],\" \")","v":" "},false,{"$f":"SUMIF(Table1[[#This Row],[Total Wage Diff bonus]:[Bank Bonus]],\"<> \")","v":0},{"$f":"IF(AA2307>0, Table1[[#This Row],[Column4]], IF(AB2307>0,Table1[[#This Row],[Column4]],IF(X2307>0,\"1000\")))","v":false}]
[null,null,null,null,null,null,null,null,null,null,null,null,null,null,null,null,{"$f":"L2308+P2308","v":0},null,null,null,null,null,null,null,{"$f":"IF(Table1[[#This Row],[Wage differential Bonus                            - NotePay Rate you are bonusing to]]>0, Table1[[#This Row],[Wage differential Bonus                            - NotePay Rate you are bonusing to]]-Table1[[#This Row],[Pay Rate]], \"\")","v":""},{"$f":"IF(Table1[[#This Row],[Wage differential Bonus                            - NotePay Rate you are bonusing to]]>0,Table1[[#This Row],[Bonus Rate]]*Table1[[#This Row],[Hours]],\"\")","v":""},null,null,null,null,null,{"$f":"IF(OR(AH2308>0.001,AH2308<-0.001),Table1[[#This Row],[Employee '#]],\" \")","v":" "},{"$f":"IF(AA2308>0, \"28\", IF(AB2308>0,\"53\",IF(X2308>0,\"20\")))","v":false},{"$f":"SUMIF(Table1[[#This Row],[Total Wage Diff bonus]:[Bank Bonus]],\"<> \")","v":0},{"$f":"IF(AA2308>0, Table1[[#This Row],[Column4]], IF(AB2308>0,Table1[[#This Row],[Column4]],IF(X2308>0,\"1000\")))","v":false}]
[null,null,null,null,null,null,null,null,null,null,null,null,null,null,null,null,0,null,null,null,null,null,null,null,{"$f":"IF(Table1[[#This Row],[Wage differential Bonus                            - NotePay Rate you are bonusing to]]>0, Table1[[#This Row],[Wage differential Bonus                            - NotePay Rate you are bonusing to]]-Table1[[#This Row],[Pay Rate]], \"\")","v":""},{"$f":"IF(Table1[[#This Row],[Wage differential Bonus                            - NotePay Rate you are bonusing to]]>0,Table1[[#This Row],[Bonus Rate]]*Table1[[#This Row],[Hours]],\"\")","v":""},null,null,null,null,null,{"$f":"IF(OR(AH2312>0.001,AH2312<-0.001),Table1[[#This Row],[Employee '#]],\" \")","v":" "},false,{"$f":"SUMIF(Table1[[#This Row],[Total Wage Diff bonus]:[Bank Bonus]],\"<> \")","v":0},{"$f":"IF(AA2312>0, Table1[[#This Row],[Column4]], IF(AB2312>0,Table1[[#This Row],[Column4]],IF(X2312>0,\"1000\")))","v":false}]
[null,null,null,null,null,null,null,null,null,null,null,null,null,null,null,null,0,null,null,null,null,null,null,null,{"$f":"IF(Table1[[#This Row],[Wage differential Bonus                            - NotePay Rate you are bonusing to]]>0, Table1[[#This Row],[Wage differential Bonus                            - NotePay Rate you are bonusing to]]-Table1[[#This Row],[Pay Rate]], \"\")","v":""},{"$f":"IF(Table1[[#This Row],[Wage differential Bonus                            - NotePay Rate you are bonusing to]]>0,Table1[[#This Row],[Bonus Rate]]*Table1[[#This Row],[Hours]],\"\")","v":""},null,null,null,null,null,{"$f":"IF(OR(AH2313>0.001,AH2313<-0.001),Table1[[#This Row],[Employee '#]],\" \")","v":" "},false,{"$f":"SUMIF(Table1[[#This Row],[Total Wage Diff bonus]:[Bank Bonus]],\"<> \")","v":0},{"$f":"IF(AA2313>0, Table1[[#This Row],[Column4]], IF(AB2313>0,Table1[[#This Row],[Column4]],IF(X2313>0,\"1000\")))","v":false}]
[null,null,null,null,null,null,null,null,null,null,null,null,null,null,null,null,0,null,null,null,null,null,null,null,{"$f":"IF(Table1[[#This Row],[Wage differential Bonus                            - NotePay Rate you are bonusing to]]>0, Table1[[#This Row],[Wage differential Bonus                            - NotePay Rate you are bonusing to]]-Table1[[#This Row],[Pay Rate]], \"\")","v":""},{"$f":"IF(Table1[[#This Row],[Wage differential Bonus                            - NotePay Rate you are bonusing to]]>0,Table1[[#This Row],[Bonus Rate]]*Table1[[#This Row],[Hours]],\"\")","v":""},null,null,null,null,null,{"$f":"IF(OR(AH2316>0.001,AH2316<-0.001),Table1[[#This Row],[Employee '#]],\" \")","v":" "},false,{"$f":"SUMIF(Table1[[#This Row],[Total Wage Diff bonus]:[Bank Bonus]],\"<> \")","v":0},{"$f":"IF(AA2316>0, Table1[[#This Row],[Column4]], IF(AB2316>0,Table1[[#This Row],[Column4]],IF(X2316>0,\"1000\")))","v":false}]
[null,null,null,null,null,null,null,null,null,null,null,null,null,null,null,null,0,null,null,null,null,null,null,null,{"$f":"IF(Table1[[#This Row],[Wage differential Bonus                            - NotePay Rate you are bonusing to]]>0, Table1[[#This Row],[Wage differential Bonus                            - NotePay Rate you are bonusing to]]-Table1[[#This Row],[Pay Rate]], \"\")","v":""},{"$f":"IF(Table1[[#This Row],[Wage differential Bonus                            - NotePay Rate you are bonusing to]]>0,Table1[[#This Row],[Bonus Rate]]*Table1[[#This Row],[Hours]],\"\")","v":""},null,null,null,null,null,{"$f":"IF(OR(AH2317>0.001,AH2317<-0.001),Table1[[#This Row],[Employee '#]],\" \")","v":" "},false,{"$f":"SUMIF(Table1[[#This Row],[Total Wage Diff bonus]:[Bank Bonus]],\"<> \")","v":0},{"$f":"IF(AA2317>0, Table1[[#This Row],[Column4]], IF(AB2317>0,Table1[[#This Row],[Column4]],IF(X2317>0,\"1000\")))","v":false}]
[null,null,null,null,null,null,null,null,null,null,null,null,null,null,null,null,0,null,null,null,null,null,null,null,{"$f":"IF(Table1[[#This Row],[Wage differential Bonus                            - NotePay Rate you are bonusing to]]>0, Table1[[#This Row],[Wage differential Bonus                            - NotePay Rate you are bonusing to]]-Table1[[#This Row],[Pay Rate]], \"\")","v":""},{"$f":"IF(Table1[[#This Row],[Wage differential Bonus                            - NotePay Rate you are bonusing to]]>0,Table1[[#This Row],[Bonus Rate]]*Table1[[#This Row],[Hours]],\"\")","v":""},null,null,null,null,null,{"$f":"IF(OR(AH2320>0.001,AH2320<-0.001),Table1[[#This Row],[Employee '#]],\" \")","v":" "},false,{"$f":"SUMIF(Table1[[#This Row],[Total Wage Diff bonus]:[Bank Bonus]],\"<> \")","v":0},{"$f":"IF(AA2320>0, Table1[[#This Row],[Column4]], IF(AB2320>0,Table1[[#This Row],[Column4]],IF(X2320>0,\"1000\")))","v":false}]
[null,null,null,null,null,null,null,null,null,null,null,null,null,null,null,null,0,null,null,null,null,null,null,null,{"$f":"IF(Table1[[#This Row],[Wage differential Bonus                            - NotePay Rate you are bonusing to]]>0, Table1[[#This Row],[Wage differential Bonus                            - NotePay Rate you are bonusing to]]-Table1[[#This Row],[Pay Rate]], \"\")","v":""},{"$f":"IF(Table1[[#This Row],[Wage differential Bonus                            - NotePay Rate you are bonusing to]]>0,Table1[[#This Row],[Bonus Rate]]*Table1[[#This Row],[Hours]],\"\")","v":""},null,null,null,null,null,{"$f":"IF(OR(AH2322>0.001,AH2322<-0.001),Table1[[#This Row],[Employee '#]],\" \")","v":" "},false,{"$f":"SUMIF(Table1[[#This Row],[Total Wage Diff bonus]:[Bank Bonus]],\"<> \")","v":0},{"$f":"IF(AA2322>0, Table1[[#This Row],[Column4]], IF(AB2322>0,Table1[[#This Row],[Column4]],IF(X2322>0,\"1000\")))","v":false}]
[null,null,null,null,null,null,null,null,null,null,null,null,null,null,null,null,0,null,null,null,null,null,null,null,{"$f":"IF(Table1[[#This Row],[Wage differential Bonus                            - NotePay Rate you are bonusing to]]>0, Table1[[#This Row],[Wage differential Bonus                            - NotePay Rate you are bonusing to]]-Table1[[#This Row],[Pay Rate]], \"\")","v":""},{"$f":"IF(Table1[[#This Row],[Wage differential Bonus                            - NotePay Rate you are bonusing to]]>0,Table1[[#This Row],[Bonus Rate]]*Table1[[#This Row],[Hours]],\"\")","v":""},null,null,null,null,null,{"$f":"IF(OR(AH2325>0.001,AH2325<-0.001),Table1[[#This Row],[Employee '#]],\" \")","v":" "},false,{"$f":"SUMIF(Table1[[#This Row],[Total Wage Diff bonus]:[Bank Bonus]],\"<> \")","v":0},{"$f":"IF(AA2325>0, Table1[[#This Row],[Column4]], IF(AB2325>0,Table1[[#This Row],[Column4]],IF(X2325>0,\"1000\")))","v":false}]
[null,null,null,null,null,null,null,null,null,null,null,null,null,null,null,null,0,null,null,null,null,null,null,null,{"$f":"IF(Table1[[#This Row],[Wage differential Bonus                            - NotePay Rate you are bonusing to]]>0, Table1[[#This Row],[Wage differential Bonus                            - NotePay Rate you are bonusing to]]-Table1[[#This Row],[Pay Rate]], \"\")","v":""},{"$f":"IF(Table1[[#This Row],[Wage differential Bonus                            - NotePay Rate you are bonusing to]]>0,Table1[[#This Row],[Bonus Rate]]*Table1[[#This Row],[Hours]],\"\")","v":""},null,null,null,null,null,{"$f":"IF(OR(AH2326>0.001,AH2326<-0.001),Table1[[#This Row],[Employee '#]],\" \")","v":" "},false,{"$f":"SUMIF(Table1[[#This Row],[Total Wage Diff bonus]:[Bank Bonus]],\"<> \")","v":0},{"$f":"IF(AA2326>0, Table1[[#This Row],[Column4]], IF(AB2326>0,Table1[[#This Row],[Column4]],IF(X2326>0,\"1000\")))","v":false}]
[null,null,null,null,null,null,null,null,null,null,null,null,null,null,null,null,0,null,null,null,null,null,null,null,{"$f":"IF(Table1[[#This Row],[Wage differential Bonus                            - NotePay Rate you are bonusing to]]>0, Table1[[#This Row],[Wage differential Bonus                            - NotePay Rate you are bonusing to]]-Table1[[#This Row],[Pay Rate]], \"\")","v":""},{"$f":"IF(Table1[[#This Row],[Wage differential Bonus                            - NotePay Rate you are bonusing to]]>0,Table1[[#This Row],[Bonus Rate]]*Table1[[#This Row],[Hours]],\"\")","v":""},null,null,null,null,null,{"$f":"IF(OR(AH2330>0.001,AH2330<-0.001),Table1[[#This Row],[Employee '#]],\" \")","v":" "},false,{"$f":"SUMIF(Table1[[#This Row],[Total Wage Diff bonus]:[Bank Bonus]],\"<> \")","v":0},{"$f":"IF(AA2330>0, Table1[[#This Row],[Column4]], IF(AB2330>0,Table1[[#This Row],[Column4]],IF(X2330>0,\"1000\")))","v":false}]
[null,null,null,null,null,null,null,null,null,null,null,null,null,null,null,null,0,null,null,null,null,null,null,null,{"$f":"IF(Table1[[#This Row],[Wage differential Bonus                            - NotePay Rate you are bonusing to]]>0, Table1[[#This Row],[Wage differential Bonus                            - NotePay Rate you are bonusing to]]-Table1[[#This Row],[Pay Rate]], \"\")","v":""},{"$f":"IF(Table1[[#This Row],[Wage differential Bonus                            - NotePay Rate you are bonusing to]]>0,Table1[[#This Row],[Bonus Rate]]*Table1[[#This Row],[Hours]],\"\")","v":""},null,null,null,null,null,{"$f":"IF(OR(AH2331>0.001,AH2331<-0.001),Table1[[#This Row],[Employee '#]],\" \")","v":" "},false,{"$f":"SUMIF(Table1[[#This Row],[Total Wage Diff bonus]:[Bank Bonus]],\"<> \")","v":0},{"$f":"IF(AA2331>0, Table1[[#This Row],[Column4]], IF(AB2331>0,Table1[[#This Row],[Column4]],IF(X2331>0,\"1000\")))","v":false}]
[null,null,null,null,null,null,null,null,null,null,null,null,null,null,null,null,0,null,null,null,null,null,null,null,{"$f":"IF(Table1[[#This Row],[Wage differential Bonus                            - NotePay Rate you are bonusing to]]>0, Table1[[#This Row],[Wage differential Bonus                            - NotePay Rate you are bonusing to]]-Table1[[#This Row],[Pay Rate]], \"\")","v":""},{"$f":"IF(Table1[[#This Row],[Wage differential Bonus                            - NotePay Rate you are bonusing to]]>0,Table1[[#This Row],[Bonus Rate]]*Table1[[#This Row],[Hours]],\"\")","v":""},null,null,null,null,null,{"$f":"IF(OR(AH2334>0.001,AH2334<-0.001),Table1[[#This Row],[Employee '#]],\" \")","v":" "},false,{"$f":"SUMIF(Table1[[#This Row],[Total Wage Diff bonus]:[Bank Bonus]],\"<> \")","v":0},{"$f":"IF(AA2334>0, Table1[[#This Row],[Column4]], IF(AB2334>0,Table1[[#This Row],[Column4]],IF(X2334>0,\"1000\")))","v":false}]
[null,null,null,null,null,null,null,null,null,null,null,null,null,null,null,null,0,null,null,null,null,null,null,null,{"$f":"IF(Table1[[#This Row],[Wage differential Bonus                            - NotePay Rate you are bonusing to]]>0, Table1[[#This Row],[Wage differential Bonus                            - NotePay Rate you are bonusing to]]-Table1[[#This Row],[Pay Rate]], \"\")","v":""},{"$f":"IF(Table1[[#This Row],[Wage differential Bonus                            - NotePay Rate you are bonusing to]]>0,Table1[[#This Row],[Bonus Rate]]*Table1[[#This Row],[Hours]],\"\")","v":""},null,null,null,null,null,{"$f":"IF(OR(AH2335>0.001,AH2335<-0.001),Table1[[#This Row],[Employee '#]],\" \")","v":" "},false,{"$f":"SUMIF(Table1[[#This Row],[Total Wage Diff bonus]:[Bank Bonus]],\"<> \")","v":0},{"$f":"IF(AA2335>0, Table1[[#This Row],[Column4]], IF(AB2335>0,Table1[[#This Row],[Column4]],IF(X2335>0,\"1000\")))","v":false}]
[null,null,null,null,null,null,null,null,null,null,null,null,null,null,null,null,0,null,null,null,null,null,null,null,{"$f":"IF(Table1[[#This Row],[Wage differential Bonus                            - NotePay Rate you are bonusing to]]>0, Table1[[#This Row],[Wage differential Bonus                            - NotePay Rate you are bonusing to]]-Table1[[#This Row],[Pay Rate]], \"\")","v":""},{"$f":"IF(Table1[[#This Row],[Wage differential Bonus                            - NotePay Rate you are bonusing to]]>0,Table1[[#This Row],[Bonus Rate]]*Table1[[#This Row],[Hours]],\"\")","v":""},null,null,null,null,null,{"$f":"IF(OR(AH2338>0.001,AH2338<-0.001),Table1[[#This Row],[Employee '#]],\" \")","v":" "},false,{"$f":"SUMIF(Table1[[#This Row],[Total Wage Diff bonus]:[Bank Bonus]],\"<> \")","v":0},{"$f":"IF(AA2338>0, Table1[[#This Row],[Column4]], IF(AB2338>0,Table1[[#This Row],[Column4]],IF(X2338>0,\"1000\")))","v":false}]
[null,null,null,null,null,null,null,null,null,null,null,null,null,null,null,null,0,null,null,null,null,null,null,null,{"$f":"IF(Table1[[#This Row],[Wage differential Bonus                            - NotePay Rate you are bonusing to]]>0, Table1[[#This Row],[Wage differential Bonus                            - NotePay Rate you are bonusing to]]-Table1[[#This Row],[Pay Rate]], \"\")","v":""},{"$f":"IF(Table1[[#This Row],[Wage differential Bonus                            - NotePay Rate you are bonusing to]]>0,Table1[[#This Row],[Bonus Rate]]*Table1[[#This Row],[Hours]],\"\")","v":""},null,null,null,null,null,{"$f":"IF(OR(AH2340>0.001,AH2340<-0.001),Table1[[#This Row],[Employee '#]],\" \")","v":" "},false,{"$f":"SUMIF(Table1[[#This Row],[Total Wage Diff bonus]:[Bank Bonus]],\"<> \")","v":0},{"$f":"IF(AA2340>0, Table1[[#This Row],[Column4]], IF(AB2340>0,Table1[[#This Row],[Column4]],IF(X2340>0,\"1000\")))","v":false}]
[null,null,null,null,null,null,null,null,null,null,null,null,null,null,null,null,0,null,null,null,null,null,null,null,{"$f":"IF(Table1[[#This Row],[Wage differential Bonus                            - NotePay Rate you are bonusing to]]>0, Table1[[#This Row],[Wage differential Bonus                            - NotePay Rate you are bonusing to]]-Table1[[#This Row],[Pay Rate]], \"\")","v":""},{"$f":"IF(Table1[[#This Row],[Wage differential Bonus                            - NotePay Rate you are bonusing to]]>0,Table1[[#This Row],[Bonus Rate]]*Table1[[#This Row],[Hours]],\"\")","v":""},null,null,null,null,null,{"$f":"IF(OR(AH2343>0.001,AH2343<-0.001),Table1[[#This Row],[Employee '#]],\" \")","v":" "},false,{"$f":"SUMIF(Table1[[#This Row],[Total Wage Diff bonus]:[Bank Bonus]],\"<> \")","v":0},{"$f":"IF(AA2343>0, Table1[[#This Row],[Column4]], IF(AB2343>0,Table1[[#This Row],[Column4]],IF(X2343>0,\"1000\")))","v":false}]
[null,null,null,null,null,null,null,null,null,null,null,null,null,null,null,null,0,null,null,null,null,null,null,null,{"$f":"IF(Table1[[#This Row],[Wage differential Bonus                            - NotePay Rate you are bonusing to]]>0, Table1[[#This Row],[Wage differential Bonus                            - NotePay Rate you are bonusing to]]-Table1[[#This Row],[Pay Rate]], \"\")","v":""},{"$f":"IF(Table1[[#This Row],[Wage differential Bonus                            - NotePay Rate you are bonusing to]]>0,Table1[[#This Row],[Bonus Rate]]*Table1[[#This Row],[Hours]],\"\")","v":""},null,null,null,null,null,{"$f":"IF(OR(AH2346>0.001,AH2346<-0.001),Table1[[#This Row],[Employee '#]],\" \")","v":" "},false,{"$f":"SUMIF(Table1[[#This Row],[Total Wage Diff bonus]:[Bank Bonus]],\"<> \")","v":0},{"$f":"IF(AA2346>0, Table1[[#This Row],[Column4]], IF(AB2346>0,Table1[[#This Row],[Column4]],IF(X2346>0,\"1000\")))","v":false}]
[null,null,null,null,null,null,null,null,null,null,null,null,null,null,null,null,0,null,null,null,null,null,null,null,{"$f":"IF(Table1[[#This Row],[Wage differential Bonus                            - NotePay Rate you are bonusing to]]>0, Table1[[#This Row],[Wage differential Bonus                            - NotePay Rate you are bonusing to]]-Table1[[#This Row],[Pay Rate]], \"\")","v":""},{"$f":"IF(Table1[[#This Row],[Wage differential Bonus                            - NotePay Rate you are bonusing to]]>0,Table1[[#This Row],[Bonus Rate]]*Table1[[#This Row],[Hours]],\"\")","v":""},null,null,null,null,null,{"$f":"IF(OR(AH2348>0.001,AH2348<-0.001),Table1[[#This Row],[Employee '#]],\" \")","v":" "},false,{"$f":"SUMIF(Table1[[#This Row],[Total Wage Diff bonus]:[Bank Bonus]],\"<> \")","v":0},{"$f":"IF(AA2348>0, Table1[[#This Row],[Column4]], IF(AB2348>0,Table1[[#This Row],[Column4]],IF(X2348>0,\"1000\")))","v":false}]
[null,null,null,null,null,null,null,null,null,null,null,null,null,null,null,null,0,null,null,null,null,null,null,null,{"$f":"IF(Table1[[#This Row],[Wage differential Bonus                            - NotePay Rate you are bonusing to]]>0, Table1[[#This Row],[Wage differential Bonus                            - NotePay Rate you are bonusing to]]-Table1[[#This Row],[Pay Rate]], \"\")","v":""},{"$f":"IF(Table1[[#This Row],[Wage differential Bonus                            - NotePay Rate you are bonusing to]]>0,Table1[[#This Row],[Bonus Rate]]*Table1[[#This Row],[Hours]],\"\")","v":""},null,null,null,null,null,{"$f":"IF(OR(AH2349>0.001,AH2349<-0.001),Table1[[#This Row],[Employee '#]],\" \")","v":" "},false,{"$f":"SUMIF(Table1[[#This Row],[Total Wage Diff bonus]:[Bank Bonus]],\"<> \")","v":0},{"$f":"IF(AA2349>0, Table1[[#This Row],[Column4]], IF(AB2349>0,Table1[[#This Row],[Column4]],IF(X2349>0,\"1000\")))","v":false}]
[null,null,null,null,null,null,null,null,null,null,null,null,null,null,null,null,0,null,null,null,null,null,null,null,{"$f":"IF(Table1[[#This Row],[Wage differential Bonus                            - NotePay Rate you are bonusing to]]>0, Table1[[#This Row],[Wage differential Bonus                            - NotePay Rate you are bonusing to]]-Table1[[#This Row],[Pay Rate]], \"\")","v":""},{"$f":"IF(Table1[[#This Row],[Wage differential Bonus                            - NotePay Rate you are bonusing to]]>0,Table1[[#This Row],[Bonus Rate]]*Table1[[#This Row],[Hours]],\"\")","v":""},null,null,null,null,null,{"$f":"IF(OR(AH2352>0.001,AH2352<-0.001),Table1[[#This Row],[Employee '#]],\" \")","v":" "},false,{"$f":"SUMIF(Table1[[#This Row],[Total Wage Diff bonus]:[Bank Bonus]],\"<> \")","v":0},{"$f":"IF(AA2352>0, Table1[[#This Row],[Column4]], IF(AB2352>0,Table1[[#This Row],[Column4]],IF(X2352>0,\"1000\")))","v":false}]
[null,null,null,null,null,null,null,null,null,null,null,null,null,null,null,null,0,null,null,null,null,null,null,null,{"$f":"IF(Table1[[#This Row],[Wage differential Bonus                            - NotePay Rate you are bonusing to]]>0, Table1[[#This Row],[Wage differential Bonus                            - NotePay Rate you are bonusing to]]-Table1[[#This Row],[Pay Rate]], \"\")","v":""},{"$f":"IF(Table1[[#This Row],[Wage differential Bonus                            - NotePay Rate you are bonusing to]]>0,Table1[[#This Row],[Bonus Rate]]*Table1[[#This Row],[Hours]],\"\")","v":""},null,null,null,null,null,{"$f":"IF(OR(AH2354>0.001,AH2354<-0.001),Table1[[#This Row],[Employee '#]],\" \")","v":" "},false,{"$f":"SUMIF(Table1[[#This Row],[Total Wage Diff bonus]:[Bank Bonus]],\"<> \")","v":0},{"$f":"IF(AA2354>0, Table1[[#This Row],[Column4]], IF(AB2354>0,Table1[[#This Row],[Column4]],IF(X2354>0,\"1000\")))","v":false}]
[null,null,null,null,null,null,null,null,null,null,null,null,null,null,null,null,0,null,null,null,null,null,null,null,{"$f":"IF(Table1[[#This Row],[Wage differential Bonus                            - NotePay Rate you are bonusing to]]>0, Table1[[#This Row],[Wage differential Bonus                            - NotePay Rate you are bonusing to]]-Table1[[#This Row],[Pay Rate]], \"\")","v":""},{"$f":"IF(Table1[[#This Row],[Wage differential Bonus                            - NotePay Rate you are bonusing to]]>0,Table1[[#This Row],[Bonus Rate]]*Table1[[#This Row],[Hours]],\"\")","v":""},null,null,null,null,null,{"$f":"IF(OR(AH2357>0.001,AH2357<-0.001),Table1[[#This Row],[Employee '#]],\" \")","v":" "},false,{"$f":"SUMIF(Table1[[#This Row],[Total Wage Diff bonus]:[Bank Bonus]],\"<> \")","v":0},{"$f":"IF(AA2357>0, Table1[[#This Row],[Column4]], IF(AB2357>0,Table1[[#This Row],[Column4]],IF(X2357>0,\"1000\")))","v":false}]
[null,null,null,null,null,null,null,null,null,null,null,null,null,null,null,null,0,null,null,null,null,null,null,null,{"$f":"IF(Table1[[#This Row],[Wage differential Bonus                            - NotePay Rate you are bonusing to]]>0, Table1[[#This Row],[Wage differential Bonus                            - NotePay Rate you are bonusing to]]-Table1[[#This Row],[Pay Rate]], \"\")","v":""},{"$f":"IF(Table1[[#This Row],[Wage differential Bonus                            - NotePay Rate you are bonusing to]]>0,Table1[[#This Row],[Bonus Rate]]*Table1[[#This Row],[Hours]],\"\")","v":""},null,null,null,null,null,{"$f":"IF(OR(AH2358>0.001,AH2358<-0.001),Table1[[#This Row],[Employee '#]],\" \")","v":" "},false,{"$f":"SUMIF(Table1[[#This Row],[Total Wage Diff bonus]:[Bank Bonus]],\"<> \")","v":0},{"$f":"IF(AA2358>0, Table1[[#This Row],[Column4]], IF(AB2358>0,Table1[[#This Row],[Column4]],IF(X2358>0,\"1000\")))","v":false}]
[null,null,null,null,null,null,null,null,null,null,null,null,null,null,null,null,0,null,null,null,null,null,null,null,{"$f":"IF(Table1[[#This Row],[Wage differential Bonus                            - NotePay Rate you are bonusing to]]>0, Table1[[#This Row],[Wage differential Bonus                            - NotePay Rate you are bonusing to]]-Table1[[#This Row],[Pay Rate]], \"\")","v":""},{"$f":"IF(Table1[[#This Row],[Wage differential Bonus                            - NotePay Rate you are bonusing to]]>0,Table1[[#This Row],[Bonus Rate]]*Table1[[#This Row],[Hours]],\"\")","v":""},null,null,null,null,null,{"$f":"IF(OR(AH2361>0.001,AH2361<-0.001),Table1[[#This Row],[Employee '#]],\" \")","v":" "},false,{"$f":"SUMIF(Table1[[#This Row],[Total Wage Diff bonus]:[Bank Bonus]],\"<> \")","v":0},{"$f":"IF(AA2361>0, Table1[[#This Row],[Column4]], IF(AB2361>0,Table1[[#This Row],[Column4]],IF(X2361>0,\"1000\")))","v":false}]
[null,null,null,null,null,null,null,null,null,null,null,null,null,null,null,null,0,null,null,null,null,null,null,null,{"$f":"IF(Table1[[#This Row],[Wage differential Bonus                            - NotePay Rate you are bonusing to]]>0, Table1[[#This Row],[Wage differential Bonus                            - NotePay Rate you are bonusing to]]-Table1[[#This Row],[Pay Rate]], \"\")","v":""},{"$f":"IF(Table1[[#This Row],[Wage differential Bonus                            - NotePay Rate you are bonusing to]]>0,Table1[[#This Row],[Bonus Rate]]*Table1[[#This Row],[Hours]],\"\")","v":""},null,null,null,null,null,{"$f":"IF(OR(AH2364>0.001,AH2364<-0.001),Table1[[#This Row],[Employee '#]],\" \")","v":" "},false,{"$f":"SUMIF(Table1[[#This Row],[Total Wage Diff bonus]:[Bank Bonus]],\"<> \")","v":0},{"$f":"IF(AA2364>0, Table1[[#This Row],[Column4]], IF(AB2364>0,Table1[[#This Row],[Column4]],IF(X2364>0,\"1000\")))","v":false}]
[null,null,null,null,null,null,null,null,null,null,null,null,null,null,null,null,0,null,null,null,null,null,null,null,{"$f":"IF(Table1[[#This Row],[Wage differential Bonus                            - NotePay Rate you are bonusing to]]>0, Table1[[#This Row],[Wage differential Bonus                            - NotePay Rate you are bonusing to]]-Table1[[#This Row],[Pay Rate]], \"\")","v":""},{"$f":"IF(Table1[[#This Row],[Wage differential Bonus                            - NotePay Rate you are bonusing to]]>0,Table1[[#This Row],[Bonus Rate]]*Table1[[#This Row],[Hours]],\"\")","v":""},null,null,null,null,null,{"$f":"IF(OR(AH2366>0.001,AH2366<-0.001),Table1[[#This Row],[Employee '#]],\" \")","v":" "},false,{"$f":"SUMIF(Table1[[#This Row],[Total Wage Diff bonus]:[Bank Bonus]],\"<> \")","v":0},{"$f":"IF(AA2366>0, Table1[[#This Row],[Column4]], IF(AB2366>0,Table1[[#This Row],[Column4]],IF(X2366>0,\"1000\")))","v":false}]
[null,null,null,null,null,null,null,null,null,null,null,null,null,null,null,null,0,null,null,null,null,null,null,null,{"$f":"IF(Table1[[#This Row],[Wage differential Bonus                            - NotePay Rate you are bonusing to]]>0, Table1[[#This Row],[Wage differential Bonus                            - NotePay Rate you are bonusing to]]-Table1[[#This Row],[Pay Rate]], \"\")","v":""},{"$f":"IF(Table1[[#This Row],[Wage differential Bonus                            - NotePay Rate you are bonusing to]]>0,Table1[[#This Row],[Bonus Rate]]*Table1[[#This Row],[Hours]],\"\")","v":""},null,null,null,null,null,{"$f":"IF(OR(AH2367>0.001,AH2367<-0.001),Table1[[#This Row],[Employee '#]],\" \")","v":" "},false,{"$f":"SUMIF(Table1[[#This Row],[Total Wage Diff bonus]:[Bank Bonus]],\"<> \")","v":0},{"$f":"IF(AA2367>0, Table1[[#This Row],[Column4]], IF(AB2367>0,Table1[[#This Row],[Column4]],IF(X2367>0,\"1000\")))","v":false}]
[null,null,null,null,null,null,null,null,null,null,null,null,null,null,null,null,0,null,null,null,null,null,null,null,{"$f":"IF(Table1[[#This Row],[Wage differential Bonus                            - NotePay Rate you are bonusing to]]>0, Table1[[#This Row],[Wage differential Bonus                            - NotePay Rate you are bonusing to]]-Table1[[#This Row],[Pay Rate]], \"\")","v":""},{"$f":"IF(Table1[[#This Row],[Wage differential Bonus                            - NotePay Rate you are bonusing to]]>0,Table1[[#This Row],[Bonus Rate]]*Table1[[#This Row],[Hours]],\"\")","v":""},null,null,null,null,null,{"$f":"IF(OR(AH2370>0.001,AH2370<-0.001),Table1[[#This Row],[Employee '#]],\" \")","v":" "},false,{"$f":"SUMIF(Table1[[#This Row],[Total Wage Diff bonus]:[Bank Bonus]],\"<> \")","v":0},{"$f":"IF(AA2370>0, Table1[[#This Row],[Column4]], IF(AB2370>0,Table1[[#This Row],[Column4]],IF(X2370>0,\"1000\")))","v":false}]
[null,null,null,null,null,null,null,null,null,null,null,null,null,null,null,null,{"$f":"L2372+P2372","v":0},null,null,null,null,null,null,null,{"$f":"IF(Table1[[#This Row],[Wage differential Bonus                            - NotePay Rate you are bonusing to]]>0, Table1[[#This Row],[Wage differential Bonus                            - NotePay Rate you are bonusing to]]-Table1[[#This Row],[Pay Rate]], \"\")","v":""},{"$f":"IF(Table1[[#This Row],[Wage differential Bonus                            - NotePay Rate you are bonusing to]]>0,Table1[[#This Row],[Bonus Rate]]*Table1[[#This Row],[Hours]],\"\")","v":""},null,null,null,null,null,{"$f":"IF(OR(AH2372>0.001,AH2372<-0.001),Table1[[#This Row],[Employee '#]],\" \")","v":" "},{"$f":"IF(AA2372>0, \"28\", IF(AB2372>0,\"53\",IF(X2372>0,\"20\")))","v":false},{"$f":"SUMIF(Table1[[#This Row],[Total Wage Diff bonus]:[Bank Bonus]],\"<> \")","v":0},{"$f":"IF(AA2372>0, Table1[[#This Row],[Column4]], IF(AB2372>0,Table1[[#This Row],[Column4]],IF(X2372>0,\"1000\")))","v":false}]
[null,null,null,null,null,null,null,null,null,null,null,null,null,null,null,null,0,null,null,null,null,null,null,null,{"$f":"IF(Table1[[#This Row],[Wage differential Bonus                            - NotePay Rate you are bonusing to]]>0, Table1[[#This Row],[Wage differential Bonus                            - NotePay Rate you are bonusing to]]-Table1[[#This Row],[Pay Rate]], \"\")","v":""},{"$f":"IF(Table1[[#This Row],[Wage differential Bonus                            - NotePay Rate you are bonusing to]]>0,Table1[[#This Row],[Bonus Rate]]*Table1[[#This Row],[Hours]],\"\")","v":""},null,null,null,null,null,{"$f":"IF(OR(AH2375>0.001,AH2375<-0.001),Table1[[#This Row],[Employee '#]],\" \")","v":" "},false,{"$f":"SUMIF(Table1[[#This Row],[Total Wage Diff bonus]:[Bank Bonus]],\"<> \")","v":0},{"$f":"IF(AA2375>0, Table1[[#This Row],[Column4]], IF(AB2375>0,Table1[[#This Row],[Column4]],IF(X2375>0,\"1000\")))","v":false}]
[null,null,null,null,null,null,null,null,null,null,null,null,null,null,null,null,0,null,null,null,null,null,null,null,{"$f":"IF(Table1[[#This Row],[Wage differential Bonus                            - NotePay Rate you are bonusing to]]>0, Table1[[#This Row],[Wage differential Bonus                            - NotePay Rate you are bonusing to]]-Table1[[#This Row],[Pay Rate]], \"\")","v":""},{"$f":"IF(Table1[[#This Row],[Wage differential Bonus                            - NotePay Rate you are bonusing to]]>0,Table1[[#This Row],[Bonus Rate]]*Table1[[#This Row],[Hours]],\"\")","v":""},null,null,null,null,null,{"$f":"IF(OR(AH2376>0.001,AH2376<-0.001),Table1[[#This Row],[Employee '#]],\" \")","v":" "},false,{"$f":"SUMIF(Table1[[#This Row],[Total Wage Diff bonus]:[Bank Bonus]],\"<> \")","v":0},{"$f":"IF(AA2376>0, Table1[[#This Row],[Column4]], IF(AB2376>0,Table1[[#This Row],[Column4]],IF(X2376>0,\"1000\")))","v":false}]
[null,null,null,null,null,null,null,null,null,null,null,null,null,null,null,null,0,null,null,null,null,null,null,null,{"$f":"IF(Table1[[#This Row],[Wage differential Bonus                            - NotePay Rate you are bonusing to]]>0, Table1[[#This Row],[Wage differential Bonus                            - NotePay Rate you are bonusing to]]-Table1[[#This Row],[Pay Rate]], \"\")","v":""},{"$f":"IF(Table1[[#This Row],[Wage differential Bonus                            - NotePay Rate you are bonusing to]]>0,Table1[[#This Row],[Bonus Rate]]*Table1[[#This Row],[Hours]],\"\")","v":""},null,null,null,null,null,{"$f":"IF(OR(AH2379>0.001,AH2379<-0.001),Table1[[#This Row],[Employee '#]],\" \")","v":" "},false,{"$f":"SUMIF(Table1[[#This Row],[Total Wage Diff bonus]:[Bank Bonus]],\"<> \")","v":0},{"$f":"IF(AA2379>0, Table1[[#This Row],[Column4]], IF(AB2379>0,Table1[[#This Row],[Column4]],IF(X2379>0,\"1000\")))","v":false}]
[null,null,null,null,null,null,null,null,null,null,null,null,null,null,null,null,0,null,null,null,null,null,null,null,{"$f":"IF(Table1[[#This Row],[Wage differential Bonus                            - NotePay Rate you are bonusing to]]>0, Table1[[#This Row],[Wage differential Bonus                            - NotePay Rate you are bonusing to]]-Table1[[#This Row],[Pay Rate]], \"\")","v":""},{"$f":"IF(Table1[[#This Row],[Wage differential Bonus                            - NotePay Rate you are bonusing to]]>0,Table1[[#This Row],[Bonus Rate]]*Table1[[#This Row],[Hours]],\"\")","v":""},null,null,null,null,null,{"$f":"IF(OR(AH2382>0.001,AH2382<-0.001),Table1[[#This Row],[Employee '#]],\" \")","v":" "},false,{"$f":"SUMIF(Table1[[#This Row],[Total Wage Diff bonus]:[Bank Bonus]],\"<> \")","v":0},{"$f":"IF(AA2382>0, Table1[[#This Row],[Column4]], IF(AB2382>0,Table1[[#This Row],[Column4]],IF(X2382>0,\"1000\")))","v":false}]
[null,null,null,null,null,null,null,null,null,null,null,null,null,null,null,null,0,null,null,null,null,null,null,null,{"$f":"IF(Table1[[#This Row],[Wage differential Bonus                            - NotePay Rate you are bonusing to]]>0, Table1[[#This Row],[Wage differential Bonus                            - NotePay Rate you are bonusing to]]-Table1[[#This Row],[Pay Rate]], \"\")","v":""},{"$f":"IF(Table1[[#This Row],[Wage differential Bonus                            - NotePay Rate you are bonusing to]]>0,Table1[[#This Row],[Bonus Rate]]*Table1[[#This Row],[Hours]],\"\")","v":""},null,null,null,null,null,{"$f":"IF(OR(AH2384>0.001,AH2384<-0.001),Table1[[#This Row],[Employee '#]],\" \")","v":" "},false,{"$f":"SUMIF(Table1[[#This Row],[Total Wage Diff bonus]:[Bank Bonus]],\"<> \")","v":0},{"$f":"IF(AA2384>0, Table1[[#This Row],[Column4]], IF(AB2384>0,Table1[[#This Row],[Column4]],IF(X2384>0,\"1000\")))","v":false}]
[null,null,null,null,null,null,null,null,null,null,null,null,null,null,null,null,0,null,null,null,null,null,null,null,{"$f":"IF(Table1[[#This Row],[Wage differential Bonus                            - NotePay Rate you are bonusing to]]>0, Table1[[#This Row],[Wage differential Bonus                            - NotePay Rate you are bonusing to]]-Table1[[#This Row],[Pay Rate]], \"\")","v":""},{"$f":"IF(Table1[[#This Row],[Wage differential Bonus                            - NotePay Rate you are bonusing to]]>0,Table1[[#This Row],[Bonus Rate]]*Table1[[#This Row],[Hours]],\"\")","v":""},null,null,null,null,null,{"$f":"IF(OR(AH2385>0.001,AH2385<-0.001),Table1[[#This Row],[Employee '#]],\" \")","v":" "},false,{"$f":"SUMIF(Table1[[#This Row],[Total Wage Diff bonus]:[Bank Bonus]],\"<> \")","v":0},{"$f":"IF(AA2385>0, Table1[[#This Row],[Column4]], IF(AB2385>0,Table1[[#This Row],[Column4]],IF(X2385>0,\"1000\")))","v":false}]
[null,null,null,null,null,null,null,null,null,null,null,null,null,null,null,null,0,null,null,null,null,null,null,null,{"$f":"IF(Table1[[#This Row],[Wage differential Bonus                            - NotePay Rate you are bonusing to]]>0, Table1[[#This Row],[Wage differential Bonus                            - NotePay Rate you are bonusing to]]-Table1[[#This Row],[Pay Rate]], \"\")","v":""},{"$f":"IF(Table1[[#This Row],[Wage differential Bonus                            - NotePay Rate you are bonusing to]]>0,Table1[[#This Row],[Bonus Rate]]*Table1[[#This Row],[Hours]],\"\")","v":""},null,null,null,null,null,{"$f":"IF(OR(AH2387>0.001,AH2387<-0.001),Table1[[#This Row],[Employee '#]],\" \")","v":" "},false,{"$f":"SUMIF(Table1[[#This Row],[Total Wage Diff bonus]:[Bank Bonus]],\"<> \")","v":0},{"$f":"IF(AA2387>0, Table1[[#This Row],[Column4]], IF(AB2387>0,Table1[[#This Row],[Column4]],IF(X2387>0,\"1000\")))","v":false}]
[null,null,null,null,null,null,null,null,null,null,null,null,null,null,null,null,0,null,null,null,null,null,null,null,{"$f":"IF(Table1[[#This Row],[Wage differential Bonus                            - NotePay Rate you are bonusing to]]>0, Table1[[#This Row],[Wage differential Bonus                            - NotePay Rate you are bonusing to]]-Table1[[#This Row],[Pay Rate]], \"\")","v":""},{"$f":"IF(Table1[[#This Row],[Wage differential Bonus                            - NotePay Rate you are bonusing to]]>0,Table1[[#This Row],[Bonus Rate]]*Table1[[#This Row],[Hours]],\"\")","v":""},null,null,null,null,null,{"$f":"IF(OR(AH2390>0.001,AH2390<-0.001),Table1[[#This Row],[Employee '#]],\" \")","v":" "},false,{"$f":"SUMIF(Table1[[#This Row],[Total Wage Diff bonus]:[Bank Bonus]],\"<> \")","v":0},{"$f":"IF(AA2390>0, Table1[[#This Row],[Column4]], IF(AB2390>0,Table1[[#This Row],[Column4]],IF(X2390>0,\"1000\")))","v":false}]
[null,null,null,null,null,null,null,null,null,null,null,null,null,null,null,null,0,null,null,null,null,null,null,null,{"$f":"IF(Table1[[#This Row],[Wage differential Bonus                            - NotePay Rate you are bonusing to]]>0, Table1[[#This Row],[Wage differential Bonus                            - NotePay Rate you are bonusing to]]-Table1[[#This Row],[Pay Rate]], \"\")","v":""},{"$f":"IF(Table1[[#This Row],[Wage differential Bonus                            - NotePay Rate you are bonusing to]]>0,Table1[[#This Row],[Bonus Rate]]*Table1[[#This Row],[Hours]],\"\")","v":""},null,null,null,null,null,{"$f":"IF(OR(AH2393>0.001,AH2393<-0.001),Table1[[#This Row],[Employee '#]],\" \")","v":" "},false,{"$f":"SUMIF(Table1[[#This Row],[Total Wage Diff bonus]:[Bank Bonus]],\"<> \")","v":0},{"$f":"IF(AA2393>0, Table1[[#This Row],[Column4]], IF(AB2393>0,Table1[[#This Row],[Column4]],IF(X2393>0,\"1000\")))","v":false}]
[null,null,null,null,null,null,null,null,null,null,null,null,null,null,null,null,0,null,null,null,null,null,null,null,{"$f":"IF(Table1[[#This Row],[Wage differential Bonus                            - NotePay Rate you are bonusing to]]>0, Table1[[#This Row],[Wage differential Bonus                            - NotePay Rate you are bonusing to]]-Table1[[#This Row],[Pay Rate]], \"\")","v":""},{"$f":"IF(Table1[[#This Row],[Wage differential Bonus                            - NotePay Rate you are bonusing to]]>0,Table1[[#This Row],[Bonus Rate]]*Table1[[#This Row],[Hours]],\"\")","v":""},null,null,null,null,null,{"$f":"IF(OR(AH2394>0.001,AH2394<-0.001),Table1[[#This Row],[Employee '#]],\" \")","v":" "},false,{"$f":"SUMIF(Table1[[#This Row],[Total Wage Diff bonus]:[Bank Bonus]],\"<> \")","v":0},{"$f":"IF(AA2394>0, Table1[[#This Row],[Column4]], IF(AB2394>0,Table1[[#This Row],[Column4]],IF(X2394>0,\"1000\")))","v":false}]
[null,null,null,null,null,null,null,null,null,null,null,null,null,null,null,null,0,null,null,null,null,null,null,null,{"$f":"IF(Table1[[#This Row],[Wage differential Bonus                            - NotePay Rate you are bonusing to]]>0, Table1[[#This Row],[Wage differential Bonus                            - NotePay Rate you are bonusing to]]-Table1[[#This Row],[Pay Rate]], \"\")","v":""},{"$f":"IF(Table1[[#This Row],[Wage differential Bonus                            - NotePay Rate you are bonusing to]]>0,Table1[[#This Row],[Bonus Rate]]*Table1[[#This Row],[Hours]],\"\")","v":""},null,null,null,null,null,{"$f":"IF(OR(AH2398>0.001,AH2398<-0.001),Table1[[#This Row],[Employee '#]],\" \")","v":" "},false,{"$f":"SUMIF(Table1[[#This Row],[Total Wage Diff bonus]:[Bank Bonus]],\"<> \")","v":0},{"$f":"IF(AA2398>0, Table1[[#This Row],[Column4]], IF(AB2398>0,Table1[[#This Row],[Column4]],IF(X2398>0,\"1000\")))","v":false}]
[null,null,null,null,null,null,null,null,null,null,null,null,null,null,null,null,0,null,null,null,null,null,null,null,{"$f":"IF(Table1[[#This Row],[Wage differential Bonus                            - NotePay Rate you are bonusing to]]>0, Table1[[#This Row],[Wage differential Bonus                            - NotePay Rate you are bonusing to]]-Table1[[#This Row],[Pay Rate]], \"\")","v":""},{"$f":"IF(Table1[[#This Row],[Wage differential Bonus                            - NotePay Rate you are bonusing to]]>0,Table1[[#This Row],[Bonus Rate]]*Table1[[#This Row],[Hours]],\"\")","v":""},null,null,null,null,null,{"$f":"IF(OR(AH2399>0.001,AH2399<-0.001),Table1[[#This Row],[Employee '#]],\" \")","v":" "},false,{"$f":"SUMIF(Table1[[#This Row],[Total Wage Diff bonus]:[Bank Bonus]],\"<> \")","v":0},{"$f":"IF(AA2399>0, Table1[[#This Row],[Column4]], IF(AB2399>0,Table1[[#This Row],[Column4]],IF(X2399>0,\"1000\")))","v":false}]
[null,null,null,null,null,null,null,null,null,null,null,null,null,null,null,null,0,null,null,null,null,null,null,null,{"$f":"IF(Table1[[#This Row],[Wage differential Bonus                            - NotePay Rate you are bonusing to]]>0, Table1[[#This Row],[Wage differential Bonus                            - NotePay Rate you are bonusing to]]-Table1[[#This Row],[Pay Rate]], \"\")","v":""},{"$f":"IF(Table1[[#This Row],[Wage differential Bonus                            - NotePay Rate you are bonusing to]]>0,Table1[[#This Row],[Bonus Rate]]*Table1[[#This Row],[Hours]],\"\")","v":""},null,null,null,null,null,{"$f":"IF(OR(AH2402>0.001,AH2402<-0.001),Table1[[#This Row],[Employee '#]],\" \")","v":" "},false,{"$f":"SUMIF(Table1[[#This Row],[Total Wage Diff bonus]:[Bank Bonus]],\"<> \")","v":0},{"$f":"IF(AA2402>0, Table1[[#This Row],[Column4]], IF(AB2402>0,Table1[[#This Row],[Column4]],IF(X2402>0,\"1000\")))","v":false}]
[null,null,null,null,null,null,null,null,null,null,null,null,null,null,null,null,0,null,null,null,null,null,null,null,{"$f":"IF(Table1[[#This Row],[Wage differential Bonus                            - NotePay Rate you are bonusing to]]>0, Table1[[#This Row],[Wage differential Bonus                            - NotePay Rate you are bonusing to]]-Table1[[#This Row],[Pay Rate]], \"\")","v":""},{"$f":"IF(Table1[[#This Row],[Wage differential Bonus                            - NotePay Rate you are bonusing to]]>0,Table1[[#This Row],[Bonus Rate]]*Table1[[#This Row],[Hours]],\"\")","v":""},null,null,null,null,null,{"$f":"IF(OR(AH2403>0.001,AH2403<-0.001),Table1[[#This Row],[Employee '#]],\" \")","v":" "},false,{"$f":"SUMIF(Table1[[#This Row],[Total Wage Diff bonus]:[Bank Bonus]],\"<> \")","v":0},{"$f":"IF(AA2403>0, Table1[[#This Row],[Column4]], IF(AB2403>0,Table1[[#This Row],[Column4]],IF(X2403>0,\"1000\")))","v":false}]
[null,null,null,null,null,null,null,null,null,null,null,null,null,null,null,null,0,null,null,null,null,null,null,null,{"$f":"IF(Table1[[#This Row],[Wage differential Bonus                            - NotePay Rate you are bonusing to]]>0, Table1[[#This Row],[Wage differential Bonus                            - NotePay Rate you are bonusing to]]-Table1[[#This Row],[Pay Rate]], \"\")","v":""},{"$f":"IF(Table1[[#This Row],[Wage differential Bonus                            - NotePay Rate you are bonusing to]]>0,Table1[[#This Row],[Bonus Rate]]*Table1[[#This Row],[Hours]],\"\")","v":""},null,null,null,null,null,{"$f":"IF(OR(AH2405>0.001,AH2405<-0.001),Table1[[#This Row],[Employee '#]],\" \")","v":" "},false,{"$f":"SUMIF(Table1[[#This Row],[Total Wage Diff bonus]:[Bank Bonus]],\"<> \")","v":0},{"$f":"IF(AA2405>0, Table1[[#This Row],[Column4]], IF(AB2405>0,Table1[[#This Row],[Column4]],IF(X2405>0,\"1000\")))","v":false}]
[null,null,null,null,null,null,null,null,null,null,null,null,null,null,null,null,0,null,null,null,null,null,null,null,{"$f":"IF(Table1[[#This Row],[Wage differential Bonus                            - NotePay Rate you are bonusing to]]>0, Table1[[#This Row],[Wage differential Bonus                            - NotePay Rate you are bonusing to]]-Table1[[#This Row],[Pay Rate]], \"\")","v":""},{"$f":"IF(Table1[[#This Row],[Wage differential Bonus                            - NotePay Rate you are bonusing to]]>0,Table1[[#This Row],[Bonus Rate]]*Table1[[#This Row],[Hours]],\"\")","v":""},null,null,null,null,null,{"$f":"IF(OR(AH2408>0.001,AH2408<-0.001),Table1[[#This Row],[Employee '#]],\" \")","v":" "},false,{"$f":"SUMIF(Table1[[#This Row],[Total Wage Diff bonus]:[Bank Bonus]],\"<> \")","v":0},{"$f":"IF(AA2408>0, Table1[[#This Row],[Column4]], IF(AB2408>0,Table1[[#This Row],[Column4]],IF(X2408>0,\"1000\")))","v":false}]
[null,null,null,null,null,null,null,null,null,null,null,null,null,null,null,null,0,null,null,null,null,null,null,null,{"$f":"IF(Table1[[#This Row],[Wage differential Bonus                            - NotePay Rate you are bonusing to]]>0, Table1[[#This Row],[Wage differential Bonus                            - NotePay Rate you are bonusing to]]-Table1[[#This Row],[Pay Rate]], \"\")","v":""},{"$f":"IF(Table1[[#This Row],[Wage differential Bonus                            - NotePay Rate you are bonusing to]]>0,Table1[[#This Row],[Bonus Rate]]*Table1[[#This Row],[Hours]],\"\")","v":""},null,null,null,null,null,{"$f":"IF(OR(AH2411>0.001,AH2411<-0.001),Table1[[#This Row],[Employee '#]],\" \")","v":" "},false,{"$f":"SUMIF(Table1[[#This Row],[Total Wage Diff bonus]:[Bank Bonus]],\"<> \")","v":0},{"$f":"IF(AA2411>0, Table1[[#This Row],[Column4]], IF(AB2411>0,Table1[[#This Row],[Column4]],IF(X2411>0,\"1000\")))","v":false}]
[null,null,null,null,null,null,null,null,null,null,null,null,null,null,null,null,0,null,null,null,null,null,null,null,{"$f":"IF(Table1[[#This Row],[Wage differential Bonus                            - NotePay Rate you are bonusing to]]>0, Table1[[#This Row],[Wage differential Bonus                            - NotePay Rate you are bonusing to]]-Table1[[#This Row],[Pay Rate]], \"\")","v":""},{"$f":"IF(Table1[[#This Row],[Wage differential Bonus                            - NotePay Rate you are bonusing to]]>0,Table1[[#This Row],[Bonus Rate]]*Table1[[#This Row],[Hours]],\"\")","v":""},null,null,null,null,null,{"$f":"IF(OR(AH2412>0.001,AH2412<-0.001),Table1[[#This Row],[Employee '#]],\" \")","v":" "},false,{"$f":"SUMIF(Table1[[#This Row],[Total Wage Diff bonus]:[Bank Bonus]],\"<> \")","v":0},{"$f":"IF(AA2412>0, Table1[[#This Row],[Column4]], IF(AB2412>0,Table1[[#This Row],[Column4]],IF(X2412>0,\"1000\")))","v":false}]
[null,null,null,null,null,null,null,null,null,null,null,null,null,null,null,null,0,null,null,null,null,null,null,null,{"$f":"IF(Table1[[#This Row],[Wage differential Bonus                            - NotePay Rate you are bonusing to]]>0, Table1[[#This Row],[Wage differential Bonus                            - NotePay Rate you are bonusing to]]-Table1[[#This Row],[Pay Rate]], \"\")","v":""},{"$f":"IF(Table1[[#This Row],[Wage differential Bonus                            - NotePay Rate you are bonusing to]]>0,Table1[[#This Row],[Bonus Rate]]*Table1[[#This Row],[Hours]],\"\")","v":""},null,null,null,null,null,{"$f":"IF(OR(AH2416>0.001,AH2416<-0.001),Table1[[#This Row],[Employee '#]],\" \")","v":" "},false,{"$f":"SUMIF(Table1[[#This Row],[Total Wage Diff bonus]:[Bank Bonus]],\"<> \")","v":0},{"$f":"IF(AA2416>0, Table1[[#This Row],[Column4]], IF(AB2416>0,Table1[[#This Row],[Column4]],IF(X2416>0,\"1000\")))","v":false}]
[null,null,null,null,null,null,null,null,null,null,null,null,null,null,null,null,0,null,null,null,null,null,null,null,{"$f":"IF(Table1[[#This Row],[Wage differential Bonus                            - NotePay Rate you are bonusing to]]>0, Table1[[#This Row],[Wage differential Bonus                            - NotePay Rate you are bonusing to]]-Table1[[#This Row],[Pay Rate]], \"\")","v":""},{"$f":"IF(Table1[[#This Row],[Wage differential Bonus                            - NotePay Rate you are bonusing to]]>0,Table1[[#This Row],[Bonus Rate]]*Table1[[#This Row],[Hours]],\"\")","v":""},null,null,null,null,null,{"$f":"IF(OR(AH2417>0.001,AH2417<-0.001),Table1[[#This Row],[Employee '#]],\" \")","v":" "},false,{"$f":"SUMIF(Table1[[#This Row],[Total Wage Diff bonus]:[Bank Bonus]],\"<> \")","v":0},{"$f":"IF(AA2417>0, Table1[[#This Row],[Column4]], IF(AB2417>0,Table1[[#This Row],[Column4]],IF(X2417>0,\"1000\")))","v":false}]
[null,null,null,null,null,null,null,null,null,null,null,null,null,null,null,null,0,null,null,null,null,null,null,null,{"$f":"IF(Table1[[#This Row],[Wage differential Bonus                            - NotePay Rate you are bonusing to]]>0, Table1[[#This Row],[Wage differential Bonus                            - NotePay Rate you are bonusing to]]-Table1[[#This Row],[Pay Rate]], \"\")","v":""},{"$f":"IF(Table1[[#This Row],[Wage differential Bonus                            - NotePay Rate you are bonusing to]]>0,Table1[[#This Row],[Bonus Rate]]*Table1[[#This Row],[Hours]],\"\")","v":""},null,null,null,null,null,{"$f":"IF(OR(AH2420>0.001,AH2420<-0.001),Table1[[#This Row],[Employee '#]],\" \")","v":" "},false,{"$f":"SUMIF(Table1[[#This Row],[Total Wage Diff bonus]:[Bank Bonus]],\"<> \")","v":0},{"$f":"IF(AA2420>0, Table1[[#This Row],[Column4]], IF(AB2420>0,Table1[[#This Row],[Column4]],IF(X2420>0,\"1000\")))","v":false}]
[null,null,null,null,null,null,null,null,null,null,null,null,null,null,null,null,0,null,null,null,null,null,null,null,{"$f":"IF(Table1[[#This Row],[Wage differential Bonus                            - NotePay Rate you are bonusing to]]>0, Table1[[#This Row],[Wage differential Bonus                            - NotePay Rate you are bonusing to]]-Table1[[#This Row],[Pay Rate]], \"\")","v":""},{"$f":"IF(Table1[[#This Row],[Wage differential Bonus                            - NotePay Rate you are bonusing to]]>0,Table1[[#This Row],[Bonus Rate]]*Table1[[#This Row],[Hours]],\"\")","v":""},null,null,null,null,null,{"$f":"IF(OR(AH2421>0.001,AH2421<-0.001),Table1[[#This Row],[Employee '#]],\" \")","v":" "},false,{"$f":"SUMIF(Table1[[#This Row],[Total Wage Diff bonus]:[Bank Bonus]],\"<> \")","v":0},{"$f":"IF(AA2421>0, Table1[[#This Row],[Column4]], IF(AB2421>0,Table1[[#This Row],[Column4]],IF(X2421>0,\"1000\")))","v":false}]
[null,null,null,null,null,null,null,null,null,null,null,null,null,null,null,null,0,null,null,null,null,null,null,null,{"$f":"IF(Table1[[#This Row],[Wage differential Bonus                            - NotePay Rate you are bonusing to]]>0, Table1[[#This Row],[Wage differential Bonus                            - NotePay Rate you are bonusing to]]-Table1[[#This Row],[Pay Rate]], \"\")","v":""},{"$f":"IF(Table1[[#This Row],[Wage differential Bonus                            - NotePay Rate you are bonusing to]]>0,Table1[[#This Row],[Bonus Rate]]*Table1[[#This Row],[Hours]],\"\")","v":""},null,null,null,null,null,{"$f":"IF(OR(AH2425>0.001,AH2425<-0.001),Table1[[#This Row],[Employee '#]],\" \")","v":" "},false,{"$f":"SUMIF(Table1[[#This Row],[Total Wage Diff bonus]:[Bank Bonus]],\"<> \")","v":0},{"$f":"IF(AA2425>0, Table1[[#This Row],[Column4]], IF(AB2425>0,Table1[[#This Row],[Column4]],IF(X2425>0,\"1000\")))","v":false}]
[null,null,null,null,null,null,null,null,null,null,null,null,null,null,null,null,0,null,null,null,null,null,null,null,{"$f":"IF(Table1[[#This Row],[Wage differential Bonus                            - NotePay Rate you are bonusing to]]>0, Table1[[#This Row],[Wage differential Bonus                            - NotePay Rate you are bonusing to]]-Table1[[#This Row],[Pay Rate]], \"\")","v":""},{"$f":"IF(Table1[[#This Row],[Wage differential Bonus                            - NotePay Rate you are bonusing to]]>0,Table1[[#This Row],[Bonus Rate]]*Table1[[#This Row],[Hours]],\"\")","v":""},null,null,null,null,null,{"$f":"IF(OR(AH2426>0.001,AH2426<-0.001),Table1[[#This Row],[Employee '#]],\" \")","v":" "},false,{"$f":"SUMIF(Table1[[#This Row],[Total Wage Diff bonus]:[Bank Bonus]],\"<> \")","v":0},{"$f":"IF(AA2426>0, Table1[[#This Row],[Column4]], IF(AB2426>0,Table1[[#This Row],[Column4]],IF(X2426>0,\"1000\")))","v":false}]
[null,null,null,null,null,null,null,null,null,null,null,null,null,null,null,null,0,null,null,null,null,null,null,null,{"$f":"IF(Table1[[#This Row],[Wage differential Bonus                            - NotePay Rate you are bonusing to]]>0, Table1[[#This Row],[Wage differential Bonus                            - NotePay Rate you are bonusing to]]-Table1[[#This Row],[Pay Rate]], \"\")","v":""},{"$f":"IF(Table1[[#This Row],[Wage differential Bonus                            - NotePay Rate you are bonusing to]]>0,Table1[[#This Row],[Bonus Rate]]*Table1[[#This Row],[Hours]],\"\")","v":""},null,null,null,null,null,{"$f":"IF(OR(AH2429>0.001,AH2429<-0.001),Table1[[#This Row],[Employee '#]],\" \")","v":" "},false,{"$f":"SUMIF(Table1[[#This Row],[Total Wage Diff bonus]:[Bank Bonus]],\"<> \")","v":0},{"$f":"IF(AA2429>0, Table1[[#This Row],[Column4]], IF(AB2429>0,Table1[[#This Row],[Column4]],IF(X2429>0,\"1000\")))","v":false}]
[null,null,null,null,null,null,null,null,null,null,null,null,null,null,null,null,0,null,null,null,null,null,null,null,{"$f":"IF(Table1[[#This Row],[Wage differential Bonus                            - NotePay Rate you are bonusing to]]>0, Table1[[#This Row],[Wage differential Bonus                            - NotePay Rate you are bonusing to]]-Table1[[#This Row],[Pay Rate]], \"\")","v":""},{"$f":"IF(Table1[[#This Row],[Wage differential Bonus                            - NotePay Rate you are bonusing to]]>0,Table1[[#This Row],[Bonus Rate]]*Table1[[#This Row],[Hours]],\"\")","v":""},null,null,null,null,null,{"$f":"IF(OR(AH2432>0.001,AH2432<-0.001),Table1[[#This Row],[Employee '#]],\" \")","v":" "},false,{"$f":"SUMIF(Table1[[#This Row],[Total Wage Diff bonus]:[Bank Bonus]],\"<> \")","v":0},{"$f":"IF(AA2432>0, Table1[[#This Row],[Column4]], IF(AB2432>0,Table1[[#This Row],[Column4]],IF(X2432>0,\"1000\")))","v":false}]
[null,null,null,null,null,null,null,null,null,null,null,null,null,null,null,null,0,null,null,null,null,null,null,null,{"$f":"IF(Table1[[#This Row],[Wage differential Bonus                            - NotePay Rate you are bonusing to]]>0, Table1[[#This Row],[Wage differential Bonus                            - NotePay Rate you are bonusing to]]-Table1[[#This Row],[Pay Rate]], \"\")","v":""},{"$f":"IF(Table1[[#This Row],[Wage differential Bonus                            - NotePay Rate you are bonusing to]]>0,Table1[[#This Row],[Bonus Rate]]*Table1[[#This Row],[Hours]],\"\")","v":""},null,null,null,null,null,{"$f":"IF(OR(AH2434>0.001,AH2434<-0.001),Table1[[#This Row],[Employee '#]],\" \")","v":" "},false,{"$f":"SUMIF(Table1[[#This Row],[Total Wage Diff bonus]:[Bank Bonus]],\"<> \")","v":0},{"$f":"IF(AA2434>0, Table1[[#This Row],[Column4]], IF(AB2434>0,Table1[[#This Row],[Column4]],IF(X2434>0,\"1000\")))","v":false}]
[null,null,null,null,null,null,null,null,null,null,null,null,null,null,null,null,0,null,null,null,null,null,null,null,{"$f":"IF(Table1[[#This Row],[Wage differential Bonus                            - NotePay Rate you are bonusing to]]>0, Table1[[#This Row],[Wage differential Bonus                            - NotePay Rate you are bonusing to]]-Table1[[#This Row],[Pay Rate]], \"\")","v":""},{"$f":"IF(Table1[[#This Row],[Wage differential Bonus                            - NotePay Rate you are bonusing to]]>0,Table1[[#This Row],[Bonus Rate]]*Table1[[#This Row],[Hours]],\"\")","v":""},null,null,null,null,null,{"$f":"IF(OR(AH2435>0.001,AH2435<-0.001),Table1[[#This Row],[Employee '#]],\" \")","v":" "},false,{"$f":"SUMIF(Table1[[#This Row],[Total Wage Diff bonus]:[Bank Bonus]],\"<> \")","v":0},{"$f":"IF(AA2435>0, Table1[[#This Row],[Column4]], IF(AB2435>0,Table1[[#This Row],[Column4]],IF(X2435>0,\"1000\")))","v":false}]
[null,null,null,null,null,null,null,null,null,null,null,null,null,null,null,null,0,null,null,null,null,null,null,null,{"$f":"IF(Table1[[#This Row],[Wage differential Bonus                            - NotePay Rate you are bonusing to]]>0, Table1[[#This Row],[Wage differential Bonus                            - NotePay Rate you are bonusing to]]-Table1[[#This Row],[Pay Rate]], \"\")","v":""},{"$f":"IF(Table1[[#This Row],[Wage differential Bonus                            - NotePay Rate you are bonusing to]]>0,Table1[[#This Row],[Bonus Rate]]*Table1[[#This Row],[Hours]],\"\")","v":""},null,null,null,null,null,{"$f":"IF(OR(AH2438>0.001,AH2438<-0.001),Table1[[#This Row],[Employee '#]],\" \")","v":" "},false,{"$f":"SUMIF(Table1[[#This Row],[Total Wage Diff bonus]:[Bank Bonus]],\"<> \")","v":0},{"$f":"IF(AA2438>0, Table1[[#This Row],[Column4]], IF(AB2438>0,Table1[[#This Row],[Column4]],IF(X2438>0,\"1000\")))","v":false}]
[null,null,null,null,null,null,null,null,null,null,null,null,null,null,null,null,0,null,null,null,null,null,null,null,{"$f":"IF(Table1[[#This Row],[Wage differential Bonus                            - NotePay Rate you are bonusing to]]>0, Table1[[#This Row],[Wage differential Bonus                            - NotePay Rate you are bonusing to]]-Table1[[#This Row],[Pay Rate]], \"\")","v":""},{"$f":"IF(Table1[[#This Row],[Wage differential Bonus                            - NotePay Rate you are bonusing to]]>0,Table1[[#This Row],[Bonus Rate]]*Table1[[#This Row],[Hours]],\"\")","v":""},null,null,null,null,null,{"$f":"IF(OR(AH2439>0.001,AH2439<-0.001),Table1[[#This Row],[Employee '#]],\" \")","v":" "},false,{"$f":"SUMIF(Table1[[#This Row],[Total Wage Diff bonus]:[Bank Bonus]],\"<> \")","v":0},{"$f":"IF(AA2439>0, Table1[[#This Row],[Column4]], IF(AB2439>0,Table1[[#This Row],[Column4]],IF(X2439>0,\"1000\")))","v":false}]
[null,null,null,null,null,null,null,null,null,null,null,null,null,null,null,null,0,null,null,null,null,null,null,null,{"$f":"IF(Table1[[#This Row],[Wage differential Bonus                            - NotePay Rate you are bonusing to]]>0, Table1[[#This Row],[Wage differential Bonus                            - NotePay Rate you are bonusing to]]-Table1[[#This Row],[Pay Rate]], \"\")","v":""},{"$f":"IF(Table1[[#This Row],[Wage differential Bonus                            - NotePay Rate you are bonusing to]]>0,Table1[[#This Row],[Bonus Rate]]*Table1[[#This Row],[Hours]],\"\")","v":""},null,null,null,null,null,{"$f":"IF(OR(AH2443>0.001,AH2443<-0.001),Table1[[#This Row],[Employee '#]],\" \")","v":" "},false,{"$f":"SUMIF(Table1[[#This Row],[Total Wage Diff bonus]:[Bank Bonus]],\"<> \")","v":0},{"$f":"IF(AA2443>0, Table1[[#This Row],[Column4]], IF(AB2443>0,Table1[[#This Row],[Column4]],IF(X2443>0,\"1000\")))","v":false}]
[null,null,null,null,null,null,null,null,null,null,null,null,null,null,null,null,0,null,null,null,null,null,null,null,{"$f":"IF(Table1[[#This Row],[Wage differential Bonus                            - NotePay Rate you are bonusing to]]>0, Table1[[#This Row],[Wage differential Bonus                            - NotePay Rate you are bonusing to]]-Table1[[#This Row],[Pay Rate]], \"\")","v":""},{"$f":"IF(Table1[[#This Row],[Wage differential Bonus                            - NotePay Rate you are bonusing to]]>0,Table1[[#This Row],[Bonus Rate]]*Table1[[#This Row],[Hours]],\"\")","v":""},null,null,null,null,null,{"$f":"IF(OR(AH2444>0.001,AH2444<-0.001),Table1[[#This Row],[Employee '#]],\" \")","v":" "},false,{"$f":"SUMIF(Table1[[#This Row],[Total Wage Diff bonus]:[Bank Bonus]],\"<> \")","v":0},{"$f":"IF(AA2444>0, Table1[[#This Row],[Column4]], IF(AB2444>0,Table1[[#This Row],[Column4]],IF(X2444>0,\"1000\")))","v":false}]
[null,null,null,null,null,null,null,null,null,null,null,null,null,null,null,null,0,null,null,null,null,null,null,null,{"$f":"IF(Table1[[#This Row],[Wage differential Bonus                            - NotePay Rate you are bonusing to]]>0, Table1[[#This Row],[Wage differential Bonus                            - NotePay Rate you are bonusing to]]-Table1[[#This Row],[Pay Rate]], \"\")","v":""},{"$f":"IF(Table1[[#This Row],[Wage differential Bonus                            - NotePay Rate you are bonusing to]]>0,Table1[[#This Row],[Bonus Rate]]*Table1[[#This Row],[Hours]],\"\")","v":""},null,null,null,null,null,{"$f":"IF(OR(AH2447>0.001,AH2447<-0.001),Table1[[#This Row],[Employee '#]],\" \")","v":" "},false,{"$f":"SUMIF(Table1[[#This Row],[Total Wage Diff bonus]:[Bank Bonus]],\"<> \")","v":0},{"$f":"IF(AA2447>0, Table1[[#This Row],[Column4]], IF(AB2447>0,Table1[[#This Row],[Column4]],IF(X2447>0,\"1000\")))","v":false}]
[null,null,null,null,null,null,null,null,null,null,null,null,null,null,null,null,0,null,null,null,null,null,null,null,{"$f":"IF(Table1[[#This Row],[Wage differential Bonus                            - NotePay Rate you are bonusing to]]>0, Table1[[#This Row],[Wage differential Bonus                            - NotePay Rate you are bonusing to]]-Table1[[#This Row],[Pay Rate]], \"\")","v":""},{"$f":"IF(Table1[[#This Row],[Wage differential Bonus                            - NotePay Rate you are bonusing to]]>0,Table1[[#This Row],[Bonus Rate]]*Table1[[#This Row],[Hours]],\"\")","v":""},null,null,null,null,null,{"$f":"IF(OR(AH2450>0.001,AH2450<-0.001),Table1[[#This Row],[Employee '#]],\" \")","v":" "},false,{"$f":"SUMIF(Table1[[#This Row],[Total Wage Diff bonus]:[Bank Bonus]],\"<> \")","v":0},{"$f":"IF(AA2450>0, Table1[[#This Row],[Column4]], IF(AB2450>0,Table1[[#This Row],[Column4]],IF(X2450>0,\"1000\")))","v":false}]
[null,null,null,null,null,null,null,null,null,null,null,null,null,null,null,null,0,null,null,null,null,null,null,null,{"$f":"IF(Table1[[#This Row],[Wage differential Bonus                            - NotePay Rate you are bonusing to]]>0, Table1[[#This Row],[Wage differential Bonus                            - NotePay Rate you are bonusing to]]-Table1[[#This Row],[Pay Rate]], \"\")","v":""},{"$f":"IF(Table1[[#This Row],[Wage differential Bonus                            - NotePay Rate you are bonusing to]]>0,Table1[[#This Row],[Bonus Rate]]*Table1[[#This Row],[Hours]],\"\")","v":""},null,null,null,null,null,{"$f":"IF(OR(AH2452>0.001,AH2452<-0.001),Table1[[#This Row],[Employee '#]],\" \")","v":" "},false,{"$f":"SUMIF(Table1[[#This Row],[Total Wage Diff bonus]:[Bank Bonus]],\"<> \")","v":0},{"$f":"IF(AA2452>0, Table1[[#This Row],[Column4]], IF(AB2452>0,Table1[[#This Row],[Column4]],IF(X2452>0,\"1000\")))","v":false}]
[null,null,null,null,null,null,null,null,null,null,null,null,null,null,null,null,0,null,null,null,null,null,null,null,{"$f":"IF(Table1[[#This Row],[Wage differential Bonus                            - NotePay Rate you are bonusing to]]>0, Table1[[#This Row],[Wage differential Bonus                            - NotePay Rate you are bonusing to]]-Table1[[#This Row],[Pay Rate]], \"\")","v":""},{"$f":"IF(Table1[[#This Row],[Wage differential Bonus                            - NotePay Rate you are bonusing to]]>0,Table1[[#This Row],[Bonus Rate]]*Table1[[#This Row],[Hours]],\"\")","v":""},null,null,null,null,null,{"$f":"IF(OR(AH2453>0.001,AH2453<-0.001),Table1[[#This Row],[Employee '#]],\" \")","v":" "},false,{"$f":"SUMIF(Table1[[#This Row],[Total Wage Diff bonus]:[Bank Bonus]],\"<> \")","v":0},{"$f":"IF(AA2453>0, Table1[[#This Row],[Column4]], IF(AB2453>0,Table1[[#This Row],[Column4]],IF(X2453>0,\"1000\")))","v":false}]
[null,null,null,null,null,null,null,null,null,null,null,null,null,null,null,null,0,null,null,null,null,null,null,null,{"$f":"IF(Table1[[#This Row],[Wage differential Bonus                            - NotePay Rate you are bonusing to]]>0, Table1[[#This Row],[Wage differential Bonus                            - NotePay Rate you are bonusing to]]-Table1[[#This Row],[Pay Rate]], \"\")","v":""},{"$f":"IF(Table1[[#This Row],[Wage differential Bonus                            - NotePay Rate you are bonusing to]]>0,Table1[[#This Row],[Bonus Rate]]*Table1[[#This Row],[Hours]],\"\")","v":""},null,null,null,null,null,{"$f":"IF(OR(AH2455>0.001,AH2455<-0.001),Table1[[#This Row],[Employee '#]],\" \")","v":" "},false,{"$f":"SUMIF(Table1[[#This Row],[Total Wage Diff bonus]:[Bank Bonus]],\"<> \")","v":0},{"$f":"IF(AA2455>0, Table1[[#This Row],[Column4]], IF(AB2455>0,Table1[[#This Row],[Column4]],IF(X2455>0,\"1000\")))","v":false}]
[null,null,null,null,null,null,null,null,null,null,null,null,null,null,null,null,0,null,null,null,null,null,null,null,{"$f":"IF(Table1[[#This Row],[Wage differential Bonus                            - NotePay Rate you are bonusing to]]>0, Table1[[#This Row],[Wage differential Bonus                            - NotePay Rate you are bonusing to]]-Table1[[#This Row],[Pay Rate]], \"\")","v":""},{"$f":"IF(Table1[[#This Row],[Wage differential Bonus                            - NotePay Rate you are bonusing to]]>0,Table1[[#This Row],[Bonus Rate]]*Table1[[#This Row],[Hours]],\"\")","v":""},null,null,null,null,null,{"$f":"IF(OR(AH2458>0.001,AH2458<-0.001),Table1[[#This Row],[Employee '#]],\" \")","v":" "},false,{"$f":"SUMIF(Table1[[#This Row],[Total Wage Diff bonus]:[Bank Bonus]],\"<> \")","v":0},{"$f":"IF(AA2458>0, Table1[[#This Row],[Column4]], IF(AB2458>0,Table1[[#This Row],[Column4]],IF(X2458>0,\"1000\")))","v":false}]
[null,null,null,null,null,null,null,null,null,null,null,null,null,null,null,null,0,null,null,null,null,null,null,null,{"$f":"IF(Table1[[#This Row],[Wage differential Bonus                            - NotePay Rate you are bonusing to]]>0, Table1[[#This Row],[Wage differential Bonus                            - NotePay Rate you are bonusing to]]-Table1[[#This Row],[Pay Rate]], \"\")","v":""},{"$f":"IF(Table1[[#This Row],[Wage differential Bonus                            - NotePay Rate you are bonusing to]]>0,Table1[[#This Row],[Bonus Rate]]*Table1[[#This Row],[Hours]],\"\")","v":""},null,null,null,null,null,{"$f":"IF(OR(AH2461>0.001,AH2461<-0.001),Table1[[#This Row],[Employee '#]],\" \")","v":" "},false,{"$f":"SUMIF(Table1[[#This Row],[Total Wage Diff bonus]:[Bank Bonus]],\"<> \")","v":0},{"$f":"IF(AA2461>0, Table1[[#This Row],[Column4]], IF(AB2461>0,Table1[[#This Row],[Column4]],IF(X2461>0,\"1000\")))","v":false}]
[null,null,null,null,null,null,null,null,null,null,null,null,null,null,null,null,0,null,null,null,null,null,null,null,{"$f":"IF(Table1[[#This Row],[Wage differential Bonus                            - NotePay Rate you are bonusing to]]>0, Table1[[#This Row],[Wage differential Bonus                            - NotePay Rate you are bonusing to]]-Table1[[#This Row],[Pay Rate]], \"\")","v":""},{"$f":"IF(Table1[[#This Row],[Wage differential Bonus                            - NotePay Rate you are bonusing to]]>0,Table1[[#This Row],[Bonus Rate]]*Table1[[#This Row],[Hours]],\"\")","v":""},null,null,null,null,null,{"$f":"IF(OR(AH2462>0.001,AH2462<-0.001),Table1[[#This Row],[Employee '#]],\" \")","v":" "},false,{"$f":"SUMIF(Table1[[#This Row],[Total Wage Diff bonus]:[Bank Bonus]],\"<> \")","v":0},{"$f":"IF(AA2462>0, Table1[[#This Row],[Column4]], IF(AB2462>0,Table1[[#This Row],[Column4]],IF(X2462>0,\"1000\")))","v":false}]
[null,null,null,null,null,null,null,null,null,null,null,null,null,null,null,null,0,null,null,null,null,null,null,null,{"$f":"IF(Table1[[#This Row],[Wage differential Bonus                            - NotePay Rate you are bonusing to]]>0, Table1[[#This Row],[Wage differential Bonus                            - NotePay Rate you are bonusing to]]-Table1[[#This Row],[Pay Rate]], \"\")","v":""},{"$f":"IF(Table1[[#This Row],[Wage differential Bonus                            - NotePay Rate you are bonusing to]]>0,Table1[[#This Row],[Bonus Rate]]*Table1[[#This Row],[Hours]],\"\")","v":""},null,null,null,null,null,{"$f":"IF(OR(AH2465>0.001,AH2465<-0.001),Table1[[#This Row],[Employee '#]],\" \")","v":" "},false,{"$f":"SUMIF(Table1[[#This Row],[Total Wage Diff bonus]:[Bank Bonus]],\"<> \")","v":0},{"$f":"IF(AA2465>0, Table1[[#This Row],[Column4]], IF(AB2465>0,Table1[[#This Row],[Column4]],IF(X2465>0,\"1000\")))","v":false}]
[null,null,null,null,null,null,null,null,null,null,null,null,null,null,null,null,0,null,null,null,null,null,null,null,{"$f":"IF(Table1[[#This Row],[Wage differential Bonus                            - NotePay Rate you are bonusing to]]>0, Table1[[#This Row],[Wage differential Bonus                            - NotePay Rate you are bonusing to]]-Table1[[#This Row],[Pay Rate]], \"\")","v":""},{"$f":"IF(Table1[[#This Row],[Wage differential Bonus                            - NotePay Rate you are bonusing to]]>0,Table1[[#This Row],[Bonus Rate]]*Table1[[#This Row],[Hours]],\"\")","v":""},null,null,null,null,null,{"$f":"IF(OR(AH2467>0.001,AH2467<-0.001),Table1[[#This Row],[Employee '#]],\" \")","v":" "},false,{"$f":"SUMIF(Table1[[#This Row],[Total Wage Diff bonus]:[Bank Bonus]],\"<> \")","v":0},{"$f":"IF(AA2467>0, Table1[[#This Row],[Column4]], IF(AB2467>0,Table1[[#This Row],[Column4]],IF(X2467>0,\"1000\")))","v":false}]
[null,null,null,null,null,null,null,null,null,null,null,null,null,null,null,null,0,null,null,null,null,null,null,null,{"$f":"IF(Table1[[#This Row],[Wage differential Bonus                            - NotePay Rate you are bonusing to]]>0, Table1[[#This Row],[Wage differential Bonus                            - NotePay Rate you are bonusing to]]-Table1[[#This Row],[Pay Rate]], \"\")","v":""},{"$f":"IF(Table1[[#This Row],[Wage differential Bonus                            - NotePay Rate you are bonusing to]]>0,Table1[[#This Row],[Bonus Rate]]*Table1[[#This Row],[Hours]],\"\")","v":""},null,null,null,null,null,{"$f":"IF(OR(AH2470>0.001,AH2470<-0.001),Table1[[#This Row],[Employee '#]],\" \")","v":" "},false,{"$f":"SUMIF(Table1[[#This Row],[Total Wage Diff bonus]:[Bank Bonus]],\"<> \")","v":0},{"$f":"IF(AA2470>0, Table1[[#This Row],[Column4]], IF(AB2470>0,Table1[[#This Row],[Column4]],IF(X2470>0,\"1000\")))","v":false}]
[null,null,null,null,null,null,null,null,null,null,null,null,null,null,null,null,0,null,null,null,null,null,null,null,{"$f":"IF(Table1[[#This Row],[Wage differential Bonus                            - NotePay Rate you are bonusing to]]>0, Table1[[#This Row],[Wage differential Bonus                            - NotePay Rate you are bonusing to]]-Table1[[#This Row],[Pay Rate]], \"\")","v":""},{"$f":"IF(Table1[[#This Row],[Wage differential Bonus                            - NotePay Rate you are bonusing to]]>0,Table1[[#This Row],[Bonus Rate]]*Table1[[#This Row],[Hours]],\"\")","v":""},null,null,null,null,null,{"$f":"IF(OR(AH2471>0.001,AH2471<-0.001),Table1[[#This Row],[Employee '#]],\" \")","v":" "},false,{"$f":"SUMIF(Table1[[#This Row],[Total Wage Diff bonus]:[Bank Bonus]],\"<> \")","v":0},{"$f":"IF(AA2471>0, Table1[[#This Row],[Column4]], IF(AB2471>0,Table1[[#This Row],[Column4]],IF(X2471>0,\"1000\")))","v":false}]
[null,null,null,null,null,null,null,null,null,null,null,null,null,null,null,null,0,null,null,null,null,null,null,null,{"$f":"IF(Table1[[#This Row],[Wage differential Bonus                            - NotePay Rate you are bonusing to]]>0, Table1[[#This Row],[Wage differential Bonus                            - NotePay Rate you are bonusing to]]-Table1[[#This Row],[Pay Rate]], \"\")","v":""},{"$f":"IF(Table1[[#This Row],[Wage differential Bonus                            - NotePay Rate you are bonusing to]]>0,Table1[[#This Row],[Bonus Rate]]*Table1[[#This Row],[Hours]],\"\")","v":""},null,null,null,null,null,{"$f":"IF(OR(AH2473>0.001,AH2473<-0.001),Table1[[#This Row],[Employee '#]],\" \")","v":" "},false,{"$f":"SUMIF(Table1[[#This Row],[Total Wage Diff bonus]:[Bank Bonus]],\"<> \")","v":0},{"$f":"IF(AA2473>0, Table1[[#This Row],[Column4]], IF(AB2473>0,Table1[[#This Row],[Column4]],IF(X2473>0,\"1000\")))","v":false}]
[null,null,null,null,null,null,null,null,null,null,null,null,null,null,null,null,0,null,null,null,null,null,null,null,{"$f":"IF(Table1[[#This Row],[Wage differential Bonus                            - NotePay Rate you are bonusing to]]>0, Table1[[#This Row],[Wage differential Bonus                            - NotePay Rate you are bonusing to]]-Table1[[#This Row],[Pay Rate]], \"\")","v":""},{"$f":"IF(Table1[[#This Row],[Wage differential Bonus                            - NotePay Rate you are bonusing to]]>0,Table1[[#This Row],[Bonus Rate]]*Table1[[#This Row],[Hours]],\"\")","v":""},null,null,null,null,null,{"$f":"IF(OR(AH2476>0.001,AH2476<-0.001),Table1[[#This Row],[Employee '#]],\" \")","v":" "},false,{"$f":"SUMIF(Table1[[#This Row],[Total Wage Diff bonus]:[Bank Bonus]],\"<> \")","v":0},{"$f":"IF(AA2476>0, Table1[[#This Row],[Column4]], IF(AB2476>0,Table1[[#This Row],[Column4]],IF(X2476>0,\"1000\")))","v":false}]
[null,null,null,null,null,null,null,null,null,null,null,null,null,null,null,null,0,null,null,null,null,null,null,null,{"$f":"IF(Table1[[#This Row],[Wage differential Bonus                            - NotePay Rate you are bonusing to]]>0, Table1[[#This Row],[Wage differential Bonus                            - NotePay Rate you are bonusing to]]-Table1[[#This Row],[Pay Rate]], \"\")","v":""},{"$f":"IF(Table1[[#This Row],[Wage differential Bonus                            - NotePay Rate you are bonusing to]]>0,Table1[[#This Row],[Bonus Rate]]*Table1[[#This Row],[Hours]],\"\")","v":""},null,null,null,null,null,{"$f":"IF(OR(AH2479>0.001,AH2479<-0.001),Table1[[#This Row],[Employee '#]],\" \")","v":" "},false,{"$f":"SUMIF(Table1[[#This Row],[Total Wage Diff bonus]:[Bank Bonus]],\"<> \")","v":0},{"$f":"IF(AA2479>0, Table1[[#This Row],[Column4]], IF(AB2479>0,Table1[[#This Row],[Column4]],IF(X2479>0,\"1000\")))","v":false}]
[null,null,null,null,null,null,null,null,null,null,null,null,null,null,null,null,0,null,null,null,null,null,null,null,{"$f":"IF(Table1[[#This Row],[Wage differential Bonus                            - NotePay Rate you are bonusing to]]>0, Table1[[#This Row],[Wage differential Bonus                            - NotePay Rate you are bonusing to]]-Table1[[#This Row],[Pay Rate]], \"\")","v":""},{"$f":"IF(Table1[[#This Row],[Wage differential Bonus                            - NotePay Rate you are bonusing to]]>0,Table1[[#This Row],[Bonus Rate]]*Table1[[#This Row],[Hours]],\"\")","v":""},null,null,null,null,null,{"$f":"IF(OR(AH2480>0.001,AH2480<-0.001),Table1[[#This Row],[Employee '#]],\" \")","v":" "},false,{"$f":"SUMIF(Table1[[#This Row],[Total Wage Diff bonus]:[Bank Bonus]],\"<> \")","v":0},{"$f":"IF(AA2480>0, Table1[[#This Row],[Column4]], IF(AB2480>0,Table1[[#This Row],[Column4]],IF(X2480>0,\"1000\")))","v":false}]
[null,null,null,null,null,null,null,null,null,null,null,null,null,null,null,null,0,null,null,null,null,null,null,null,{"$f":"IF(Table1[[#This Row],[Wage differential Bonus                            - NotePay Rate you are bonusing to]]>0, Table1[[#This Row],[Wage differential Bonus                            - NotePay Rate you are bonusing to]]-Table1[[#This Row],[Pay Rate]], \"\")","v":""},{"$f":"IF(Table1[[#This Row],[Wage differential Bonus                            - NotePay Rate you are bonusing to]]>0,Table1[[#This Row],[Bonus Rate]]*Table1[[#This Row],[Hours]],\"\")","v":""},null,null,null,null,null,{"$f":"IF(OR(AH2483>0.001,AH2483<-0.001),Table1[[#This Row],[Employee '#]],\" \")","v":" "},false,{"$f":"SUMIF(Table1[[#This Row],[Total Wage Diff bonus]:[Bank Bonus]],\"<> \")","v":0},{"$f":"IF(AA2483>0, Table1[[#This Row],[Column4]], IF(AB2483>0,Table1[[#This Row],[Column4]],IF(X2483>0,\"1000\")))","v":false}]
[null,null,null,null,null,null,null,null,null,null,null,null,null,null,null,null,0,null,null,null,null,null,null,null,{"$f":"IF(Table1[[#This Row],[Wage differential Bonus                            - NotePay Rate you are bonusing to]]>0, Table1[[#This Row],[Wage differential Bonus                            - NotePay Rate you are bonusing to]]-Table1[[#This Row],[Pay Rate]], \"\")","v":""},{"$f":"IF(Table1[[#This Row],[Wage differential Bonus                            - NotePay Rate you are bonusing to]]>0,Table1[[#This Row],[Bonus Rate]]*Table1[[#This Row],[Hours]],\"\")","v":""},null,null,null,null,null,{"$f":"IF(OR(AH2485>0.001,AH2485<-0.001),Table1[[#This Row],[Employee '#]],\" \")","v":" "},false,{"$f":"SUMIF(Table1[[#This Row],[Total Wage Diff bonus]:[Bank Bonus]],\"<> \")","v":0},{"$f":"IF(AA2485>0, Table1[[#This Row],[Column4]], IF(AB2485>0,Table1[[#This Row],[Column4]],IF(X2485>0,\"1000\")))","v":false}]
[null,null,null,null,null,null,null,null,null,null,null,null,null,null,null,null,0,null,null,null,null,null,null,null,{"$f":"IF(Table1[[#This Row],[Wage differential Bonus                            - NotePay Rate you are bonusing to]]>0, Table1[[#This Row],[Wage differential Bonus                            - NotePay Rate you are bonusing to]]-Table1[[#This Row],[Pay Rate]], \"\")","v":""},{"$f":"IF(Table1[[#This Row],[Wage differential Bonus                            - NotePay Rate you are bonusing to]]>0,Table1[[#This Row],[Bonus Rate]]*Table1[[#This Row],[Hours]],\"\")","v":""},null,null,null,null,null,{"$f":"IF(OR(AH2488>0.001,AH2488<-0.001),Table1[[#This Row],[Employee '#]],\" \")","v":" "},false,{"$f":"SUMIF(Table1[[#This Row],[Total Wage Diff bonus]:[Bank Bonus]],\"<> \")","v":0},{"$f":"IF(AA2488>0, Table1[[#This Row],[Column4]], IF(AB2488>0,Table1[[#This Row],[Column4]],IF(X2488>0,\"1000\")))","v":false}]
[null,null,null,null,null,null,null,null,null,null,null,null,null,null,null,null,0,null,null,null,null,null,null,null,{"$f":"IF(Table1[[#This Row],[Wage differential Bonus                            - NotePay Rate you are bonusing to]]>0, Table1[[#This Row],[Wage differential Bonus                            - NotePay Rate you are bonusing to]]-Table1[[#This Row],[Pay Rate]], \"\")","v":""},{"$f":"IF(Table1[[#This Row],[Wage differential Bonus                            - NotePay Rate you are bonusing to]]>0,Table1[[#This Row],[Bonus Rate]]*Table1[[#This Row],[Hours]],\"\")","v":""},null,null,null,null,null,{"$f":"IF(OR(AH2491>0.001,AH2491<-0.001),Table1[[#This Row],[Employee '#]],\" \")","v":" "},false,{"$f":"SUMIF(Table1[[#This Row],[Total Wage Diff bonus]:[Bank Bonus]],\"<> \")","v":0},{"$f":"IF(AA2491>0, Table1[[#This Row],[Column4]], IF(AB2491>0,Table1[[#This Row],[Column4]],IF(X2491>0,\"1000\")))","v":false}]
[null,null,null,null,null,null,null,null,null,null,null,null,null,null,null,null,0,null,null,null,null,null,null,null,{"$f":"IF(Table1[[#This Row],[Wage differential Bonus                            - NotePay Rate you are bonusing to]]>0, Table1[[#This Row],[Wage differential Bonus                            - NotePay Rate you are bonusing to]]-Table1[[#This Row],[Pay Rate]], \"\")","v":""},{"$f":"IF(Table1[[#This Row],[Wage differential Bonus                            - NotePay Rate you are bonusing to]]>0,Table1[[#This Row],[Bonus Rate]]*Table1[[#This Row],[Hours]],\"\")","v":""},null,null,null,null,null,{"$f":"IF(OR(AH2493>0.001,AH2493<-0.001),Table1[[#This Row],[Employee '#]],\" \")","v":" "},false,{"$f":"SUMIF(Table1[[#This Row],[Total Wage Diff bonus]:[Bank Bonus]],\"<> \")","v":0},{"$f":"IF(AA2493>0, Table1[[#This Row],[Column4]], IF(AB2493>0,Table1[[#This Row],[Column4]],IF(X2493>0,\"1000\")))","v":false}]
[null,null,null,null,null,null,null,null,null,null,null,null,null,null,null,null,0,null,null,null,null,null,null,null,{"$f":"IF(Table1[[#This Row],[Wage differential Bonus                            - NotePay Rate you are bonusing to]]>0, Table1[[#This Row],[Wage differential Bonus                            - NotePay Rate you are bonusing to]]-Table1[[#This Row],[Pay Rate]], \"\")","v":""},{"$f":"IF(Table1[[#This Row],[Wage differential Bonus                            - NotePay Rate you are bonusing to]]>0,Table1[[#This Row],[Bonus Rate]]*Table1[[#This Row],[Hours]],\"\")","v":""},null,null,null,null,null,{"$f":"IF(OR(AH2494>0.001,AH2494<-0.001),Table1[[#This Row],[Employee '#]],\" \")","v":" "},false,{"$f":"SUMIF(Table1[[#This Row],[Total Wage Diff bonus]:[Bank Bonus]],\"<> \")","v":0},{"$f":"IF(AA2494>0, Table1[[#This Row],[Column4]], IF(AB2494>0,Table1[[#This Row],[Column4]],IF(X2494>0,\"1000\")))","v":false}]
[null,null,null,null,null,null,null,null,null,null,null,null,null,null,null,null,0,null,null,null,null,null,null,null,{"$f":"IF(Table1[[#This Row],[Wage differential Bonus                            - NotePay Rate you are bonusing to]]>0, Table1[[#This Row],[Wage differential Bonus                            - NotePay Rate you are bonusing to]]-Table1[[#This Row],[Pay Rate]], \"\")","v":""},{"$f":"IF(Table1[[#This Row],[Wage differential Bonus                            - NotePay Rate you are bonusing to]]>0,Table1[[#This Row],[Bonus Rate]]*Table1[[#This Row],[Hours]],\"\")","v":""},null,null,null,null,null,{"$f":"IF(OR(AH2497>0.001,AH2497<-0.001),Table1[[#This Row],[Employee '#]],\" \")","v":" "},false,{"$f":"SUMIF(Table1[[#This Row],[Total Wage Diff bonus]:[Bank Bonus]],\"<> \")","v":0},{"$f":"IF(AA2497>0, Table1[[#This Row],[Column4]], IF(AB2497>0,Table1[[#This Row],[Column4]],IF(X2497>0,\"1000\")))","v":false}]
[null,null,null,null,null,null,null,null,null,null,null,null,null,null,null,null,0,null,null,null,null,null,null,null,{"$f":"IF(Table1[[#This Row],[Wage differential Bonus                            - NotePay Rate you are bonusing to]]>0, Table1[[#This Row],[Wage differential Bonus                            - NotePay Rate you are bonusing to]]-Table1[[#This Row],[Pay Rate]], \"\")","v":""},{"$f":"IF(Table1[[#This Row],[Wage differential Bonus                            - NotePay Rate you are bonusing to]]>0,Table1[[#This Row],[Bonus Rate]]*Table1[[#This Row],[Hours]],\"\")","v":""},null,null,null,null,null,{"$f":"IF(OR(AH2499>0.001,AH2499<-0.001),Table1[[#This Row],[Employee '#]],\" \")","v":" "},false,{"$f":"SUMIF(Table1[[#This Row],[Total Wage Diff bonus]:[Bank Bonus]],\"<> \")","v":0},{"$f":"IF(AA2499>0, Table1[[#This Row],[Column4]], IF(AB2499>0,Table1[[#This Row],[Column4]],IF(X2499>0,\"1000\")))","v":false}]
[null,null,null,null,null,null,null,null,null,null,null,null,null,null,null,null,0,null,null,null,null,null,null,null,{"$f":"IF(Table1[[#This Row],[Wage differential Bonus                            - NotePay Rate you are bonusing to]]>0, Table1[[#This Row],[Wage differential Bonus                            - NotePay Rate you are bonusing to]]-Table1[[#This Row],[Pay Rate]], \"\")","v":""},{"$f":"IF(Table1[[#This Row],[Wage differential Bonus                            - NotePay Rate you are bonusing to]]>0,Table1[[#This Row],[Bonus Rate]]*Table1[[#This Row],[Hours]],\"\")","v":""},null,null,null,null,null,{"$f":"IF(OR(AH2502>0.001,AH2502<-0.001),Table1[[#This Row],[Employee '#]],\" \")","v":" "},false,{"$f":"SUMIF(Table1[[#This Row],[Total Wage Diff bonus]:[Bank Bonus]],\"<> \")","v":0},{"$f":"IF(AA2502>0, Table1[[#This Row],[Column4]], IF(AB2502>0,Table1[[#This Row],[Column4]],IF(X2502>0,\"1000\")))","v":false}]
[null,null,null,null,null,null,null,null,null,null,null,null,null,null,null,null,0,null,null,null,null,null,null,null,{"$f":"IF(Table1[[#This Row],[Wage differential Bonus                            - NotePay Rate you are bonusing to]]>0, Table1[[#This Row],[Wage differential Bonus                            - NotePay Rate you are bonusing to]]-Table1[[#This Row],[Pay Rate]], \"\")","v":""},{"$f":"IF(Table1[[#This Row],[Wage differential Bonus                            - NotePay Rate you are bonusing to]]>0,Table1[[#This Row],[Bonus Rate]]*Table1[[#This Row],[Hours]],\"\")","v":""},null,null,null,null,null,{"$f":"IF(OR(AH2503>0.001,AH2503<-0.001),Table1[[#This Row],[Employee '#]],\" \")","v":" "},false,{"$f":"SUMIF(Table1[[#This Row],[Total Wage Diff bonus]:[Bank Bonus]],\"<> \")","v":0},{"$f":"IF(AA2503>0, Table1[[#This Row],[Column4]], IF(AB2503>0,Table1[[#This Row],[Column4]],IF(X2503>0,\"1000\")))","v":false}]
[null,null,null,null,null,null,null,null,null,null,null,null,null,null,null,null,0,null,null,null,null,null,null,null,{"$f":"IF(Table1[[#This Row],[Wage differential Bonus                            - NotePay Rate you are bonusing to]]>0, Table1[[#This Row],[Wage differential Bonus                            - NotePay Rate you are bonusing to]]-Table1[[#This Row],[Pay Rate]], \"\")","v":""},{"$f":"IF(Table1[[#This Row],[Wage differential Bonus                            - NotePay Rate you are bonusing to]]>0,Table1[[#This Row],[Bonus Rate]]*Table1[[#This Row],[Hours]],\"\")","v":""},null,null,null,null,null,{"$f":"IF(OR(AH2506>0.001,AH2506<-0.001),Table1[[#This Row],[Employee '#]],\" \")","v":" "},false,{"$f":"SUMIF(Table1[[#This Row],[Total Wage Diff bonus]:[Bank Bonus]],\"<> \")","v":0},{"$f":"IF(AA2506>0, Table1[[#This Row],[Column4]], IF(AB2506>0,Table1[[#This Row],[Column4]],IF(X2506>0,\"1000\")))","v":false}]
[null,null,null,null,null,null,null,null,null,null,null,null,null,null,null,null,0,null,null,null,null,null,null,null,{"$f":"IF(Table1[[#This Row],[Wage differential Bonus                            - NotePay Rate you are bonusing to]]>0, Table1[[#This Row],[Wage differential Bonus                            - NotePay Rate you are bonusing to]]-Table1[[#This Row],[Pay Rate]], \"\")","v":""},{"$f":"IF(Table1[[#This Row],[Wage differential Bonus                            - NotePay Rate you are bonusing to]]>0,Table1[[#This Row],[Bonus Rate]]*Table1[[#This Row],[Hours]],\"\")","v":""},null,null,null,null,null,{"$f":"IF(OR(AH2507>0.001,AH2507<-0.001),Table1[[#This Row],[Employee '#]],\" \")","v":" "},false,{"$f":"SUMIF(Table1[[#This Row],[Total Wage Diff bonus]:[Bank Bonus]],\"<> \")","v":0},{"$f":"IF(AA2507>0, Table1[[#This Row],[Column4]], IF(AB2507>0,Table1[[#This Row],[Column4]],IF(X2507>0,\"1000\")))","v":false}]
[null,null,null,null,null,null,null,null,null,null,null,null,null,null,null,null,0,null,null,null,null,null,null,null,{"$f":"IF(Table1[[#This Row],[Wage differential Bonus                            - NotePay Rate you are bonusing to]]>0, Table1[[#This Row],[Wage differential Bonus                            - NotePay Rate you are bonusing to]]-Table1[[#This Row],[Pay Rate]], \"\")","v":""},{"$f":"IF(Table1[[#This Row],[Wage differential Bonus                            - NotePay Rate you are bonusing to]]>0,Table1[[#This Row],[Bonus Rate]]*Table1[[#This Row],[Hours]],\"\")","v":""},null,null,null,null,null,{"$f":"IF(OR(AH2511>0.001,AH2511<-0.001),Table1[[#This Row],[Employee '#]],\" \")","v":" "},false,{"$f":"SUMIF(Table1[[#This Row],[Total Wage Diff bonus]:[Bank Bonus]],\"<> \")","v":0},{"$f":"IF(AA2511>0, Table1[[#This Row],[Column4]], IF(AB2511>0,Table1[[#This Row],[Column4]],IF(X2511>0,\"1000\")))","v":false}]
[null,null,null,null,null,null,null,null,null,null,null,null,null,null,null,null,0,null,null,null,null,null,null,null,{"$f":"IF(Table1[[#This Row],[Wage differential Bonus                            - NotePay Rate you are bonusing to]]>0, Table1[[#This Row],[Wage differential Bonus                            - NotePay Rate you are bonusing to]]-Table1[[#This Row],[Pay Rate]], \"\")","v":""},{"$f":"IF(Table1[[#This Row],[Wage differential Bonus                            - NotePay Rate you are bonusing to]]>0,Table1[[#This Row],[Bonus Rate]]*Table1[[#This Row],[Hours]],\"\")","v":""},null,null,null,null,null,{"$f":"IF(OR(AH2512>0.001,AH2512<-0.001),Table1[[#This Row],[Employee '#]],\" \")","v":" "},false,{"$f":"SUMIF(Table1[[#This Row],[Total Wage Diff bonus]:[Bank Bonus]],\"<> \")","v":0},{"$f":"IF(AA2512>0, Table1[[#This Row],[Column4]], IF(AB2512>0,Table1[[#This Row],[Column4]],IF(X2512>0,\"1000\")))","v":false}]
[null,null,null,null,null,null,null,null,null,null,null,null,null,null,null,null,0,null,null,null,null,null,null,null,{"$f":"IF(Table1[[#This Row],[Wage differential Bonus                            - NotePay Rate you are bonusing to]]>0, Table1[[#This Row],[Wage differential Bonus                            - NotePay Rate you are bonusing to]]-Table1[[#This Row],[Pay Rate]], \"\")","v":""},{"$f":"IF(Table1[[#This Row],[Wage differential Bonus                            - NotePay Rate you are bonusing to]]>0,Table1[[#This Row],[Bonus Rate]]*Table1[[#This Row],[Hours]],\"\")","v":""},null,null,null,null,null,{"$f":"IF(OR(AH2515>0.001,AH2515<-0.001),Table1[[#This Row],[Employee '#]],\" \")","v":" "},false,{"$f":"SUMIF(Table1[[#This Row],[Total Wage Diff bonus]:[Bank Bonus]],\"<> \")","v":0},{"$f":"IF(AA2515>0, Table1[[#This Row],[Column4]], IF(AB2515>0,Table1[[#This Row],[Column4]],IF(X2515>0,\"1000\")))","v":false}]
[null,null,null,null,null,null,null,null,null,null,null,null,null,null,null,null,0,null,null,null,null,null,null,null,{"$f":"IF(Table1[[#This Row],[Wage differential Bonus                            - NotePay Rate you are bonusing to]]>0, Table1[[#This Row],[Wage differential Bonus                            - NotePay Rate you are bonusing to]]-Table1[[#This Row],[Pay Rate]], \"\")","v":""},{"$f":"IF(Table1[[#This Row],[Wage differential Bonus                            - NotePay Rate you are bonusing to]]>0,Table1[[#This Row],[Bonus Rate]]*Table1[[#This Row],[Hours]],\"\")","v":""},null,null,null,null,null,{"$f":"IF(OR(AH2517>0.001,AH2517<-0.001),Table1[[#This Row],[Employee '#]],\" \")","v":" "},false,{"$f":"SUMIF(Table1[[#This Row],[Total Wage Diff bonus]:[Bank Bonus]],\"<> \")","v":0},{"$f":"IF(AA2517>0, Table1[[#This Row],[Column4]], IF(AB2517>0,Table1[[#This Row],[Column4]],IF(X2517>0,\"1000\")))","v":false}]
[null,null,null,null,null,null,null,null,null,null,null,null,null,null,null,null,0,null,null,null,null,null,null,null,{"$f":"IF(Table1[[#This Row],[Wage differential Bonus                            - NotePay Rate you are bonusing to]]>0, Table1[[#This Row],[Wage differential Bonus                            - NotePay Rate you are bonusing to]]-Table1[[#This Row],[Pay Rate]], \"\")","v":""},{"$f":"IF(Table1[[#This Row],[Wage differential Bonus                            - NotePay Rate you are bonusing to]]>0,Table1[[#This Row],[Bonus Rate]]*Table1[[#This Row],[Hours]],\"\")","v":""},null,null,null,null,null,{"$f":"IF(OR(AH2520>0.001,AH2520<-0.001),Table1[[#This Row],[Employee '#]],\" \")","v":" "},false,{"$f":"SUMIF(Table1[[#This Row],[Total Wage Diff bonus]:[Bank Bonus]],\"<> \")","v":0},{"$f":"IF(AA2520>0, Table1[[#This Row],[Column4]], IF(AB2520>0,Table1[[#This Row],[Column4]],IF(X2520>0,\"1000\")))","v":false}]
[null,null,null,null,null,null,null,null,null,null,null,null,null,null,null,null,0,null,null,null,null,null,null,null,{"$f":"IF(Table1[[#This Row],[Wage differential Bonus                            - NotePay Rate you are bonusing to]]>0, Table1[[#This Row],[Wage differential Bonus                            - NotePay Rate you are bonusing to]]-Table1[[#This Row],[Pay Rate]], \"\")","v":""},{"$f":"IF(Table1[[#This Row],[Wage differential Bonus                            - NotePay Rate you are bonusing to]]>0,Table1[[#This Row],[Bonus Rate]]*Table1[[#This Row],[Hours]],\"\")","v":""},null,null,null,null,null,{"$f":"IF(OR(AH2521>0.001,AH2521<-0.001),Table1[[#This Row],[Employee '#]],\" \")","v":" "},false,{"$f":"SUMIF(Table1[[#This Row],[Total Wage Diff bonus]:[Bank Bonus]],\"<> \")","v":0},{"$f":"IF(AA2521>0, Table1[[#This Row],[Column4]], IF(AB2521>0,Table1[[#This Row],[Column4]],IF(X2521>0,\"1000\")))","v":false}]
[null,null,null,null,null,null,null,null,null,null,null,null,null,null,null,null,0,null,null,null,null,null,null,null,{"$f":"IF(Table1[[#This Row],[Wage differential Bonus                            - NotePay Rate you are bonusing to]]>0, Table1[[#This Row],[Wage differential Bonus                            - NotePay Rate you are bonusing to]]-Table1[[#This Row],[Pay Rate]], \"\")","v":""},{"$f":"IF(Table1[[#This Row],[Wage differential Bonus                            - NotePay Rate you are bonusing to]]>0,Table1[[#This Row],[Bonus Rate]]*Table1[[#This Row],[Hours]],\"\")","v":""},null,null,null,null,null,{"$f":"IF(OR(AH2525>0.001,AH2525<-0.001),Table1[[#This Row],[Employee '#]],\" \")","v":" "},false,{"$f":"SUMIF(Table1[[#This Row],[Total Wage Diff bonus]:[Bank Bonus]],\"<> \")","v":0},{"$f":"IF(AA2525>0, Table1[[#This Row],[Column4]], IF(AB2525>0,Table1[[#This Row],[Column4]],IF(X2525>0,\"1000\")))","v":false}]
[null,null,null,null,null,null,null,null,null,null,null,null,null,null,null,null,0,null,null,null,null,null,null,null,{"$f":"IF(Table1[[#This Row],[Wage differential Bonus                            - NotePay Rate you are bonusing to]]>0, Table1[[#This Row],[Wage differential Bonus                            - NotePay Rate you are bonusing to]]-Table1[[#This Row],[Pay Rate]], \"\")","v":""},{"$f":"IF(Table1[[#This Row],[Wage differential Bonus                            - NotePay Rate you are bonusing to]]>0,Table1[[#This Row],[Bonus Rate]]*Table1[[#This Row],[Hours]],\"\")","v":""},null,null,null,null,null,{"$f":"IF(OR(AH2526>0.001,AH2526<-0.001),Table1[[#This Row],[Employee '#]],\" \")","v":" "},false,{"$f":"SUMIF(Table1[[#This Row],[Total Wage Diff bonus]:[Bank Bonus]],\"<> \")","v":0},{"$f":"IF(AA2526>0, Table1[[#This Row],[Column4]], IF(AB2526>0,Table1[[#This Row],[Column4]],IF(X2526>0,\"1000\")))","v":false}]
[null,null,null,null,null,null,null,null,null,null,null,null,null,null,null,null,0,null,null,null,null,null,null,null,{"$f":"IF(Table1[[#This Row],[Wage differential Bonus                            - NotePay Rate you are bonusing to]]>0, Table1[[#This Row],[Wage differential Bonus                            - NotePay Rate you are bonusing to]]-Table1[[#This Row],[Pay Rate]], \"\")","v":""},{"$f":"IF(Table1[[#This Row],[Wage differential Bonus                            - NotePay Rate you are bonusing to]]>0,Table1[[#This Row],[Bonus Rate]]*Table1[[#This Row],[Hours]],\"\")","v":""},null,null,null,null,null,{"$f":"IF(OR(AH2529>0.001,AH2529<-0.001),Table1[[#This Row],[Employee '#]],\" \")","v":" "},false,{"$f":"SUMIF(Table1[[#This Row],[Total Wage Diff bonus]:[Bank Bonus]],\"<> \")","v":0},{"$f":"IF(AA2529>0, Table1[[#This Row],[Column4]], IF(AB2529>0,Table1[[#This Row],[Column4]],IF(X2529>0,\"1000\")))","v":false}]
[null,null,null,null,null,null,null,null,null,null,null,null,null,null,null,null,0,null,null,null,null,null,null,null,{"$f":"IF(Table1[[#This Row],[Wage differential Bonus                            - NotePay Rate you are bonusing to]]>0, Table1[[#This Row],[Wage differential Bonus                            - NotePay Rate you are bonusing to]]-Table1[[#This Row],[Pay Rate]], \"\")","v":""},{"$f":"IF(Table1[[#This Row],[Wage differential Bonus                            - NotePay Rate you are bonusing to]]>0,Table1[[#This Row],[Bonus Rate]]*Table1[[#This Row],[Hours]],\"\")","v":""},null,null,null,null,null,{"$f":"IF(OR(AH2530>0.001,AH2530<-0.001),Table1[[#This Row],[Employee '#]],\" \")","v":" "},false,{"$f":"SUMIF(Table1[[#This Row],[Total Wage Diff bonus]:[Bank Bonus]],\"<> \")","v":0},{"$f":"IF(AA2530>0, Table1[[#This Row],[Column4]], IF(AB2530>0,Table1[[#This Row],[Column4]],IF(X2530>0,\"1000\")))","v":false}]
[null,null,null,null,null,null,null,null,null,null,null,null,null,null,null,null,0,null,null,null,null,null,null,null,{"$f":"IF(Table1[[#This Row],[Wage differential Bonus                            - NotePay Rate you are bonusing to]]>0, Table1[[#This Row],[Wage differential Bonus                            - NotePay Rate you are bonusing to]]-Table1[[#This Row],[Pay Rate]], \"\")","v":""},{"$f":"IF(Table1[[#This Row],[Wage differential Bonus                            - NotePay Rate you are bonusing to]]>0,Table1[[#This Row],[Bonus Rate]]*Table1[[#This Row],[Hours]],\"\")","v":""},null,null,null,null,null,{"$f":"IF(OR(AH2533>0.001,AH2533<-0.001),Table1[[#This Row],[Employee '#]],\" \")","v":" "},false,{"$f":"SUMIF(Table1[[#This Row],[Total Wage Diff bonus]:[Bank Bonus]],\"<> \")","v":0},{"$f":"IF(AA2533>0, Table1[[#This Row],[Column4]], IF(AB2533>0,Table1[[#This Row],[Column4]],IF(X2533>0,\"1000\")))","v":false}]
[null,null,null,null,null,null,null,null,null,null,null,null,null,null,null,null,0,null,null,null,null,null,null,null,{"$f":"IF(Table1[[#This Row],[Wage differential Bonus                            - NotePay Rate you are bonusing to]]>0, Table1[[#This Row],[Wage differential Bonus                            - NotePay Rate you are bonusing to]]-Table1[[#This Row],[Pay Rate]], \"\")","v":""},{"$f":"IF(Table1[[#This Row],[Wage differential Bonus                            - NotePay Rate you are bonusing to]]>0,Table1[[#This Row],[Bonus Rate]]*Table1[[#This Row],[Hours]],\"\")","v":""},null,null,null,null,null,{"$f":"IF(OR(AH2535>0.001,AH2535<-0.001),Table1[[#This Row],[Employee '#]],\" \")","v":" "},false,{"$f":"SUMIF(Table1[[#This Row],[Total Wage Diff bonus]:[Bank Bonus]],\"<> \")","v":0},{"$f":"IF(AA2535>0, Table1[[#This Row],[Column4]], IF(AB2535>0,Table1[[#This Row],[Column4]],IF(X2535>0,\"1000\")))","v":false}]
[null,null,null,null,null,null,null,null,null,null,null,null,null,null,null,null,0,null,null,null,null,null,null,null,{"$f":"IF(Table1[[#This Row],[Wage differential Bonus                            - NotePay Rate you are bonusing to]]>0, Table1[[#This Row],[Wage differential Bonus                            - NotePay Rate you are bonusing to]]-Table1[[#This Row],[Pay Rate]], \"\")","v":""},{"$f":"IF(Table1[[#This Row],[Wage differential Bonus                            - NotePay Rate you are bonusing to]]>0,Table1[[#This Row],[Bonus Rate]]*Table1[[#This Row],[Hours]],\"\")","v":""},null,null,null,null,null,{"$f":"IF(OR(AH2538>0.001,AH2538<-0.001),Table1[[#This Row],[Employee '#]],\" \")","v":" "},false,{"$f":"SUMIF(Table1[[#This Row],[Total Wage Diff bonus]:[Bank Bonus]],\"<> \")","v":0},{"$f":"IF(AA2538>0, Table1[[#This Row],[Column4]], IF(AB2538>0,Table1[[#This Row],[Column4]],IF(X2538>0,\"1000\")))","v":false}]
[null,null,null,null,null,null,null,null,null,null,null,null,null,null,null,null,0,null,null,null,null,null,null,null,{"$f":"IF(Table1[[#This Row],[Wage differential Bonus                            - NotePay Rate you are bonusing to]]>0, Table1[[#This Row],[Wage differential Bonus                            - NotePay Rate you are bonusing to]]-Table1[[#This Row],[Pay Rate]], \"\")","v":""},{"$f":"IF(Table1[[#This Row],[Wage differential Bonus                            - NotePay Rate you are bonusing to]]>0,Table1[[#This Row],[Bonus Rate]]*Table1[[#This Row],[Hours]],\"\")","v":""},null,null,null,null,null,{"$f":"IF(OR(AH2539>0.001,AH2539<-0.001),Table1[[#This Row],[Employee '#]],\" \")","v":" "},false,{"$f":"SUMIF(Table1[[#This Row],[Total Wage Diff bonus]:[Bank Bonus]],\"<> \")","v":0},{"$f":"IF(AA2539>0, Table1[[#This Row],[Column4]], IF(AB2539>0,Table1[[#This Row],[Column4]],IF(X2539>0,\"1000\")))","v":false}]
[null,null,null,null,null,null,null,null,null,null,null,null,null,null,null,null,0,null,null,null,null,null,null,null,{"$f":"IF(Table1[[#This Row],[Wage differential Bonus                            - NotePay Rate you are bonusing to]]>0, Table1[[#This Row],[Wage differential Bonus                            - NotePay Rate you are bonusing to]]-Table1[[#This Row],[Pay Rate]], \"\")","v":""},{"$f":"IF(Table1[[#This Row],[Wage differential Bonus                            - NotePay Rate you are bonusing to]]>0,Table1[[#This Row],[Bonus Rate]]*Table1[[#This Row],[Hours]],\"\")","v":""},null,null,null,null,null,{"$f":"IF(OR(AH2543>0.001,AH2543<-0.001),Table1[[#This Row],[Employee '#]],\" \")","v":" "},false,{"$f":"SUMIF(Table1[[#This Row],[Total Wage Diff bonus]:[Bank Bonus]],\"<> \")","v":0},{"$f":"IF(AA2543>0, Table1[[#This Row],[Column4]], IF(AB2543>0,Table1[[#This Row],[Column4]],IF(X2543>0,\"1000\")))","v":false}]
[null,null,null,null,null,null,null,null,null,null,null,null,null,null,null,null,0,null,null,null,null,null,null,null,{"$f":"IF(Table1[[#This Row],[Wage differential Bonus                            - NotePay Rate you are bonusing to]]>0, Table1[[#This Row],[Wage differential Bonus                            - NotePay Rate you are bonusing to]]-Table1[[#This Row],[Pay Rate]], \"\")","v":""},{"$f":"IF(Table1[[#This Row],[Wage differential Bonus                            - NotePay Rate you are bonusing to]]>0,Table1[[#This Row],[Bonus Rate]]*Table1[[#This Row],[Hours]],\"\")","v":""},null,null,null,null,null,{"$f":"IF(OR(AH2544>0.001,AH2544<-0.001),Table1[[#This Row],[Employee '#]],\" \")","v":" "},false,{"$f":"SUMIF(Table1[[#This Row],[Total Wage Diff bonus]:[Bank Bonus]],\"<> \")","v":0},{"$f":"IF(AA2544>0, Table1[[#This Row],[Column4]], IF(AB2544>0,Table1[[#This Row],[Column4]],IF(X2544>0,\"1000\")))","v":false}]
[null,null,null,null,null,null,null,null,null,null,null,null,null,null,null,null,0,null,null,null,null,null,null,null,{"$f":"IF(Table1[[#This Row],[Wage differential Bonus                            - NotePay Rate you are bonusing to]]>0, Table1[[#This Row],[Wage differential Bonus                            - NotePay Rate you are bonusing to]]-Table1[[#This Row],[Pay Rate]], \"\")","v":""},{"$f":"IF(Table1[[#This Row],[Wage differential Bonus                            - NotePay Rate you are bonusing to]]>0,Table1[[#This Row],[Bonus Rate]]*Table1[[#This Row],[Hours]],\"\")","v":""},null,null,null,null,null,{"$f":"IF(OR(AH2547>0.001,AH2547<-0.001),Table1[[#This Row],[Employee '#]],\" \")","v":" "},false,{"$f":"SUMIF(Table1[[#This Row],[Total Wage Diff bonus]:[Bank Bonus]],\"<> \")","v":0},{"$f":"IF(AA2547>0, Table1[[#This Row],[Column4]], IF(AB2547>0,Table1[[#This Row],[Column4]],IF(X2547>0,\"1000\")))","v":false}]
[null,null,null,null,null,null,null,null,null,null,null,null,null,null,null,null,0,null,null,null,null,null,null,null,{"$f":"IF(Table1[[#This Row],[Wage differential Bonus                            - NotePay Rate you are bonusing to]]>0, Table1[[#This Row],[Wage differential Bonus                            - NotePay Rate you are bonusing to]]-Table1[[#This Row],[Pay Rate]], \"\")","v":""},{"$f":"IF(Table1[[#This Row],[Wage differential Bonus                            - NotePay Rate you are bonusing to]]>0,Table1[[#This Row],[Bonus Rate]]*Table1[[#This Row],[Hours]],\"\")","v":""},null,null,null,null,null,{"$f":"IF(OR(AH2548>0.001,AH2548<-0.001),Table1[[#This Row],[Employee '#]],\" \")","v":" "},false,{"$f":"SUMIF(Table1[[#This Row],[Total Wage Diff bonus]:[Bank Bonus]],\"<> \")","v":0},{"$f":"IF(AA2548>0, Table1[[#This Row],[Column4]], IF(AB2548>0,Table1[[#This Row],[Column4]],IF(X2548>0,\"1000\")))","v":false}]
[null,null,null,null,null,null,null,null,null,null,null,null,null,null,null,null,0,null,null,null,null,null,null,null,{"$f":"IF(Table1[[#This Row],[Wage differential Bonus                            - NotePay Rate you are bonusing to]]>0, Table1[[#This Row],[Wage differential Bonus                            - NotePay Rate you are bonusing to]]-Table1[[#This Row],[Pay Rate]], \"\")","v":""},{"$f":"IF(Table1[[#This Row],[Wage differential Bonus                            - NotePay Rate you are bonusing to]]>0,Table1[[#This Row],[Bonus Rate]]*Table1[[#This Row],[Hours]],\"\")","v":""},null,null,null,null,null,{"$f":"IF(OR(AH2551>0.001,AH2551<-0.001),Table1[[#This Row],[Employee '#]],\" \")","v":" "},false,{"$f":"SUMIF(Table1[[#This Row],[Total Wage Diff bonus]:[Bank Bonus]],\"<> \")","v":0},{"$f":"IF(AA2551>0, Table1[[#This Row],[Column4]], IF(AB2551>0,Table1[[#This Row],[Column4]],IF(X2551>0,\"1000\")))","v":false}]
[null,null,null,null,null,null,null,null,null,null,null,null,null,null,null,null,0,null,null,null,null,null,null,null,{"$f":"IF(Table1[[#This Row],[Wage differential Bonus                            - NotePay Rate you are bonusing to]]>0, Table1[[#This Row],[Wage differential Bonus                            - NotePay Rate you are bonusing to]]-Table1[[#This Row],[Pay Rate]], \"\")","v":""},{"$f":"IF(Table1[[#This Row],[Wage differential Bonus                            - NotePay Rate you are bonusing to]]>0,Table1[[#This Row],[Bonus Rate]]*Table1[[#This Row],[Hours]],\"\")","v":""},null,null,null,null,null,{"$f":"IF(OR(AH2553>0.001,AH2553<-0.001),Table1[[#This Row],[Employee '#]],\" \")","v":" "},false,{"$f":"SUMIF(Table1[[#This Row],[Total Wage Diff bonus]:[Bank Bonus]],\"<> \")","v":0},{"$f":"IF(AA2553>0, Table1[[#This Row],[Column4]], IF(AB2553>0,Table1[[#This Row],[Column4]],IF(X2553>0,\"1000\")))","v":false}]
[null,null,null,null,null,null,null,null,null,null,null,null,null,null,null,null,0,null,null,null,null,null,null,null,{"$f":"IF(Table1[[#This Row],[Wage differential Bonus                            - NotePay Rate you are bonusing to]]>0, Table1[[#This Row],[Wage differential Bonus                            - NotePay Rate you are bonusing to]]-Table1[[#This Row],[Pay Rate]], \"\")","v":""},{"$f":"IF(Table1[[#This Row],[Wage differential Bonus                            - NotePay Rate you are bonusing to]]>0,Table1[[#This Row],[Bonus Rate]]*Table1[[#This Row],[Hours]],\"\")","v":""},null,null,null,null,null,{"$f":"IF(OR(AH2556>0.001,AH2556<-0.001),Table1[[#This Row],[Employee '#]],\" \")","v":" "},false,{"$f":"SUMIF(Table1[[#This Row],[Total Wage Diff bonus]:[Bank Bonus]],\"<> \")","v":0},{"$f":"IF(AA2556>0, Table1[[#This Row],[Column4]], IF(AB2556>0,Table1[[#This Row],[Column4]],IF(X2556>0,\"1000\")))","v":false}]
[null,null,null,null,null,null,null,null,null,null,null,null,null,null,null,null,0,null,null,null,null,null,null,null,{"$f":"IF(Table1[[#This Row],[Wage differential Bonus                            - NotePay Rate you are bonusing to]]>0, Table1[[#This Row],[Wage differential Bonus                            - NotePay Rate you are bonusing to]]-Table1[[#This Row],[Pay Rate]], \"\")","v":""},{"$f":"IF(Table1[[#This Row],[Wage differential Bonus                            - NotePay Rate you are bonusing to]]>0,Table1[[#This Row],[Bonus Rate]]*Table1[[#This Row],[Hours]],\"\")","v":""},null,null,null,null,null,{"$f":"IF(OR(AH2559>0.001,AH2559<-0.001),Table1[[#This Row],[Employee '#]],\" \")","v":" "},false,{"$f":"SUMIF(Table1[[#This Row],[Total Wage Diff bonus]:[Bank Bonus]],\"<> \")","v":0},{"$f":"IF(AA2559>0, Table1[[#This Row],[Column4]], IF(AB2559>0,Table1[[#This Row],[Column4]],IF(X2559>0,\"1000\")))","v":false}]
[null,null,null,null,null,null,null,null,null,null,null,null,null,null,null,null,0,null,null,null,null,null,null,null,{"$f":"IF(Table1[[#This Row],[Wage differential Bonus                            - NotePay Rate you are bonusing to]]>0, Table1[[#This Row],[Wage differential Bonus                            - NotePay Rate you are bonusing to]]-Table1[[#This Row],[Pay Rate]], \"\")","v":""},{"$f":"IF(Table1[[#This Row],[Wage differential Bonus                            - NotePay Rate you are bonusing to]]>0,Table1[[#This Row],[Bonus Rate]]*Table1[[#This Row],[Hours]],\"\")","v":""},null,null,null,null,null,{"$f":"IF(OR(AH2561>0.001,AH2561<-0.001),Table1[[#This Row],[Employee '#]],\" \")","v":" "},false,{"$f":"SUMIF(Table1[[#This Row],[Total Wage Diff bonus]:[Bank Bonus]],\"<> \")","v":0},{"$f":"IF(AA2561>0, Table1[[#This Row],[Column4]], IF(AB2561>0,Table1[[#This Row],[Column4]],IF(X2561>0,\"1000\")))","v":false}]
[null,null,null,null,null,null,null,null,null,null,null,null,null,null,null,null,0,null,null,null,null,null,null,null,{"$f":"IF(Table1[[#This Row],[Wage differential Bonus                            - NotePay Rate you are bonusing to]]>0, Table1[[#This Row],[Wage differential Bonus                            - NotePay Rate you are bonusing to]]-Table1[[#This Row],[Pay Rate]], \"\")","v":""},{"$f":"IF(Table1[[#This Row],[Wage differential Bonus                            - NotePay Rate you are bonusing to]]>0,Table1[[#This Row],[Bonus Rate]]*Table1[[#This Row],[Hours]],\"\")","v":""},null,null,null,null,null,{"$f":"IF(OR(AH2562>0.001,AH2562<-0.001),Table1[[#This Row],[Employee '#]],\" \")","v":" "},false,{"$f":"SUMIF(Table1[[#This Row],[Total Wage Diff bonus]:[Bank Bonus]],\"<> \")","v":0},{"$f":"IF(AA2562>0, Table1[[#This Row],[Column4]], IF(AB2562>0,Table1[[#This Row],[Column4]],IF(X2562>0,\"1000\")))","v":false}]
[null,null,null,null,null,null,null,null,null,null,null,null,null,null,null,null,0,null,null,null,null,null,null,null,{"$f":"IF(Table1[[#This Row],[Wage differential Bonus                            - NotePay Rate you are bonusing to]]>0, Table1[[#This Row],[Wage differential Bonus                            - NotePay Rate you are bonusing to]]-Table1[[#This Row],[Pay Rate]], \"\")","v":""},{"$f":"IF(Table1[[#This Row],[Wage differential Bonus                            - NotePay Rate you are bonusing to]]>0,Table1[[#This Row],[Bonus Rate]]*Table1[[#This Row],[Hours]],\"\")","v":""},null,null,null,null,null,{"$f":"IF(OR(AH2565>0.001,AH2565<-0.001),Table1[[#This Row],[Employee '#]],\" \")","v":" "},false,{"$f":"SUMIF(Table1[[#This Row],[Total Wage Diff bonus]:[Bank Bonus]],\"<> \")","v":0},{"$f":"IF(AA2565>0, Table1[[#This Row],[Column4]], IF(AB2565>0,Table1[[#This Row],[Column4]],IF(X2565>0,\"1000\")))","v":false}]
[null,null,null,null,null,null,null,null,null,null,null,null,null,null,null,null,0,null,null,null,null,null,null,null,{"$f":"IF(Table1[[#This Row],[Wage differential Bonus                            - NotePay Rate you are bonusing to]]>0, Table1[[#This Row],[Wage differential Bonus                            - NotePay Rate you are bonusing to]]-Table1[[#This Row],[Pay Rate]], \"\")","v":""},{"$f":"IF(Table1[[#This Row],[Wage differential Bonus                            - NotePay Rate you are bonusing to]]>0,Table1[[#This Row],[Bonus Rate]]*Table1[[#This Row],[Hours]],\"\")","v":""},null,null,null,null,null,{"$f":"IF(OR(AH2566>0.001,AH2566<-0.001),Table1[[#This Row],[Employee '#]],\" \")","v":" "},false,{"$f":"SUMIF(Table1[[#This Row],[Total Wage Diff bonus]:[Bank Bonus]],\"<> \")","v":0},{"$f":"IF(AA2566>0, Table1[[#This Row],[Column4]], IF(AB2566>0,Table1[[#This Row],[Column4]],IF(X2566>0,\"1000\")))","v":false}]
[null,null,null,null,null,null,null,null,null,null,null,null,null,null,null,null,0,null,null,null,null,null,null,null,{"$f":"IF(Table1[[#This Row],[Wage differential Bonus                            - NotePay Rate you are bonusing to]]>0, Table1[[#This Row],[Wage differential Bonus                            - NotePay Rate you are bonusing to]]-Table1[[#This Row],[Pay Rate]], \"\")","v":""},{"$f":"IF(Table1[[#This Row],[Wage differential Bonus                            - NotePay Rate you are bonusing to]]>0,Table1[[#This Row],[Bonus Rate]]*Table1[[#This Row],[Hours]],\"\")","v":""},null,null,null,null,null,{"$f":"IF(OR(AH2570>0.001,AH2570<-0.001),Table1[[#This Row],[Employee '#]],\" \")","v":" "},false,{"$f":"SUMIF(Table1[[#This Row],[Total Wage Diff bonus]:[Bank Bonus]],\"<> \")","v":0},{"$f":"IF(AA2570>0, Table1[[#This Row],[Column4]], IF(AB2570>0,Table1[[#This Row],[Column4]],IF(X2570>0,\"1000\")))","v":false}]
[null,null,null,null,null,null,null,null,null,null,null,null,null,null,null,null,0,null,null,null,null,null,null,null,{"$f":"IF(Table1[[#This Row],[Wage differential Bonus                            - NotePay Rate you are bonusing to]]>0, Table1[[#This Row],[Wage differential Bonus                            - NotePay Rate you are bonusing to]]-Table1[[#This Row],[Pay Rate]], \"\")","v":""},{"$f":"IF(Table1[[#This Row],[Wage differential Bonus                            - NotePay Rate you are bonusing to]]>0,Table1[[#This Row],[Bonus Rate]]*Table1[[#This Row],[Hours]],\"\")","v":""},null,null,null,null,null,{"$f":"IF(OR(AH2571>0.001,AH2571<-0.001),Table1[[#This Row],[Employee '#]],\" \")","v":" "},false,{"$f":"SUMIF(Table1[[#This Row],[Total Wage Diff bonus]:[Bank Bonus]],\"<> \")","v":0},{"$f":"IF(AA2571>0, Table1[[#This Row],[Column4]], IF(AB2571>0,Table1[[#This Row],[Column4]],IF(X2571>0,\"1000\")))","v":false}]
[null,null,null,null,null,null,null,null,null,null,null,null,null,null,null,null,0,null,null,null,null,null,null,null,{"$f":"IF(Table1[[#This Row],[Wage differential Bonus                            - NotePay Rate you are bonusing to]]>0, Table1[[#This Row],[Wage differential Bonus                            - NotePay Rate you are bonusing to]]-Table1[[#This Row],[Pay Rate]], \"\")","v":""},{"$f":"IF(Table1[[#This Row],[Wage differential Bonus                            - NotePay Rate you are bonusing to]]>0,Table1[[#This Row],[Bonus Rate]]*Table1[[#This Row],[Hours]],\"\")","v":""},null,null,null,null,null,{"$f":"IF(OR(AH2574>0.001,AH2574<-0.001),Table1[[#This Row],[Employee '#]],\" \")","v":" "},false,{"$f":"SUMIF(Table1[[#This Row],[Total Wage Diff bonus]:[Bank Bonus]],\"<> \")","v":0},{"$f":"IF(AA2574>0, Table1[[#This Row],[Column4]], IF(AB2574>0,Table1[[#This Row],[Column4]],IF(X2574>0,\"1000\")))","v":false}]
[null,null,null,null,null,null,null,null,null,null,null,null,null,null,null,null,0,null,null,null,null,null,null,null,{"$f":"IF(Table1[[#This Row],[Wage differential Bonus                            - NotePay Rate you are bonusing to]]>0, Table1[[#This Row],[Wage differential Bonus                            - NotePay Rate you are bonusing to]]-Table1[[#This Row],[Pay Rate]], \"\")","v":""},{"$f":"IF(Table1[[#This Row],[Wage differential Bonus                            - NotePay Rate you are bonusing to]]>0,Table1[[#This Row],[Bonus Rate]]*Table1[[#This Row],[Hours]],\"\")","v":""},null,null,null,null,null,{"$f":"IF(OR(AH2577>0.001,AH2577<-0.001),Table1[[#This Row],[Employee '#]],\" \")","v":" "},false,{"$f":"SUMIF(Table1[[#This Row],[Total Wage Diff bonus]:[Bank Bonus]],\"<> \")","v":0},{"$f":"IF(AA2577>0, Table1[[#This Row],[Column4]], IF(AB2577>0,Table1[[#This Row],[Column4]],IF(X2577>0,\"1000\")))","v":false}]
[null,null,null,null,null,null,null,null,null,null,null,null,null,null,null,null,0,null,null,null,null,null,null,null,{"$f":"IF(Table1[[#This Row],[Wage differential Bonus                            - NotePay Rate you are bonusing to]]>0, Table1[[#This Row],[Wage differential Bonus                            - NotePay Rate you are bonusing to]]-Table1[[#This Row],[Pay Rate]], \"\")","v":""},{"$f":"IF(Table1[[#This Row],[Wage differential Bonus                            - NotePay Rate you are bonusing to]]>0,Table1[[#This Row],[Bonus Rate]]*Table1[[#This Row],[Hours]],\"\")","v":""},null,null,null,null,null,{"$f":"IF(OR(AH2579>0.001,AH2579<-0.001),Table1[[#This Row],[Employee '#]],\" \")","v":" "},false,{"$f":"SUMIF(Table1[[#This Row],[Total Wage Diff bonus]:[Bank Bonus]],\"<> \")","v":0},{"$f":"IF(AA2579>0, Table1[[#This Row],[Column4]], IF(AB2579>0,Table1[[#This Row],[Column4]],IF(X2579>0,\"1000\")))","v":false}]
[null,null,null,null,null,null,null,null,null,null,null,null,null,null,null,null,0,null,null,null,null,null,null,null,{"$f":"IF(Table1[[#This Row],[Wage differential Bonus                            - NotePay Rate you are bonusing to]]>0, Table1[[#This Row],[Wage differential Bonus                            - NotePay Rate you are bonusing to]]-Table1[[#This Row],[Pay Rate]], \"\")","v":""},{"$f":"IF(Table1[[#This Row],[Wage differential Bonus                            - NotePay Rate you are bonusing to]]>0,Table1[[#This Row],[Bonus Rate]]*Table1[[#This Row],[Hours]],\"\")","v":""},null,null,null,null,null,{"$f":"IF(OR(AH2580>0.001,AH2580<-0.001),Table1[[#This Row],[Employee '#]],\" \")","v":" "},false,{"$f":"SUMIF(Table1[[#This Row],[Total Wage Diff bonus]:[Bank Bonus]],\"<> \")","v":0},{"$f":"IF(AA2580>0, Table1[[#This Row],[Column4]], IF(AB2580>0,Table1[[#This Row],[Column4]],IF(X2580>0,\"1000\")))","v":false}]
[null,null,null,null,null,null,null,null,null,null,null,null,null,null,null,null,0,null,null,null,null,null,null,null,{"$f":"IF(Table1[[#This Row],[Wage differential Bonus                            - NotePay Rate you are bonusing to]]>0, Table1[[#This Row],[Wage differential Bonus                            - NotePay Rate you are bonusing to]]-Table1[[#This Row],[Pay Rate]], \"\")","v":""},{"$f":"IF(Table1[[#This Row],[Wage differential Bonus                            - NotePay Rate you are bonusing to]]>0,Table1[[#This Row],[Bonus Rate]]*Table1[[#This Row],[Hours]],\"\")","v":""},null,null,null,null,null,{"$f":"IF(OR(AH2583>0.001,AH2583<-0.001),Table1[[#This Row],[Employee '#]],\" \")","v":" "},false,{"$f":"SUMIF(Table1[[#This Row],[Total Wage Diff bonus]:[Bank Bonus]],\"<> \")","v":0},{"$f":"IF(AA2583>0, Table1[[#This Row],[Column4]], IF(AB2583>0,Table1[[#This Row],[Column4]],IF(X2583>0,\"1000\")))","v":false}]
[null,null,null,null,null,null,null,null,null,null,null,null,null,null,null,null,0,null,null,null,null,null,null,null,{"$f":"IF(Table1[[#This Row],[Wage differential Bonus                            - NotePay Rate you are bonusing to]]>0, Table1[[#This Row],[Wage differential Bonus                            - NotePay Rate you are bonusing to]]-Table1[[#This Row],[Pay Rate]], \"\")","v":""},{"$f":"IF(Table1[[#This Row],[Wage differential Bonus                            - NotePay Rate you are bonusing to]]>0,Table1[[#This Row],[Bonus Rate]]*Table1[[#This Row],[Hours]],\"\")","v":""},null,null,null,null,null,{"$f":"IF(OR(AH2584>0.001,AH2584<-0.001),Table1[[#This Row],[Employee '#]],\" \")","v":" "},false,{"$f":"SUMIF(Table1[[#This Row],[Total Wage Diff bonus]:[Bank Bonus]],\"<> \")","v":0},{"$f":"IF(AA2584>0, Table1[[#This Row],[Column4]], IF(AB2584>0,Table1[[#This Row],[Column4]],IF(X2584>0,\"1000\")))","v":false}]
[null,null,null,null,null,null,null,null,null,null,null,null,null,null,null,null,0,null,null,null,null,null,null,null,{"$f":"IF(Table1[[#This Row],[Wage differential Bonus                            - NotePay Rate you are bonusing to]]>0, Table1[[#This Row],[Wage differential Bonus                            - NotePay Rate you are bonusing to]]-Table1[[#This Row],[Pay Rate]], \"\")","v":""},{"$f":"IF(Table1[[#This Row],[Wage differential Bonus                            - NotePay Rate you are bonusing to]]>0,Table1[[#This Row],[Bonus Rate]]*Table1[[#This Row],[Hours]],\"\")","v":""},null,null,null,null,null,{"$f":"IF(OR(AH2588>0.001,AH2588<-0.001),Table1[[#This Row],[Employee '#]],\" \")","v":" "},false,{"$f":"SUMIF(Table1[[#This Row],[Total Wage Diff bonus]:[Bank Bonus]],\"<> \")","v":0},{"$f":"IF(AA2588>0, Table1[[#This Row],[Column4]], IF(AB2588>0,Table1[[#This Row],[Column4]],IF(X2588>0,\"1000\")))","v":false}]
[null,null,null,null,null,null,null,null,null,null,null,null,null,null,null,null,0,null,null,null,null,null,null,null,{"$f":"IF(Table1[[#This Row],[Wage differential Bonus                            - NotePay Rate you are bonusing to]]>0, Table1[[#This Row],[Wage differential Bonus                            - NotePay Rate you are bonusing to]]-Table1[[#This Row],[Pay Rate]], \"\")","v":""},{"$f":"IF(Table1[[#This Row],[Wage differential Bonus                            - NotePay Rate you are bonusing to]]>0,Table1[[#This Row],[Bonus Rate]]*Table1[[#This Row],[Hours]],\"\")","v":""},null,null,null,null,null,{"$f":"IF(OR(AH2589>0.001,AH2589<-0.001),Table1[[#This Row],[Employee '#]],\" \")","v":" "},false,{"$f":"SUMIF(Table1[[#This Row],[Total Wage Diff bonus]:[Bank Bonus]],\"<> \")","v":0},{"$f":"IF(AA2589>0, Table1[[#This Row],[Column4]], IF(AB2589>0,Table1[[#This Row],[Column4]],IF(X2589>0,\"1000\")))","v":false}]
[null,null,null,null,null,null,null,null,null,null,null,null,null,null,null,null,0,null,null,null,null,null,null,null,{"$f":"IF(Table1[[#This Row],[Wage differential Bonus                            - NotePay Rate you are bonusing to]]>0, Table1[[#This Row],[Wage differential Bonus                            - NotePay Rate you are bonusing to]]-Table1[[#This Row],[Pay Rate]], \"\")","v":""},{"$f":"IF(Table1[[#This Row],[Wage differential Bonus                            - NotePay Rate you are bonusing to]]>0,Table1[[#This Row],[Bonus Rate]]*Table1[[#This Row],[Hours]],\"\")","v":""},null,null,null,null,null,{"$f":"IF(OR(AH2592>0.001,AH2592<-0.001),Table1[[#This Row],[Employee '#]],\" \")","v":" "},false,{"$f":"SUMIF(Table1[[#This Row],[Total Wage Diff bonus]:[Bank Bonus]],\"<> \")","v":0},{"$f":"IF(AA2592>0, Table1[[#This Row],[Column4]], IF(AB2592>0,Table1[[#This Row],[Column4]],IF(X2592>0,\"1000\")))","v":false}]
[null,null,null,null,null,null,null,null,null,null,null,null,null,null,null,null,0,null,null,null,null,null,null,null,{"$f":"IF(Table1[[#This Row],[Wage differential Bonus                            - NotePay Rate you are bonusing to]]>0, Table1[[#This Row],[Wage differential Bonus                            - NotePay Rate you are bonusing to]]-Table1[[#This Row],[Pay Rate]], \"\")","v":""},{"$f":"IF(Table1[[#This Row],[Wage differential Bonus                            - NotePay Rate you are bonusing to]]>0,Table1[[#This Row],[Bonus Rate]]*Table1[[#This Row],[Hours]],\"\")","v":""},null,null,null,null,null,{"$f":"IF(OR(AH2595>0.001,AH2595<-0.001),Table1[[#This Row],[Employee '#]],\" \")","v":" "},false,{"$f":"SUMIF(Table1[[#This Row],[Total Wage Diff bonus]:[Bank Bonus]],\"<> \")","v":0},{"$f":"IF(AA2595>0, Table1[[#This Row],[Column4]], IF(AB2595>0,Table1[[#This Row],[Column4]],IF(X2595>0,\"1000\")))","v":false}]
[null,null,null,null,null,null,null,null,null,null,null,null,null,null,null,null,0,null,null,null,null,null,null,null,{"$f":"IF(Table1[[#This Row],[Wage differential Bonus                            - NotePay Rate you are bonusing to]]>0, Table1[[#This Row],[Wage differential Bonus                            - NotePay Rate you are bonusing to]]-Table1[[#This Row],[Pay Rate]], \"\")","v":""},{"$f":"IF(Table1[[#This Row],[Wage differential Bonus                            - NotePay Rate you are bonusing to]]>0,Table1[[#This Row],[Bonus Rate]]*Table1[[#This Row],[Hours]],\"\")","v":""},null,null,null,null,null,{"$f":"IF(OR(AH2597>0.001,AH2597<-0.001),Table1[[#This Row],[Employee '#]],\" \")","v":" "},false,{"$f":"SUMIF(Table1[[#This Row],[Total Wage Diff bonus]:[Bank Bonus]],\"<> \")","v":0},{"$f":"IF(AA2597>0, Table1[[#This Row],[Column4]], IF(AB2597>0,Table1[[#This Row],[Column4]],IF(X2597>0,\"1000\")))","v":false}]
[null,null,null,null,null,null,null,null,null,null,null,null,null,null,null,null,0,null,null,null,null,null,null,null,{"$f":"IF(Table1[[#This Row],[Wage differential Bonus                            - NotePay Rate you are bonusing to]]>0, Table1[[#This Row],[Wage differential Bonus                            - NotePay Rate you are bonusing to]]-Table1[[#This Row],[Pay Rate]], \"\")","v":""},{"$f":"IF(Table1[[#This Row],[Wage differential Bonus                            - NotePay Rate you are bonusing to]]>0,Table1[[#This Row],[Bonus Rate]]*Table1[[#This Row],[Hours]],\"\")","v":""},null,null,null,null,null,{"$f":"IF(OR(AH2598>0.001,AH2598<-0.001),Table1[[#This Row],[Employee '#]],\" \")","v":" "},false,{"$f":"SUMIF(Table1[[#This Row],[Total Wage Diff bonus]:[Bank Bonus]],\"<> \")","v":0},{"$f":"IF(AA2598>0, Table1[[#This Row],[Column4]], IF(AB2598>0,Table1[[#This Row],[Column4]],IF(X2598>0,\"1000\")))","v":false}]
[null,null,null,null,null,null,null,null,null,null,null,null,null,null,null,null,0,null,null,null,null,null,null,null,{"$f":"IF(Table1[[#This Row],[Wage differential Bonus                            - NotePay Rate you are bonusing to]]>0, Table1[[#This Row],[Wage differential Bonus                            - NotePay Rate you are bonusing to]]-Table1[[#This Row],[Pay Rate]], \"\")","v":""},{"$f":"IF(Table1[[#This Row],[Wage differential Bonus                            - NotePay Rate you are bonusing to]]>0,Table1[[#This Row],[Bonus Rate]]*Table1[[#This Row],[Hours]],\"\")","v":""},null,null,null,null,null,{"$f":"IF(OR(AH2600>0.001,AH2600<-0.001),Table1[[#This Row],[Employee '#]],\" \")","v":" "},false,{"$f":"SUMIF(Table1[[#This Row],[Total Wage Diff bonus]:[Bank Bonus]],\"<> \")","v":0},{"$f":"IF(AA2600>0, Table1[[#This Row],[Column4]], IF(AB2600>0,Table1[[#This Row],[Column4]],IF(X2600>0,\"1000\")))","v":false}]
[null,null,null,null,null,null,null,null,null,null,null,null,null,null,null,null,0,null,null,null,null,null,null,null,{"$f":"IF(Table1[[#This Row],[Wage differential Bonus                            - NotePay Rate you are bonusing to]]>0, Table1[[#This Row],[Wage differential Bonus                            - NotePay Rate you are bonusing to]]-Table1[[#This Row],[Pay Rate]], \"\")","v":""},{"$f":"IF(Table1[[#This Row],[Wage differential Bonus                            - NotePay Rate you are bonusing to]]>0,Table1[[#This Row],[Bonus Rate]]*Table1[[#This Row],[Hours]],\"\")","v":""},null,null,null,null,null,{"$f":"IF(OR(AH2603>0.001,AH2603<-0.001),Table1[[#This Row],[Employee '#]],\" \")","v":" "},false,{"$f":"SUMIF(Table1[[#This Row],[Total Wage Diff bonus]:[Bank Bonus]],\"<> \")","v":0},{"$f":"IF(AA2603>0, Table1[[#This Row],[Column4]], IF(AB2603>0,Table1[[#This Row],[Column4]],IF(X2603>0,\"1000\")))","v":false}]
[null,null,null,null,null,null,null,null,null,null,null,null,null,null,null,null,0,null,null,null,null,null,null,null,{"$f":"IF(Table1[[#This Row],[Wage differential Bonus                            - NotePay Rate you are bonusing to]]>0, Table1[[#This Row],[Wage differential Bonus                            - NotePay Rate you are bonusing to]]-Table1[[#This Row],[Pay Rate]], \"\")","v":""},{"$f":"IF(Table1[[#This Row],[Wage differential Bonus                            - NotePay Rate you are bonusing to]]>0,Table1[[#This Row],[Bonus Rate]]*Table1[[#This Row],[Hours]],\"\")","v":""},null,null,null,null,null,{"$f":"IF(OR(AH2606>0.001,AH2606<-0.001),Table1[[#This Row],[Employee '#]],\" \")","v":" "},false,{"$f":"SUMIF(Table1[[#This Row],[Total Wage Diff bonus]:[Bank Bonus]],\"<> \")","v":0},{"$f":"IF(AA2606>0, Table1[[#This Row],[Column4]], IF(AB2606>0,Table1[[#This Row],[Column4]],IF(X2606>0,\"1000\")))","v":false}]
[null,null,null,null,null,null,null,null,null,null,null,null,null,null,null,null,0,null,null,null,null,null,null,null,{"$f":"IF(Table1[[#This Row],[Wage differential Bonus                            - NotePay Rate you are bonusing to]]>0, Table1[[#This Row],[Wage differential Bonus                            - NotePay Rate you are bonusing to]]-Table1[[#This Row],[Pay Rate]], \"\")","v":""},{"$f":"IF(Table1[[#This Row],[Wage differential Bonus                            - NotePay Rate you are bonusing to]]>0,Table1[[#This Row],[Bonus Rate]]*Table1[[#This Row],[Hours]],\"\")","v":""},null,null,null,null,null,{"$f":"IF(OR(AH2607>0.001,AH2607<-0.001),Table1[[#This Row],[Employee '#]],\" \")","v":" "},false,{"$f":"SUMIF(Table1[[#This Row],[Total Wage Diff bonus]:[Bank Bonus]],\"<> \")","v":0},{"$f":"IF(AA2607>0, Table1[[#This Row],[Column4]], IF(AB2607>0,Table1[[#This Row],[Column4]],IF(X2607>0,\"1000\")))","v":false}]
[null,null,null,null,null,null,null,null,null,null,null,null,null,null,null,null,0,null,null,null,null,null,null,null,{"$f":"IF(Table1[[#This Row],[Wage differential Bonus                            - NotePay Rate you are bonusing to]]>0, Table1[[#This Row],[Wage differential Bonus                            - NotePay Rate you are bonusing to]]-Table1[[#This Row],[Pay Rate]], \"\")","v":""},{"$f":"IF(Table1[[#This Row],[Wage differential Bonus                            - NotePay Rate you are bonusing to]]>0,Table1[[#This Row],[Bonus Rate]]*Table1[[#This Row],[Hours]],\"\")","v":""},null,null,null,null,null,{"$f":"IF(OR(AH2611>0.001,AH2611<-0.001),Table1[[#This Row],[Employee '#]],\" \")","v":" "},false,{"$f":"SUMIF(Table1[[#This Row],[Total Wage Diff bonus]:[Bank Bonus]],\"<> \")","v":0},{"$f":"IF(AA2611>0, Table1[[#This Row],[Column4]], IF(AB2611>0,Table1[[#This Row],[Column4]],IF(X2611>0,\"1000\")))","v":false}]
[null,null,null,null,null,null,null,null,null,null,null,null,null,null,null,null,0,null,null,null,null,null,null,null,{"$f":"IF(Table1[[#This Row],[Wage differential Bonus                            - NotePay Rate you are bonusing to]]>0, Table1[[#This Row],[Wage differential Bonus                            - NotePay Rate you are bonusing to]]-Table1[[#This Row],[Pay Rate]], \"\")","v":""},{"$f":"IF(Table1[[#This Row],[Wage differential Bonus                            - NotePay Rate you are bonusing to]]>0,Table1[[#This Row],[Bonus Rate]]*Table1[[#This Row],[Hours]],\"\")","v":""},null,null,null,null,null,{"$f":"IF(OR(AH2612>0.001,AH2612<-0.001),Table1[[#This Row],[Employee '#]],\" \")","v":" "},false,{"$f":"SUMIF(Table1[[#This Row],[Total Wage Diff bonus]:[Bank Bonus]],\"<> \")","v":0},{"$f":"IF(AA2612>0, Table1[[#This Row],[Column4]], IF(AB2612>0,Table1[[#This Row],[Column4]],IF(X2612>0,\"1000\")))","v":false}]
[null,null,null,null,null,null,null,null,null,null,null,null,null,null,null,null,0,null,null,null,null,null,null,null,{"$f":"IF(Table1[[#This Row],[Wage differential Bonus                            - NotePay Rate you are bonusing to]]>0, Table1[[#This Row],[Wage differential Bonus                            - NotePay Rate you are bonusing to]]-Table1[[#This Row],[Pay Rate]], \"\")","v":""},{"$f":"IF(Table1[[#This Row],[Wage differential Bonus                            - NotePay Rate you are bonusing to]]>0,Table1[[#This Row],[Bonus Rate]]*Table1[[#This Row],[Hours]],\"\")","v":""},null,null,null,null,null,{"$f":"IF(OR(AH2615>0.001,AH2615<-0.001),Table1[[#This Row],[Employee '#]],\" \")","v":" "},false,{"$f":"SUMIF(Table1[[#This Row],[Total Wage Diff bonus]:[Bank Bonus]],\"<> \")","v":0},{"$f":"IF(AA2615>0, Table1[[#This Row],[Column4]], IF(AB2615>0,Table1[[#This Row],[Column4]],IF(X2615>0,\"1000\")))","v":false}]
[null,null,null,null,null,null,null,null,null,null,null,null,null,null,null,null,0,null,null,null,null,null,null,null,{"$f":"IF(Table1[[#This Row],[Wage differential Bonus                            - NotePay Rate you are bonusing to]]>0, Table1[[#This Row],[Wage differential Bonus                            - NotePay Rate you are bonusing to]]-Table1[[#This Row],[Pay Rate]], \"\")","v":""},{"$f":"IF(Table1[[#This Row],[Wage differential Bonus                            - NotePay Rate you are bonusing to]]>0,Table1[[#This Row],[Bonus Rate]]*Table1[[#This Row],[Hours]],\"\")","v":""},null,null,null,null,null,{"$f":"IF(OR(AH2616>0.001,AH2616<-0.001),Table1[[#This Row],[Employee '#]],\" \")","v":" "},false,{"$f":"SUMIF(Table1[[#This Row],[Total Wage Diff bonus]:[Bank Bonus]],\"<> \")","v":0},{"$f":"IF(AA2616>0, Table1[[#This Row],[Column4]], IF(AB2616>0,Table1[[#This Row],[Column4]],IF(X2616>0,\"1000\")))","v":false}]
[null,null,null,null,null,null,null,null,null,null,null,null,null,null,null,null,0,null,null,null,null,null,null,null,{"$f":"IF(Table1[[#This Row],[Wage differential Bonus                            - NotePay Rate you are bonusing to]]>0, Table1[[#This Row],[Wage differential Bonus                            - NotePay Rate you are bonusing to]]-Table1[[#This Row],[Pay Rate]], \"\")","v":""},{"$f":"IF(Table1[[#This Row],[Wage differential Bonus                            - NotePay Rate you are bonusing to]]>0,Table1[[#This Row],[Bonus Rate]]*Table1[[#This Row],[Hours]],\"\")","v":""},null,null,null,null,null,{"$f":"IF(OR(AH2618>0.001,AH2618<-0.001),Table1[[#This Row],[Employee '#]],\" \")","v":" "},false,{"$f":"SUMIF(Table1[[#This Row],[Total Wage Diff bonus]:[Bank Bonus]],\"<> \")","v":0},{"$f":"IF(AA2618>0, Table1[[#This Row],[Column4]], IF(AB2618>0,Table1[[#This Row],[Column4]],IF(X2618>0,\"1000\")))","v":false}]
[null,null,null,null,null,null,null,null,null,null,null,null,null,null,null,null,0,null,null,null,null,null,null,null,{"$f":"IF(Table1[[#This Row],[Wage differential Bonus                            - NotePay Rate you are bonusing to]]>0, Table1[[#This Row],[Wage differential Bonus                            - NotePay Rate you are bonusing to]]-Table1[[#This Row],[Pay Rate]], \"\")","v":""},{"$f":"IF(Table1[[#This Row],[Wage differential Bonus                            - NotePay Rate you are bonusing to]]>0,Table1[[#This Row],[Bonus Rate]]*Table1[[#This Row],[Hours]],\"\")","v":""},null,null,null,null,null,{"$f":"IF(OR(AH2621>0.001,AH2621<-0.001),Table1[[#This Row],[Employee '#]],\" \")","v":" "},false,{"$f":"SUMIF(Table1[[#This Row],[Total Wage Diff bonus]:[Bank Bonus]],\"<> \")","v":0},{"$f":"IF(AA2621>0, Table1[[#This Row],[Column4]], IF(AB2621>0,Table1[[#This Row],[Column4]],IF(X2621>0,\"1000\")))","v":false}]
[null,null,null,null,null,null,null,null,null,null,null,null,null,null,null,null,0,null,null,null,null,null,null,null,{"$f":"IF(Table1[[#This Row],[Wage differential Bonus                            - NotePay Rate you are bonusing to]]>0, Table1[[#This Row],[Wage differential Bonus                            - NotePay Rate you are bonusing to]]-Table1[[#This Row],[Pay Rate]], \"\")","v":""},{"$f":"IF(Table1[[#This Row],[Wage differential Bonus                            - NotePay Rate you are bonusing to]]>0,Table1[[#This Row],[Bonus Rate]]*Table1[[#This Row],[Hours]],\"\")","v":""},null,null,null,null,null,{"$f":"IF(OR(AH2624>0.001,AH2624<-0.001),Table1[[#This Row],[Employee '#]],\" \")","v":" "},false,{"$f":"SUMIF(Table1[[#This Row],[Total Wage Diff bonus]:[Bank Bonus]],\"<> \")","v":0},{"$f":"IF(AA2624>0, Table1[[#This Row],[Column4]], IF(AB2624>0,Table1[[#This Row],[Column4]],IF(X2624>0,\"1000\")))","v":false}]
[null,null,null,null,null,null,null,null,null,null,null,null,null,null,null,null,0,null,null,null,null,null,null,null,{"$f":"IF(Table1[[#This Row],[Wage differential Bonus                            - NotePay Rate you are bonusing to]]>0, Table1[[#This Row],[Wage differential Bonus                            - NotePay Rate you are bonusing to]]-Table1[[#This Row],[Pay Rate]], \"\")","v":""},{"$f":"IF(Table1[[#This Row],[Wage differential Bonus                            - NotePay Rate you are bonusing to]]>0,Table1[[#This Row],[Bonus Rate]]*Table1[[#This Row],[Hours]],\"\")","v":""},null,null,null,null,null,{"$f":"IF(OR(AH2625>0.001,AH2625<-0.001),Table1[[#This Row],[Employee '#]],\" \")","v":" "},false,{"$f":"SUMIF(Table1[[#This Row],[Total Wage Diff bonus]:[Bank Bonus]],\"<> \")","v":0},{"$f":"IF(AA2625>0, Table1[[#This Row],[Column4]], IF(AB2625>0,Table1[[#This Row],[Column4]],IF(X2625>0,\"1000\")))","v":false}]
[null,null,null,null,null,null,null,null,null,null,null,null,null,null,null,null,0,null,null,null,null,null,null,null,{"$f":"IF(Table1[[#This Row],[Wage differential Bonus                            - NotePay Rate you are bonusing to]]>0, Table1[[#This Row],[Wage differential Bonus                            - NotePay Rate you are bonusing to]]-Table1[[#This Row],[Pay Rate]], \"\")","v":""},{"$f":"IF(Table1[[#This Row],[Wage differential Bonus                            - NotePay Rate you are bonusing to]]>0,Table1[[#This Row],[Bonus Rate]]*Table1[[#This Row],[Hours]],\"\")","v":""},null,null,null,null,null,{"$f":"IF(OR(AH2629>0.001,AH2629<-0.001),Table1[[#This Row],[Employee '#]],\" \")","v":" "},false,{"$f":"SUMIF(Table1[[#This Row],[Total Wage Diff bonus]:[Bank Bonus]],\"<> \")","v":0},{"$f":"IF(AA2629>0, Table1[[#This Row],[Column4]], IF(AB2629>0,Table1[[#This Row],[Column4]],IF(X2629>0,\"1000\")))","v":false}]
[null,null,null,null,null,null,null,null,null,null,null,null,null,null,null,null,0,null,null,null,null,null,null,null,{"$f":"IF(Table1[[#This Row],[Wage differential Bonus                            - NotePay Rate you are bonusing to]]>0, Table1[[#This Row],[Wage differential Bonus                            - NotePay Rate you are bonusing to]]-Table1[[#This Row],[Pay Rate]], \"\")","v":""},{"$f":"IF(Table1[[#This Row],[Wage differential Bonus                            - NotePay Rate you are bonusing to]]>0,Table1[[#This Row],[Bonus Rate]]*Table1[[#This Row],[Hours]],\"\")","v":""},null,null,null,null,null,{"$f":"IF(OR(AH2630>0.001,AH2630<-0.001),Table1[[#This Row],[Employee '#]],\" \")","v":" "},false,{"$f":"SUMIF(Table1[[#This Row],[Total Wage Diff bonus]:[Bank Bonus]],\"<> \")","v":0},{"$f":"IF(AA2630>0, Table1[[#This Row],[Column4]], IF(AB2630>0,Table1[[#This Row],[Column4]],IF(X2630>0,\"1000\")))","v":false}]
[null,null,null,null,null,null,null,null,null,null,null,null,null,null,null,null,0,null,null,null,null,null,null,null,{"$f":"IF(Table1[[#This Row],[Wage differential Bonus                            - NotePay Rate you are bonusing to]]>0, Table1[[#This Row],[Wage differential Bonus                            - NotePay Rate you are bonusing to]]-Table1[[#This Row],[Pay Rate]], \"\")","v":""},{"$f":"IF(Table1[[#This Row],[Wage differential Bonus                            - NotePay Rate you are bonusing to]]>0,Table1[[#This Row],[Bonus Rate]]*Table1[[#This Row],[Hours]],\"\")","v":""},null,null,null,null,null,{"$f":"IF(OR(AH2633>0.001,AH2633<-0.001),Table1[[#This Row],[Employee '#]],\" \")","v":" "},false,{"$f":"SUMIF(Table1[[#This Row],[Total Wage Diff bonus]:[Bank Bonus]],\"<> \")","v":0},{"$f":"IF(AA2633>0, Table1[[#This Row],[Column4]], IF(AB2633>0,Table1[[#This Row],[Column4]],IF(X2633>0,\"1000\")))","v":false}]
[null,null,null,null,null,null,null,null,null,null,null,null,null,null,null,null,0,null,null,null,null,null,null,null,{"$f":"IF(Table1[[#This Row],[Wage differential Bonus                            - NotePay Rate you are bonusing to]]>0, Table1[[#This Row],[Wage differential Bonus                            - NotePay Rate you are bonusing to]]-Table1[[#This Row],[Pay Rate]], \"\")","v":""},{"$f":"IF(Table1[[#This Row],[Wage differential Bonus                            - NotePay Rate you are bonusing to]]>0,Table1[[#This Row],[Bonus Rate]]*Table1[[#This Row],[Hours]],\"\")","v":""},null,null,null,null,null,{"$f":"IF(OR(AH2634>0.001,AH2634<-0.001),Table1[[#This Row],[Employee '#]],\" \")","v":" "},false,{"$f":"SUMIF(Table1[[#This Row],[Total Wage Diff bonus]:[Bank Bonus]],\"<> \")","v":0},{"$f":"IF(AA2634>0, Table1[[#This Row],[Column4]], IF(AB2634>0,Table1[[#This Row],[Column4]],IF(X2634>0,\"1000\")))","v":false}]
[null,null,null,null,null,null,null,null,null,null,null,null,null,null,null,null,0,null,null,null,null,null,null,null,{"$f":"IF(Table1[[#This Row],[Wage differential Bonus                            - NotePay Rate you are bonusing to]]>0, Table1[[#This Row],[Wage differential Bonus                            - NotePay Rate you are bonusing to]]-Table1[[#This Row],[Pay Rate]], \"\")","v":""},{"$f":"IF(Table1[[#This Row],[Wage differential Bonus                            - NotePay Rate you are bonusing to]]>0,Table1[[#This Row],[Bonus Rate]]*Table1[[#This Row],[Hours]],\"\")","v":""},null,null,null,null,null,{"$f":"IF(OR(AH2638>0.001,AH2638<-0.001),Table1[[#This Row],[Employee '#]],\" \")","v":" "},false,{"$f":"SUMIF(Table1[[#This Row],[Total Wage Diff bonus]:[Bank Bonus]],\"<> \")","v":0},{"$f":"IF(AA2638>0, Table1[[#This Row],[Column4]], IF(AB2638>0,Table1[[#This Row],[Column4]],IF(X2638>0,\"1000\")))","v":false}]
[null,null,null,null,null,null,null,null,null,null,null,null,null,null,null,null,0,null,null,null,null,null,null,null,{"$f":"IF(Table1[[#This Row],[Wage differential Bonus                            - NotePay Rate you are bonusing to]]>0, Table1[[#This Row],[Wage differential Bonus                            - NotePay Rate you are bonusing to]]-Table1[[#This Row],[Pay Rate]], \"\")","v":""},{"$f":"IF(Table1[[#This Row],[Wage differential Bonus                            - NotePay Rate you are bonusing to]]>0,Table1[[#This Row],[Bonus Rate]]*Table1[[#This Row],[Hours]],\"\")","v":""},null,null,null,null,null,{"$f":"IF(OR(AH2639>0.001,AH2639<-0.001),Table1[[#This Row],[Employee '#]],\" \")","v":" "},false,{"$f":"SUMIF(Table1[[#This Row],[Total Wage Diff bonus]:[Bank Bonus]],\"<> \")","v":0},{"$f":"IF(AA2639>0, Table1[[#This Row],[Column4]], IF(AB2639>0,Table1[[#This Row],[Column4]],IF(X2639>0,\"1000\")))","v":false}]
[null,null,null,null,null,null,null,null,null,null,null,null,null,null,null,null,0,null,null,null,null,null,null,null,{"$f":"IF(Table1[[#This Row],[Wage differential Bonus                            - NotePay Rate you are bonusing to]]>0, Table1[[#This Row],[Wage differential Bonus                            - NotePay Rate you are bonusing to]]-Table1[[#This Row],[Pay Rate]], \"\")","v":""},{"$f":"IF(Table1[[#This Row],[Wage differential Bonus                            - NotePay Rate you are bonusing to]]>0,Table1[[#This Row],[Bonus Rate]]*Table1[[#This Row],[Hours]],\"\")","v":""},null,null,null,null,null,{"$f":"IF(OR(AH2642>0.001,AH2642<-0.001),Table1[[#This Row],[Employee '#]],\" \")","v":" "},false,{"$f":"SUMIF(Table1[[#This Row],[Total Wage Diff bonus]:[Bank Bonus]],\"<> \")","v":0},{"$f":"IF(AA2642>0, Table1[[#This Row],[Column4]], IF(AB2642>0,Table1[[#This Row],[Column4]],IF(X2642>0,\"1000\")))","v":false}]
[null,null,null,null,null,null,null,null,null,null,null,null,null,null,null,null,0,null,null,null,null,null,null,null,{"$f":"IF(Table1[[#This Row],[Wage differential Bonus                            - NotePay Rate you are bonusing to]]>0, Table1[[#This Row],[Wage differential Bonus                            - NotePay Rate you are bonusing to]]-Table1[[#This Row],[Pay Rate]], \"\")","v":""},{"$f":"IF(Table1[[#This Row],[Wage differential Bonus                            - NotePay Rate you are bonusing to]]>0,Table1[[#This Row],[Bonus Rate]]*Table1[[#This Row],[Hours]],\"\")","v":""},null,null,null,null,null,{"$f":"IF(OR(AH2644>0.001,AH2644<-0.001),Table1[[#This Row],[Employee '#]],\" \")","v":" "},false,{"$f":"SUMIF(Table1[[#This Row],[Total Wage Diff bonus]:[Bank Bonus]],\"<> \")","v":0},{"$f":"IF(AA2644>0, Table1[[#This Row],[Column4]], IF(AB2644>0,Table1[[#This Row],[Column4]],IF(X2644>0,\"1000\")))","v":false}]
[null,null,null,null,null,null,null,null,null,null,null,null,null,null,null,null,0,null,null,null,null,null,null,null,{"$f":"IF(Table1[[#This Row],[Wage differential Bonus                            - NotePay Rate you are bonusing to]]>0, Table1[[#This Row],[Wage differential Bonus                            - NotePay Rate you are bonusing to]]-Table1[[#This Row],[Pay Rate]], \"\")","v":""},{"$f":"IF(Table1[[#This Row],[Wage differential Bonus                            - NotePay Rate you are bonusing to]]>0,Table1[[#This Row],[Bonus Rate]]*Table1[[#This Row],[Hours]],\"\")","v":""},null,null,null,null,null,{"$f":"IF(OR(AH2647>0.001,AH2647<-0.001),Table1[[#This Row],[Employee '#]],\" \")","v":" "},false,{"$f":"SUMIF(Table1[[#This Row],[Total Wage Diff bonus]:[Bank Bonus]],\"<> \")","v":0},{"$f":"IF(AA2647>0, Table1[[#This Row],[Column4]], IF(AB2647>0,Table1[[#This Row],[Column4]],IF(X2647>0,\"1000\")))","v":false}]
[null,null,null,null,null,null,null,null,null,null,null,null,null,null,null,null,0,null,null,null,null,null,null,null,{"$f":"IF(Table1[[#This Row],[Wage differential Bonus                            - NotePay Rate you are bonusing to]]>0, Table1[[#This Row],[Wage differential Bonus                            - NotePay Rate you are bonusing to]]-Table1[[#This Row],[Pay Rate]], \"\")","v":""},{"$f":"IF(Table1[[#This Row],[Wage differential Bonus                            - NotePay Rate you are bonusing to]]>0,Table1[[#This Row],[Bonus Rate]]*Table1[[#This Row],[Hours]],\"\")","v":""},null,null,null,null,null,{"$f":"IF(OR(AH2648>0.001,AH2648<-0.001),Table1[[#This Row],[Employee '#]],\" \")","v":" "},false,{"$f":"SUMIF(Table1[[#This Row],[Total Wage Diff bonus]:[Bank Bonus]],\"<> \")","v":0},{"$f":"IF(AA2648>0, Table1[[#This Row],[Column4]], IF(AB2648>0,Table1[[#This Row],[Column4]],IF(X2648>0,\"1000\")))","v":false}]
[null,null,null,null,null,null,null,null,null,null,null,null,null,null,null,null,0,null,null,null,null,null,null,null,{"$f":"IF(Table1[[#This Row],[Wage differential Bonus                            - NotePay Rate you are bonusing to]]>0, Table1[[#This Row],[Wage differential Bonus                            - NotePay Rate you are bonusing to]]-Table1[[#This Row],[Pay Rate]], \"\")","v":""},{"$f":"IF(Table1[[#This Row],[Wage differential Bonus                            - NotePay Rate you are bonusing to]]>0,Table1[[#This Row],[Bonus Rate]]*Table1[[#This Row],[Hours]],\"\")","v":""},null,null,null,null,null,{"$f":"IF(OR(AH2651>0.001,AH2651<-0.001),Table1[[#This Row],[Employee '#]],\" \")","v":" "},false,{"$f":"SUMIF(Table1[[#This Row],[Total Wage Diff bonus]:[Bank Bonus]],\"<> \")","v":0},{"$f":"IF(AA2651>0, Table1[[#This Row],[Column4]], IF(AB2651>0,Table1[[#This Row],[Column4]],IF(X2651>0,\"1000\")))","v":false}]
[null,null,null,null,null,null,null,null,null,null,null,null,null,null,null,null,0,null,null,null,null,null,null,null,{"$f":"IF(Table1[[#This Row],[Wage differential Bonus                            - NotePay Rate you are bonusing to]]>0, Table1[[#This Row],[Wage differential Bonus                            - NotePay Rate you are bonusing to]]-Table1[[#This Row],[Pay Rate]], \"\")","v":""},{"$f":"IF(Table1[[#This Row],[Wage differential Bonus                            - NotePay Rate you are bonusing to]]>0,Table1[[#This Row],[Bonus Rate]]*Table1[[#This Row],[Hours]],\"\")","v":""},null,null,null,null,null,{"$f":"IF(OR(AH2652>0.001,AH2652<-0.001),Table1[[#This Row],[Employee '#]],\" \")","v":" "},false,{"$f":"SUMIF(Table1[[#This Row],[Total Wage Diff bonus]:[Bank Bonus]],\"<> \")","v":0},{"$f":"IF(AA2652>0, Table1[[#This Row],[Column4]], IF(AB2652>0,Table1[[#This Row],[Column4]],IF(X2652>0,\"1000\")))","v":false}]
[null,null,null,null,null,null,null,null,null,null,null,null,null,null,null,null,0,null,null,null,null,null,null,null,{"$f":"IF(Table1[[#This Row],[Wage differential Bonus                            - NotePay Rate you are bonusing to]]>0, Table1[[#This Row],[Wage differential Bonus                            - NotePay Rate you are bonusing to]]-Table1[[#This Row],[Pay Rate]], \"\")","v":""},{"$f":"IF(Table1[[#This Row],[Wage differential Bonus                            - NotePay Rate you are bonusing to]]>0,Table1[[#This Row],[Bonus Rate]]*Table1[[#This Row],[Hours]],\"\")","v":""},null,null,null,null,null,{"$f":"IF(OR(AH2656>0.001,AH2656<-0.001),Table1[[#This Row],[Employee '#]],\" \")","v":" "},false,{"$f":"SUMIF(Table1[[#This Row],[Total Wage Diff bonus]:[Bank Bonus]],\"<> \")","v":0},{"$f":"IF(AA2656>0, Table1[[#This Row],[Column4]], IF(AB2656>0,Table1[[#This Row],[Column4]],IF(X2656>0,\"1000\")))","v":false}]
[null,null,null,null,null,null,null,null,null,null,null,null,null,null,null,null,0,null,null,null,null,null,null,null,{"$f":"IF(Table1[[#This Row],[Wage differential Bonus                            - NotePay Rate you are bonusing to]]>0, Table1[[#This Row],[Wage differential Bonus                            - NotePay Rate you are bonusing to]]-Table1[[#This Row],[Pay Rate]], \"\")","v":""},{"$f":"IF(Table1[[#This Row],[Wage differential Bonus                            - NotePay Rate you are bonusing to]]>0,Table1[[#This Row],[Bonus Rate]]*Table1[[#This Row],[Hours]],\"\")","v":""},null,null,null,null,null,{"$f":"IF(OR(AH2657>0.001,AH2657<-0.001),Table1[[#This Row],[Employee '#]],\" \")","v":" "},false,{"$f":"SUMIF(Table1[[#This Row],[Total Wage Diff bonus]:[Bank Bonus]],\"<> \")","v":0},{"$f":"IF(AA2657>0, Table1[[#This Row],[Column4]], IF(AB2657>0,Table1[[#This Row],[Column4]],IF(X2657>0,\"1000\")))","v":false}]
[null,null,null,null,null,null,null,null,null,null,null,null,null,null,null,null,0,null,null,null,null,null,null,null,{"$f":"IF(Table1[[#This Row],[Wage differential Bonus                            - NotePay Rate you are bonusing to]]>0, Table1[[#This Row],[Wage differential Bonus                            - NotePay Rate you are bonusing to]]-Table1[[#This Row],[Pay Rate]], \"\")","v":""},{"$f":"IF(Table1[[#This Row],[Wage differential Bonus                            - NotePay Rate you are bonusing to]]>0,Table1[[#This Row],[Bonus Rate]]*Table1[[#This Row],[Hours]],\"\")","v":""},null,null,null,null,null,{"$f":"IF(OR(AH2660>0.001,AH2660<-0.001),Table1[[#This Row],[Employee '#]],\" \")","v":" "},false,{"$f":"SUMIF(Table1[[#This Row],[Total Wage Diff bonus]:[Bank Bonus]],\"<> \")","v":0},{"$f":"IF(AA2660>0, Table1[[#This Row],[Column4]], IF(AB2660>0,Table1[[#This Row],[Column4]],IF(X2660>0,\"1000\")))","v":false}]
[null,null,null,null,null,null,null,null,null,null,null,null,null,null,null,null,0,null,null,null,null,null,null,null,{"$f":"IF(Table1[[#This Row],[Wage differential Bonus                            - NotePay Rate you are bonusing to]]>0, Table1[[#This Row],[Wage differential Bonus                            - NotePay Rate you are bonusing to]]-Table1[[#This Row],[Pay Rate]], \"\")","v":""},{"$f":"IF(Table1[[#This Row],[Wage differential Bonus                            - NotePay Rate you are bonusing to]]>0,Table1[[#This Row],[Bonus Rate]]*Table1[[#This Row],[Hours]],\"\")","v":""},null,null,null,null,null,{"$f":"IF(OR(AH2662>0.001,AH2662<-0.001),Table1[[#This Row],[Employee '#]],\" \")","v":" "},false,{"$f":"SUMIF(Table1[[#This Row],[Total Wage Diff bonus]:[Bank Bonus]],\"<> \")","v":0},{"$f":"IF(AA2662>0, Table1[[#This Row],[Column4]], IF(AB2662>0,Table1[[#This Row],[Column4]],IF(X2662>0,\"1000\")))","v":false}]
[null,null,null,null,null,null,null,null,null,null,null,null,null,null,null,null,0,null,null,null,null,null,null,null,{"$f":"IF(Table1[[#This Row],[Wage differential Bonus                            - NotePay Rate you are bonusing to]]>0, Table1[[#This Row],[Wage differential Bonus                            - NotePay Rate you are bonusing to]]-Table1[[#This Row],[Pay Rate]], \"\")","v":""},{"$f":"IF(Table1[[#This Row],[Wage differential Bonus                            - NotePay Rate you are bonusing to]]>0,Table1[[#This Row],[Bonus Rate]]*Table1[[#This Row],[Hours]],\"\")","v":""},null,null,null,null,null,{"$f":"IF(OR(AH2665>0.001,AH2665<-0.001),Table1[[#This Row],[Employee '#]],\" \")","v":" "},false,{"$f":"SUMIF(Table1[[#This Row],[Total Wage Diff bonus]:[Bank Bonus]],\"<> \")","v":0},{"$f":"IF(AA2665>0, Table1[[#This Row],[Column4]], IF(AB2665>0,Table1[[#This Row],[Column4]],IF(X2665>0,\"1000\")))","v":false}]
[null,null,null,null,null,null,null,null,null,null,null,null,null,null,null,null,0,null,null,null,null,null,null,null,{"$f":"IF(Table1[[#This Row],[Wage differential Bonus                            - NotePay Rate you are bonusing to]]>0, Table1[[#This Row],[Wage differential Bonus                            - NotePay Rate you are bonusing to]]-Table1[[#This Row],[Pay Rate]], \"\")","v":""},{"$f":"IF(Table1[[#This Row],[Wage differential Bonus                            - NotePay Rate you are bonusing to]]>0,Table1[[#This Row],[Bonus Rate]]*Table1[[#This Row],[Hours]],\"\")","v":""},null,null,null,null,null,{"$f":"IF(OR(AH2666>0.001,AH2666<-0.001),Table1[[#This Row],[Employee '#]],\" \")","v":" "},false,{"$f":"SUMIF(Table1[[#This Row],[Total Wage Diff bonus]:[Bank Bonus]],\"<> \")","v":0},{"$f":"IF(AA2666>0, Table1[[#This Row],[Column4]], IF(AB2666>0,Table1[[#This Row],[Column4]],IF(X2666>0,\"1000\")))","v":false}]
[null,null,null,null,null,null,null,null,null,null,null,null,null,null,null,null,0,null,null,null,null,null,null,null,{"$f":"IF(Table1[[#This Row],[Wage differential Bonus                            - NotePay Rate you are bonusing to]]>0, Table1[[#This Row],[Wage differential Bonus                            - NotePay Rate you are bonusing to]]-Table1[[#This Row],[Pay Rate]], \"\")","v":""},{"$f":"IF(Table1[[#This Row],[Wage differential Bonus                            - NotePay Rate you are bonusing to]]>0,Table1[[#This Row],[Bonus Rate]]*Table1[[#This Row],[Hours]],\"\")","v":""},null,null,null,null,null,{"$f":"IF(OR(AH2668>0.001,AH2668<-0.001),Table1[[#This Row],[Employee '#]],\" \")","v":" "},false,{"$f":"SUMIF(Table1[[#This Row],[Total Wage Diff bonus]:[Bank Bonus]],\"<> \")","v":0},{"$f":"IF(AA2668>0, Table1[[#This Row],[Column4]], IF(AB2668>0,Table1[[#This Row],[Column4]],IF(X2668>0,\"1000\")))","v":false}]
[null,null,null,null,null,null,null,null,null,null,null,null,null,null,null,null,0,null,null,null,null,null,null,null,{"$f":"IF(Table1[[#This Row],[Wage differential Bonus                            - NotePay Rate you are bonusing to]]>0, Table1[[#This Row],[Wage differential Bonus                            - NotePay Rate you are bonusing to]]-Table1[[#This Row],[Pay Rate]], \"\")","v":""},{"$f":"IF(Table1[[#This Row],[Wage differential Bonus                            - NotePay Rate you are bonusing to]]>0,Table1[[#This Row],[Bonus Rate]]*Table1[[#This Row],[Hours]],\"\")","v":""},null,null,null,null,null,{"$f":"IF(OR(AH2671>0.001,AH2671<-0.001),Table1[[#This Row],[Employee '#]],\" \")","v":" "},false,{"$f":"SUMIF(Table1[[#This Row],[Total Wage Diff bonus]:[Bank Bonus]],\"<> \")","v":0},{"$f":"IF(AA2671>0, Table1[[#This Row],[Column4]], IF(AB2671>0,Table1[[#This Row],[Column4]],IF(X2671>0,\"1000\")))","v":false}]
[null,null,null,null,null,null,null,null,null,null,null,null,null,null,null,null,0,null,null,null,null,null,null,null,{"$f":"IF(Table1[[#This Row],[Wage differential Bonus                            - NotePay Rate you are bonusing to]]>0, Table1[[#This Row],[Wage differential Bonus                            - NotePay Rate you are bonusing to]]-Table1[[#This Row],[Pay Rate]], \"\")","v":""},{"$f":"IF(Table1[[#This Row],[Wage differential Bonus                            - NotePay Rate you are bonusing to]]>0,Table1[[#This Row],[Bonus Rate]]*Table1[[#This Row],[Hours]],\"\")","v":""},null,null,null,null,null,{"$f":"IF(OR(AH2674>0.001,AH2674<-0.001),Table1[[#This Row],[Employee '#]],\" \")","v":" "},false,{"$f":"SUMIF(Table1[[#This Row],[Total Wage Diff bonus]:[Bank Bonus]],\"<> \")","v":0},{"$f":"IF(AA2674>0, Table1[[#This Row],[Column4]], IF(AB2674>0,Table1[[#This Row],[Column4]],IF(X2674>0,\"1000\")))","v":false}]
[null,null,null,null,null,null,null,null,null,null,null,null,null,null,null,null,0,null,null,null,null,null,null,null,{"$f":"IF(Table1[[#This Row],[Wage differential Bonus                            - NotePay Rate you are bonusing to]]>0, Table1[[#This Row],[Wage differential Bonus                            - NotePay Rate you are bonusing to]]-Table1[[#This Row],[Pay Rate]], \"\")","v":""},{"$f":"IF(Table1[[#This Row],[Wage differential Bonus                            - NotePay Rate you are bonusing to]]>0,Table1[[#This Row],[Bonus Rate]]*Table1[[#This Row],[Hours]],\"\")","v":""},null,null,null,null,null,{"$f":"IF(OR(AH2675>0.001,AH2675<-0.001),Table1[[#This Row],[Employee '#]],\" \")","v":" "},false,{"$f":"SUMIF(Table1[[#This Row],[Total Wage Diff bonus]:[Bank Bonus]],\"<> \")","v":0},{"$f":"IF(AA2675>0, Table1[[#This Row],[Column4]], IF(AB2675>0,Table1[[#This Row],[Column4]],IF(X2675>0,\"1000\")))","v":false}]
[null,null,null,null,null,null,null,null,null,null,null,null,null,null,null,null,0,null,null,null,null,null,null,null,{"$f":"IF(Table1[[#This Row],[Wage differential Bonus                            - NotePay Rate you are bonusing to]]>0, Table1[[#This Row],[Wage differential Bonus                            - NotePay Rate you are bonusing to]]-Table1[[#This Row],[Pay Rate]], \"\")","v":""},{"$f":"IF(Table1[[#This Row],[Wage differential Bonus                            - NotePay Rate you are bonusing to]]>0,Table1[[#This Row],[Bonus Rate]]*Table1[[#This Row],[Hours]],\"\")","v":""},null,null,null,null,null,{"$f":"IF(OR(AH2678>0.001,AH2678<-0.001),Table1[[#This Row],[Employee '#]],\" \")","v":" "},false,{"$f":"SUMIF(Table1[[#This Row],[Total Wage Diff bonus]:[Bank Bonus]],\"<> \")","v":0},{"$f":"IF(AA2678>0, Table1[[#This Row],[Column4]], IF(AB2678>0,Table1[[#This Row],[Column4]],IF(X2678>0,\"1000\")))","v":false}]
[null,null,null,null,null,null,null,null,null,null,null,null,null,null,null,null,0,null,null,null,null,null,null,null,{"$f":"IF(Table1[[#This Row],[Wage differential Bonus                            - NotePay Rate you are bonusing to]]>0, Table1[[#This Row],[Wage differential Bonus                            - NotePay Rate you are bonusing to]]-Table1[[#This Row],[Pay Rate]], \"\")","v":""},{"$f":"IF(Table1[[#This Row],[Wage differential Bonus                            - NotePay Rate you are bonusing to]]>0,Table1[[#This Row],[Bonus Rate]]*Table1[[#This Row],[Hours]],\"\")","v":""},null,null,null,null,null,{"$f":"IF(OR(AH2680>0.001,AH2680<-0.001),Table1[[#This Row],[Employee '#]],\" \")","v":" "},false,{"$f":"SUMIF(Table1[[#This Row],[Total Wage Diff bonus]:[Bank Bonus]],\"<> \")","v":0},{"$f":"IF(AA2680>0, Table1[[#This Row],[Column4]], IF(AB2680>0,Table1[[#This Row],[Column4]],IF(X2680>0,\"1000\")))","v":false}]
[null,null,null,null,null,null,null,null,null,null,null,null,null,null,null,null,0,null,null,null,null,null,null,null,{"$f":"IF(Table1[[#This Row],[Wage differential Bonus                            - NotePay Rate you are bonusing to]]>0, Table1[[#This Row],[Wage differential Bonus                            - NotePay Rate you are bonusing to]]-Table1[[#This Row],[Pay Rate]], \"\")","v":""},{"$f":"IF(Table1[[#This Row],[Wage differential Bonus                            - NotePay Rate you are bonusing to]]>0,Table1[[#This Row],[Bonus Rate]]*Table1[[#This Row],[Hours]],\"\")","v":""},null,null,null,null,null,{"$f":"IF(OR(AH2683>0.001,AH2683<-0.001),Table1[[#This Row],[Employee '#]],\" \")","v":" "},false,{"$f":"SUMIF(Table1[[#This Row],[Total Wage Diff bonus]:[Bank Bonus]],\"<> \")","v":0},{"$f":"IF(AA2683>0, Table1[[#This Row],[Column4]], IF(AB2683>0,Table1[[#This Row],[Column4]],IF(X2683>0,\"1000\")))","v":false}]
[null,null,null,null,null,null,null,null,null,null,null,null,null,null,null,null,0,null,null,null,null,null,null,null,{"$f":"IF(Table1[[#This Row],[Wage differential Bonus                            - NotePay Rate you are bonusing to]]>0, Table1[[#This Row],[Wage differential Bonus                            - NotePay Rate you are bonusing to]]-Table1[[#This Row],[Pay Rate]], \"\")","v":""},{"$f":"IF(Table1[[#This Row],[Wage differential Bonus                            - NotePay Rate you are bonusing to]]>0,Table1[[#This Row],[Bonus Rate]]*Table1[[#This Row],[Hours]],\"\")","v":""},null,null,null,null,null,{"$f":"IF(OR(AH2684>0.001,AH2684<-0.001),Table1[[#This Row],[Employee '#]],\" \")","v":" "},false,{"$f":"SUMIF(Table1[[#This Row],[Total Wage Diff bonus]:[Bank Bonus]],\"<> \")","v":0},{"$f":"IF(AA2684>0, Table1[[#This Row],[Column4]], IF(AB2684>0,Table1[[#This Row],[Column4]],IF(X2684>0,\"1000\")))","v":false}]
[null,null,null,null,null,null,null,null,null,null,null,null,null,null,null,null,0,null,null,null,null,null,null,null,{"$f":"IF(Table1[[#This Row],[Wage differential Bonus                            - NotePay Rate you are bonusing to]]>0, Table1[[#This Row],[Wage differential Bonus                            - NotePay Rate you are bonusing to]]-Table1[[#This Row],[Pay Rate]], \"\")","v":""},{"$f":"IF(Table1[[#This Row],[Wage differential Bonus                            - NotePay Rate you are bonusing to]]>0,Table1[[#This Row],[Bonus Rate]]*Table1[[#This Row],[Hours]],\"\")","v":""},null,null,null,null,null,{"$f":"IF(OR(AH2686>0.001,AH2686<-0.001),Table1[[#This Row],[Employee '#]],\" \")","v":" "},false,{"$f":"SUMIF(Table1[[#This Row],[Total Wage Diff bonus]:[Bank Bonus]],\"<> \")","v":0},{"$f":"IF(AA2686>0, Table1[[#This Row],[Column4]], IF(AB2686>0,Table1[[#This Row],[Column4]],IF(X2686>0,\"1000\")))","v":false}]
[null,null,null,null,null,null,null,null,null,null,null,null,null,null,null,null,0,null,null,null,null,null,null,null,{"$f":"IF(Table1[[#This Row],[Wage differential Bonus                            - NotePay Rate you are bonusing to]]>0, Table1[[#This Row],[Wage differential Bonus                            - NotePay Rate you are bonusing to]]-Table1[[#This Row],[Pay Rate]], \"\")","v":""},{"$f":"IF(Table1[[#This Row],[Wage differential Bonus                            - NotePay Rate you are bonusing to]]>0,Table1[[#This Row],[Bonus Rate]]*Table1[[#This Row],[Hours]],\"\")","v":""},null,null,null,null,null,{"$f":"IF(OR(AH2689>0.001,AH2689<-0.001),Table1[[#This Row],[Employee '#]],\" \")","v":" "},false,{"$f":"SUMIF(Table1[[#This Row],[Total Wage Diff bonus]:[Bank Bonus]],\"<> \")","v":0},{"$f":"IF(AA2689>0, Table1[[#This Row],[Column4]], IF(AB2689>0,Table1[[#This Row],[Column4]],IF(X2689>0,\"1000\")))","v":false}]
[null,null,null,null,null,null,null,null,null,null,null,null,null,null,null,null,{"$f":"L2692+P2692","v":0},null,null,null,null,null,null,null,{"$f":"IF(Table1[[#This Row],[Wage differential Bonus                            - NotePay Rate you are bonusing to]]>0, Table1[[#This Row],[Wage differential Bonus                            - NotePay Rate you are bonusing to]]-Table1[[#This Row],[Pay Rate]], \"\")","v":""},{"$f":"IF(Table1[[#This Row],[Wage differential Bonus                            - NotePay Rate you are bonusing to]]>0,Table1[[#This Row],[Bonus Rate]]*Table1[[#This Row],[Hours]],\"\")","v":""},null,null,null,null,null,{"$f":"IF(OR(AH2692>0.001,AH2692<-0.001),Table1[[#This Row],[Employee '#]],\" \")","v":" "},{"$f":"IF(AA2692>0, \"28\", IF(AB2692>0,\"53\",IF(X2692>0,\"20\")))","v":false},{"$f":"SUMIF(Table1[[#This Row],[Total Wage Diff bonus]:[Bank Bonus]],\"<> \")","v":0},{"$f":"IF(AA2692>0, Table1[[#This Row],[Column4]], IF(AB2692>0,Table1[[#This Row],[Column4]],IF(X2692>0,\"1000\")))","v":false}]
[null,null,null,null,null,null,null,null,null,null,null,null,null,null,null,null,0,null,null,null,null,null,null,null,{"$f":"IF(Table1[[#This Row],[Wage differential Bonus                            - NotePay Rate you are bonusing to]]>0, Table1[[#This Row],[Wage differential Bonus                            - NotePay Rate you are bonusing to]]-Table1[[#This Row],[Pay Rate]], \"\")","v":""},{"$f":"IF(Table1[[#This Row],[Wage differential Bonus                            - NotePay Rate you are bonusing to]]>0,Table1[[#This Row],[Bonus Rate]]*Table1[[#This Row],[Hours]],\"\")","v":""},null,null,null,null,null,{"$f":"IF(OR(AH2693>0.001,AH2693<-0.001),Table1[[#This Row],[Employee '#]],\" \")","v":" "},false,{"$f":"SUMIF(Table1[[#This Row],[Total Wage Diff bonus]:[Bank Bonus]],\"<> \")","v":0},{"$f":"IF(AA2693>0, Table1[[#This Row],[Column4]], IF(AB2693>0,Table1[[#This Row],[Column4]],IF(X2693>0,\"1000\")))","v":false}]
[null,null,null,null,null,null,null,null,null,null,null,null,null,null,null,null,0,null,null,null,null,null,null,null,{"$f":"IF(Table1[[#This Row],[Wage differential Bonus                            - NotePay Rate you are bonusing to]]>0, Table1[[#This Row],[Wage differential Bonus                            - NotePay Rate you are bonusing to]]-Table1[[#This Row],[Pay Rate]], \"\")","v":""},{"$f":"IF(Table1[[#This Row],[Wage differential Bonus                            - NotePay Rate you are bonusing to]]>0,Table1[[#This Row],[Bonus Rate]]*Table1[[#This Row],[Hours]],\"\")","v":""},null,null,null,null,null,{"$f":"IF(OR(AH2696>0.001,AH2696<-0.001),Table1[[#This Row],[Employee '#]],\" \")","v":" "},false,{"$f":"SUMIF(Table1[[#This Row],[Total Wage Diff bonus]:[Bank Bonus]],\"<> \")","v":0},{"$f":"IF(AA2696>0, Table1[[#This Row],[Column4]], IF(AB2696>0,Table1[[#This Row],[Column4]],IF(X2696>0,\"1000\")))","v":false}]
[null,null,null,null,null,null,null,null,null,null,null,null,null,null,null,null,0,null,null,null,null,null,null,null,{"$f":"IF(Table1[[#This Row],[Wage differential Bonus                            - NotePay Rate you are bonusing to]]>0, Table1[[#This Row],[Wage differential Bonus                            - NotePay Rate you are bonusing to]]-Table1[[#This Row],[Pay Rate]], \"\")","v":""},{"$f":"IF(Table1[[#This Row],[Wage differential Bonus                            - NotePay Rate you are bonusing to]]>0,Table1[[#This Row],[Bonus Rate]]*Table1[[#This Row],[Hours]],\"\")","v":""},null,null,null,null,null,{"$f":"IF(OR(AH2698>0.001,AH2698<-0.001),Table1[[#This Row],[Employee '#]],\" \")","v":" "},false,{"$f":"SUMIF(Table1[[#This Row],[Total Wage Diff bonus]:[Bank Bonus]],\"<> \")","v":0},{"$f":"IF(AA2698>0, Table1[[#This Row],[Column4]], IF(AB2698>0,Table1[[#This Row],[Column4]],IF(X2698>0,\"1000\")))","v":false}]
[null,null,null,null,null,null,null,null,null,null,null,null,null,null,null,null,0,null,null,null,null,null,null,null,{"$f":"IF(Table1[[#This Row],[Wage differential Bonus                            - NotePay Rate you are bonusing to]]>0, Table1[[#This Row],[Wage differential Bonus                            - NotePay Rate you are bonusing to]]-Table1[[#This Row],[Pay Rate]], \"\")","v":""},{"$f":"IF(Table1[[#This Row],[Wage differential Bonus                            - NotePay Rate you are bonusing to]]>0,Table1[[#This Row],[Bonus Rate]]*Table1[[#This Row],[Hours]],\"\")","v":""},null,null,null,null,null,{"$f":"IF(OR(AH2701>0.001,AH2701<-0.001),Table1[[#This Row],[Employee '#]],\" \")","v":" "},false,{"$f":"SUMIF(Table1[[#This Row],[Total Wage Diff bonus]:[Bank Bonus]],\"<> \")","v":0},{"$f":"IF(AA2701>0, Table1[[#This Row],[Column4]], IF(AB2701>0,Table1[[#This Row],[Column4]],IF(X2701>0,\"1000\")))","v":false}]
[null,null,null,null,null,null,null,null,null,null,null,null,null,null,null,null,0,null,null,null,null,null,null,null,{"$f":"IF(Table1[[#This Row],[Wage differential Bonus                            - NotePay Rate you are bonusing to]]>0, Table1[[#This Row],[Wage differential Bonus                            - NotePay Rate you are bonusing to]]-Table1[[#This Row],[Pay Rate]], \"\")","v":""},{"$f":"IF(Table1[[#This Row],[Wage differential Bonus                            - NotePay Rate you are bonusing to]]>0,Table1[[#This Row],[Bonus Rate]]*Table1[[#This Row],[Hours]],\"\")","v":""},null,null,null,null,null,{"$f":"IF(OR(AH2704>0.001,AH2704<-0.001),Table1[[#This Row],[Employee '#]],\" \")","v":" "},false,{"$f":"SUMIF(Table1[[#This Row],[Total Wage Diff bonus]:[Bank Bonus]],\"<> \")","v":0},{"$f":"IF(AA2704>0, Table1[[#This Row],[Column4]], IF(AB2704>0,Table1[[#This Row],[Column4]],IF(X2704>0,\"1000\")))","v":false}]
[null,null,null,null,null,null,null,null,null,null,null,null,null,null,null,null,0,null,null,null,null,null,null,null,{"$f":"IF(Table1[[#This Row],[Wage differential Bonus                            - NotePay Rate you are bonusing to]]>0, Table1[[#This Row],[Wage differential Bonus                            - NotePay Rate you are bonusing to]]-Table1[[#This Row],[Pay Rate]], \"\")","v":""},{"$f":"IF(Table1[[#This Row],[Wage differential Bonus                            - NotePay Rate you are bonusing to]]>0,Table1[[#This Row],[Bonus Rate]]*Table1[[#This Row],[Hours]],\"\")","v":""},null,null,null,null,null,{"$f":"IF(OR(AH2706>0.001,AH2706<-0.001),Table1[[#This Row],[Employee '#]],\" \")","v":" "},false,{"$f":"SUMIF(Table1[[#This Row],[Total Wage Diff bonus]:[Bank Bonus]],\"<> \")","v":0},{"$f":"IF(AA2706>0, Table1[[#This Row],[Column4]], IF(AB2706>0,Table1[[#This Row],[Column4]],IF(X2706>0,\"1000\")))","v":false}]
[null,null,null,null,null,null,null,null,null,null,null,null,null,null,null,null,0,null,null,null,null,null,null,null,{"$f":"IF(Table1[[#This Row],[Wage differential Bonus                            - NotePay Rate you are bonusing to]]>0, Table1[[#This Row],[Wage differential Bonus                            - NotePay Rate you are bonusing to]]-Table1[[#This Row],[Pay Rate]], \"\")","v":""},{"$f":"IF(Table1[[#This Row],[Wage differential Bonus                            - NotePay Rate you are bonusing to]]>0,Table1[[#This Row],[Bonus Rate]]*Table1[[#This Row],[Hours]],\"\")","v":""},null,null,null,null,null,{"$f":"IF(OR(AH2707>0.001,AH2707<-0.001),Table1[[#This Row],[Employee '#]],\" \")","v":" "},false,{"$f":"SUMIF(Table1[[#This Row],[Total Wage Diff bonus]:[Bank Bonus]],\"<> \")","v":0},{"$f":"IF(AA2707>0, Table1[[#This Row],[Column4]], IF(AB2707>0,Table1[[#This Row],[Column4]],IF(X2707>0,\"1000\")))","v":false}]
[null,null,null,null,null,null,null,null,null,null,null,null,null,null,null,null,0,null,null,null,null,null,null,null,{"$f":"IF(Table1[[#This Row],[Wage differential Bonus                            - NotePay Rate you are bonusing to]]>0, Table1[[#This Row],[Wage differential Bonus                            - NotePay Rate you are bonusing to]]-Table1[[#This Row],[Pay Rate]], \"\")","v":""},{"$f":"IF(Table1[[#This Row],[Wage differential Bonus                            - NotePay Rate you are bonusing to]]>0,Table1[[#This Row],[Bonus Rate]]*Table1[[#This Row],[Hours]],\"\")","v":""},null,null,null,null,null,{"$f":"IF(OR(AH2710>0.001,AH2710<-0.001),Table1[[#This Row],[Employee '#]],\" \")","v":" "},false,{"$f":"SUMIF(Table1[[#This Row],[Total Wage Diff bonus]:[Bank Bonus]],\"<> \")","v":0},{"$f":"IF(AA2710>0, Table1[[#This Row],[Column4]], IF(AB2710>0,Table1[[#This Row],[Column4]],IF(X2710>0,\"1000\")))","v":false}]
[null,null,null,null,null,null,null,null,null,null,null,null,null,null,null,null,0,null,null,null,null,null,null,null,{"$f":"IF(Table1[[#This Row],[Wage differential Bonus                            - NotePay Rate you are bonusing to]]>0, Table1[[#This Row],[Wage differential Bonus                            - NotePay Rate you are bonusing to]]-Table1[[#This Row],[Pay Rate]], \"\")","v":""},{"$f":"IF(Table1[[#This Row],[Wage differential Bonus                            - NotePay Rate you are bonusing to]]>0,Table1[[#This Row],[Bonus Rate]]*Table1[[#This Row],[Hours]],\"\")","v":""},null,null,null,null,null,{"$f":"IF(OR(AH2712>0.001,AH2712<-0.001),Table1[[#This Row],[Employee '#]],\" \")","v":" "},false,{"$f":"SUMIF(Table1[[#This Row],[Total Wage Diff bonus]:[Bank Bonus]],\"<> \")","v":0},{"$f":"IF(AA2712>0, Table1[[#This Row],[Column4]], IF(AB2712>0,Table1[[#This Row],[Column4]],IF(X2712>0,\"1000\")))","v":false}]
[null,null,null,null,null,null,null,null,null,null,null,null,null,null,null,null,0,null,null,null,null,null,null,null,{"$f":"IF(Table1[[#This Row],[Wage differential Bonus                            - NotePay Rate you are bonusing to]]>0, Table1[[#This Row],[Wage differential Bonus                            - NotePay Rate you are bonusing to]]-Table1[[#This Row],[Pay Rate]], \"\")","v":""},{"$f":"IF(Table1[[#This Row],[Wage differential Bonus                            - NotePay Rate you are bonusing to]]>0,Table1[[#This Row],[Bonus Rate]]*Table1[[#This Row],[Hours]],\"\")","v":""},null,null,null,null,null,{"$f":"IF(OR(AH2715>0.001,AH2715<-0.001),Table1[[#This Row],[Employee '#]],\" \")","v":" "},false,{"$f":"SUMIF(Table1[[#This Row],[Total Wage Diff bonus]:[Bank Bonus]],\"<> \")","v":0},{"$f":"IF(AA2715>0, Table1[[#This Row],[Column4]], IF(AB2715>0,Table1[[#This Row],[Column4]],IF(X2715>0,\"1000\")))","v":false}]
[null,null,null,null,null,null,null,null,null,null,null,null,null,null,null,null,0,null,null,null,null,null,null,null,{"$f":"IF(Table1[[#This Row],[Wage differential Bonus                            - NotePay Rate you are bonusing to]]>0, Table1[[#This Row],[Wage differential Bonus                            - NotePay Rate you are bonusing to]]-Table1[[#This Row],[Pay Rate]], \"\")","v":""},{"$f":"IF(Table1[[#This Row],[Wage differential Bonus                            - NotePay Rate you are bonusing to]]>0,Table1[[#This Row],[Bonus Rate]]*Table1[[#This Row],[Hours]],\"\")","v":""},null,null,null,null,null,{"$f":"IF(OR(AH2716>0.001,AH2716<-0.001),Table1[[#This Row],[Employee '#]],\" \")","v":" "},false,{"$f":"SUMIF(Table1[[#This Row],[Total Wage Diff bonus]:[Bank Bonus]],\"<> \")","v":0},{"$f":"IF(AA2716>0, Table1[[#This Row],[Column4]], IF(AB2716>0,Table1[[#This Row],[Column4]],IF(X2716>0,\"1000\")))","v":false}]
[null,null,null,null,null,null,null,null,null,null,null,null,null,null,null,null,0,null,null,null,null,null,null,null,{"$f":"IF(Table1[[#This Row],[Wage differential Bonus                            - NotePay Rate you are bonusing to]]>0, Table1[[#This Row],[Wage differential Bonus                            - NotePay Rate you are bonusing to]]-Table1[[#This Row],[Pay Rate]], \"\")","v":""},{"$f":"IF(Table1[[#This Row],[Wage differential Bonus                            - NotePay Rate you are bonusing to]]>0,Table1[[#This Row],[Bonus Rate]]*Table1[[#This Row],[Hours]],\"\")","v":""},null,null,null,null,null,{"$f":"IF(OR(AH2719>0.001,AH2719<-0.001),Table1[[#This Row],[Employee '#]],\" \")","v":" "},false,{"$f":"SUMIF(Table1[[#This Row],[Total Wage Diff bonus]:[Bank Bonus]],\"<> \")","v":0},{"$f":"IF(AA2719>0, Table1[[#This Row],[Column4]], IF(AB2719>0,Table1[[#This Row],[Column4]],IF(X2719>0,\"1000\")))","v":false}]
[null,null,null,null,null,null,null,null,null,null,null,null,null,null,null,null,0,null,null,null,null,null,null,null,{"$f":"IF(Table1[[#This Row],[Wage differential Bonus                            - NotePay Rate you are bonusing to]]>0, Table1[[#This Row],[Wage differential Bonus                            - NotePay Rate you are bonusing to]]-Table1[[#This Row],[Pay Rate]], \"\")","v":""},{"$f":"IF(Table1[[#This Row],[Wage differential Bonus                            - NotePay Rate you are bonusing to]]>0,Table1[[#This Row],[Bonus Rate]]*Table1[[#This Row],[Hours]],\"\")","v":""},null,null,null,null,null,{"$f":"IF(OR(AH2722>0.001,AH2722<-0.001),Table1[[#This Row],[Employee '#]],\" \")","v":" "},false,{"$f":"SUMIF(Table1[[#This Row],[Total Wage Diff bonus]:[Bank Bonus]],\"<> \")","v":0},{"$f":"IF(AA2722>0, Table1[[#This Row],[Column4]], IF(AB2722>0,Table1[[#This Row],[Column4]],IF(X2722>0,\"1000\")))","v":false}]
[null,null,null,null,null,null,null,null,null,null,null,null,null,null,null,null,0,null,null,null,null,null,null,null,{"$f":"IF(Table1[[#This Row],[Wage differential Bonus                            - NotePay Rate you are bonusing to]]>0, Table1[[#This Row],[Wage differential Bonus                            - NotePay Rate you are bonusing to]]-Table1[[#This Row],[Pay Rate]], \"\")","v":""},{"$f":"IF(Table1[[#This Row],[Wage differential Bonus                            - NotePay Rate you are bonusing to]]>0,Table1[[#This Row],[Bonus Rate]]*Table1[[#This Row],[Hours]],\"\")","v":""},null,null,null,null,null,{"$f":"IF(OR(AH2724>0.001,AH2724<-0.001),Table1[[#This Row],[Employee '#]],\" \")","v":" "},false,{"$f":"SUMIF(Table1[[#This Row],[Total Wage Diff bonus]:[Bank Bonus]],\"<> \")","v":0},{"$f":"IF(AA2724>0, Table1[[#This Row],[Column4]], IF(AB2724>0,Table1[[#This Row],[Column4]],IF(X2724>0,\"1000\")))","v":false}]
[null,null,null,null,null,null,null,null,null,null,null,null,null,null,null,null,0,null,null,null,null,null,null,null,{"$f":"IF(Table1[[#This Row],[Wage differential Bonus                            - NotePay Rate you are bonusing to]]>0, Table1[[#This Row],[Wage differential Bonus                            - NotePay Rate you are bonusing to]]-Table1[[#This Row],[Pay Rate]], \"\")","v":""},{"$f":"IF(Table1[[#This Row],[Wage differential Bonus                            - NotePay Rate you are bonusing to]]>0,Table1[[#This Row],[Bonus Rate]]*Table1[[#This Row],[Hours]],\"\")","v":""},null,null,null,null,null,{"$f":"IF(OR(AH2725>0.001,AH2725<-0.001),Table1[[#This Row],[Employee '#]],\" \")","v":" "},false,{"$f":"SUMIF(Table1[[#This Row],[Total Wage Diff bonus]:[Bank Bonus]],\"<> \")","v":0},{"$f":"IF(AA2725>0, Table1[[#This Row],[Column4]], IF(AB2725>0,Table1[[#This Row],[Column4]],IF(X2725>0,\"1000\")))","v":false}]
[null,null,null,null,null,null,null,null,null,null,null,null,null,null,null,null,0,null,null,null,null,null,null,null,{"$f":"IF(Table1[[#This Row],[Wage differential Bonus                            - NotePay Rate you are bonusing to]]>0, Table1[[#This Row],[Wage differential Bonus                            - NotePay Rate you are bonusing to]]-Table1[[#This Row],[Pay Rate]], \"\")","v":""},{"$f":"IF(Table1[[#This Row],[Wage differential Bonus                            - NotePay Rate you are bonusing to]]>0,Table1[[#This Row],[Bonus Rate]]*Table1[[#This Row],[Hours]],\"\")","v":""},null,null,null,null,null,{"$f":"IF(OR(AH2728>0.001,AH2728<-0.001),Table1[[#This Row],[Employee '#]],\" \")","v":" "},false,{"$f":"SUMIF(Table1[[#This Row],[Total Wage Diff bonus]:[Bank Bonus]],\"<> \")","v":0},{"$f":"IF(AA2728>0, Table1[[#This Row],[Column4]], IF(AB2728>0,Table1[[#This Row],[Column4]],IF(X2728>0,\"1000\")))","v":false}]
[null,null,null,null,null,null,null,null,null,null,null,null,null,null,null,null,0,null,null,null,null,null,null,null,{"$f":"IF(Table1[[#This Row],[Wage differential Bonus                            - NotePay Rate you are bonusing to]]>0, Table1[[#This Row],[Wage differential Bonus                            - NotePay Rate you are bonusing to]]-Table1[[#This Row],[Pay Rate]], \"\")","v":""},{"$f":"IF(Table1[[#This Row],[Wage differential Bonus                            - NotePay Rate you are bonusing to]]>0,Table1[[#This Row],[Bonus Rate]]*Table1[[#This Row],[Hours]],\"\")","v":""},null,null,null,null,null,{"$f":"IF(OR(AH2730>0.001,AH2730<-0.001),Table1[[#This Row],[Employee '#]],\" \")","v":" "},false,{"$f":"SUMIF(Table1[[#This Row],[Total Wage Diff bonus]:[Bank Bonus]],\"<> \")","v":0},{"$f":"IF(AA2730>0, Table1[[#This Row],[Column4]], IF(AB2730>0,Table1[[#This Row],[Column4]],IF(X2730>0,\"1000\")))","v":false}]
[null,null,null,null,null,null,null,null,null,null,null,null,null,null,null,null,0,null,null,null,null,null,null,null,{"$f":"IF(Table1[[#This Row],[Wage differential Bonus                            - NotePay Rate you are bonusing to]]>0, Table1[[#This Row],[Wage differential Bonus                            - NotePay Rate you are bonusing to]]-Table1[[#This Row],[Pay Rate]], \"\")","v":""},{"$f":"IF(Table1[[#This Row],[Wage differential Bonus                            - NotePay Rate you are bonusing to]]>0,Table1[[#This Row],[Bonus Rate]]*Table1[[#This Row],[Hours]],\"\")","v":""},null,null,null,null,null,{"$f":"IF(OR(AH2733>0.001,AH2733<-0.001),Table1[[#This Row],[Employee '#]],\" \")","v":" "},false,{"$f":"SUMIF(Table1[[#This Row],[Total Wage Diff bonus]:[Bank Bonus]],\"<> \")","v":0},{"$f":"IF(AA2733>0, Table1[[#This Row],[Column4]], IF(AB2733>0,Table1[[#This Row],[Column4]],IF(X2733>0,\"1000\")))","v":false}]
[null,null,null,null,null,null,null,null,null,null,null,null,null,null,null,null,0,null,null,null,null,null,null,null,{"$f":"IF(Table1[[#This Row],[Wage differential Bonus                            - NotePay Rate you are bonusing to]]>0, Table1[[#This Row],[Wage differential Bonus                            - NotePay Rate you are bonusing to]]-Table1[[#This Row],[Pay Rate]], \"\")","v":""},{"$f":"IF(Table1[[#This Row],[Wage differential Bonus                            - NotePay Rate you are bonusing to]]>0,Table1[[#This Row],[Bonus Rate]]*Table1[[#This Row],[Hours]],\"\")","v":""},null,null,null,null,null,{"$f":"IF(OR(AH2734>0.001,AH2734<-0.001),Table1[[#This Row],[Employee '#]],\" \")","v":" "},false,{"$f":"SUMIF(Table1[[#This Row],[Total Wage Diff bonus]:[Bank Bonus]],\"<> \")","v":0},{"$f":"IF(AA2734>0, Table1[[#This Row],[Column4]], IF(AB2734>0,Table1[[#This Row],[Column4]],IF(X2734>0,\"1000\")))","v":false}]
[null,null,null,null,null,null,null,null,null,null,null,null,null,null,null,null,0,null,null,null,null,null,null,null,{"$f":"IF(Table1[[#This Row],[Wage differential Bonus                            - NotePay Rate you are bonusing to]]>0, Table1[[#This Row],[Wage differential Bonus                            - NotePay Rate you are bonusing to]]-Table1[[#This Row],[Pay Rate]], \"\")","v":""},{"$f":"IF(Table1[[#This Row],[Wage differential Bonus                            - NotePay Rate you are bonusing to]]>0,Table1[[#This Row],[Bonus Rate]]*Table1[[#This Row],[Hours]],\"\")","v":""},null,null,null,null,null,{"$f":"IF(OR(AH2738>0.001,AH2738<-0.001),Table1[[#This Row],[Employee '#]],\" \")","v":" "},false,{"$f":"SUMIF(Table1[[#This Row],[Total Wage Diff bonus]:[Bank Bonus]],\"<> \")","v":0},{"$f":"IF(AA2738>0, Table1[[#This Row],[Column4]], IF(AB2738>0,Table1[[#This Row],[Column4]],IF(X2738>0,\"1000\")))","v":false}]
[null,null,null,null,null,null,null,null,null,null,null,null,null,null,null,null,0,null,null,null,null,null,null,null,{"$f":"IF(Table1[[#This Row],[Wage differential Bonus                            - NotePay Rate you are bonusing to]]>0, Table1[[#This Row],[Wage differential Bonus                            - NotePay Rate you are bonusing to]]-Table1[[#This Row],[Pay Rate]], \"\")","v":""},{"$f":"IF(Table1[[#This Row],[Wage differential Bonus                            - NotePay Rate you are bonusing to]]>0,Table1[[#This Row],[Bonus Rate]]*Table1[[#This Row],[Hours]],\"\")","v":""},null,null,null,null,null,{"$f":"IF(OR(AH2739>0.001,AH2739<-0.001),Table1[[#This Row],[Employee '#]],\" \")","v":" "},false,{"$f":"SUMIF(Table1[[#This Row],[Total Wage Diff bonus]:[Bank Bonus]],\"<> \")","v":0},{"$f":"IF(AA2739>0, Table1[[#This Row],[Column4]], IF(AB2739>0,Table1[[#This Row],[Column4]],IF(X2739>0,\"1000\")))","v":false}]
[null,null,null,null,null,null,null,null,null,null,null,null,null,null,null,null,0,null,null,null,null,null,null,null,{"$f":"IF(Table1[[#This Row],[Wage differential Bonus                            - NotePay Rate you are bonusing to]]>0, Table1[[#This Row],[Wage differential Bonus                            - NotePay Rate you are bonusing to]]-Table1[[#This Row],[Pay Rate]], \"\")","v":""},{"$f":"IF(Table1[[#This Row],[Wage differential Bonus                            - NotePay Rate you are bonusing to]]>0,Table1[[#This Row],[Bonus Rate]]*Table1[[#This Row],[Hours]],\"\")","v":""},null,null,null,null,null,{"$f":"IF(OR(AH2742>0.001,AH2742<-0.001),Table1[[#This Row],[Employee '#]],\" \")","v":" "},false,{"$f":"SUMIF(Table1[[#This Row],[Total Wage Diff bonus]:[Bank Bonus]],\"<> \")","v":0},{"$f":"IF(AA2742>0, Table1[[#This Row],[Column4]], IF(AB2742>0,Table1[[#This Row],[Column4]],IF(X2742>0,\"1000\")))","v":false}]
[null,null,null,null,null,null,null,null,null,null,null,null,null,null,null,null,0,null,null,null,null,null,null,null,{"$f":"IF(Table1[[#This Row],[Wage differential Bonus                            - NotePay Rate you are bonusing to]]>0, Table1[[#This Row],[Wage differential Bonus                            - NotePay Rate you are bonusing to]]-Table1[[#This Row],[Pay Rate]], \"\")","v":""},{"$f":"IF(Table1[[#This Row],[Wage differential Bonus                            - NotePay Rate you are bonusing to]]>0,Table1[[#This Row],[Bonus Rate]]*Table1[[#This Row],[Hours]],\"\")","v":""},null,null,null,null,null,{"$f":"IF(OR(AH2743>0.001,AH2743<-0.001),Table1[[#This Row],[Employee '#]],\" \")","v":" "},false,{"$f":"SUMIF(Table1[[#This Row],[Total Wage Diff bonus]:[Bank Bonus]],\"<> \")","v":0},{"$f":"IF(AA2743>0, Table1[[#This Row],[Column4]], IF(AB2743>0,Table1[[#This Row],[Column4]],IF(X2743>0,\"1000\")))","v":false}]
[null,null,null,null,null,null,null,null,null,null,null,null,null,null,null,null,0,null,null,null,null,null,null,null,{"$f":"IF(Table1[[#This Row],[Wage differential Bonus                            - NotePay Rate you are bonusing to]]>0, Table1[[#This Row],[Wage differential Bonus                            - NotePay Rate you are bonusing to]]-Table1[[#This Row],[Pay Rate]], \"\")","v":""},{"$f":"IF(Table1[[#This Row],[Wage differential Bonus                            - NotePay Rate you are bonusing to]]>0,Table1[[#This Row],[Bonus Rate]]*Table1[[#This Row],[Hours]],\"\")","v":""},null,null,null,null,null,{"$f":"IF(OR(AH2746>0.001,AH2746<-0.001),Table1[[#This Row],[Employee '#]],\" \")","v":" "},false,{"$f":"SUMIF(Table1[[#This Row],[Total Wage Diff bonus]:[Bank Bonus]],\"<> \")","v":0},{"$f":"IF(AA2746>0, Table1[[#This Row],[Column4]], IF(AB2746>0,Table1[[#This Row],[Column4]],IF(X2746>0,\"1000\")))","v":false}]
[null,null,null,null,null,null,null,null,null,null,null,null,null,null,null,null,0,null,null,null,null,null,null,null,{"$f":"IF(Table1[[#This Row],[Wage differential Bonus                            - NotePay Rate you are bonusing to]]>0, Table1[[#This Row],[Wage differential Bonus                            - NotePay Rate you are bonusing to]]-Table1[[#This Row],[Pay Rate]], \"\")","v":""},{"$f":"IF(Table1[[#This Row],[Wage differential Bonus                            - NotePay Rate you are bonusing to]]>0,Table1[[#This Row],[Bonus Rate]]*Table1[[#This Row],[Hours]],\"\")","v":""},null,null,null,null,null,{"$f":"IF(OR(AH2748>0.001,AH2748<-0.001),Table1[[#This Row],[Employee '#]],\" \")","v":" "},false,{"$f":"SUMIF(Table1[[#This Row],[Total Wage Diff bonus]:[Bank Bonus]],\"<> \")","v":0},{"$f":"IF(AA2748>0, Table1[[#This Row],[Column4]], IF(AB2748>0,Table1[[#This Row],[Column4]],IF(X2748>0,\"1000\")))","v":false}]
[null,null,null,null,null,null,null,null,null,null,null,null,null,null,null,null,0,null,null,null,null,null,null,null,{"$f":"IF(Table1[[#This Row],[Wage differential Bonus                            - NotePay Rate you are bonusing to]]>0, Table1[[#This Row],[Wage differential Bonus                            - NotePay Rate you are bonusing to]]-Table1[[#This Row],[Pay Rate]], \"\")","v":""},{"$f":"IF(Table1[[#This Row],[Wage differential Bonus                            - NotePay Rate you are bonusing to]]>0,Table1[[#This Row],[Bonus Rate]]*Table1[[#This Row],[Hours]],\"\")","v":""},null,null,null,null,null,{"$f":"IF(OR(AH2751>0.001,AH2751<-0.001),Table1[[#This Row],[Employee '#]],\" \")","v":" "},false,{"$f":"SUMIF(Table1[[#This Row],[Total Wage Diff bonus]:[Bank Bonus]],\"<> \")","v":0},{"$f":"IF(AA2751>0, Table1[[#This Row],[Column4]], IF(AB2751>0,Table1[[#This Row],[Column4]],IF(X2751>0,\"1000\")))","v":false}]
[null,null,null,null,null,null,null,null,null,null,null,null,null,null,null,null,0,null,null,null,null,null,null,null,{"$f":"IF(Table1[[#This Row],[Wage differential Bonus                            - NotePay Rate you are bonusing to]]>0, Table1[[#This Row],[Wage differential Bonus                            - NotePay Rate you are bonusing to]]-Table1[[#This Row],[Pay Rate]], \"\")","v":""},{"$f":"IF(Table1[[#This Row],[Wage differential Bonus                            - NotePay Rate you are bonusing to]]>0,Table1[[#This Row],[Bonus Rate]]*Table1[[#This Row],[Hours]],\"\")","v":""},null,null,null,null,null,{"$f":"IF(OR(AH2752>0.001,AH2752<-0.001),Table1[[#This Row],[Employee '#]],\" \")","v":" "},false,{"$f":"SUMIF(Table1[[#This Row],[Total Wage Diff bonus]:[Bank Bonus]],\"<> \")","v":0},{"$f":"IF(AA2752>0, Table1[[#This Row],[Column4]], IF(AB2752>0,Table1[[#This Row],[Column4]],IF(X2752>0,\"1000\")))","v":false}]
[null,null,null,null,null,null,null,null,null,null,null,null,null,null,null,null,{"$f":"L2756+P2756","v":0},null,null,null,null,null,null,null,{"$f":"IF(Table1[[#This Row],[Wage differential Bonus                            - NotePay Rate you are bonusing to]]>0, Table1[[#This Row],[Wage differential Bonus                            - NotePay Rate you are bonusing to]]-Table1[[#This Row],[Pay Rate]], \"\")","v":""},{"$f":"IF(Table1[[#This Row],[Wage differential Bonus                            - NotePay Rate you are bonusing to]]>0,Table1[[#This Row],[Bonus Rate]]*Table1[[#This Row],[Hours]],\"\")","v":""},null,null,null,null,null,{"$f":"IF(OR(AH2756>0.001,AH2756<-0.001),Table1[[#This Row],[Employee '#]],\" \")","v":" "},{"$f":"IF(AA2756>0, \"28\", IF(AB2756>0,\"53\",IF(X2756>0,\"20\")))","v":false},{"$f":"SUMIF(Table1[[#This Row],[Total Wage Diff bonus]:[Bank Bonus]],\"<> \")","v":0},{"$f":"IF(AA2756>0, Table1[[#This Row],[Column4]], IF(AB2756>0,Table1[[#This Row],[Column4]],IF(X2756>0,\"1000\")))","v":false}]
[null,null,null,null,null,null,null,null,null,null,null,null,null,null,null,null,0,null,null,null,null,null,null,null,{"$f":"IF(Table1[[#This Row],[Wage differential Bonus                            - NotePay Rate you are bonusing to]]>0, Table1[[#This Row],[Wage differential Bonus                            - NotePay Rate you are bonusing to]]-Table1[[#This Row],[Pay Rate]], \"\")","v":""},{"$f":"IF(Table1[[#This Row],[Wage differential Bonus                            - NotePay Rate you are bonusing to]]>0,Table1[[#This Row],[Bonus Rate]]*Table1[[#This Row],[Hours]],\"\")","v":""},null,null,null,null,null,{"$f":"IF(OR(AH2757>0.001,AH2757<-0.001),Table1[[#This Row],[Employee '#]],\" \")","v":" "},false,{"$f":"SUMIF(Table1[[#This Row],[Total Wage Diff bonus]:[Bank Bonus]],\"<> \")","v":0},{"$f":"IF(AA2757>0, Table1[[#This Row],[Column4]], IF(AB2757>0,Table1[[#This Row],[Column4]],IF(X2757>0,\"1000\")))","v":false}]
[null,null,null,null,null,null,null,null,null,null,null,null,null,null,null,null,0,null,null,null,null,null,null,null,{"$f":"IF(Table1[[#This Row],[Wage differential Bonus                            - NotePay Rate you are bonusing to]]>0, Table1[[#This Row],[Wage differential Bonus                            - NotePay Rate you are bonusing to]]-Table1[[#This Row],[Pay Rate]], \"\")","v":""},{"$f":"IF(Table1[[#This Row],[Wage differential Bonus                            - NotePay Rate you are bonusing to]]>0,Table1[[#This Row],[Bonus Rate]]*Table1[[#This Row],[Hours]],\"\")","v":""},null,null,null,null,null,{"$f":"IF(OR(AH2760>0.001,AH2760<-0.001),Table1[[#This Row],[Employee '#]],\" \")","v":" "},false,{"$f":"SUMIF(Table1[[#This Row],[Total Wage Diff bonus]:[Bank Bonus]],\"<> \")","v":0},{"$f":"IF(AA2760>0, Table1[[#This Row],[Column4]], IF(AB2760>0,Table1[[#This Row],[Column4]],IF(X2760>0,\"1000\")))","v":false}]
[null,null,null,null,null,null,null,null,null,null,null,null,null,null,null,null,0,null,null,null,null,null,null,null,{"$f":"IF(Table1[[#This Row],[Wage differential Bonus                            - NotePay Rate you are bonusing to]]>0, Table1[[#This Row],[Wage differential Bonus                            - NotePay Rate you are bonusing to]]-Table1[[#This Row],[Pay Rate]], \"\")","v":""},{"$f":"IF(Table1[[#This Row],[Wage differential Bonus                            - NotePay Rate you are bonusing to]]>0,Table1[[#This Row],[Bonus Rate]]*Table1[[#This Row],[Hours]],\"\")","v":""},null,null,null,null,null,{"$f":"IF(OR(AH2761>0.001,AH2761<-0.001),Table1[[#This Row],[Employee '#]],\" \")","v":" "},false,{"$f":"SUMIF(Table1[[#This Row],[Total Wage Diff bonus]:[Bank Bonus]],\"<> \")","v":0},{"$f":"IF(AA2761>0, Table1[[#This Row],[Column4]], IF(AB2761>0,Table1[[#This Row],[Column4]],IF(X2761>0,\"1000\")))","v":false}]
[null,null,null,null,null,null,null,null,null,null,null,null,null,null,null,null,0,null,null,null,null,null,null,null,{"$f":"IF(Table1[[#This Row],[Wage differential Bonus                            - NotePay Rate you are bonusing to]]>0, Table1[[#This Row],[Wage differential Bonus                            - NotePay Rate you are bonusing to]]-Table1[[#This Row],[Pay Rate]], \"\")","v":""},{"$f":"IF(Table1[[#This Row],[Wage differential Bonus                            - NotePay Rate you are bonusing to]]>0,Table1[[#This Row],[Bonus Rate]]*Table1[[#This Row],[Hours]],\"\")","v":""},null,null,null,null,null,{"$f":"IF(OR(AH2764>0.001,AH2764<-0.001),Table1[[#This Row],[Employee '#]],\" \")","v":" "},false,{"$f":"SUMIF(Table1[[#This Row],[Total Wage Diff bonus]:[Bank Bonus]],\"<> \")","v":0},{"$f":"IF(AA2764>0, Table1[[#This Row],[Column4]], IF(AB2764>0,Table1[[#This Row],[Column4]],IF(X2764>0,\"1000\")))","v":false}]
[null,null,null,null,null,null,null,null,null,null,null,null,null,null,null,null,0,null,null,null,null,null,null,null,{"$f":"IF(Table1[[#This Row],[Wage differential Bonus                            - NotePay Rate you are bonusing to]]>0, Table1[[#This Row],[Wage differential Bonus                            - NotePay Rate you are bonusing to]]-Table1[[#This Row],[Pay Rate]], \"\")","v":""},{"$f":"IF(Table1[[#This Row],[Wage differential Bonus                            - NotePay Rate you are bonusing to]]>0,Table1[[#This Row],[Bonus Rate]]*Table1[[#This Row],[Hours]],\"\")","v":""},null,null,null,null,null,{"$f":"IF(OR(AH2766>0.001,AH2766<-0.001),Table1[[#This Row],[Employee '#]],\" \")","v":" "},false,{"$f":"SUMIF(Table1[[#This Row],[Total Wage Diff bonus]:[Bank Bonus]],\"<> \")","v":0},{"$f":"IF(AA2766>0, Table1[[#This Row],[Column4]], IF(AB2766>0,Table1[[#This Row],[Column4]],IF(X2766>0,\"1000\")))","v":false}]
[null,null,null,null,null,null,null,null,null,null,null,null,null,null,null,null,0,null,null,null,null,null,null,null,{"$f":"IF(Table1[[#This Row],[Wage differential Bonus                            - NotePay Rate you are bonusing to]]>0, Table1[[#This Row],[Wage differential Bonus                            - NotePay Rate you are bonusing to]]-Table1[[#This Row],[Pay Rate]], \"\")","v":""},{"$f":"IF(Table1[[#This Row],[Wage differential Bonus                            - NotePay Rate you are bonusing to]]>0,Table1[[#This Row],[Bonus Rate]]*Table1[[#This Row],[Hours]],\"\")","v":""},null,null,null,null,null,{"$f":"IF(OR(AH2769>0.001,AH2769<-0.001),Table1[[#This Row],[Employee '#]],\" \")","v":" "},false,{"$f":"SUMIF(Table1[[#This Row],[Total Wage Diff bonus]:[Bank Bonus]],\"<> \")","v":0},{"$f":"IF(AA2769>0, Table1[[#This Row],[Column4]], IF(AB2769>0,Table1[[#This Row],[Column4]],IF(X2769>0,\"1000\")))","v":false}]
[null,null,null,null,null,null,null,null,null,null,null,null,null,null,null,null,0,null,null,null,null,null,null,null,{"$f":"IF(Table1[[#This Row],[Wage differential Bonus                            - NotePay Rate you are bonusing to]]>0, Table1[[#This Row],[Wage differential Bonus                            - NotePay Rate you are bonusing to]]-Table1[[#This Row],[Pay Rate]], \"\")","v":""},{"$f":"IF(Table1[[#This Row],[Wage differential Bonus                            - NotePay Rate you are bonusing to]]>0,Table1[[#This Row],[Bonus Rate]]*Table1[[#This Row],[Hours]],\"\")","v":""},null,null,null,null,null,{"$f":"IF(OR(AH2772>0.001,AH2772<-0.001),Table1[[#This Row],[Employee '#]],\" \")","v":" "},false,{"$f":"SUMIF(Table1[[#This Row],[Total Wage Diff bonus]:[Bank Bonus]],\"<> \")","v":0},{"$f":"IF(AA2772>0, Table1[[#This Row],[Column4]], IF(AB2772>0,Table1[[#This Row],[Column4]],IF(X2772>0,\"1000\")))","v":false}]
[null,null,null,null,null,null,null,null,null,null,null,null,null,null,null,null,0,null,null,null,null,null,null,null,{"$f":"IF(Table1[[#This Row],[Wage differential Bonus                            - NotePay Rate you are bonusing to]]>0, Table1[[#This Row],[Wage differential Bonus                            - NotePay Rate you are bonusing to]]-Table1[[#This Row],[Pay Rate]], \"\")","v":""},{"$f":"IF(Table1[[#This Row],[Wage differential Bonus                            - NotePay Rate you are bonusing to]]>0,Table1[[#This Row],[Bonus Rate]]*Table1[[#This Row],[Hours]],\"\")","v":""},null,null,null,null,null,{"$f":"IF(OR(AH2774>0.001,AH2774<-0.001),Table1[[#This Row],[Employee '#]],\" \")","v":" "},false,{"$f":"SUMIF(Table1[[#This Row],[Total Wage Diff bonus]:[Bank Bonus]],\"<> \")","v":0},{"$f":"IF(AA2774>0, Table1[[#This Row],[Column4]], IF(AB2774>0,Table1[[#This Row],[Column4]],IF(X2774>0,\"1000\")))","v":false}]
[null,null,null,null,null,null,null,null,null,null,null,null,null,null,null,null,0,null,null,null,null,null,null,null,{"$f":"IF(Table1[[#This Row],[Wage differential Bonus                            - NotePay Rate you are bonusing to]]>0, Table1[[#This Row],[Wage differential Bonus                            - NotePay Rate you are bonusing to]]-Table1[[#This Row],[Pay Rate]], \"\")","v":""},{"$f":"IF(Table1[[#This Row],[Wage differential Bonus                            - NotePay Rate you are bonusing to]]>0,Table1[[#This Row],[Bonus Rate]]*Table1[[#This Row],[Hours]],\"\")","v":""},null,null,null,null,null,{"$f":"IF(OR(AH2775>0.001,AH2775<-0.001),Table1[[#This Row],[Employee '#]],\" \")","v":" "},false,{"$f":"SUMIF(Table1[[#This Row],[Total Wage Diff bonus]:[Bank Bonus]],\"<> \")","v":0},{"$f":"IF(AA2775>0, Table1[[#This Row],[Column4]], IF(AB2775>0,Table1[[#This Row],[Column4]],IF(X2775>0,\"1000\")))","v":false}]
[null,null,null,null,null,null,null,null,null,null,null,null,null,null,null,null,0,null,null,null,null,null,null,null,{"$f":"IF(Table1[[#This Row],[Wage differential Bonus                            - NotePay Rate you are bonusing to]]>0, Table1[[#This Row],[Wage differential Bonus                            - NotePay Rate you are bonusing to]]-Table1[[#This Row],[Pay Rate]], \"\")","v":""},{"$f":"IF(Table1[[#This Row],[Wage differential Bonus                            - NotePay Rate you are bonusing to]]>0,Table1[[#This Row],[Bonus Rate]]*Table1[[#This Row],[Hours]],\"\")","v":""},null,null,null,null,null,{"$f":"IF(OR(AH2778>0.001,AH2778<-0.001),Table1[[#This Row],[Employee '#]],\" \")","v":" "},false,{"$f":"SUMIF(Table1[[#This Row],[Total Wage Diff bonus]:[Bank Bonus]],\"<> \")","v":0},{"$f":"IF(AA2778>0, Table1[[#This Row],[Column4]], IF(AB2778>0,Table1[[#This Row],[Column4]],IF(X2778>0,\"1000\")))","v":false}]
[null,null,null,null,null,null,null,null,null,null,null,null,null,null,null,null,0,null,null,null,null,null,null,null,{"$f":"IF(Table1[[#This Row],[Wage differential Bonus                            - NotePay Rate you are bonusing to]]>0, Table1[[#This Row],[Wage differential Bonus                            - NotePay Rate you are bonusing to]]-Table1[[#This Row],[Pay Rate]], \"\")","v":""},{"$f":"IF(Table1[[#This Row],[Wage differential Bonus                            - NotePay Rate you are bonusing to]]>0,Table1[[#This Row],[Bonus Rate]]*Table1[[#This Row],[Hours]],\"\")","v":""},null,null,null,null,null,{"$f":"IF(OR(AH2779>0.001,AH2779<-0.001),Table1[[#This Row],[Employee '#]],\" \")","v":" "},false,{"$f":"SUMIF(Table1[[#This Row],[Total Wage Diff bonus]:[Bank Bonus]],\"<> \")","v":0},{"$f":"IF(AA2779>0, Table1[[#This Row],[Column4]], IF(AB2779>0,Table1[[#This Row],[Column4]],IF(X2779>0,\"1000\")))","v":false}]
[null,null,null,null,null,null,null,null,null,null,null,null,null,null,null,null,0,null,null,null,null,null,null,null,{"$f":"IF(Table1[[#This Row],[Wage differential Bonus                            - NotePay Rate you are bonusing to]]>0, Table1[[#This Row],[Wage differential Bonus                            - NotePay Rate you are bonusing to]]-Table1[[#This Row],[Pay Rate]], \"\")","v":""},{"$f":"IF(Table1[[#This Row],[Wage differential Bonus                            - NotePay Rate you are bonusing to]]>0,Table1[[#This Row],[Bonus Rate]]*Table1[[#This Row],[Hours]],\"\")","v":""},null,null,null,null,null,{"$f":"IF(OR(AH2783>0.001,AH2783<-0.001),Table1[[#This Row],[Employee '#]],\" \")","v":" "},false,{"$f":"SUMIF(Table1[[#This Row],[Total Wage Diff bonus]:[Bank Bonus]],\"<> \")","v":0},{"$f":"IF(AA2783>0, Table1[[#This Row],[Column4]], IF(AB2783>0,Table1[[#This Row],[Column4]],IF(X2783>0,\"1000\")))","v":false}]
[null,null,null,null,null,null,null,null,null,null,null,null,null,null,null,null,0,null,null,null,null,null,null,null,{"$f":"IF(Table1[[#This Row],[Wage differential Bonus                            - NotePay Rate you are bonusing to]]>0, Table1[[#This Row],[Wage differential Bonus                            - NotePay Rate you are bonusing to]]-Table1[[#This Row],[Pay Rate]], \"\")","v":""},{"$f":"IF(Table1[[#This Row],[Wage differential Bonus                            - NotePay Rate you are bonusing to]]>0,Table1[[#This Row],[Bonus Rate]]*Table1[[#This Row],[Hours]],\"\")","v":""},null,null,null,null,null,{"$f":"IF(OR(AH2784>0.001,AH2784<-0.001),Table1[[#This Row],[Employee '#]],\" \")","v":" "},false,{"$f":"SUMIF(Table1[[#This Row],[Total Wage Diff bonus]:[Bank Bonus]],\"<> \")","v":0},{"$f":"IF(AA2784>0, Table1[[#This Row],[Column4]], IF(AB2784>0,Table1[[#This Row],[Column4]],IF(X2784>0,\"1000\")))","v":false}]
[null,null,null,null,null,null,null,null,null,null,null,null,null,null,null,null,0,null,null,null,null,null,null,null,{"$f":"IF(Table1[[#This Row],[Wage differential Bonus                            - NotePay Rate you are bonusing to]]>0, Table1[[#This Row],[Wage differential Bonus                            - NotePay Rate you are bonusing to]]-Table1[[#This Row],[Pay Rate]], \"\")","v":""},{"$f":"IF(Table1[[#This Row],[Wage differential Bonus                            - NotePay Rate you are bonusing to]]>0,Table1[[#This Row],[Bonus Rate]]*Table1[[#This Row],[Hours]],\"\")","v":""},null,null,null,null,null,{"$f":"IF(OR(AH2787>0.001,AH2787<-0.001),Table1[[#This Row],[Employee '#]],\" \")","v":" "},false,{"$f":"SUMIF(Table1[[#This Row],[Total Wage Diff bonus]:[Bank Bonus]],\"<> \")","v":0},{"$f":"IF(AA2787>0, Table1[[#This Row],[Column4]], IF(AB2787>0,Table1[[#This Row],[Column4]],IF(X2787>0,\"1000\")))","v":false}]
[null,null,null,null,null,null,null,null,null,null,null,null,null,null,null,null,0,null,null,null,null,null,null,null,{"$f":"IF(Table1[[#This Row],[Wage differential Bonus                            - NotePay Rate you are bonusing to]]>0, Table1[[#This Row],[Wage differential Bonus                            - NotePay Rate you are bonusing to]]-Table1[[#This Row],[Pay Rate]], \"\")","v":""},{"$f":"IF(Table1[[#This Row],[Wage differential Bonus                            - NotePay Rate you are bonusing to]]>0,Table1[[#This Row],[Bonus Rate]]*Table1[[#This Row],[Hours]],\"\")","v":""},null,null,null,null,null,{"$f":"IF(OR(AH2790>0.001,AH2790<-0.001),Table1[[#This Row],[Employee '#]],\" \")","v":" "},false,{"$f":"SUMIF(Table1[[#This Row],[Total Wage Diff bonus]:[Bank Bonus]],\"<> \")","v":0},{"$f":"IF(AA2790>0, Table1[[#This Row],[Column4]], IF(AB2790>0,Table1[[#This Row],[Column4]],IF(X2790>0,\"1000\")))","v":false}]
[null,null,null,null,null,null,null,null,null,null,null,null,null,null,null,null,0,null,null,null,null,null,null,null,{"$f":"IF(Table1[[#This Row],[Wage differential Bonus                            - NotePay Rate you are bonusing to]]>0, Table1[[#This Row],[Wage differential Bonus                            - NotePay Rate you are bonusing to]]-Table1[[#This Row],[Pay Rate]], \"\")","v":""},{"$f":"IF(Table1[[#This Row],[Wage differential Bonus                            - NotePay Rate you are bonusing to]]>0,Table1[[#This Row],[Bonus Rate]]*Table1[[#This Row],[Hours]],\"\")","v":""},null,null,null,null,null,{"$f":"IF(OR(AH2792>0.001,AH2792<-0.001),Table1[[#This Row],[Employee '#]],\" \")","v":" "},false,{"$f":"SUMIF(Table1[[#This Row],[Total Wage Diff bonus]:[Bank Bonus]],\"<> \")","v":0},{"$f":"IF(AA2792>0, Table1[[#This Row],[Column4]], IF(AB2792>0,Table1[[#This Row],[Column4]],IF(X2792>0,\"1000\")))","v":false}]
[null,null,null,null,null,null,null,null,null,null,null,null,null,null,null,null,0,null,null,null,null,null,null,null,{"$f":"IF(Table1[[#This Row],[Wage differential Bonus                            - NotePay Rate you are bonusing to]]>0, Table1[[#This Row],[Wage differential Bonus                            - NotePay Rate you are bonusing to]]-Table1[[#This Row],[Pay Rate]], \"\")","v":""},{"$f":"IF(Table1[[#This Row],[Wage differential Bonus                            - NotePay Rate you are bonusing to]]>0,Table1[[#This Row],[Bonus Rate]]*Table1[[#This Row],[Hours]],\"\")","v":""},null,null,null,null,null,{"$f":"IF(OR(AH2793>0.001,AH2793<-0.001),Table1[[#This Row],[Employee '#]],\" \")","v":" "},false,{"$f":"SUMIF(Table1[[#This Row],[Total Wage Diff bonus]:[Bank Bonus]],\"<> \")","v":0},{"$f":"IF(AA2793>0, Table1[[#This Row],[Column4]], IF(AB2793>0,Table1[[#This Row],[Column4]],IF(X2793>0,\"1000\")))","v":false}]
[null,null,null,null,null,null,null,null,null,null,null,null,null,null,null,null,0,null,null,null,null,null,null,null,{"$f":"IF(Table1[[#This Row],[Wage differential Bonus                            - NotePay Rate you are bonusing to]]>0, Table1[[#This Row],[Wage differential Bonus                            - NotePay Rate you are bonusing to]]-Table1[[#This Row],[Pay Rate]], \"\")","v":""},{"$f":"IF(Table1[[#This Row],[Wage differential Bonus                            - NotePay Rate you are bonusing to]]>0,Table1[[#This Row],[Bonus Rate]]*Table1[[#This Row],[Hours]],\"\")","v":""},null,null,null,null,null,{"$f":"IF(OR(AH2796>0.001,AH2796<-0.001),Table1[[#This Row],[Employee '#]],\" \")","v":" "},false,{"$f":"SUMIF(Table1[[#This Row],[Total Wage Diff bonus]:[Bank Bonus]],\"<> \")","v":0},{"$f":"IF(AA2796>0, Table1[[#This Row],[Column4]], IF(AB2796>0,Table1[[#This Row],[Column4]],IF(X2796>0,\"1000\")))","v":false}]
[null,null,null,null,null,null,null,null,null,null,null,null,null,null,null,null,0,null,null,null,null,null,null,null,{"$f":"IF(Table1[[#This Row],[Wage differential Bonus                            - NotePay Rate you are bonusing to]]>0, Table1[[#This Row],[Wage differential Bonus                            - NotePay Rate you are bonusing to]]-Table1[[#This Row],[Pay Rate]], \"\")","v":""},{"$f":"IF(Table1[[#This Row],[Wage differential Bonus                            - NotePay Rate you are bonusing to]]>0,Table1[[#This Row],[Bonus Rate]]*Table1[[#This Row],[Hours]],\"\")","v":""},null,null,null,null,null,{"$f":"IF(OR(AH2797>0.001,AH2797<-0.001),Table1[[#This Row],[Employee '#]],\" \")","v":" "},false,{"$f":"SUMIF(Table1[[#This Row],[Total Wage Diff bonus]:[Bank Bonus]],\"<> \")","v":0},{"$f":"IF(AA2797>0, Table1[[#This Row],[Column4]], IF(AB2797>0,Table1[[#This Row],[Column4]],IF(X2797>0,\"1000\")))","v":false}]
[null,null,null,null,null,null,null,null,null,null,null,null,null,null,null,null,0,null,null,null,null,null,null,null,{"$f":"IF(Table1[[#This Row],[Wage differential Bonus                            - NotePay Rate you are bonusing to]]>0, Table1[[#This Row],[Wage differential Bonus                            - NotePay Rate you are bonusing to]]-Table1[[#This Row],[Pay Rate]], \"\")","v":""},{"$f":"IF(Table1[[#This Row],[Wage differential Bonus                            - NotePay Rate you are bonusing to]]>0,Table1[[#This Row],[Bonus Rate]]*Table1[[#This Row],[Hours]],\"\")","v":""},null,null,null,null,null,{"$f":"IF(OR(AH2801>0.001,AH2801<-0.001),Table1[[#This Row],[Employee '#]],\" \")","v":" "},false,{"$f":"SUMIF(Table1[[#This Row],[Total Wage Diff bonus]:[Bank Bonus]],\"<> \")","v":0},{"$f":"IF(AA2801>0, Table1[[#This Row],[Column4]], IF(AB2801>0,Table1[[#This Row],[Column4]],IF(X2801>0,\"1000\")))","v":false}]
[null,null,null,null,null,null,null,null,null,null,null,null,null,null,null,null,0,null,null,null,null,null,null,null,{"$f":"IF(Table1[[#This Row],[Wage differential Bonus                            - NotePay Rate you are bonusing to]]>0, Table1[[#This Row],[Wage differential Bonus                            - NotePay Rate you are bonusing to]]-Table1[[#This Row],[Pay Rate]], \"\")","v":""},{"$f":"IF(Table1[[#This Row],[Wage differential Bonus                            - NotePay Rate you are bonusing to]]>0,Table1[[#This Row],[Bonus Rate]]*Table1[[#This Row],[Hours]],\"\")","v":""},null,null,null,null,null,{"$f":"IF(OR(AH2802>0.001,AH2802<-0.001),Table1[[#This Row],[Employee '#]],\" \")","v":" "},false,{"$f":"SUMIF(Table1[[#This Row],[Total Wage Diff bonus]:[Bank Bonus]],\"<> \")","v":0},{"$f":"IF(AA2802>0, Table1[[#This Row],[Column4]], IF(AB2802>0,Table1[[#This Row],[Column4]],IF(X2802>0,\"1000\")))","v":false}]
[null,null,null,null,null,null,null,null,null,null,null,null,null,null,null,null,0,null,null,null,null,null,null,null,{"$f":"IF(Table1[[#This Row],[Wage differential Bonus                            - NotePay Rate you are bonusing to]]>0, Table1[[#This Row],[Wage differential Bonus                            - NotePay Rate you are bonusing to]]-Table1[[#This Row],[Pay Rate]], \"\")","v":""},{"$f":"IF(Table1[[#This Row],[Wage differential Bonus                            - NotePay Rate you are bonusing to]]>0,Table1[[#This Row],[Bonus Rate]]*Table1[[#This Row],[Hours]],\"\")","v":""},null,null,null,null,null,{"$f":"IF(OR(AH2806>0.001,AH2806<-0.001),Table1[[#This Row],[Employee '#]],\" \")","v":" "},false,{"$f":"SUMIF(Table1[[#This Row],[Total Wage Diff bonus]:[Bank Bonus]],\"<> \")","v":0},{"$f":"IF(AA2806>0, Table1[[#This Row],[Column4]], IF(AB2806>0,Table1[[#This Row],[Column4]],IF(X2806>0,\"1000\")))","v":false}]
[null,null,null,null,null,null,null,null,null,null,null,null,null,null,null,null,0,null,null,null,null,null,null,null,{"$f":"IF(Table1[[#This Row],[Wage differential Bonus                            - NotePay Rate you are bonusing to]]>0, Table1[[#This Row],[Wage differential Bonus                            - NotePay Rate you are bonusing to]]-Table1[[#This Row],[Pay Rate]], \"\")","v":""},{"$f":"IF(Table1[[#This Row],[Wage differential Bonus                            - NotePay Rate you are bonusing to]]>0,Table1[[#This Row],[Bonus Rate]]*Table1[[#This Row],[Hours]],\"\")","v":""},null,null,null,null,null,{"$f":"IF(OR(AH2807>0.001,AH2807<-0.001),Table1[[#This Row],[Employee '#]],\" \")","v":" "},false,{"$f":"SUMIF(Table1[[#This Row],[Total Wage Diff bonus]:[Bank Bonus]],\"<> \")","v":0},{"$f":"IF(AA2807>0, Table1[[#This Row],[Column4]], IF(AB2807>0,Table1[[#This Row],[Column4]],IF(X2807>0,\"1000\")))","v":false}]
[null,null,null,null,null,null,null,null,null,null,null,null,null,null,null,null,0,null,null,null,null,null,null,null,{"$f":"IF(Table1[[#This Row],[Wage differential Bonus                            - NotePay Rate you are bonusing to]]>0, Table1[[#This Row],[Wage differential Bonus                            - NotePay Rate you are bonusing to]]-Table1[[#This Row],[Pay Rate]], \"\")","v":""},{"$f":"IF(Table1[[#This Row],[Wage differential Bonus                            - NotePay Rate you are bonusing to]]>0,Table1[[#This Row],[Bonus Rate]]*Table1[[#This Row],[Hours]],\"\")","v":""},null,null,null,null,null,{"$f":"IF(OR(AH2810>0.001,AH2810<-0.001),Table1[[#This Row],[Employee '#]],\" \")","v":" "},false,{"$f":"SUMIF(Table1[[#This Row],[Total Wage Diff bonus]:[Bank Bonus]],\"<> \")","v":0},{"$f":"IF(AA2810>0, Table1[[#This Row],[Column4]], IF(AB2810>0,Table1[[#This Row],[Column4]],IF(X2810>0,\"1000\")))","v":false}]
[null,null,null,null,null,null,null,null,null,null,null,null,null,null,null,null,0,null,null,null,null,null,null,null,{"$f":"IF(Table1[[#This Row],[Wage differential Bonus                            - NotePay Rate you are bonusing to]]>0, Table1[[#This Row],[Wage differential Bonus                            - NotePay Rate you are bonusing to]]-Table1[[#This Row],[Pay Rate]], \"\")","v":""},{"$f":"IF(Table1[[#This Row],[Wage differential Bonus                            - NotePay Rate you are bonusing to]]>0,Table1[[#This Row],[Bonus Rate]]*Table1[[#This Row],[Hours]],\"\")","v":""},null,null,null,null,null,{"$f":"IF(OR(AH2811>0.001,AH2811<-0.001),Table1[[#This Row],[Employee '#]],\" \")","v":" "},false,{"$f":"SUMIF(Table1[[#This Row],[Total Wage Diff bonus]:[Bank Bonus]],\"<> \")","v":0},{"$f":"IF(AA2811>0, Table1[[#This Row],[Column4]], IF(AB2811>0,Table1[[#This Row],[Column4]],IF(X2811>0,\"1000\")))","v":false}]
[null,null,null,null,null,null,null,null,null,null,null,null,null,null,null,null,0,null,null,null,null,null,null,null,{"$f":"IF(Table1[[#This Row],[Wage differential Bonus                            - NotePay Rate you are bonusing to]]>0, Table1[[#This Row],[Wage differential Bonus                            - NotePay Rate you are bonusing to]]-Table1[[#This Row],[Pay Rate]], \"\")","v":""},{"$f":"IF(Table1[[#This Row],[Wage differential Bonus                            - NotePay Rate you are bonusing to]]>0,Table1[[#This Row],[Bonus Rate]]*Table1[[#This Row],[Hours]],\"\")","v":""},null,null,null,null,null,{"$f":"IF(OR(AH2813>0.001,AH2813<-0.001),Table1[[#This Row],[Employee '#]],\" \")","v":" "},false,{"$f":"SUMIF(Table1[[#This Row],[Total Wage Diff bonus]:[Bank Bonus]],\"<> \")","v":0},{"$f":"IF(AA2813>0, Table1[[#This Row],[Column4]], IF(AB2813>0,Table1[[#This Row],[Column4]],IF(X2813>0,\"1000\")))","v":false}]
[null,null,null,null,null,null,null,null,null,null,null,null,null,null,null,null,0,null,null,null,null,null,null,null,{"$f":"IF(Table1[[#This Row],[Wage differential Bonus                            - NotePay Rate you are bonusing to]]>0, Table1[[#This Row],[Wage differential Bonus                            - NotePay Rate you are bonusing to]]-Table1[[#This Row],[Pay Rate]], \"\")","v":""},{"$f":"IF(Table1[[#This Row],[Wage differential Bonus                            - NotePay Rate you are bonusing to]]>0,Table1[[#This Row],[Bonus Rate]]*Table1[[#This Row],[Hours]],\"\")","v":""},null,null,null,null,null,{"$f":"IF(OR(AH2816>0.001,AH2816<-0.001),Table1[[#This Row],[Employee '#]],\" \")","v":" "},false,{"$f":"SUMIF(Table1[[#This Row],[Total Wage Diff bonus]:[Bank Bonus]],\"<> \")","v":0},{"$f":"IF(AA2816>0, Table1[[#This Row],[Column4]], IF(AB2816>0,Table1[[#This Row],[Column4]],IF(X2816>0,\"1000\")))","v":false}]
[null,null,null,null,null,null,null,null,null,null,null,null,null,null,null,null,0,null,null,null,null,null,null,null,{"$f":"IF(Table1[[#This Row],[Wage differential Bonus                            - NotePay Rate you are bonusing to]]>0, Table1[[#This Row],[Wage differential Bonus                            - NotePay Rate you are bonusing to]]-Table1[[#This Row],[Pay Rate]], \"\")","v":""},{"$f":"IF(Table1[[#This Row],[Wage differential Bonus                            - NotePay Rate you are bonusing to]]>0,Table1[[#This Row],[Bonus Rate]]*Table1[[#This Row],[Hours]],\"\")","v":""},null,null,null,null,null,{"$f":"IF(OR(AH2819>0.001,AH2819<-0.001),Table1[[#This Row],[Employee '#]],\" \")","v":" "},false,{"$f":"SUMIF(Table1[[#This Row],[Total Wage Diff bonus]:[Bank Bonus]],\"<> \")","v":0},{"$f":"IF(AA2819>0, Table1[[#This Row],[Column4]], IF(AB2819>0,Table1[[#This Row],[Column4]],IF(X2819>0,\"1000\")))","v":false}]
[null,null,null,null,null,null,null,null,null,null,null,null,null,null,null,null,{"$f":"L2820+P2820","v":0},null,null,null,null,null,null,null,{"$f":"IF(Table1[[#This Row],[Wage differential Bonus                            - NotePay Rate you are bonusing to]]>0, Table1[[#This Row],[Wage differential Bonus                            - NotePay Rate you are bonusing to]]-Table1[[#This Row],[Pay Rate]], \"\")","v":""},{"$f":"IF(Table1[[#This Row],[Wage differential Bonus                            - NotePay Rate you are bonusing to]]>0,Table1[[#This Row],[Bonus Rate]]*Table1[[#This Row],[Hours]],\"\")","v":""},null,null,null,null,null,{"$f":"IF(OR(AH2820>0.001,AH2820<-0.001),Table1[[#This Row],[Employee '#]],\" \")","v":" "},{"$f":"IF(AA2820>0, \"28\", IF(AB2820>0,\"53\",IF(X2820>0,\"20\")))","v":false},{"$f":"SUMIF(Table1[[#This Row],[Total Wage Diff bonus]:[Bank Bonus]],\"<> \")","v":0},{"$f":"IF(AA2820>0, Table1[[#This Row],[Column4]], IF(AB2820>0,Table1[[#This Row],[Column4]],IF(X2820>0,\"1000\")))","v":false}]
[null,null,null,null,null,null,null,null,null,null,null,null,null,null,null,null,0,null,null,null,null,null,null,null,{"$f":"IF(Table1[[#This Row],[Wage differential Bonus                            - NotePay Rate you are bonusing to]]>0, Table1[[#This Row],[Wage differential Bonus                            - NotePay Rate you are bonusing to]]-Table1[[#This Row],[Pay Rate]], \"\")","v":""},{"$f":"IF(Table1[[#This Row],[Wage differential Bonus                            - NotePay Rate you are bonusing to]]>0,Table1[[#This Row],[Bonus Rate]]*Table1[[#This Row],[Hours]],\"\")","v":""},null,null,null,null,null,{"$f":"IF(OR(AH2824>0.001,AH2824<-0.001),Table1[[#This Row],[Employee '#]],\" \")","v":" "},false,{"$f":"SUMIF(Table1[[#This Row],[Total Wage Diff bonus]:[Bank Bonus]],\"<> \")","v":0},{"$f":"IF(AA2824>0, Table1[[#This Row],[Column4]], IF(AB2824>0,Table1[[#This Row],[Column4]],IF(X2824>0,\"1000\")))","v":false}]
[null,null,null,null,null,null,null,null,null,null,null,null,null,null,null,null,0,null,null,null,null,null,null,null,{"$f":"IF(Table1[[#This Row],[Wage differential Bonus                            - NotePay Rate you are bonusing to]]>0, Table1[[#This Row],[Wage differential Bonus                            - NotePay Rate you are bonusing to]]-Table1[[#This Row],[Pay Rate]], \"\")","v":""},{"$f":"IF(Table1[[#This Row],[Wage differential Bonus                            - NotePay Rate you are bonusing to]]>0,Table1[[#This Row],[Bonus Rate]]*Table1[[#This Row],[Hours]],\"\")","v":""},null,null,null,null,null,{"$f":"IF(OR(AH2825>0.001,AH2825<-0.001),Table1[[#This Row],[Employee '#]],\" \")","v":" "},false,{"$f":"SUMIF(Table1[[#This Row],[Total Wage Diff bonus]:[Bank Bonus]],\"<> \")","v":0},{"$f":"IF(AA2825>0, Table1[[#This Row],[Column4]], IF(AB2825>0,Table1[[#This Row],[Column4]],IF(X2825>0,\"1000\")))","v":false}]
[null,null,null,null,null,null,null,null,null,null,null,null,null,null,null,null,0,null,null,null,null,null,null,null,{"$f":"IF(Table1[[#This Row],[Wage differential Bonus                            - NotePay Rate you are bonusing to]]>0, Table1[[#This Row],[Wage differential Bonus                            - NotePay Rate you are bonusing to]]-Table1[[#This Row],[Pay Rate]], \"\")","v":""},{"$f":"IF(Table1[[#This Row],[Wage differential Bonus                            - NotePay Rate you are bonusing to]]>0,Table1[[#This Row],[Bonus Rate]]*Table1[[#This Row],[Hours]],\"\")","v":""},null,null,null,null,null,{"$f":"IF(OR(AH2828>0.001,AH2828<-0.001),Table1[[#This Row],[Employee '#]],\" \")","v":" "},false,{"$f":"SUMIF(Table1[[#This Row],[Total Wage Diff bonus]:[Bank Bonus]],\"<> \")","v":0},{"$f":"IF(AA2828>0, Table1[[#This Row],[Column4]], IF(AB2828>0,Table1[[#This Row],[Column4]],IF(X2828>0,\"1000\")))","v":false}]
[null,null,null,null,null,null,null,null,null,null,null,null,null,null,null,null,0,null,null,null,null,null,null,null,{"$f":"IF(Table1[[#This Row],[Wage differential Bonus                            - NotePay Rate you are bonusing to]]>0, Table1[[#This Row],[Wage differential Bonus                            - NotePay Rate you are bonusing to]]-Table1[[#This Row],[Pay Rate]], \"\")","v":""},{"$f":"IF(Table1[[#This Row],[Wage differential Bonus                            - NotePay Rate you are bonusing to]]>0,Table1[[#This Row],[Bonus Rate]]*Table1[[#This Row],[Hours]],\"\")","v":""},null,null,null,null,null,{"$f":"IF(OR(AH2829>0.001,AH2829<-0.001),Table1[[#This Row],[Employee '#]],\" \")","v":" "},false,{"$f":"SUMIF(Table1[[#This Row],[Total Wage Diff bonus]:[Bank Bonus]],\"<> \")","v":0},{"$f":"IF(AA2829>0, Table1[[#This Row],[Column4]], IF(AB2829>0,Table1[[#This Row],[Column4]],IF(X2829>0,\"1000\")))","v":false}]
[null,null,null,null,null,null,null,null,null,null,null,null,null,null,null,null,0,null,null,null,null,null,null,null,{"$f":"IF(Table1[[#This Row],[Wage differential Bonus                            - NotePay Rate you are bonusing to]]>0, Table1[[#This Row],[Wage differential Bonus                            - NotePay Rate you are bonusing to]]-Table1[[#This Row],[Pay Rate]], \"\")","v":""},{"$f":"IF(Table1[[#This Row],[Wage differential Bonus                            - NotePay Rate you are bonusing to]]>0,Table1[[#This Row],[Bonus Rate]]*Table1[[#This Row],[Hours]],\"\")","v":""},null,null,null,null,null,{"$f":"IF(OR(AH2831>0.001,AH2831<-0.001),Table1[[#This Row],[Employee '#]],\" \")","v":" "},false,{"$f":"SUMIF(Table1[[#This Row],[Total Wage Diff bonus]:[Bank Bonus]],\"<> \")","v":0},{"$f":"IF(AA2831>0, Table1[[#This Row],[Column4]], IF(AB2831>0,Table1[[#This Row],[Column4]],IF(X2831>0,\"1000\")))","v":false}]
[null,null,null,null,null,null,null,null,null,null,null,null,null,null,null,null,0,null,null,null,null,null,null,null,{"$f":"IF(Table1[[#This Row],[Wage differential Bonus                            - NotePay Rate you are bonusing to]]>0, Table1[[#This Row],[Wage differential Bonus                            - NotePay Rate you are bonusing to]]-Table1[[#This Row],[Pay Rate]], \"\")","v":""},{"$f":"IF(Table1[[#This Row],[Wage differential Bonus                            - NotePay Rate you are bonusing to]]>0,Table1[[#This Row],[Bonus Rate]]*Table1[[#This Row],[Hours]],\"\")","v":""},null,null,null,null,null,{"$f":"IF(OR(AH2834>0.001,AH2834<-0.001),Table1[[#This Row],[Employee '#]],\" \")","v":" "},false,{"$f":"SUMIF(Table1[[#This Row],[Total Wage Diff bonus]:[Bank Bonus]],\"<> \")","v":0},{"$f":"IF(AA2834>0, Table1[[#This Row],[Column4]], IF(AB2834>0,Table1[[#This Row],[Column4]],IF(X2834>0,\"1000\")))","v":false}]
[null,null,null,null,null,null,null,null,null,null,null,null,null,null,null,null,0,null,null,null,null,null,null,null,{"$f":"IF(Table1[[#This Row],[Wage differential Bonus                            - NotePay Rate you are bonusing to]]>0, Table1[[#This Row],[Wage differential Bonus                            - NotePay Rate you are bonusing to]]-Table1[[#This Row],[Pay Rate]], \"\")","v":""},{"$f":"IF(Table1[[#This Row],[Wage differential Bonus                            - NotePay Rate you are bonusing to]]>0,Table1[[#This Row],[Bonus Rate]]*Table1[[#This Row],[Hours]],\"\")","v":""},null,null,null,null,null,{"$f":"IF(OR(AH2837>0.001,AH2837<-0.001),Table1[[#This Row],[Employee '#]],\" \")","v":" "},false,{"$f":"SUMIF(Table1[[#This Row],[Total Wage Diff bonus]:[Bank Bonus]],\"<> \")","v":0},{"$f":"IF(AA2837>0, Table1[[#This Row],[Column4]], IF(AB2837>0,Table1[[#This Row],[Column4]],IF(X2837>0,\"1000\")))","v":false}]
[null,null,null,null,null,null,null,null,null,null,null,null,null,null,null,null,0,null,null,null,null,null,null,null,{"$f":"IF(Table1[[#This Row],[Wage differential Bonus                            - NotePay Rate you are bonusing to]]>0, Table1[[#This Row],[Wage differential Bonus                            - NotePay Rate you are bonusing to]]-Table1[[#This Row],[Pay Rate]], \"\")","v":""},{"$f":"IF(Table1[[#This Row],[Wage differential Bonus                            - NotePay Rate you are bonusing to]]>0,Table1[[#This Row],[Bonus Rate]]*Table1[[#This Row],[Hours]],\"\")","v":""},null,null,null,null,null,{"$f":"IF(OR(AH2838>0.001,AH2838<-0.001),Table1[[#This Row],[Employee '#]],\" \")","v":" "},false,{"$f":"SUMIF(Table1[[#This Row],[Total Wage Diff bonus]:[Bank Bonus]],\"<> \")","v":0},{"$f":"IF(AA2838>0, Table1[[#This Row],[Column4]], IF(AB2838>0,Table1[[#This Row],[Column4]],IF(X2838>0,\"1000\")))","v":false}]
[null,null,null,null,null,null,null,null,null,null,null,null,null,null,null,null,0,null,null,null,null,null,null,null,{"$f":"IF(Table1[[#This Row],[Wage differential Bonus                            - NotePay Rate you are bonusing to]]>0, Table1[[#This Row],[Wage differential Bonus                            - NotePay Rate you are bonusing to]]-Table1[[#This Row],[Pay Rate]], \"\")","v":""},{"$f":"IF(Table1[[#This Row],[Wage differential Bonus                            - NotePay Rate you are bonusing to]]>0,Table1[[#This Row],[Bonus Rate]]*Table1[[#This Row],[Hours]],\"\")","v":""},null,null,null,null,null,{"$f":"IF(OR(AH2842>0.001,AH2842<-0.001),Table1[[#This Row],[Employee '#]],\" \")","v":" "},false,{"$f":"SUMIF(Table1[[#This Row],[Total Wage Diff bonus]:[Bank Bonus]],\"<> \")","v":0},{"$f":"IF(AA2842>0, Table1[[#This Row],[Column4]], IF(AB2842>0,Table1[[#This Row],[Column4]],IF(X2842>0,\"1000\")))","v":false}]
[null,null,null,null,null,null,null,null,null,null,null,null,null,null,null,null,0,null,null,null,null,null,null,null,{"$f":"IF(Table1[[#This Row],[Wage differential Bonus                            - NotePay Rate you are bonusing to]]>0, Table1[[#This Row],[Wage differential Bonus                            - NotePay Rate you are bonusing to]]-Table1[[#This Row],[Pay Rate]], \"\")","v":""},{"$f":"IF(Table1[[#This Row],[Wage differential Bonus                            - NotePay Rate you are bonusing to]]>0,Table1[[#This Row],[Bonus Rate]]*Table1[[#This Row],[Hours]],\"\")","v":""},null,null,null,null,null,{"$f":"IF(OR(AH2843>0.001,AH2843<-0.001),Table1[[#This Row],[Employee '#]],\" \")","v":" "},false,{"$f":"SUMIF(Table1[[#This Row],[Total Wage Diff bonus]:[Bank Bonus]],\"<> \")","v":0},{"$f":"IF(AA2843>0, Table1[[#This Row],[Column4]], IF(AB2843>0,Table1[[#This Row],[Column4]],IF(X2843>0,\"1000\")))","v":false}]
[null,null,null,null,null,null,null,null,null,null,null,null,null,null,null,null,0,null,null,null,null,null,null,null,{"$f":"IF(Table1[[#This Row],[Wage differential Bonus                            - NotePay Rate you are bonusing to]]>0, Table1[[#This Row],[Wage differential Bonus                            - NotePay Rate you are bonusing to]]-Table1[[#This Row],[Pay Rate]], \"\")","v":""},{"$f":"IF(Table1[[#This Row],[Wage differential Bonus                            - NotePay Rate you are bonusing to]]>0,Table1[[#This Row],[Bonus Rate]]*Table1[[#This Row],[Hours]],\"\")","v":""},null,null,null,null,null,{"$f":"IF(OR(AH2846>0.001,AH2846<-0.001),Table1[[#This Row],[Employee '#]],\" \")","v":" "},false,{"$f":"SUMIF(Table1[[#This Row],[Total Wage Diff bonus]:[Bank Bonus]],\"<> \")","v":0},{"$f":"IF(AA2846>0, Table1[[#This Row],[Column4]], IF(AB2846>0,Table1[[#This Row],[Column4]],IF(X2846>0,\"1000\")))","v":false}]
[null,null,null,null,null,null,null,null,null,null,null,null,null,null,null,null,0,null,null,null,null,null,null,null,{"$f":"IF(Table1[[#This Row],[Wage differential Bonus                            - NotePay Rate you are bonusing to]]>0, Table1[[#This Row],[Wage differential Bonus                            - NotePay Rate you are bonusing to]]-Table1[[#This Row],[Pay Rate]], \"\")","v":""},{"$f":"IF(Table1[[#This Row],[Wage differential Bonus                            - NotePay Rate you are bonusing to]]>0,Table1[[#This Row],[Bonus Rate]]*Table1[[#This Row],[Hours]],\"\")","v":""},null,null,null,null,null,{"$f":"IF(OR(AH2847>0.001,AH2847<-0.001),Table1[[#This Row],[Employee '#]],\" \")","v":" "},false,{"$f":"SUMIF(Table1[[#This Row],[Total Wage Diff bonus]:[Bank Bonus]],\"<> \")","v":0},{"$f":"IF(AA2847>0, Table1[[#This Row],[Column4]], IF(AB2847>0,Table1[[#This Row],[Column4]],IF(X2847>0,\"1000\")))","v":false}]
[null,null,null,null,null,null,null,null,null,null,null,null,null,null,null,null,0,null,null,null,null,null,null,null,{"$f":"IF(Table1[[#This Row],[Wage differential Bonus                            - NotePay Rate you are bonusing to]]>0, Table1[[#This Row],[Wage differential Bonus                            - NotePay Rate you are bonusing to]]-Table1[[#This Row],[Pay Rate]], \"\")","v":""},{"$f":"IF(Table1[[#This Row],[Wage differential Bonus                            - NotePay Rate you are bonusing to]]>0,Table1[[#This Row],[Bonus Rate]]*Table1[[#This Row],[Hours]],\"\")","v":""},null,null,null,null,null,{"$f":"IF(OR(AH2851>0.001,AH2851<-0.001),Table1[[#This Row],[Employee '#]],\" \")","v":" "},false,{"$f":"SUMIF(Table1[[#This Row],[Total Wage Diff bonus]:[Bank Bonus]],\"<> \")","v":0},{"$f":"IF(AA2851>0, Table1[[#This Row],[Column4]], IF(AB2851>0,Table1[[#This Row],[Column4]],IF(X2851>0,\"1000\")))","v":false}]
[null,null,null,null,null,null,null,null,null,null,null,null,null,null,null,null,0,null,null,null,null,null,null,null,{"$f":"IF(Table1[[#This Row],[Wage differential Bonus                            - NotePay Rate you are bonusing to]]>0, Table1[[#This Row],[Wage differential Bonus                            - NotePay Rate you are bonusing to]]-Table1[[#This Row],[Pay Rate]], \"\")","v":""},{"$f":"IF(Table1[[#This Row],[Wage differential Bonus                            - NotePay Rate you are bonusing to]]>0,Table1[[#This Row],[Bonus Rate]]*Table1[[#This Row],[Hours]],\"\")","v":""},null,null,null,null,null,{"$f":"IF(OR(AH2852>0.001,AH2852<-0.001),Table1[[#This Row],[Employee '#]],\" \")","v":" "},false,{"$f":"SUMIF(Table1[[#This Row],[Total Wage Diff bonus]:[Bank Bonus]],\"<> \")","v":0},{"$f":"IF(AA2852>0, Table1[[#This Row],[Column4]], IF(AB2852>0,Table1[[#This Row],[Column4]],IF(X2852>0,\"1000\")))","v":false}]
[null,null,null,null,null,null,null,null,null,null,null,null,null,null,null,null,0,null,null,null,null,null,null,null,{"$f":"IF(Table1[[#This Row],[Wage differential Bonus                            - NotePay Rate you are bonusing to]]>0, Table1[[#This Row],[Wage differential Bonus                            - NotePay Rate you are bonusing to]]-Table1[[#This Row],[Pay Rate]], \"\")","v":""},{"$f":"IF(Table1[[#This Row],[Wage differential Bonus                            - NotePay Rate you are bonusing to]]>0,Table1[[#This Row],[Bonus Rate]]*Table1[[#This Row],[Hours]],\"\")","v":""},null,null,null,null,null,{"$f":"IF(OR(AH2855>0.001,AH2855<-0.001),Table1[[#This Row],[Employee '#]],\" \")","v":" "},false,{"$f":"SUMIF(Table1[[#This Row],[Total Wage Diff bonus]:[Bank Bonus]],\"<> \")","v":0},{"$f":"IF(AA2855>0, Table1[[#This Row],[Column4]], IF(AB2855>0,Table1[[#This Row],[Column4]],IF(X2855>0,\"1000\")))","v":false}]
[null,null,null,null,null,null,null,null,null,null,null,null,null,null,null,null,0,null,null,null,null,null,null,null,{"$f":"IF(Table1[[#This Row],[Wage differential Bonus                            - NotePay Rate you are bonusing to]]>0, Table1[[#This Row],[Wage differential Bonus                            - NotePay Rate you are bonusing to]]-Table1[[#This Row],[Pay Rate]], \"\")","v":""},{"$f":"IF(Table1[[#This Row],[Wage differential Bonus                            - NotePay Rate you are bonusing to]]>0,Table1[[#This Row],[Bonus Rate]]*Table1[[#This Row],[Hours]],\"\")","v":""},null,null,null,null,null,{"$f":"IF(OR(AH2857>0.001,AH2857<-0.001),Table1[[#This Row],[Employee '#]],\" \")","v":" "},false,{"$f":"SUMIF(Table1[[#This Row],[Total Wage Diff bonus]:[Bank Bonus]],\"<> \")","v":0},{"$f":"IF(AA2857>0, Table1[[#This Row],[Column4]], IF(AB2857>0,Table1[[#This Row],[Column4]],IF(X2857>0,\"1000\")))","v":false}]
[null,null,null,null,null,null,null,null,null,null,null,null,null,null,null,null,0,null,null,null,null,null,null,null,{"$f":"IF(Table1[[#This Row],[Wage differential Bonus                            - NotePay Rate you are bonusing to]]>0, Table1[[#This Row],[Wage differential Bonus                            - NotePay Rate you are bonusing to]]-Table1[[#This Row],[Pay Rate]], \"\")","v":""},{"$f":"IF(Table1[[#This Row],[Wage differential Bonus                            - NotePay Rate you are bonusing to]]>0,Table1[[#This Row],[Bonus Rate]]*Table1[[#This Row],[Hours]],\"\")","v":""},null,null,null,null,null,{"$f":"IF(OR(AH2860>0.001,AH2860<-0.001),Table1[[#This Row],[Employee '#]],\" \")","v":" "},false,{"$f":"SUMIF(Table1[[#This Row],[Total Wage Diff bonus]:[Bank Bonus]],\"<> \")","v":0},{"$f":"IF(AA2860>0, Table1[[#This Row],[Column4]], IF(AB2860>0,Table1[[#This Row],[Column4]],IF(X2860>0,\"1000\")))","v":false}]
[null,null,null,null,null,null,null,null,null,null,null,null,null,null,null,null,0,null,null,null,null,null,null,null,{"$f":"IF(Table1[[#This Row],[Wage differential Bonus                            - NotePay Rate you are bonusing to]]>0, Table1[[#This Row],[Wage differential Bonus                            - NotePay Rate you are bonusing to]]-Table1[[#This Row],[Pay Rate]], \"\")","v":""},{"$f":"IF(Table1[[#This Row],[Wage differential Bonus                            - NotePay Rate you are bonusing to]]>0,Table1[[#This Row],[Bonus Rate]]*Table1[[#This Row],[Hours]],\"\")","v":""},null,null,null,null,null,{"$f":"IF(OR(AH2861>0.001,AH2861<-0.001),Table1[[#This Row],[Employee '#]],\" \")","v":" "},false,{"$f":"SUMIF(Table1[[#This Row],[Total Wage Diff bonus]:[Bank Bonus]],\"<> \")","v":0},{"$f":"IF(AA2861>0, Table1[[#This Row],[Column4]], IF(AB2861>0,Table1[[#This Row],[Column4]],IF(X2861>0,\"1000\")))","v":false}]
[null,null,null,null,null,null,null,null,null,null,null,null,null,null,null,null,0,null,null,null,null,null,null,null,{"$f":"IF(Table1[[#This Row],[Wage differential Bonus                            - NotePay Rate you are bonusing to]]>0, Table1[[#This Row],[Wage differential Bonus                            - NotePay Rate you are bonusing to]]-Table1[[#This Row],[Pay Rate]], \"\")","v":""},{"$f":"IF(Table1[[#This Row],[Wage differential Bonus                            - NotePay Rate you are bonusing to]]>0,Table1[[#This Row],[Bonus Rate]]*Table1[[#This Row],[Hours]],\"\")","v":""},null,null,null,null,null,{"$f":"IF(OR(AH2864>0.001,AH2864<-0.001),Table1[[#This Row],[Employee '#]],\" \")","v":" "},false,{"$f":"SUMIF(Table1[[#This Row],[Total Wage Diff bonus]:[Bank Bonus]],\"<> \")","v":0},{"$f":"IF(AA2864>0, Table1[[#This Row],[Column4]], IF(AB2864>0,Table1[[#This Row],[Column4]],IF(X2864>0,\"1000\")))","v":false}]
[null,null,null,null,null,null,null,null,null,null,null,null,null,null,null,null,0,null,null,null,null,null,null,null,{"$f":"IF(Table1[[#This Row],[Wage differential Bonus                            - NotePay Rate you are bonusing to]]>0, Table1[[#This Row],[Wage differential Bonus                            - NotePay Rate you are bonusing to]]-Table1[[#This Row],[Pay Rate]], \"\")","v":""},{"$f":"IF(Table1[[#This Row],[Wage differential Bonus                            - NotePay Rate you are bonusing to]]>0,Table1[[#This Row],[Bonus Rate]]*Table1[[#This Row],[Hours]],\"\")","v":""},null,null,null,null,null,{"$f":"IF(OR(AH2865>0.001,AH2865<-0.001),Table1[[#This Row],[Employee '#]],\" \")","v":" "},false,{"$f":"SUMIF(Table1[[#This Row],[Total Wage Diff bonus]:[Bank Bonus]],\"<> \")","v":0},{"$f":"IF(AA2865>0, Table1[[#This Row],[Column4]], IF(AB2865>0,Table1[[#This Row],[Column4]],IF(X2865>0,\"1000\")))","v":false}]
[null,null,null,null,null,null,null,null,null,null,null,null,null,null,null,null,0,null,null,null,null,null,null,null,{"$f":"IF(Table1[[#This Row],[Wage differential Bonus                            - NotePay Rate you are bonusing to]]>0, Table1[[#This Row],[Wage differential Bonus                            - NotePay Rate you are bonusing to]]-Table1[[#This Row],[Pay Rate]], \"\")","v":""},{"$f":"IF(Table1[[#This Row],[Wage differential Bonus                            - NotePay Rate you are bonusing to]]>0,Table1[[#This Row],[Bonus Rate]]*Table1[[#This Row],[Hours]],\"\")","v":""},null,null,null,null,null,{"$f":"IF(OR(AH2869>0.001,AH2869<-0.001),Table1[[#This Row],[Employee '#]],\" \")","v":" "},false,{"$f":"SUMIF(Table1[[#This Row],[Total Wage Diff bonus]:[Bank Bonus]],\"<> \")","v":0},{"$f":"IF(AA2869>0, Table1[[#This Row],[Column4]], IF(AB2869>0,Table1[[#This Row],[Column4]],IF(X2869>0,\"1000\")))","v":false}]
[null,null,null,null,null,null,null,null,null,null,null,null,null,null,null,null,0,null,null,null,null,null,null,null,{"$f":"IF(Table1[[#This Row],[Wage differential Bonus                            - NotePay Rate you are bonusing to]]>0, Table1[[#This Row],[Wage differential Bonus                            - NotePay Rate you are bonusing to]]-Table1[[#This Row],[Pay Rate]], \"\")","v":""},{"$f":"IF(Table1[[#This Row],[Wage differential Bonus                            - NotePay Rate you are bonusing to]]>0,Table1[[#This Row],[Bonus Rate]]*Table1[[#This Row],[Hours]],\"\")","v":""},null,null,null,null,null,{"$f":"IF(OR(AH2870>0.001,AH2870<-0.001),Table1[[#This Row],[Employee '#]],\" \")","v":" "},false,{"$f":"SUMIF(Table1[[#This Row],[Total Wage Diff bonus]:[Bank Bonus]],\"<> \")","v":0},{"$f":"IF(AA2870>0, Table1[[#This Row],[Column4]], IF(AB2870>0,Table1[[#This Row],[Column4]],IF(X2870>0,\"1000\")))","v":false}]
[null,null,null,null,null,null,null,null,null,null,null,null,null,null,null,null,0,null,null,null,null,null,null,null,{"$f":"IF(Table1[[#This Row],[Wage differential Bonus                            - NotePay Rate you are bonusing to]]>0, Table1[[#This Row],[Wage differential Bonus                            - NotePay Rate you are bonusing to]]-Table1[[#This Row],[Pay Rate]], \"\")","v":""},{"$f":"IF(Table1[[#This Row],[Wage differential Bonus                            - NotePay Rate you are bonusing to]]>0,Table1[[#This Row],[Bonus Rate]]*Table1[[#This Row],[Hours]],\"\")","v":""},null,null,null,null,null,{"$f":"IF(OR(AH2873>0.001,AH2873<-0.001),Table1[[#This Row],[Employee '#]],\" \")","v":" "},false,{"$f":"SUMIF(Table1[[#This Row],[Total Wage Diff bonus]:[Bank Bonus]],\"<> \")","v":0},{"$f":"IF(AA2873>0, Table1[[#This Row],[Column4]], IF(AB2873>0,Table1[[#This Row],[Column4]],IF(X2873>0,\"1000\")))","v":false}]
[null,null,null,null,null,null,null,null,null,null,null,null,null,null,null,null,0,null,null,null,null,null,null,null,{"$f":"IF(Table1[[#This Row],[Wage differential Bonus                            - NotePay Rate you are bonusing to]]>0, Table1[[#This Row],[Wage differential Bonus                            - NotePay Rate you are bonusing to]]-Table1[[#This Row],[Pay Rate]], \"\")","v":""},{"$f":"IF(Table1[[#This Row],[Wage differential Bonus                            - NotePay Rate you are bonusing to]]>0,Table1[[#This Row],[Bonus Rate]]*Table1[[#This Row],[Hours]],\"\")","v":""},null,null,null,null,null,{"$f":"IF(OR(AH2875>0.001,AH2875<-0.001),Table1[[#This Row],[Employee '#]],\" \")","v":" "},false,{"$f":"SUMIF(Table1[[#This Row],[Total Wage Diff bonus]:[Bank Bonus]],\"<> \")","v":0},{"$f":"IF(AA2875>0, Table1[[#This Row],[Column4]], IF(AB2875>0,Table1[[#This Row],[Column4]],IF(X2875>0,\"1000\")))","v":false}]
[null,null,null,null,null,null,null,null,null,null,null,null,null,null,null,null,0,null,null,null,null,null,null,null,{"$f":"IF(Table1[[#This Row],[Wage differential Bonus                            - NotePay Rate you are bonusing to]]>0, Table1[[#This Row],[Wage differential Bonus                            - NotePay Rate you are bonusing to]]-Table1[[#This Row],[Pay Rate]], \"\")","v":""},{"$f":"IF(Table1[[#This Row],[Wage differential Bonus                            - NotePay Rate you are bonusing to]]>0,Table1[[#This Row],[Bonus Rate]]*Table1[[#This Row],[Hours]],\"\")","v":""},null,null,null,null,null,{"$f":"IF(OR(AH2878>0.001,AH2878<-0.001),Table1[[#This Row],[Employee '#]],\" \")","v":" "},false,{"$f":"SUMIF(Table1[[#This Row],[Total Wage Diff bonus]:[Bank Bonus]],\"<> \")","v":0},{"$f":"IF(AA2878>0, Table1[[#This Row],[Column4]], IF(AB2878>0,Table1[[#This Row],[Column4]],IF(X2878>0,\"1000\")))","v":false}]
[null,null,null,null,null,null,null,null,null,null,null,null,null,null,null,null,0,null,null,null,null,null,null,null,{"$f":"IF(Table1[[#This Row],[Wage differential Bonus                            - NotePay Rate you are bonusing to]]>0, Table1[[#This Row],[Wage differential Bonus                            - NotePay Rate you are bonusing to]]-Table1[[#This Row],[Pay Rate]], \"\")","v":""},{"$f":"IF(Table1[[#This Row],[Wage differential Bonus                            - NotePay Rate you are bonusing to]]>0,Table1[[#This Row],[Bonus Rate]]*Table1[[#This Row],[Hours]],\"\")","v":""},null,null,null,null,null,{"$f":"IF(OR(AH2879>0.001,AH2879<-0.001),Table1[[#This Row],[Employee '#]],\" \")","v":" "},false,{"$f":"SUMIF(Table1[[#This Row],[Total Wage Diff bonus]:[Bank Bonus]],\"<> \")","v":0},{"$f":"IF(AA2879>0, Table1[[#This Row],[Column4]], IF(AB2879>0,Table1[[#This Row],[Column4]],IF(X2879>0,\"1000\")))","v":false}]
[null,null,null,null,null,null,null,null,null,null,null,null,null,null,null,null,0,null,null,null,null,null,null,null,{"$f":"IF(Table1[[#This Row],[Wage differential Bonus                            - NotePay Rate you are bonusing to]]>0, Table1[[#This Row],[Wage differential Bonus                            - NotePay Rate you are bonusing to]]-Table1[[#This Row],[Pay Rate]], \"\")","v":""},{"$f":"IF(Table1[[#This Row],[Wage differential Bonus                            - NotePay Rate you are bonusing to]]>0,Table1[[#This Row],[Bonus Rate]]*Table1[[#This Row],[Hours]],\"\")","v":""},null,null,null,null,null,{"$f":"IF(OR(AH2881>0.001,AH2881<-0.001),Table1[[#This Row],[Employee '#]],\" \")","v":" "},false,{"$f":"SUMIF(Table1[[#This Row],[Total Wage Diff bonus]:[Bank Bonus]],\"<> \")","v":0},{"$f":"IF(AA2881>0, Table1[[#This Row],[Column4]], IF(AB2881>0,Table1[[#This Row],[Column4]],IF(X2881>0,\"1000\")))","v":false}]
[null,null,null,null,null,null,null,null,null,null,null,null,null,null,null,null,{"$f":"L2884+P2884","v":0},null,null,null,null,null,null,null,{"$f":"IF(Table1[[#This Row],[Wage differential Bonus                            - NotePay Rate you are bonusing to]]>0, Table1[[#This Row],[Wage differential Bonus                            - NotePay Rate you are bonusing to]]-Table1[[#This Row],[Pay Rate]], \"\")","v":""},{"$f":"IF(Table1[[#This Row],[Wage differential Bonus                            - NotePay Rate you are bonusing to]]>0,Table1[[#This Row],[Bonus Rate]]*Table1[[#This Row],[Hours]],\"\")","v":""},null,null,null,null,null,{"$f":"IF(OR(AH2884>0.001,AH2884<-0.001),Table1[[#This Row],[Employee '#]],\" \")","v":" "},{"$f":"IF(AA2884>0, \"28\", IF(AB2884>0,\"53\",IF(X2884>0,\"20\")))","v":false},{"$f":"SUMIF(Table1[[#This Row],[Total Wage Diff bonus]:[Bank Bonus]],\"<> \")","v":0},{"$f":"IF(AA2884>0, Table1[[#This Row],[Column4]], IF(AB2884>0,Table1[[#This Row],[Column4]],IF(X2884>0,\"1000\")))","v":false}]
[null,null,null,null,null,null,null,null,null,null,null,null,null,null,null,null,0,null,null,null,null,null,null,null,{"$f":"IF(Table1[[#This Row],[Wage differential Bonus                            - NotePay Rate you are bonusing to]]>0, Table1[[#This Row],[Wage differential Bonus                            - NotePay Rate you are bonusing to]]-Table1[[#This Row],[Pay Rate]], \"\")","v":""},{"$f":"IF(Table1[[#This Row],[Wage differential Bonus                            - NotePay Rate you are bonusing to]]>0,Table1[[#This Row],[Bonus Rate]]*Table1[[#This Row],[Hours]],\"\")","v":""},null,null,null,null,null,{"$f":"IF(OR(AH2887>0.001,AH2887<-0.001),Table1[[#This Row],[Employee '#]],\" \")","v":" "},false,{"$f":"SUMIF(Table1[[#This Row],[Total Wage Diff bonus]:[Bank Bonus]],\"<> \")","v":0},{"$f":"IF(AA2887>0, Table1[[#This Row],[Column4]], IF(AB2887>0,Table1[[#This Row],[Column4]],IF(X2887>0,\"1000\")))","v":false}]
[null,null,null,null,null,null,null,null,null,null,null,null,null,null,null,null,0,null,null,null,null,null,null,null,{"$f":"IF(Table1[[#This Row],[Wage differential Bonus                            - NotePay Rate you are bonusing to]]>0, Table1[[#This Row],[Wage differential Bonus                            - NotePay Rate you are bonusing to]]-Table1[[#This Row],[Pay Rate]], \"\")","v":""},{"$f":"IF(Table1[[#This Row],[Wage differential Bonus                            - NotePay Rate you are bonusing to]]>0,Table1[[#This Row],[Bonus Rate]]*Table1[[#This Row],[Hours]],\"\")","v":""},null,null,null,null,null,{"$f":"IF(OR(AH2888>0.001,AH2888<-0.001),Table1[[#This Row],[Employee '#]],\" \")","v":" "},false,{"$f":"SUMIF(Table1[[#This Row],[Total Wage Diff bonus]:[Bank Bonus]],\"<> \")","v":0},{"$f":"IF(AA2888>0, Table1[[#This Row],[Column4]], IF(AB2888>0,Table1[[#This Row],[Column4]],IF(X2888>0,\"1000\")))","v":false}]
[null,null,null,null,null,null,null,null,null,null,null,null,null,null,null,null,0,null,null,null,null,null,null,null,{"$f":"IF(Table1[[#This Row],[Wage differential Bonus                            - NotePay Rate you are bonusing to]]>0, Table1[[#This Row],[Wage differential Bonus                            - NotePay Rate you are bonusing to]]-Table1[[#This Row],[Pay Rate]], \"\")","v":""},{"$f":"IF(Table1[[#This Row],[Wage differential Bonus                            - NotePay Rate you are bonusing to]]>0,Table1[[#This Row],[Bonus Rate]]*Table1[[#This Row],[Hours]],\"\")","v":""},null,null,null,null,null,{"$f":"IF(OR(AH2891>0.001,AH2891<-0.001),Table1[[#This Row],[Employee '#]],\" \")","v":" "},false,{"$f":"SUMIF(Table1[[#This Row],[Total Wage Diff bonus]:[Bank Bonus]],\"<> \")","v":0},{"$f":"IF(AA2891>0, Table1[[#This Row],[Column4]], IF(AB2891>0,Table1[[#This Row],[Column4]],IF(X2891>0,\"1000\")))","v":false}]
[null,null,null,null,null,null,null,null,null,null,null,null,null,null,null,null,0,null,null,null,null,null,null,null,{"$f":"IF(Table1[[#This Row],[Wage differential Bonus                            - NotePay Rate you are bonusing to]]>0, Table1[[#This Row],[Wage differential Bonus                            - NotePay Rate you are bonusing to]]-Table1[[#This Row],[Pay Rate]], \"\")","v":""},{"$f":"IF(Table1[[#This Row],[Wage differential Bonus                            - NotePay Rate you are bonusing to]]>0,Table1[[#This Row],[Bonus Rate]]*Table1[[#This Row],[Hours]],\"\")","v":""},null,null,null,null,null,{"$f":"IF(OR(AH2893>0.001,AH2893<-0.001),Table1[[#This Row],[Employee '#]],\" \")","v":" "},false,{"$f":"SUMIF(Table1[[#This Row],[Total Wage Diff bonus]:[Bank Bonus]],\"<> \")","v":0},{"$f":"IF(AA2893>0, Table1[[#This Row],[Column4]], IF(AB2893>0,Table1[[#This Row],[Column4]],IF(X2893>0,\"1000\")))","v":false}]
[null,null,null,null,null,null,null,null,null,null,null,null,null,null,null,null,0,null,null,null,null,null,null,null,{"$f":"IF(Table1[[#This Row],[Wage differential Bonus                            - NotePay Rate you are bonusing to]]>0, Table1[[#This Row],[Wage differential Bonus                            - NotePay Rate you are bonusing to]]-Table1[[#This Row],[Pay Rate]], \"\")","v":""},{"$f":"IF(Table1[[#This Row],[Wage differential Bonus                            - NotePay Rate you are bonusing to]]>0,Table1[[#This Row],[Bonus Rate]]*Table1[[#This Row],[Hours]],\"\")","v":""},null,null,null,null,null,{"$f":"IF(OR(AH2896>0.001,AH2896<-0.001),Table1[[#This Row],[Employee '#]],\" \")","v":" "},false,{"$f":"SUMIF(Table1[[#This Row],[Total Wage Diff bonus]:[Bank Bonus]],\"<> \")","v":0},{"$f":"IF(AA2896>0, Table1[[#This Row],[Column4]], IF(AB2896>0,Table1[[#This Row],[Column4]],IF(X2896>0,\"1000\")))","v":false}]
[null,null,null,null,null,null,null,null,null,null,null,null,null,null,null,null,0,null,null,null,null,null,null,null,{"$f":"IF(Table1[[#This Row],[Wage differential Bonus                            - NotePay Rate you are bonusing to]]>0, Table1[[#This Row],[Wage differential Bonus                            - NotePay Rate you are bonusing to]]-Table1[[#This Row],[Pay Rate]], \"\")","v":""},{"$f":"IF(Table1[[#This Row],[Wage differential Bonus                            - NotePay Rate you are bonusing to]]>0,Table1[[#This Row],[Bonus Rate]]*Table1[[#This Row],[Hours]],\"\")","v":""},null,null,null,null,null,{"$f":"IF(OR(AH2897>0.001,AH2897<-0.001),Table1[[#This Row],[Employee '#]],\" \")","v":" "},false,{"$f":"SUMIF(Table1[[#This Row],[Total Wage Diff bonus]:[Bank Bonus]],\"<> \")","v":0},{"$f":"IF(AA2897>0, Table1[[#This Row],[Column4]], IF(AB2897>0,Table1[[#This Row],[Column4]],IF(X2897>0,\"1000\")))","v":false}]
[null,null,null,null,null,null,null,null,null,null,null,null,null,null,null,null,0,null,null,null,null,null,null,null,{"$f":"IF(Table1[[#This Row],[Wage differential Bonus                            - NotePay Rate you are bonusing to]]>0, Table1[[#This Row],[Wage differential Bonus                            - NotePay Rate you are bonusing to]]-Table1[[#This Row],[Pay Rate]], \"\")","v":""},{"$f":"IF(Table1[[#This Row],[Wage differential Bonus                            - NotePay Rate you are bonusing to]]>0,Table1[[#This Row],[Bonus Rate]]*Table1[[#This Row],[Hours]],\"\")","v":""},null,null,null,null,null,{"$f":"IF(OR(AH2899>0.001,AH2899<-0.001),Table1[[#This Row],[Employee '#]],\" \")","v":" "},false,{"$f":"SUMIF(Table1[[#This Row],[Total Wage Diff bonus]:[Bank Bonus]],\"<> \")","v":0},{"$f":"IF(AA2899>0, Table1[[#This Row],[Column4]], IF(AB2899>0,Table1[[#This Row],[Column4]],IF(X2899>0,\"1000\")))","v":false}]
[null,null,null,null,null,null,null,null,null,null,null,null,null,null,null,null,0,null,null,null,null,null,null,null,{"$f":"IF(Table1[[#This Row],[Wage differential Bonus                            - NotePay Rate you are bonusing to]]>0, Table1[[#This Row],[Wage differential Bonus                            - NotePay Rate you are bonusing to]]-Table1[[#This Row],[Pay Rate]], \"\")","v":""},{"$f":"IF(Table1[[#This Row],[Wage differential Bonus                            - NotePay Rate you are bonusing to]]>0,Table1[[#This Row],[Bonus Rate]]*Table1[[#This Row],[Hours]],\"\")","v":""},null,null,null,null,null,{"$f":"IF(OR(AH2902>0.001,AH2902<-0.001),Table1[[#This Row],[Employee '#]],\" \")","v":" "},false,{"$f":"SUMIF(Table1[[#This Row],[Total Wage Diff bonus]:[Bank Bonus]],\"<> \")","v":0},{"$f":"IF(AA2902>0, Table1[[#This Row],[Column4]], IF(AB2902>0,Table1[[#This Row],[Column4]],IF(X2902>0,\"1000\")))","v":false}]
[null,null,null,null,null,null,null,null,null,null,null,null,null,null,null,null,0,null,null,null,null,null,null,null,{"$f":"IF(Table1[[#This Row],[Wage differential Bonus                            - NotePay Rate you are bonusing to]]>0, Table1[[#This Row],[Wage differential Bonus                            - NotePay Rate you are bonusing to]]-Table1[[#This Row],[Pay Rate]], \"\")","v":""},{"$f":"IF(Table1[[#This Row],[Wage differential Bonus                            - NotePay Rate you are bonusing to]]>0,Table1[[#This Row],[Bonus Rate]]*Table1[[#This Row],[Hours]],\"\")","v":""},null,null,null,null,null,{"$f":"IF(OR(AH2905>0.001,AH2905<-0.001),Table1[[#This Row],[Employee '#]],\" \")","v":" "},false,{"$f":"SUMIF(Table1[[#This Row],[Total Wage Diff bonus]:[Bank Bonus]],\"<> \")","v":0},{"$f":"IF(AA2905>0, Table1[[#This Row],[Column4]], IF(AB2905>0,Table1[[#This Row],[Column4]],IF(X2905>0,\"1000\")))","v":false}]
[null,null,null,null,null,null,null,null,null,null,null,null,null,null,null,null,0,null,null,null,null,null,null,null,{"$f":"IF(Table1[[#This Row],[Wage differential Bonus                            - NotePay Rate you are bonusing to]]>0, Table1[[#This Row],[Wage differential Bonus                            - NotePay Rate you are bonusing to]]-Table1[[#This Row],[Pay Rate]], \"\")","v":""},{"$f":"IF(Table1[[#This Row],[Wage differential Bonus                            - NotePay Rate you are bonusing to]]>0,Table1[[#This Row],[Bonus Rate]]*Table1[[#This Row],[Hours]],\"\")","v":""},null,null,null,null,null,{"$f":"IF(OR(AH2906>0.001,AH2906<-0.001),Table1[[#This Row],[Employee '#]],\" \")","v":" "},false,{"$f":"SUMIF(Table1[[#This Row],[Total Wage Diff bonus]:[Bank Bonus]],\"<> \")","v":0},{"$f":"IF(AA2906>0, Table1[[#This Row],[Column4]], IF(AB2906>0,Table1[[#This Row],[Column4]],IF(X2906>0,\"1000\")))","v":false}]
[null,null,null,null,null,null,null,null,null,null,null,null,null,null,null,null,0,null,null,null,null,null,null,null,{"$f":"IF(Table1[[#This Row],[Wage differential Bonus                            - NotePay Rate you are bonusing to]]>0, Table1[[#This Row],[Wage differential Bonus                            - NotePay Rate you are bonusing to]]-Table1[[#This Row],[Pay Rate]], \"\")","v":""},{"$f":"IF(Table1[[#This Row],[Wage differential Bonus                            - NotePay Rate you are bonusing to]]>0,Table1[[#This Row],[Bonus Rate]]*Table1[[#This Row],[Hours]],\"\")","v":""},null,null,null,null,null,{"$f":"IF(OR(AH2909>0.001,AH2909<-0.001),Table1[[#This Row],[Employee '#]],\" \")","v":" "},false,{"$f":"SUMIF(Table1[[#This Row],[Total Wage Diff bonus]:[Bank Bonus]],\"<> \")","v":0},{"$f":"IF(AA2909>0, Table1[[#This Row],[Column4]], IF(AB2909>0,Table1[[#This Row],[Column4]],IF(X2909>0,\"1000\")))","v":false}]
[null,null,null,null,null,null,null,null,null,null,null,null,null,null,null,null,0,null,null,null,null,null,null,null,{"$f":"IF(Table1[[#This Row],[Wage differential Bonus                            - NotePay Rate you are bonusing to]]>0, Table1[[#This Row],[Wage differential Bonus                            - NotePay Rate you are bonusing to]]-Table1[[#This Row],[Pay Rate]], \"\")","v":""},{"$f":"IF(Table1[[#This Row],[Wage differential Bonus                            - NotePay Rate you are bonusing to]]>0,Table1[[#This Row],[Bonus Rate]]*Table1[[#This Row],[Hours]],\"\")","v":""},null,null,null,null,null,{"$f":"IF(OR(AH2911>0.001,AH2911<-0.001),Table1[[#This Row],[Employee '#]],\" \")","v":" "},false,{"$f":"SUMIF(Table1[[#This Row],[Total Wage Diff bonus]:[Bank Bonus]],\"<> \")","v":0},{"$f":"IF(AA2911>0, Table1[[#This Row],[Column4]], IF(AB2911>0,Table1[[#This Row],[Column4]],IF(X2911>0,\"1000\")))","v":false}]
[null,null,null,null,null,null,null,null,null,null,null,null,null,null,null,null,0,null,null,null,null,null,null,null,{"$f":"IF(Table1[[#This Row],[Wage differential Bonus                            - NotePay Rate you are bonusing to]]>0, Table1[[#This Row],[Wage differential Bonus                            - NotePay Rate you are bonusing to]]-Table1[[#This Row],[Pay Rate]], \"\")","v":""},{"$f":"IF(Table1[[#This Row],[Wage differential Bonus                            - NotePay Rate you are bonusing to]]>0,Table1[[#This Row],[Bonus Rate]]*Table1[[#This Row],[Hours]],\"\")","v":""},null,null,null,null,null,{"$f":"IF(OR(AH2914>0.001,AH2914<-0.001),Table1[[#This Row],[Employee '#]],\" \")","v":" "},false,{"$f":"SUMIF(Table1[[#This Row],[Total Wage Diff bonus]:[Bank Bonus]],\"<> \")","v":0},{"$f":"IF(AA2914>0, Table1[[#This Row],[Column4]], IF(AB2914>0,Table1[[#This Row],[Column4]],IF(X2914>0,\"1000\")))","v":false}]
[null,null,null,null,null,null,null,null,null,null,null,null,null,null,null,null,0,null,null,null,null,null,null,null,{"$f":"IF(Table1[[#This Row],[Wage differential Bonus                            - NotePay Rate you are bonusing to]]>0, Table1[[#This Row],[Wage differential Bonus                            - NotePay Rate you are bonusing to]]-Table1[[#This Row],[Pay Rate]], \"\")","v":""},{"$f":"IF(Table1[[#This Row],[Wage differential Bonus                            - NotePay Rate you are bonusing to]]>0,Table1[[#This Row],[Bonus Rate]]*Table1[[#This Row],[Hours]],\"\")","v":""},null,null,null,null,null,{"$f":"IF(OR(AH2917>0.001,AH2917<-0.001),Table1[[#This Row],[Employee '#]],\" \")","v":" "},false,{"$f":"SUMIF(Table1[[#This Row],[Total Wage Diff bonus]:[Bank Bonus]],\"<> \")","v":0},{"$f":"IF(AA2917>0, Table1[[#This Row],[Column4]], IF(AB2917>0,Table1[[#This Row],[Column4]],IF(X2917>0,\"1000\")))","v":false}]
[null,null,null,null,null,null,null,null,null,null,null,null,null,null,null,null,0,null,null,null,null,null,null,null,{"$f":"IF(Table1[[#This Row],[Wage differential Bonus                            - NotePay Rate you are bonusing to]]>0, Table1[[#This Row],[Wage differential Bonus                            - NotePay Rate you are bonusing to]]-Table1[[#This Row],[Pay Rate]], \"\")","v":""},{"$f":"IF(Table1[[#This Row],[Wage differential Bonus                            - NotePay Rate you are bonusing to]]>0,Table1[[#This Row],[Bonus Rate]]*Table1[[#This Row],[Hours]],\"\")","v":""},null,null,null,null,null,{"$f":"IF(OR(AH2919>0.001,AH2919<-0.001),Table1[[#This Row],[Employee '#]],\" \")","v":" "},false,{"$f":"SUMIF(Table1[[#This Row],[Total Wage Diff bonus]:[Bank Bonus]],\"<> \")","v":0},{"$f":"IF(AA2919>0, Table1[[#This Row],[Column4]], IF(AB2919>0,Table1[[#This Row],[Column4]],IF(X2919>0,\"1000\")))","v":false}]
[null,null,null,null,null,null,null,null,null,null,null,null,null,null,null,null,0,null,null,null,null,null,null,null,{"$f":"IF(Table1[[#This Row],[Wage differential Bonus                            - NotePay Rate you are bonusing to]]>0, Table1[[#This Row],[Wage differential Bonus                            - NotePay Rate you are bonusing to]]-Table1[[#This Row],[Pay Rate]], \"\")","v":""},{"$f":"IF(Table1[[#This Row],[Wage differential Bonus                            - NotePay Rate you are bonusing to]]>0,Table1[[#This Row],[Bonus Rate]]*Table1[[#This Row],[Hours]],\"\")","v":""},null,null,null,null,null,{"$f":"IF(OR(AH2920>0.001,AH2920<-0.001),Table1[[#This Row],[Employee '#]],\" \")","v":" "},false,{"$f":"SUMIF(Table1[[#This Row],[Total Wage Diff bonus]:[Bank Bonus]],\"<> \")","v":0},{"$f":"IF(AA2920>0, Table1[[#This Row],[Column4]], IF(AB2920>0,Table1[[#This Row],[Column4]],IF(X2920>0,\"1000\")))","v":false}]
[null,null,null,null,null,null,null,null,null,null,null,null,null,null,null,null,0,null,null,null,null,null,null,null,{"$f":"IF(Table1[[#This Row],[Wage differential Bonus                            - NotePay Rate you are bonusing to]]>0, Table1[[#This Row],[Wage differential Bonus                            - NotePay Rate you are bonusing to]]-Table1[[#This Row],[Pay Rate]], \"\")","v":""},{"$f":"IF(Table1[[#This Row],[Wage differential Bonus                            - NotePay Rate you are bonusing to]]>0,Table1[[#This Row],[Bonus Rate]]*Table1[[#This Row],[Hours]],\"\")","v":""},null,null,null,null,null,{"$f":"IF(OR(AH2923>0.001,AH2923<-0.001),Table1[[#This Row],[Employee '#]],\" \")","v":" "},false,{"$f":"SUMIF(Table1[[#This Row],[Total Wage Diff bonus]:[Bank Bonus]],\"<> \")","v":0},{"$f":"IF(AA2923>0, Table1[[#This Row],[Column4]], IF(AB2923>0,Table1[[#This Row],[Column4]],IF(X2923>0,\"1000\")))","v":false}]
[null,null,null,null,null,null,null,null,null,null,null,null,null,null,null,null,0,null,null,null,null,null,null,null,{"$f":"IF(Table1[[#This Row],[Wage differential Bonus                            - NotePay Rate you are bonusing to]]>0, Table1[[#This Row],[Wage differential Bonus                            - NotePay Rate you are bonusing to]]-Table1[[#This Row],[Pay Rate]], \"\")","v":""},{"$f":"IF(Table1[[#This Row],[Wage differential Bonus                            - NotePay Rate you are bonusing to]]>0,Table1[[#This Row],[Bonus Rate]]*Table1[[#This Row],[Hours]],\"\")","v":""},null,null,null,null,null,{"$f":"IF(OR(AH2925>0.001,AH2925<-0.001),Table1[[#This Row],[Employee '#]],\" \")","v":" "},false,{"$f":"SUMIF(Table1[[#This Row],[Total Wage Diff bonus]:[Bank Bonus]],\"<> \")","v":0},{"$f":"IF(AA2925>0, Table1[[#This Row],[Column4]], IF(AB2925>0,Table1[[#This Row],[Column4]],IF(X2925>0,\"1000\")))","v":false}]
[null,null,null,null,null,null,null,null,null,null,null,null,null,null,null,null,0,null,null,null,null,null,null,null,{"$f":"IF(Table1[[#This Row],[Wage differential Bonus                            - NotePay Rate you are bonusing to]]>0, Table1[[#This Row],[Wage differential Bonus                            - NotePay Rate you are bonusing to]]-Table1[[#This Row],[Pay Rate]], \"\")","v":""},{"$f":"IF(Table1[[#This Row],[Wage differential Bonus                            - NotePay Rate you are bonusing to]]>0,Table1[[#This Row],[Bonus Rate]]*Table1[[#This Row],[Hours]],\"\")","v":""},null,null,null,null,null,{"$f":"IF(OR(AH2928>0.001,AH2928<-0.001),Table1[[#This Row],[Employee '#]],\" \")","v":" "},false,{"$f":"SUMIF(Table1[[#This Row],[Total Wage Diff bonus]:[Bank Bonus]],\"<> \")","v":0},{"$f":"IF(AA2928>0, Table1[[#This Row],[Column4]], IF(AB2928>0,Table1[[#This Row],[Column4]],IF(X2928>0,\"1000\")))","v":false}]
[null,null,null,null,null,null,null,null,null,null,null,null,null,null,null,null,0,null,null,null,null,null,null,null,{"$f":"IF(Table1[[#This Row],[Wage differential Bonus                            - NotePay Rate you are bonusing to]]>0, Table1[[#This Row],[Wage differential Bonus                            - NotePay Rate you are bonusing to]]-Table1[[#This Row],[Pay Rate]], \"\")","v":""},{"$f":"IF(Table1[[#This Row],[Wage differential Bonus                            - NotePay Rate you are bonusing to]]>0,Table1[[#This Row],[Bonus Rate]]*Table1[[#This Row],[Hours]],\"\")","v":""},null,null,null,null,null,{"$f":"IF(OR(AH2929>0.001,AH2929<-0.001),Table1[[#This Row],[Employee '#]],\" \")","v":" "},false,{"$f":"SUMIF(Table1[[#This Row],[Total Wage Diff bonus]:[Bank Bonus]],\"<> \")","v":0},{"$f":"IF(AA2929>0, Table1[[#This Row],[Column4]], IF(AB2929>0,Table1[[#This Row],[Column4]],IF(X2929>0,\"1000\")))","v":false}]
[null,null,null,null,null,null,null,null,null,null,null,null,null,null,null,null,0,null,null,null,null,null,null,null,{"$f":"IF(Table1[[#This Row],[Wage differential Bonus                            - NotePay Rate you are bonusing to]]>0, Table1[[#This Row],[Wage differential Bonus                            - NotePay Rate you are bonusing to]]-Table1[[#This Row],[Pay Rate]], \"\")","v":""},{"$f":"IF(Table1[[#This Row],[Wage differential Bonus                            - NotePay Rate you are bonusing to]]>0,Table1[[#This Row],[Bonus Rate]]*Table1[[#This Row],[Hours]],\"\")","v":""},null,null,null,null,null,{"$f":"IF(OR(AH2932>0.001,AH2932<-0.001),Table1[[#This Row],[Employee '#]],\" \")","v":" "},false,{"$f":"SUMIF(Table1[[#This Row],[Total Wage Diff bonus]:[Bank Bonus]],\"<> \")","v":0},{"$f":"IF(AA2932>0, Table1[[#This Row],[Column4]], IF(AB2932>0,Table1[[#This Row],[Column4]],IF(X2932>0,\"1000\")))","v":false}]
[null,null,null,null,null,null,null,null,null,null,null,null,null,null,null,null,0,null,null,null,null,null,null,null,{"$f":"IF(Table1[[#This Row],[Wage differential Bonus                            - NotePay Rate you are bonusing to]]>0, Table1[[#This Row],[Wage differential Bonus                            - NotePay Rate you are bonusing to]]-Table1[[#This Row],[Pay Rate]], \"\")","v":""},{"$f":"IF(Table1[[#This Row],[Wage differential Bonus                            - NotePay Rate you are bonusing to]]>0,Table1[[#This Row],[Bonus Rate]]*Table1[[#This Row],[Hours]],\"\")","v":""},null,null,null,null,null,{"$f":"IF(OR(AH2935>0.001,AH2935<-0.001),Table1[[#This Row],[Employee '#]],\" \")","v":" "},false,{"$f":"SUMIF(Table1[[#This Row],[Total Wage Diff bonus]:[Bank Bonus]],\"<> \")","v":0},{"$f":"IF(AA2935>0, Table1[[#This Row],[Column4]], IF(AB2935>0,Table1[[#This Row],[Column4]],IF(X2935>0,\"1000\")))","v":false}]
[null,null,null,null,null,null,null,null,null,null,null,null,null,null,null,null,0,null,null,null,null,null,null,null,{"$f":"IF(Table1[[#This Row],[Wage differential Bonus                            - NotePay Rate you are bonusing to]]>0, Table1[[#This Row],[Wage differential Bonus                            - NotePay Rate you are bonusing to]]-Table1[[#This Row],[Pay Rate]], \"\")","v":""},{"$f":"IF(Table1[[#This Row],[Wage differential Bonus                            - NotePay Rate you are bonusing to]]>0,Table1[[#This Row],[Bonus Rate]]*Table1[[#This Row],[Hours]],\"\")","v":""},null,null,null,null,null,{"$f":"IF(OR(AH2937>0.001,AH2937<-0.001),Table1[[#This Row],[Employee '#]],\" \")","v":" "},false,{"$f":"SUMIF(Table1[[#This Row],[Total Wage Diff bonus]:[Bank Bonus]],\"<> \")","v":0},{"$f":"IF(AA2937>0, Table1[[#This Row],[Column4]], IF(AB2937>0,Table1[[#This Row],[Column4]],IF(X2937>0,\"1000\")))","v":false}]
[null,null,null,null,null,null,null,null,null,null,null,null,null,null,null,null,0,null,null,null,null,null,null,null,{"$f":"IF(Table1[[#This Row],[Wage differential Bonus                            - NotePay Rate you are bonusing to]]>0, Table1[[#This Row],[Wage differential Bonus                            - NotePay Rate you are bonusing to]]-Table1[[#This Row],[Pay Rate]], \"\")","v":""},{"$f":"IF(Table1[[#This Row],[Wage differential Bonus                            - NotePay Rate you are bonusing to]]>0,Table1[[#This Row],[Bonus Rate]]*Table1[[#This Row],[Hours]],\"\")","v":""},null,null,null,null,null,{"$f":"IF(OR(AH2938>0.001,AH2938<-0.001),Table1[[#This Row],[Employee '#]],\" \")","v":" "},false,{"$f":"SUMIF(Table1[[#This Row],[Total Wage Diff bonus]:[Bank Bonus]],\"<> \")","v":0},{"$f":"IF(AA2938>0, Table1[[#This Row],[Column4]], IF(AB2938>0,Table1[[#This Row],[Column4]],IF(X2938>0,\"1000\")))","v":false}]
[null,null,null,null,null,null,null,null,null,null,null,null,null,null,null,null,0,null,null,null,null,null,null,null,{"$f":"IF(Table1[[#This Row],[Wage differential Bonus                            - NotePay Rate you are bonusing to]]>0, Table1[[#This Row],[Wage differential Bonus                            - NotePay Rate you are bonusing to]]-Table1[[#This Row],[Pay Rate]], \"\")","v":""},{"$f":"IF(Table1[[#This Row],[Wage differential Bonus                            - NotePay Rate you are bonusing to]]>0,Table1[[#This Row],[Bonus Rate]]*Table1[[#This Row],[Hours]],\"\")","v":""},null,null,null,null,null,{"$f":"IF(OR(AH2941>0.001,AH2941<-0.001),Table1[[#This Row],[Employee '#]],\" \")","v":" "},false,{"$f":"SUMIF(Table1[[#This Row],[Total Wage Diff bonus]:[Bank Bonus]],\"<> \")","v":0},{"$f":"IF(AA2941>0, Table1[[#This Row],[Column4]], IF(AB2941>0,Table1[[#This Row],[Column4]],IF(X2941>0,\"1000\")))","v":false}]
[null,null,null,null,null,null,null,null,null,null,null,null,null,null,null,null,0,null,null,null,null,null,null,null,{"$f":"IF(Table1[[#This Row],[Wage differential Bonus                            - NotePay Rate you are bonusing to]]>0, Table1[[#This Row],[Wage differential Bonus                            - NotePay Rate you are bonusing to]]-Table1[[#This Row],[Pay Rate]], \"\")","v":""},{"$f":"IF(Table1[[#This Row],[Wage differential Bonus                            - NotePay Rate you are bonusing to]]>0,Table1[[#This Row],[Bonus Rate]]*Table1[[#This Row],[Hours]],\"\")","v":""},null,null,null,null,null,{"$f":"IF(OR(AH2943>0.001,AH2943<-0.001),Table1[[#This Row],[Employee '#]],\" \")","v":" "},false,{"$f":"SUMIF(Table1[[#This Row],[Total Wage Diff bonus]:[Bank Bonus]],\"<> \")","v":0},{"$f":"IF(AA2943>0, Table1[[#This Row],[Column4]], IF(AB2943>0,Table1[[#This Row],[Column4]],IF(X2943>0,\"1000\")))","v":false}]
[null,null,null,null,null,null,null,null,null,null,null,null,null,null,null,null,0,null,null,null,null,null,null,null,{"$f":"IF(Table1[[#This Row],[Wage differential Bonus                            - NotePay Rate you are bonusing to]]>0, Table1[[#This Row],[Wage differential Bonus                            - NotePay Rate you are bonusing to]]-Table1[[#This Row],[Pay Rate]], \"\")","v":""},{"$f":"IF(Table1[[#This Row],[Wage differential Bonus                            - NotePay Rate you are bonusing to]]>0,Table1[[#This Row],[Bonus Rate]]*Table1[[#This Row],[Hours]],\"\")","v":""},null,null,null,null,null,{"$f":"IF(OR(AH2946>0.001,AH2946<-0.001),Table1[[#This Row],[Employee '#]],\" \")","v":" "},false,{"$f":"SUMIF(Table1[[#This Row],[Total Wage Diff bonus]:[Bank Bonus]],\"<> \")","v":0},{"$f":"IF(AA2946>0, Table1[[#This Row],[Column4]], IF(AB2946>0,Table1[[#This Row],[Column4]],IF(X2946>0,\"1000\")))","v":false}]
[null,null,null,null,null,null,null,null,null,null,null,null,null,null,null,null,0,null,null,null,null,null,null,null,{"$f":"IF(Table1[[#This Row],[Wage differential Bonus                            - NotePay Rate you are bonusing to]]>0, Table1[[#This Row],[Wage differential Bonus                            - NotePay Rate you are bonusing to]]-Table1[[#This Row],[Pay Rate]], \"\")","v":""},{"$f":"IF(Table1[[#This Row],[Wage differential Bonus                            - NotePay Rate you are bonusing to]]>0,Table1[[#This Row],[Bonus Rate]]*Table1[[#This Row],[Hours]],\"\")","v":""},null,null,null,null,null,{"$f":"IF(OR(AH2947>0.001,AH2947<-0.001),Table1[[#This Row],[Employee '#]],\" \")","v":" "},false,{"$f":"SUMIF(Table1[[#This Row],[Total Wage Diff bonus]:[Bank Bonus]],\"<> \")","v":0},{"$f":"IF(AA2947>0, Table1[[#This Row],[Column4]], IF(AB2947>0,Table1[[#This Row],[Column4]],IF(X2947>0,\"1000\")))","v":false}]
[null,null,null,null,null,null,null,null,null,null,null,null,null,null,null,null,0,null,null,null,null,null,null,null,{"$f":"IF(Table1[[#This Row],[Wage differential Bonus                            - NotePay Rate you are bonusing to]]>0, Table1[[#This Row],[Wage differential Bonus                            - NotePay Rate you are bonusing to]]-Table1[[#This Row],[Pay Rate]], \"\")","v":""},{"$f":"IF(Table1[[#This Row],[Wage differential Bonus                            - NotePay Rate you are bonusing to]]>0,Table1[[#This Row],[Bonus Rate]]*Table1[[#This Row],[Hours]],\"\")","v":""},null,null,null,null,null,{"$f":"IF(OR(AH2951>0.001,AH2951<-0.001),Table1[[#This Row],[Employee '#]],\" \")","v":" "},false,{"$f":"SUMIF(Table1[[#This Row],[Total Wage Diff bonus]:[Bank Bonus]],\"<> \")","v":0},{"$f":"IF(AA2951>0, Table1[[#This Row],[Column4]], IF(AB2951>0,Table1[[#This Row],[Column4]],IF(X2951>0,\"1000\")))","v":false}]
[null,null,null,null,null,null,null,null,null,null,null,null,null,null,null,null,0,null,null,null,null,null,null,null,{"$f":"IF(Table1[[#This Row],[Wage differential Bonus                            - NotePay Rate you are bonusing to]]>0, Table1[[#This Row],[Wage differential Bonus                            - NotePay Rate you are bonusing to]]-Table1[[#This Row],[Pay Rate]], \"\")","v":""},{"$f":"IF(Table1[[#This Row],[Wage differential Bonus                            - NotePay Rate you are bonusing to]]>0,Table1[[#This Row],[Bonus Rate]]*Table1[[#This Row],[Hours]],\"\")","v":""},null,null,null,null,null,{"$f":"IF(OR(AH2952>0.001,AH2952<-0.001),Table1[[#This Row],[Employee '#]],\" \")","v":" "},false,{"$f":"SUMIF(Table1[[#This Row],[Total Wage Diff bonus]:[Bank Bonus]],\"<> \")","v":0},{"$f":"IF(AA2952>0, Table1[[#This Row],[Column4]], IF(AB2952>0,Table1[[#This Row],[Column4]],IF(X2952>0,\"1000\")))","v":false}]
[null,null,null,null,null,null,null,null,null,null,null,null,null,null,null,null,0,null,null,null,null,null,null,null,{"$f":"IF(Table1[[#This Row],[Wage differential Bonus                            - NotePay Rate you are bonusing to]]>0, Table1[[#This Row],[Wage differential Bonus                            - NotePay Rate you are bonusing to]]-Table1[[#This Row],[Pay Rate]], \"\")","v":""},{"$f":"IF(Table1[[#This Row],[Wage differential Bonus                            - NotePay Rate you are bonusing to]]>0,Table1[[#This Row],[Bonus Rate]]*Table1[[#This Row],[Hours]],\"\")","v":""},null,null,null,null,null,{"$f":"IF(OR(AH2955>0.001,AH2955<-0.001),Table1[[#This Row],[Employee '#]],\" \")","v":" "},false,{"$f":"SUMIF(Table1[[#This Row],[Total Wage Diff bonus]:[Bank Bonus]],\"<> \")","v":0},{"$f":"IF(AA2955>0, Table1[[#This Row],[Column4]], IF(AB2955>0,Table1[[#This Row],[Column4]],IF(X2955>0,\"1000\")))","v":false}]
[null,null,null,null,null,null,null,null,null,null,null,null,null,null,null,null,0,null,null,null,null,null,null,null,{"$f":"IF(Table1[[#This Row],[Wage differential Bonus                            - NotePay Rate you are bonusing to]]>0, Table1[[#This Row],[Wage differential Bonus                            - NotePay Rate you are bonusing to]]-Table1[[#This Row],[Pay Rate]], \"\")","v":""},{"$f":"IF(Table1[[#This Row],[Wage differential Bonus                            - NotePay Rate you are bonusing to]]>0,Table1[[#This Row],[Bonus Rate]]*Table1[[#This Row],[Hours]],\"\")","v":""},null,null,null,null,null,{"$f":"IF(OR(AH2956>0.001,AH2956<-0.001),Table1[[#This Row],[Employee '#]],\" \")","v":" "},false,{"$f":"SUMIF(Table1[[#This Row],[Total Wage Diff bonus]:[Bank Bonus]],\"<> \")","v":0},{"$f":"IF(AA2956>0, Table1[[#This Row],[Column4]], IF(AB2956>0,Table1[[#This Row],[Column4]],IF(X2956>0,\"1000\")))","v":false}]
[null,null,null,null,null,null,null,null,null,null,null,null,null,null,null,null,0,null,null,null,null,null,null,null,{"$f":"IF(Table1[[#This Row],[Wage differential Bonus                            - NotePay Rate you are bonusing to]]>0, Table1[[#This Row],[Wage differential Bonus                            - NotePay Rate you are bonusing to]]-Table1[[#This Row],[Pay Rate]], \"\")","v":""},{"$f":"IF(Table1[[#This Row],[Wage differential Bonus                            - NotePay Rate you are bonusing to]]>0,Table1[[#This Row],[Bonus Rate]]*Table1[[#This Row],[Hours]],\"\")","v":""},null,null,null,null,null,{"$f":"IF(OR(AH2959>0.001,AH2959<-0.001),Table1[[#This Row],[Employee '#]],\" \")","v":" "},false,{"$f":"SUMIF(Table1[[#This Row],[Total Wage Diff bonus]:[Bank Bonus]],\"<> \")","v":0},{"$f":"IF(AA2959>0, Table1[[#This Row],[Column4]], IF(AB2959>0,Table1[[#This Row],[Column4]],IF(X2959>0,\"1000\")))","v":false}]
[null,null,null,null,null,null,null,null,null,null,null,null,null,null,null,null,0,null,null,null,null,null,null,null,{"$f":"IF(Table1[[#This Row],[Wage differential Bonus                            - NotePay Rate you are bonusing to]]>0, Table1[[#This Row],[Wage differential Bonus                            - NotePay Rate you are bonusing to]]-Table1[[#This Row],[Pay Rate]], \"\")","v":""},{"$f":"IF(Table1[[#This Row],[Wage differential Bonus                            - NotePay Rate you are bonusing to]]>0,Table1[[#This Row],[Bonus Rate]]*Table1[[#This Row],[Hours]],\"\")","v":""},null,null,null,null,null,{"$f":"IF(OR(AH2961>0.001,AH2961<-0.001),Table1[[#This Row],[Employee '#]],\" \")","v":" "},false,{"$f":"SUMIF(Table1[[#This Row],[Total Wage Diff bonus]:[Bank Bonus]],\"<> \")","v":0},{"$f":"IF(AA2961>0, Table1[[#This Row],[Column4]], IF(AB2961>0,Table1[[#This Row],[Column4]],IF(X2961>0,\"1000\")))","v":false}]
[null,null,null,null,null,null,null,null,null,null,null,null,null,null,null,null,0,null,null,null,null,null,null,null,{"$f":"IF(Table1[[#This Row],[Wage differential Bonus                            - NotePay Rate you are bonusing to]]>0, Table1[[#This Row],[Wage differential Bonus                            - NotePay Rate you are bonusing to]]-Table1[[#This Row],[Pay Rate]], \"\")","v":""},{"$f":"IF(Table1[[#This Row],[Wage differential Bonus                            - NotePay Rate you are bonusing to]]>0,Table1[[#This Row],[Bonus Rate]]*Table1[[#This Row],[Hours]],\"\")","v":""},null,null,null,null,null,{"$f":"IF(OR(AH2964>0.001,AH2964<-0.001),Table1[[#This Row],[Employee '#]],\" \")","v":" "},false,{"$f":"SUMIF(Table1[[#This Row],[Total Wage Diff bonus]:[Bank Bonus]],\"<> \")","v":0},{"$f":"IF(AA2964>0, Table1[[#This Row],[Column4]], IF(AB2964>0,Table1[[#This Row],[Column4]],IF(X2964>0,\"1000\")))","v":false}]
[null,null,null,null,null,null,null,null,null,null,null,null,null,null,null,null,0,null,null,null,null,null,null,null,{"$f":"IF(Table1[[#This Row],[Wage differential Bonus                            - NotePay Rate you are bonusing to]]>0, Table1[[#This Row],[Wage differential Bonus                            - NotePay Rate you are bonusing to]]-Table1[[#This Row],[Pay Rate]], \"\")","v":""},{"$f":"IF(Table1[[#This Row],[Wage differential Bonus                            - NotePay Rate you are bonusing to]]>0,Table1[[#This Row],[Bonus Rate]]*Table1[[#This Row],[Hours]],\"\")","v":""},null,null,null,null,null,{"$f":"IF(OR(AH2965>0.001,AH2965<-0.001),Table1[[#This Row],[Employee '#]],\" \")","v":" "},false,{"$f":"SUMIF(Table1[[#This Row],[Total Wage Diff bonus]:[Bank Bonus]],\"<> \")","v":0},{"$f":"IF(AA2965>0, Table1[[#This Row],[Column4]], IF(AB2965>0,Table1[[#This Row],[Column4]],IF(X2965>0,\"1000\")))","v":false}]
[null,null,null,null,null,null,null,null,null,null,null,null,null,null,null,null,0,null,null,null,null,null,null,null,{"$f":"IF(Table1[[#This Row],[Wage differential Bonus                            - NotePay Rate you are bonusing to]]>0, Table1[[#This Row],[Wage differential Bonus                            - NotePay Rate you are bonusing to]]-Table1[[#This Row],[Pay Rate]], \"\")","v":""},{"$f":"IF(Table1[[#This Row],[Wage differential Bonus                            - NotePay Rate you are bonusing to]]>0,Table1[[#This Row],[Bonus Rate]]*Table1[[#This Row],[Hours]],\"\")","v":""},null,null,null,null,null,{"$f":"IF(OR(AH2969>0.001,AH2969<-0.001),Table1[[#This Row],[Employee '#]],\" \")","v":" "},false,{"$f":"SUMIF(Table1[[#This Row],[Total Wage Diff bonus]:[Bank Bonus]],\"<> \")","v":0},{"$f":"IF(AA2969>0, Table1[[#This Row],[Column4]], IF(AB2969>0,Table1[[#This Row],[Column4]],IF(X2969>0,\"1000\")))","v":false}]
[null,null,null,null,null,null,null,null,null,null,null,null,null,null,null,null,0,null,null,null,null,null,null,null,{"$f":"IF(Table1[[#This Row],[Wage differential Bonus                            - NotePay Rate you are bonusing to]]>0, Table1[[#This Row],[Wage differential Bonus                            - NotePay Rate you are bonusing to]]-Table1[[#This Row],[Pay Rate]], \"\")","v":""},{"$f":"IF(Table1[[#This Row],[Wage differential Bonus                            - NotePay Rate you are bonusing to]]>0,Table1[[#This Row],[Bonus Rate]]*Table1[[#This Row],[Hours]],\"\")","v":""},null,null,null,null,null,{"$f":"IF(OR(AH2970>0.001,AH2970<-0.001),Table1[[#This Row],[Employee '#]],\" \")","v":" "},false,{"$f":"SUMIF(Table1[[#This Row],[Total Wage Diff bonus]:[Bank Bonus]],\"<> \")","v":0},{"$f":"IF(AA2970>0, Table1[[#This Row],[Column4]], IF(AB2970>0,Table1[[#This Row],[Column4]],IF(X2970>0,\"1000\")))","v":false}]
[null,null,null,null,null,null,null,null,null,null,null,null,null,null,null,null,0,null,null,null,null,null,null,null,{"$f":"IF(Table1[[#This Row],[Wage differential Bonus                            - NotePay Rate you are bonusing to]]>0, Table1[[#This Row],[Wage differential Bonus                            - NotePay Rate you are bonusing to]]-Table1[[#This Row],[Pay Rate]], \"\")","v":""},{"$f":"IF(Table1[[#This Row],[Wage differential Bonus                            - NotePay Rate you are bonusing to]]>0,Table1[[#This Row],[Bonus Rate]]*Table1[[#This Row],[Hours]],\"\")","v":""},null,null,null,null,null,{"$f":"IF(OR(AH2973>0.001,AH2973<-0.001),Table1[[#This Row],[Employee '#]],\" \")","v":" "},false,{"$f":"SUMIF(Table1[[#This Row],[Total Wage Diff bonus]:[Bank Bonus]],\"<> \")","v":0},{"$f":"IF(AA2973>0, Table1[[#This Row],[Column4]], IF(AB2973>0,Table1[[#This Row],[Column4]],IF(X2973>0,\"1000\")))","v":false}]
[null,null,null,null,null,null,null,null,null,null,null,null,null,null,null,null,0,null,null,null,null,null,null,null,{"$f":"IF(Table1[[#This Row],[Wage differential Bonus                            - NotePay Rate you are bonusing to]]>0, Table1[[#This Row],[Wage differential Bonus                            - NotePay Rate you are bonusing to]]-Table1[[#This Row],[Pay Rate]], \"\")","v":""},{"$f":"IF(Table1[[#This Row],[Wage differential Bonus                            - NotePay Rate you are bonusing to]]>0,Table1[[#This Row],[Bonus Rate]]*Table1[[#This Row],[Hours]],\"\")","v":""},null,null,null,null,null,{"$f":"IF(OR(AH2974>0.001,AH2974<-0.001),Table1[[#This Row],[Employee '#]],\" \")","v":" "},false,{"$f":"SUMIF(Table1[[#This Row],[Total Wage Diff bonus]:[Bank Bonus]],\"<> \")","v":0},{"$f":"IF(AA2974>0, Table1[[#This Row],[Column4]], IF(AB2974>0,Table1[[#This Row],[Column4]],IF(X2974>0,\"1000\")))","v":false}]
[null,null,null,null,null,null,null,null,null,null,null,null,null,null,null,null,0,null,null,null,null,null,null,null,{"$f":"IF(Table1[[#This Row],[Wage differential Bonus                            - NotePay Rate you are bonusing to]]>0, Table1[[#This Row],[Wage differential Bonus                            - NotePay Rate you are bonusing to]]-Table1[[#This Row],[Pay Rate]], \"\")","v":""},{"$f":"IF(Table1[[#This Row],[Wage differential Bonus                            - NotePay Rate you are bonusing to]]>0,Table1[[#This Row],[Bonus Rate]]*Table1[[#This Row],[Hours]],\"\")","v":""},null,null,null,null,null,{"$f":"IF(OR(AH2977>0.001,AH2977<-0.001),Table1[[#This Row],[Employee '#]],\" \")","v":" "},false,{"$f":"SUMIF(Table1[[#This Row],[Total Wage Diff bonus]:[Bank Bonus]],\"<> \")","v":0},{"$f":"IF(AA2977>0, Table1[[#This Row],[Column4]], IF(AB2977>0,Table1[[#This Row],[Column4]],IF(X2977>0,\"1000\")))","v":false}]
[null,null,null,null,null,null,null,null,null,null,null,null,null,null,null,null,0,null,null,null,null,null,null,null,{"$f":"IF(Table1[[#This Row],[Wage differential Bonus                            - NotePay Rate you are bonusing to]]>0, Table1[[#This Row],[Wage differential Bonus                            - NotePay Rate you are bonusing to]]-Table1[[#This Row],[Pay Rate]], \"\")","v":""},{"$f":"IF(Table1[[#This Row],[Wage differential Bonus                            - NotePay Rate you are bonusing to]]>0,Table1[[#This Row],[Bonus Rate]]*Table1[[#This Row],[Hours]],\"\")","v":""},null,null,null,null,null,{"$f":"IF(OR(AH2979>0.001,AH2979<-0.001),Table1[[#This Row],[Employee '#]],\" \")","v":" "},false,{"$f":"SUMIF(Table1[[#This Row],[Total Wage Diff bonus]:[Bank Bonus]],\"<> \")","v":0},{"$f":"IF(AA2979>0, Table1[[#This Row],[Column4]], IF(AB2979>0,Table1[[#This Row],[Column4]],IF(X2979>0,\"1000\")))","v":false}]
[null,null,null,null,null,null,null,null,null,null,null,null,null,null,null,null,0,null,null,null,null,null,null,null,{"$f":"IF(Table1[[#This Row],[Wage differential Bonus                            - NotePay Rate you are bonusing to]]>0, Table1[[#This Row],[Wage differential Bonus                            - NotePay Rate you are bonusing to]]-Table1[[#This Row],[Pay Rate]], \"\")","v":""},{"$f":"IF(Table1[[#This Row],[Wage differential Bonus                            - NotePay Rate you are bonusing to]]>0,Table1[[#This Row],[Bonus Rate]]*Table1[[#This Row],[Hours]],\"\")","v":""},null,null,null,null,null,{"$f":"IF(OR(AH2982>0.001,AH2982<-0.001),Table1[[#This Row],[Employee '#]],\" \")","v":" "},false,{"$f":"SUMIF(Table1[[#This Row],[Total Wage Diff bonus]:[Bank Bonus]],\"<> \")","v":0},{"$f":"IF(AA2982>0, Table1[[#This Row],[Column4]], IF(AB2982>0,Table1[[#This Row],[Column4]],IF(X2982>0,\"1000\")))","v":false}]
[null,null,null,null,null,null,null,null,null,null,null,null,null,null,null,null,0,null,null,null,null,null,null,null,{"$f":"IF(Table1[[#This Row],[Wage differential Bonus                            - NotePay Rate you are bonusing to]]>0, Table1[[#This Row],[Wage differential Bonus                            - NotePay Rate you are bonusing to]]-Table1[[#This Row],[Pay Rate]], \"\")","v":""},{"$f":"IF(Table1[[#This Row],[Wage differential Bonus                            - NotePay Rate you are bonusing to]]>0,Table1[[#This Row],[Bonus Rate]]*Table1[[#This Row],[Hours]],\"\")","v":""},null,null,null,null,null,{"$f":"IF(OR(AH2985>0.001,AH2985<-0.001),Table1[[#This Row],[Employee '#]],\" \")","v":" "},false,{"$f":"SUMIF(Table1[[#This Row],[Total Wage Diff bonus]:[Bank Bonus]],\"<> \")","v":0},{"$f":"IF(AA2985>0, Table1[[#This Row],[Column4]], IF(AB2985>0,Table1[[#This Row],[Column4]],IF(X2985>0,\"1000\")))","v":false}]
[null,null,null,null,null,null,null,null,null,null,null,null,null,null,null,null,0,null,null,null,null,null,null,null,{"$f":"IF(Table1[[#This Row],[Wage differential Bonus                            - NotePay Rate you are bonusing to]]>0, Table1[[#This Row],[Wage differential Bonus                            - NotePay Rate you are bonusing to]]-Table1[[#This Row],[Pay Rate]], \"\")","v":""},{"$f":"IF(Table1[[#This Row],[Wage differential Bonus                            - NotePay Rate you are bonusing to]]>0,Table1[[#This Row],[Bonus Rate]]*Table1[[#This Row],[Hours]],\"\")","v":""},null,null,null,null,null,{"$f":"IF(OR(AH2987>0.001,AH2987<-0.001),Table1[[#This Row],[Employee '#]],\" \")","v":" "},false,{"$f":"SUMIF(Table1[[#This Row],[Total Wage Diff bonus]:[Bank Bonus]],\"<> \")","v":0},{"$f":"IF(AA2987>0, Table1[[#This Row],[Column4]], IF(AB2987>0,Table1[[#This Row],[Column4]],IF(X2987>0,\"1000\")))","v":false}]
[null,null,null,null,null,null,null,null,null,null,null,null,null,null,null,null,0,null,null,null,null,null,null,null,{"$f":"IF(Table1[[#This Row],[Wage differential Bonus                            - NotePay Rate you are bonusing to]]>0, Table1[[#This Row],[Wage differential Bonus                            - NotePay Rate you are bonusing to]]-Table1[[#This Row],[Pay Rate]], \"\")","v":""},{"$f":"IF(Table1[[#This Row],[Wage differential Bonus                            - NotePay Rate you are bonusing to]]>0,Table1[[#This Row],[Bonus Rate]]*Table1[[#This Row],[Hours]],\"\")","v":""},null,null,null,null,null,{"$f":"IF(OR(AH2988>0.001,AH2988<-0.001),Table1[[#This Row],[Employee '#]],\" \")","v":" "},false,{"$f":"SUMIF(Table1[[#This Row],[Total Wage Diff bonus]:[Bank Bonus]],\"<> \")","v":0},{"$f":"IF(AA2988>0, Table1[[#This Row],[Column4]], IF(AB2988>0,Table1[[#This Row],[Column4]],IF(X2988>0,\"1000\")))","v":false}]
[null,null,null,null,null,null,null,null,null,null,null,null,null,null,null,null,0,null,null,null,null,null,null,null,{"$f":"IF(Table1[[#This Row],[Wage differential Bonus                            - NotePay Rate you are bonusing to]]>0, Table1[[#This Row],[Wage differential Bonus                            - NotePay Rate you are bonusing to]]-Table1[[#This Row],[Pay Rate]], \"\")","v":""},{"$f":"IF(Table1[[#This Row],[Wage differential Bonus                            - NotePay Rate you are bonusing to]]>0,Table1[[#This Row],[Bonus Rate]]*Table1[[#This Row],[Hours]],\"\")","v":""},null,null,null,null,null,{"$f":"IF(OR(AH2991>0.001,AH2991<-0.001),Table1[[#This Row],[Employee '#]],\" \")","v":" "},false,{"$f":"SUMIF(Table1[[#This Row],[Total Wage Diff bonus]:[Bank Bonus]],\"<> \")","v":0},{"$f":"IF(AA2991>0, Table1[[#This Row],[Column4]], IF(AB2991>0,Table1[[#This Row],[Column4]],IF(X2991>0,\"1000\")))","v":false}]
[null,null,null,null,null,null,null,null,null,null,null,null,null,null,null,null,0,null,null,null,null,null,null,null,{"$f":"IF(Table1[[#This Row],[Wage differential Bonus                            - NotePay Rate you are bonusing to]]>0, Table1[[#This Row],[Wage differential Bonus                            - NotePay Rate you are bonusing to]]-Table1[[#This Row],[Pay Rate]], \"\")","v":""},{"$f":"IF(Table1[[#This Row],[Wage differential Bonus                            - NotePay Rate you are bonusing to]]>0,Table1[[#This Row],[Bonus Rate]]*Table1[[#This Row],[Hours]],\"\")","v":""},null,null,null,null,null,{"$f":"IF(OR(AH2992>0.001,AH2992<-0.001),Table1[[#This Row],[Employee '#]],\" \")","v":" "},false,{"$f":"SUMIF(Table1[[#This Row],[Total Wage Diff bonus]:[Bank Bonus]],\"<> \")","v":0},{"$f":"IF(AA2992>0, Table1[[#This Row],[Column4]], IF(AB2992>0,Table1[[#This Row],[Column4]],IF(X2992>0,\"1000\")))","v":false}]
[null,null,null,null,null,null,null,null,null,null,null,null,null,null,null,null,0,null,null,null,null,null,null,null,{"$f":"IF(Table1[[#This Row],[Wage differential Bonus                            - NotePay Rate you are bonusing to]]>0, Table1[[#This Row],[Wage differential Bonus                            - NotePay Rate you are bonusing to]]-Table1[[#This Row],[Pay Rate]], \"\")","v":""},{"$f":"IF(Table1[[#This Row],[Wage differential Bonus                            - NotePay Rate you are bonusing to]]>0,Table1[[#This Row],[Bonus Rate]]*Table1[[#This Row],[Hours]],\"\")","v":""},null,null,null,null,null,{"$f":"IF(OR(AH2996>0.001,AH2996<-0.001),Table1[[#This Row],[Employee '#]],\" \")","v":" "},false,{"$f":"SUMIF(Table1[[#This Row],[Total Wage Diff bonus]:[Bank Bonus]],\"<> \")","v":0},{"$f":"IF(AA2996>0, Table1[[#This Row],[Column4]], IF(AB2996>0,Table1[[#This Row],[Column4]],IF(X2996>0,\"1000\")))","v":false}]
[null,null,null,null,null,null,null,null,null,null,null,null,null,null,null,null,0,null,null,null,null,null,null,null,{"$f":"IF(Table1[[#This Row],[Wage differential Bonus                            - NotePay Rate you are bonusing to]]>0, Table1[[#This Row],[Wage differential Bonus                            - NotePay Rate you are bonusing to]]-Table1[[#This Row],[Pay Rate]], \"\")","v":""},{"$f":"IF(Table1[[#This Row],[Wage differential Bonus                            - NotePay Rate you are bonusing to]]>0,Table1[[#This Row],[Bonus Rate]]*Table1[[#This Row],[Hours]],\"\")","v":""},null,null,null,null,null,{"$f":"IF(OR(AH2997>0.001,AH2997<-0.001),Table1[[#This Row],[Employee '#]],\" \")","v":" "},false,{"$f":"SUMIF(Table1[[#This Row],[Total Wage Diff bonus]:[Bank Bonus]],\"<> \")","v":0},{"$f":"IF(AA2997>0, Table1[[#This Row],[Column4]], IF(AB2997>0,Table1[[#This Row],[Column4]],IF(X2997>0,\"1000\")))","v":false}]
[null,null,null,null,null,null,null,null,null,null,null,null,null,null,null,null,0,null,null,null,null,null,null,null,{"$f":"IF(Table1[[#This Row],[Wage differential Bonus                            - NotePay Rate you are bonusing to]]>0, Table1[[#This Row],[Wage differential Bonus                            - NotePay Rate you are bonusing to]]-Table1[[#This Row],[Pay Rate]], \"\")","v":""},{"$f":"IF(Table1[[#This Row],[Wage differential Bonus                            - NotePay Rate you are bonusing to]]>0,Table1[[#This Row],[Bonus Rate]]*Table1[[#This Row],[Hours]],\"\")","v":""},null,null,null,null,null,{"$f":"IF(OR(AH3000>0.001,AH3000<-0.001),Table1[[#This Row],[Employee '#]],\" \")","v":" "},false,{"$f":"SUMIF(Table1[[#This Row],[Total Wage Diff bonus]:[Bank Bonus]],\"<> \")","v":0},{"$f":"IF(AA3000>0, Table1[[#This Row],[Column4]], IF(AB3000>0,Table1[[#This Row],[Column4]],IF(X3000>0,\"1000\")))","v":false}]
[null,null,null,null,null,null,null,null,null,null,null,null,null,null,null,null,0,null,null,null,null,null,null,null,{"$f":"IF(Table1[[#This Row],[Wage differential Bonus                            - NotePay Rate you are bonusing to]]>0, Table1[[#This Row],[Wage differential Bonus                            - NotePay Rate you are bonusing to]]-Table1[[#This Row],[Pay Rate]], \"\")","v":""},{"$f":"IF(Table1[[#This Row],[Wage differential Bonus                            - NotePay Rate you are bonusing to]]>0,Table1[[#This Row],[Bonus Rate]]*Table1[[#This Row],[Hours]],\"\")","v":""},null,null,null,null,null,{"$f":"IF(OR(AH3003>0.001,AH3003<-0.001),Table1[[#This Row],[Employee '#]],\" \")","v":" "},false,{"$f":"SUMIF(Table1[[#This Row],[Total Wage Diff bonus]:[Bank Bonus]],\"<> \")","v":0},{"$f":"IF(AA3003>0, Table1[[#This Row],[Column4]], IF(AB3003>0,Table1[[#This Row],[Column4]],IF(X3003>0,\"1000\")))","v":false}]
[null,null,null,null,null,null,null,null,null,null,null,null,null,null,null,null,0,null,null,null,null,null,null,null,{"$f":"IF(Table1[[#This Row],[Wage differential Bonus                            - NotePay Rate you are bonusing to]]>0, Table1[[#This Row],[Wage differential Bonus                            - NotePay Rate you are bonusing to]]-Table1[[#This Row],[Pay Rate]], \"\")","v":""},{"$f":"IF(Table1[[#This Row],[Wage differential Bonus                            - NotePay Rate you are bonusing to]]>0,Table1[[#This Row],[Bonus Rate]]*Table1[[#This Row],[Hours]],\"\")","v":""},null,null,null,null,null,{"$f":"IF(OR(AH3005>0.001,AH3005<-0.001),Table1[[#This Row],[Employee '#]],\" \")","v":" "},false,{"$f":"SUMIF(Table1[[#This Row],[Total Wage Diff bonus]:[Bank Bonus]],\"<> \")","v":0},{"$f":"IF(AA3005>0, Table1[[#This Row],[Column4]], IF(AB3005>0,Table1[[#This Row],[Column4]],IF(X3005>0,\"1000\")))","v":false}]
[null,null,null,null,null,null,null,null,null,null,null,null,null,null,null,null,0,null,null,null,null,null,null,null,{"$f":"IF(Table1[[#This Row],[Wage differential Bonus                            - NotePay Rate you are bonusing to]]>0, Table1[[#This Row],[Wage differential Bonus                            - NotePay Rate you are bonusing to]]-Table1[[#This Row],[Pay Rate]], \"\")","v":""},{"$f":"IF(Table1[[#This Row],[Wage differential Bonus                            - NotePay Rate you are bonusing to]]>0,Table1[[#This Row],[Bonus Rate]]*Table1[[#This Row],[Hours]],\"\")","v":""},null,null,null,null,null,{"$f":"IF(OR(AH3006>0.001,AH3006<-0.001),Table1[[#This Row],[Employee '#]],\" \")","v":" "},false,{"$f":"SUMIF(Table1[[#This Row],[Total Wage Diff bonus]:[Bank Bonus]],\"<> \")","v":0},{"$f":"IF(AA3006>0, Table1[[#This Row],[Column4]], IF(AB3006>0,Table1[[#This Row],[Column4]],IF(X3006>0,\"1000\")))","v":false}]
[null,null,null,null,null,null,null,null,null,null,null,null,null,null,null,null,0,null,null,null,null,null,null,null,{"$f":"IF(Table1[[#This Row],[Wage differential Bonus                            - NotePay Rate you are bonusing to]]>0, Table1[[#This Row],[Wage differential Bonus                            - NotePay Rate you are bonusing to]]-Table1[[#This Row],[Pay Rate]], \"\")","v":""},{"$f":"IF(Table1[[#This Row],[Wage differential Bonus                            - NotePay Rate you are bonusing to]]>0,Table1[[#This Row],[Bonus Rate]]*Table1[[#This Row],[Hours]],\"\")","v":""},null,null,null,null,null,{"$f":"IF(OR(AH3009>0.001,AH3009<-0.001),Table1[[#This Row],[Employee '#]],\" \")","v":" "},false,{"$f":"SUMIF(Table1[[#This Row],[Total Wage Diff bonus]:[Bank Bonus]],\"<> \")","v":0},{"$f":"IF(AA3009>0, Table1[[#This Row],[Column4]], IF(AB3009>0,Table1[[#This Row],[Column4]],IF(X3009>0,\"1000\")))","v":false}]
[null,null,null,null,null,null,null,null,null,null,null,null,null,null,null,null,0,null,null,null,null,null,null,null,{"$f":"IF(Table1[[#This Row],[Wage differential Bonus                            - NotePay Rate you are bonusing to]]>0, Table1[[#This Row],[Wage differential Bonus                            - NotePay Rate you are bonusing to]]-Table1[[#This Row],[Pay Rate]], \"\")","v":""},{"$f":"IF(Table1[[#This Row],[Wage differential Bonus                            - NotePay Rate you are bonusing to]]>0,Table1[[#This Row],[Bonus Rate]]*Table1[[#This Row],[Hours]],\"\")","v":""},null,null,null,null,null,{"$f":"IF(OR(AH3010>0.001,AH3010<-0.001),Table1[[#This Row],[Employee '#]],\" \")","v":" "},false,{"$f":"SUMIF(Table1[[#This Row],[Total Wage Diff bonus]:[Bank Bonus]],\"<> \")","v":0},{"$f":"IF(AA3010>0, Table1[[#This Row],[Column4]], IF(AB3010>0,Table1[[#This Row],[Column4]],IF(X3010>0,\"1000\")))","v":false}]
[null,null,null,null,null,null,null,null,null,null,null,null,null,null,null,null,0,null,null,null,null,null,null,null,{"$f":"IF(Table1[[#This Row],[Wage differential Bonus                            - NotePay Rate you are bonusing to]]>0, Table1[[#This Row],[Wage differential Bonus                            - NotePay Rate you are bonusing to]]-Table1[[#This Row],[Pay Rate]], \"\")","v":""},{"$f":"IF(Table1[[#This Row],[Wage differential Bonus                            - NotePay Rate you are bonusing to]]>0,Table1[[#This Row],[Bonus Rate]]*Table1[[#This Row],[Hours]],\"\")","v":""},null,null,null,null,null,{"$f":"IF(OR(AH3014>0.001,AH3014<-0.001),Table1[[#This Row],[Employee '#]],\" \")","v":" "},false,{"$f":"SUMIF(Table1[[#This Row],[Total Wage Diff bonus]:[Bank Bonus]],\"<> \")","v":0},{"$f":"IF(AA3014>0, Table1[[#This Row],[Column4]], IF(AB3014>0,Table1[[#This Row],[Column4]],IF(X3014>0,\"1000\")))","v":false}]
[null,null,null,null,null,null,null,null,null,null,null,null,null,null,null,null,0,null,null,null,null,null,null,null,{"$f":"IF(Table1[[#This Row],[Wage differential Bonus                            - NotePay Rate you are bonusing to]]>0, Table1[[#This Row],[Wage differential Bonus                            - NotePay Rate you are bonusing to]]-Table1[[#This Row],[Pay Rate]], \"\")","v":""},{"$f":"IF(Table1[[#This Row],[Wage differential Bonus                            - NotePay Rate you are bonusing to]]>0,Table1[[#This Row],[Bonus Rate]]*Table1[[#This Row],[Hours]],\"\")","v":""},null,null,null,null,null,{"$f":"IF(OR(AH3015>0.001,AH3015<-0.001),Table1[[#This Row],[Employee '#]],\" \")","v":" "},false,{"$f":"SUMIF(Table1[[#This Row],[Total Wage Diff bonus]:[Bank Bonus]],\"<> \")","v":0},{"$f":"IF(AA3015>0, Table1[[#This Row],[Column4]], IF(AB3015>0,Table1[[#This Row],[Column4]],IF(X3015>0,\"1000\")))","v":false}]
[null,null,null,null,null,null,null,null,null,null,null,null,null,null,null,null,0,null,null,null,null,null,null,null,{"$f":"IF(Table1[[#This Row],[Wage differential Bonus                            - NotePay Rate you are bonusing to]]>0, Table1[[#This Row],[Wage differential Bonus                            - NotePay Rate you are bonusing to]]-Table1[[#This Row],[Pay Rate]], \"\")","v":""},{"$f":"IF(Table1[[#This Row],[Wage differential Bonus                            - NotePay Rate you are bonusing to]]>0,Table1[[#This Row],[Bonus Rate]]*Table1[[#This Row],[Hours]],\"\")","v":""},null,null,null,null,null,{"$f":"IF(OR(AH3018>0.001,AH3018<-0.001),Table1[[#This Row],[Employee '#]],\" \")","v":" "},false,{"$f":"SUMIF(Table1[[#This Row],[Total Wage Diff bonus]:[Bank Bonus]],\"<> \")","v":0},{"$f":"IF(AA3018>0, Table1[[#This Row],[Column4]], IF(AB3018>0,Table1[[#This Row],[Column4]],IF(X3018>0,\"1000\")))","v":false}]
[null,null,null,null,null,null,null,null,null,null,null,null,null,null,null,null,0,null,null,null,null,null,null,null,{"$f":"IF(Table1[[#This Row],[Wage differential Bonus                            - NotePay Rate you are bonusing to]]>0, Table1[[#This Row],[Wage differential Bonus                            - NotePay Rate you are bonusing to]]-Table1[[#This Row],[Pay Rate]], \"\")","v":""},{"$f":"IF(Table1[[#This Row],[Wage differential Bonus                            - NotePay Rate you are bonusing to]]>0,Table1[[#This Row],[Bonus Rate]]*Table1[[#This Row],[Hours]],\"\")","v":""},null,null,null,null,null,{"$f":"IF(OR(AH3020>0.001,AH3020<-0.001),Table1[[#This Row],[Employee '#]],\" \")","v":" "},false,{"$f":"SUMIF(Table1[[#This Row],[Total Wage Diff bonus]:[Bank Bonus]],\"<> \")","v":0},{"$f":"IF(AA3020>0, Table1[[#This Row],[Column4]], IF(AB3020>0,Table1[[#This Row],[Column4]],IF(X3020>0,\"1000\")))","v":false}]
[null,null,null,null,null,null,null,null,null,null,null,null,null,null,null,null,0,null,null,null,null,null,null,null,{"$f":"IF(Table1[[#This Row],[Wage differential Bonus                            - NotePay Rate you are bonusing to]]>0, Table1[[#This Row],[Wage differential Bonus                            - NotePay Rate you are bonusing to]]-Table1[[#This Row],[Pay Rate]], \"\")","v":""},{"$f":"IF(Table1[[#This Row],[Wage differential Bonus                            - NotePay Rate you are bonusing to]]>0,Table1[[#This Row],[Bonus Rate]]*Table1[[#This Row],[Hours]],\"\")","v":""},null,null,null,null,null,{"$f":"IF(OR(AH3023>0.001,AH3023<-0.001),Table1[[#This Row],[Employee '#]],\" \")","v":" "},false,{"$f":"SUMIF(Table1[[#This Row],[Total Wage Diff bonus]:[Bank Bonus]],\"<> \")","v":0},{"$f":"IF(AA3023>0, Table1[[#This Row],[Column4]], IF(AB3023>0,Table1[[#This Row],[Column4]],IF(X3023>0,\"1000\")))","v":false}]
[null,null,null,null,null,null,null,null,null,null,null,null,null,null,null,null,0,null,null,null,null,null,null,null,{"$f":"IF(Table1[[#This Row],[Wage differential Bonus                            - NotePay Rate you are bonusing to]]>0, Table1[[#This Row],[Wage differential Bonus                            - NotePay Rate you are bonusing to]]-Table1[[#This Row],[Pay Rate]], \"\")","v":""},{"$f":"IF(Table1[[#This Row],[Wage differential Bonus                            - NotePay Rate you are bonusing to]]>0,Table1[[#This Row],[Bonus Rate]]*Table1[[#This Row],[Hours]],\"\")","v":""},null,null,null,null,null,{"$f":"IF(OR(AH3024>0.001,AH3024<-0.001),Table1[[#This Row],[Employee '#]],\" \")","v":" "},false,{"$f":"SUMIF(Table1[[#This Row],[Total Wage Diff bonus]:[Bank Bonus]],\"<> \")","v":0},{"$f":"IF(AA3024>0, Table1[[#This Row],[Column4]], IF(AB3024>0,Table1[[#This Row],[Column4]],IF(X3024>0,\"1000\")))","v":false}]
[null,null,null,null,null,null,null,null,null,null,null,null,null,null,null,null,0,null,null,null,null,null,null,null,{"$f":"IF(Table1[[#This Row],[Wage differential Bonus                            - NotePay Rate you are bonusing to]]>0, Table1[[#This Row],[Wage differential Bonus                            - NotePay Rate you are bonusing to]]-Table1[[#This Row],[Pay Rate]], \"\")","v":""},{"$f":"IF(Table1[[#This Row],[Wage differential Bonus                            - NotePay Rate you are bonusing to]]>0,Table1[[#This Row],[Bonus Rate]]*Table1[[#This Row],[Hours]],\"\")","v":""},null,null,null,null,null,{"$f":"IF(OR(AH3026>0.001,AH3026<-0.001),Table1[[#This Row],[Employee '#]],\" \")","v":" "},false,{"$f":"SUMIF(Table1[[#This Row],[Total Wage Diff bonus]:[Bank Bonus]],\"<> \")","v":0},{"$f":"IF(AA3026>0, Table1[[#This Row],[Column4]], IF(AB3026>0,Table1[[#This Row],[Column4]],IF(X3026>0,\"1000\")))","v":false}]
[null,null,null,null,null,null,null,null,null,null,null,null,null,null,null,null,0,null,null,null,null,null,null,null,{"$f":"IF(Table1[[#This Row],[Wage differential Bonus                            - NotePay Rate you are bonusing to]]>0, Table1[[#This Row],[Wage differential Bonus                            - NotePay Rate you are bonusing to]]-Table1[[#This Row],[Pay Rate]], \"\")","v":""},{"$f":"IF(Table1[[#This Row],[Wage differential Bonus                            - NotePay Rate you are bonusing to]]>0,Table1[[#This Row],[Bonus Rate]]*Table1[[#This Row],[Hours]],\"\")","v":""},null,null,null,null,null,{"$f":"IF(OR(AH3029>0.001,AH3029<-0.001),Table1[[#This Row],[Employee '#]],\" \")","v":" "},false,{"$f":"SUMIF(Table1[[#This Row],[Total Wage Diff bonus]:[Bank Bonus]],\"<> \")","v":0},{"$f":"IF(AA3029>0, Table1[[#This Row],[Column4]], IF(AB3029>0,Table1[[#This Row],[Column4]],IF(X3029>0,\"1000\")))","v":false}]
[null,null,null,null,null,null,null,null,null,null,null,null,null,null,null,null,0,null,null,null,null,null,null,null,{"$f":"IF(Table1[[#This Row],[Wage differential Bonus                            - NotePay Rate you are bonusing to]]>0, Table1[[#This Row],[Wage differential Bonus                            - NotePay Rate you are bonusing to]]-Table1[[#This Row],[Pay Rate]], \"\")","v":""},{"$f":"IF(Table1[[#This Row],[Wage differential Bonus                            - NotePay Rate you are bonusing to]]>0,Table1[[#This Row],[Bonus Rate]]*Table1[[#This Row],[Hours]],\"\")","v":""},null,null,null,null,null,{"$f":"IF(OR(AH3032>0.001,AH3032<-0.001),Table1[[#This Row],[Employee '#]],\" \")","v":" "},false,{"$f":"SUMIF(Table1[[#This Row],[Total Wage Diff bonus]:[Bank Bonus]],\"<> \")","v":0},{"$f":"IF(AA3032>0, Table1[[#This Row],[Column4]], IF(AB3032>0,Table1[[#This Row],[Column4]],IF(X3032>0,\"1000\")))","v":false}]
[null,null,null,null,null,null,null,null,null,null,null,null,null,null,null,null,0,null,null,null,null,null,null,null,{"$f":"IF(Table1[[#This Row],[Wage differential Bonus                            - NotePay Rate you are bonusing to]]>0, Table1[[#This Row],[Wage differential Bonus                            - NotePay Rate you are bonusing to]]-Table1[[#This Row],[Pay Rate]], \"\")","v":""},{"$f":"IF(Table1[[#This Row],[Wage differential Bonus                            - NotePay Rate you are bonusing to]]>0,Table1[[#This Row],[Bonus Rate]]*Table1[[#This Row],[Hours]],\"\")","v":""},null,null,null,null,null,{"$f":"IF(OR(AH3033>0.001,AH3033<-0.001),Table1[[#This Row],[Employee '#]],\" \")","v":" "},false,{"$f":"SUMIF(Table1[[#This Row],[Total Wage Diff bonus]:[Bank Bonus]],\"<> \")","v":0},{"$f":"IF(AA3033>0, Table1[[#This Row],[Column4]], IF(AB3033>0,Table1[[#This Row],[Column4]],IF(X3033>0,\"1000\")))","v":false}]
[null,null,null,null,null,null,null,null,null,null,null,null,null,null,null,null,0,null,null,null,null,null,null,null,{"$f":"IF(Table1[[#This Row],[Wage differential Bonus                            - NotePay Rate you are bonusing to]]>0, Table1[[#This Row],[Wage differential Bonus                            - NotePay Rate you are bonusing to]]-Table1[[#This Row],[Pay Rate]], \"\")","v":""},{"$f":"IF(Table1[[#This Row],[Wage differential Bonus                            - NotePay Rate you are bonusing to]]>0,Table1[[#This Row],[Bonus Rate]]*Table1[[#This Row],[Hours]],\"\")","v":""},null,null,null,null,null,{"$f":"IF(OR(AH3037>0.001,AH3037<-0.001),Table1[[#This Row],[Employee '#]],\" \")","v":" "},false,{"$f":"SUMIF(Table1[[#This Row],[Total Wage Diff bonus]:[Bank Bonus]],\"<> \")","v":0},{"$f":"IF(AA3037>0, Table1[[#This Row],[Column4]], IF(AB3037>0,Table1[[#This Row],[Column4]],IF(X3037>0,\"1000\")))","v":false}]
[null,null,null,null,null,null,null,null,null,null,null,null,null,null,null,null,0,null,null,null,null,null,null,null,{"$f":"IF(Table1[[#This Row],[Wage differential Bonus                            - NotePay Rate you are bonusing to]]>0, Table1[[#This Row],[Wage differential Bonus                            - NotePay Rate you are bonusing to]]-Table1[[#This Row],[Pay Rate]], \"\")","v":""},{"$f":"IF(Table1[[#This Row],[Wage differential Bonus                            - NotePay Rate you are bonusing to]]>0,Table1[[#This Row],[Bonus Rate]]*Table1[[#This Row],[Hours]],\"\")","v":""},null,null,null,null,null,{"$f":"IF(OR(AH3038>0.001,AH3038<-0.001),Table1[[#This Row],[Employee '#]],\" \")","v":" "},false,{"$f":"SUMIF(Table1[[#This Row],[Total Wage Diff bonus]:[Bank Bonus]],\"<> \")","v":0},{"$f":"IF(AA3038>0, Table1[[#This Row],[Column4]], IF(AB3038>0,Table1[[#This Row],[Column4]],IF(X3038>0,\"1000\")))","v":false}]
[null,null,null,null,null,null,null,null,null,null,null,null,null,null,null,null,0,null,null,null,null,null,null,null,{"$f":"IF(Table1[[#This Row],[Wage differential Bonus                            - NotePay Rate you are bonusing to]]>0, Table1[[#This Row],[Wage differential Bonus                            - NotePay Rate you are bonusing to]]-Table1[[#This Row],[Pay Rate]], \"\")","v":""},{"$f":"IF(Table1[[#This Row],[Wage differential Bonus                            - NotePay Rate you are bonusing to]]>0,Table1[[#This Row],[Bonus Rate]]*Table1[[#This Row],[Hours]],\"\")","v":""},null,null,null,null,null,{"$f":"IF(OR(AH3041>0.001,AH3041<-0.001),Table1[[#This Row],[Employee '#]],\" \")","v":" "},false,{"$f":"SUMIF(Table1[[#This Row],[Total Wage Diff bonus]:[Bank Bonus]],\"<> \")","v":0},{"$f":"IF(AA3041>0, Table1[[#This Row],[Column4]], IF(AB3041>0,Table1[[#This Row],[Column4]],IF(X3041>0,\"1000\")))","v":false}]
[null,null,null,null,null,null,null,null,null,null,null,null,null,null,null,null,0,null,null,null,null,null,null,null,{"$f":"IF(Table1[[#This Row],[Wage differential Bonus                            - NotePay Rate you are bonusing to]]>0, Table1[[#This Row],[Wage differential Bonus                            - NotePay Rate you are bonusing to]]-Table1[[#This Row],[Pay Rate]], \"\")","v":""},{"$f":"IF(Table1[[#This Row],[Wage differential Bonus                            - NotePay Rate you are bonusing to]]>0,Table1[[#This Row],[Bonus Rate]]*Table1[[#This Row],[Hours]],\"\")","v":""},null,null,null,null,null,{"$f":"IF(OR(AH3042>0.001,AH3042<-0.001),Table1[[#This Row],[Employee '#]],\" \")","v":" "},false,{"$f":"SUMIF(Table1[[#This Row],[Total Wage Diff bonus]:[Bank Bonus]],\"<> \")","v":0},{"$f":"IF(AA3042>0, Table1[[#This Row],[Column4]], IF(AB3042>0,Table1[[#This Row],[Column4]],IF(X3042>0,\"1000\")))","v":false}]
[null,null,null,null,null,null,null,null,null,null,null,null,null,null,null,null,0,null,null,null,null,null,null,null,{"$f":"IF(Table1[[#This Row],[Wage differential Bonus                            - NotePay Rate you are bonusing to]]>0, Table1[[#This Row],[Wage differential Bonus                            - NotePay Rate you are bonusing to]]-Table1[[#This Row],[Pay Rate]], \"\")","v":""},{"$f":"IF(Table1[[#This Row],[Wage differential Bonus                            - NotePay Rate you are bonusing to]]>0,Table1[[#This Row],[Bonus Rate]]*Table1[[#This Row],[Hours]],\"\")","v":""},null,null,null,null,null,{"$f":"IF(OR(AH3044>0.001,AH3044<-0.001),Table1[[#This Row],[Employee '#]],\" \")","v":" "},false,{"$f":"SUMIF(Table1[[#This Row],[Total Wage Diff bonus]:[Bank Bonus]],\"<> \")","v":0},{"$f":"IF(AA3044>0, Table1[[#This Row],[Column4]], IF(AB3044>0,Table1[[#This Row],[Column4]],IF(X3044>0,\"1000\")))","v":false}]
[null,null,null,null,null,null,null,null,null,null,null,null,null,null,null,null,0,null,null,null,null,null,null,null,{"$f":"IF(Table1[[#This Row],[Wage differential Bonus                            - NotePay Rate you are bonusing to]]>0, Table1[[#This Row],[Wage differential Bonus                            - NotePay Rate you are bonusing to]]-Table1[[#This Row],[Pay Rate]], \"\")","v":""},{"$f":"IF(Table1[[#This Row],[Wage differential Bonus                            - NotePay Rate you are bonusing to]]>0,Table1[[#This Row],[Bonus Rate]]*Table1[[#This Row],[Hours]],\"\")","v":""},null,null,null,null,null,{"$f":"IF(OR(AH3047>0.001,AH3047<-0.001),Table1[[#This Row],[Employee '#]],\" \")","v":" "},false,{"$f":"SUMIF(Table1[[#This Row],[Total Wage Diff bonus]:[Bank Bonus]],\"<> \")","v":0},{"$f":"IF(AA3047>0, Table1[[#This Row],[Column4]], IF(AB3047>0,Table1[[#This Row],[Column4]],IF(X3047>0,\"1000\")))","v":false}]
[null,null,null,null,null,null,null,null,null,null,null,null,null,null,null,null,0,null,null,null,null,null,null,null,{"$f":"IF(Table1[[#This Row],[Wage differential Bonus                            - NotePay Rate you are bonusing to]]>0, Table1[[#This Row],[Wage differential Bonus                            - NotePay Rate you are bonusing to]]-Table1[[#This Row],[Pay Rate]], \"\")","v":""},{"$f":"IF(Table1[[#This Row],[Wage differential Bonus                            - NotePay Rate you are bonusing to]]>0,Table1[[#This Row],[Bonus Rate]]*Table1[[#This Row],[Hours]],\"\")","v":""},null,null,null,null,null,{"$f":"IF(OR(AH3050>0.001,AH3050<-0.001),Table1[[#This Row],[Employee '#]],\" \")","v":" "},false,{"$f":"SUMIF(Table1[[#This Row],[Total Wage Diff bonus]:[Bank Bonus]],\"<> \")","v":0},{"$f":"IF(AA3050>0, Table1[[#This Row],[Column4]], IF(AB3050>0,Table1[[#This Row],[Column4]],IF(X3050>0,\"1000\")))","v":false}]
[null,null,null,null,null,null,null,null,null,null,null,null,null,null,null,null,0,null,null,null,null,null,null,null,{"$f":"IF(Table1[[#This Row],[Wage differential Bonus                            - NotePay Rate you are bonusing to]]>0, Table1[[#This Row],[Wage differential Bonus                            - NotePay Rate you are bonusing to]]-Table1[[#This Row],[Pay Rate]], \"\")","v":""},{"$f":"IF(Table1[[#This Row],[Wage differential Bonus                            - NotePay Rate you are bonusing to]]>0,Table1[[#This Row],[Bonus Rate]]*Table1[[#This Row],[Hours]],\"\")","v":""},null,null,null,null,null,{"$f":"IF(OR(AH3051>0.001,AH3051<-0.001),Table1[[#This Row],[Employee '#]],\" \")","v":" "},false,{"$f":"SUMIF(Table1[[#This Row],[Total Wage Diff bonus]:[Bank Bonus]],\"<> \")","v":0},{"$f":"IF(AA3051>0, Table1[[#This Row],[Column4]], IF(AB3051>0,Table1[[#This Row],[Column4]],IF(X3051>0,\"1000\")))","v":false}]
[null,null,null,null,null,null,null,null,null,null,null,null,null,null,null,null,0,null,null,null,null,null,null,null,{"$f":"IF(Table1[[#This Row],[Wage differential Bonus                            - NotePay Rate you are bonusing to]]>0, Table1[[#This Row],[Wage differential Bonus                            - NotePay Rate you are bonusing to]]-Table1[[#This Row],[Pay Rate]], \"\")","v":""},{"$f":"IF(Table1[[#This Row],[Wage differential Bonus                            - NotePay Rate you are bonusing to]]>0,Table1[[#This Row],[Bonus Rate]]*Table1[[#This Row],[Hours]],\"\")","v":""},null,null,null,null,null,{"$f":"IF(OR(AH3055>0.001,AH3055<-0.001),Table1[[#This Row],[Employee '#]],\" \")","v":" "},false,{"$f":"SUMIF(Table1[[#This Row],[Total Wage Diff bonus]:[Bank Bonus]],\"<> \")","v":0},{"$f":"IF(AA3055>0, Table1[[#This Row],[Column4]], IF(AB3055>0,Table1[[#This Row],[Column4]],IF(X3055>0,\"1000\")))","v":false}]
[null,null,null,null,null,null,null,null,null,null,null,null,null,null,null,null,0,null,null,null,null,null,null,null,{"$f":"IF(Table1[[#This Row],[Wage differential Bonus                            - NotePay Rate you are bonusing to]]>0, Table1[[#This Row],[Wage differential Bonus                            - NotePay Rate you are bonusing to]]-Table1[[#This Row],[Pay Rate]], \"\")","v":""},{"$f":"IF(Table1[[#This Row],[Wage differential Bonus                            - NotePay Rate you are bonusing to]]>0,Table1[[#This Row],[Bonus Rate]]*Table1[[#This Row],[Hours]],\"\")","v":""},null,null,null,null,null,{"$f":"IF(OR(AH3056>0.001,AH3056<-0.001),Table1[[#This Row],[Employee '#]],\" \")","v":" "},false,{"$f":"SUMIF(Table1[[#This Row],[Total Wage Diff bonus]:[Bank Bonus]],\"<> \")","v":0},{"$f":"IF(AA3056>0, Table1[[#This Row],[Column4]], IF(AB3056>0,Table1[[#This Row],[Column4]],IF(X3056>0,\"1000\")))","v":false}]
[null,null,null,null,null,null,null,null,null,null,null,null,null,null,null,null,0,null,null,null,null,null,null,null,{"$f":"IF(Table1[[#This Row],[Wage differential Bonus                            - NotePay Rate you are bonusing to]]>0, Table1[[#This Row],[Wage differential Bonus                            - NotePay Rate you are bonusing to]]-Table1[[#This Row],[Pay Rate]], \"\")","v":""},{"$f":"IF(Table1[[#This Row],[Wage differential Bonus                            - NotePay Rate you are bonusing to]]>0,Table1[[#This Row],[Bonus Rate]]*Table1[[#This Row],[Hours]],\"\")","v":""},null,null,null,null,null,{"$f":"IF(OR(AH3059>0.001,AH3059<-0.001),Table1[[#This Row],[Employee '#]],\" \")","v":" "},false,{"$f":"SUMIF(Table1[[#This Row],[Total Wage Diff bonus]:[Bank Bonus]],\"<> \")","v":0},{"$f":"IF(AA3059>0, Table1[[#This Row],[Column4]], IF(AB3059>0,Table1[[#This Row],[Column4]],IF(X3059>0,\"1000\")))","v":false}]
[null,null,null,null,null,null,null,null,null,null,null,null,null,null,null,null,0,null,null,null,null,null,null,null,{"$f":"IF(Table1[[#This Row],[Wage differential Bonus                            - NotePay Rate you are bonusing to]]>0, Table1[[#This Row],[Wage differential Bonus                            - NotePay Rate you are bonusing to]]-Table1[[#This Row],[Pay Rate]], \"\")","v":""},{"$f":"IF(Table1[[#This Row],[Wage differential Bonus                            - NotePay Rate you are bonusing to]]>0,Table1[[#This Row],[Bonus Rate]]*Table1[[#This Row],[Hours]],\"\")","v":""},null,null,null,null,null,{"$f":"IF(OR(AH3060>0.001,AH3060<-0.001),Table1[[#This Row],[Employee '#]],\" \")","v":" "},false,{"$f":"SUMIF(Table1[[#This Row],[Total Wage Diff bonus]:[Bank Bonus]],\"<> \")","v":0},{"$f":"IF(AA3060>0, Table1[[#This Row],[Column4]], IF(AB3060>0,Table1[[#This Row],[Column4]],IF(X3060>0,\"1000\")))","v":false}]
[null,null,null,null,null,null,null,null,null,null,null,null,null,null,null,null,0,null,null,null,null,null,null,null,{"$f":"IF(Table1[[#This Row],[Wage differential Bonus                            - NotePay Rate you are bonusing to]]>0, Table1[[#This Row],[Wage differential Bonus                            - NotePay Rate you are bonusing to]]-Table1[[#This Row],[Pay Rate]], \"\")","v":""},{"$f":"IF(Table1[[#This Row],[Wage differential Bonus                            - NotePay Rate you are bonusing to]]>0,Table1[[#This Row],[Bonus Rate]]*Table1[[#This Row],[Hours]],\"\")","v":""},null,null,null,null,null,{"$f":"IF(OR(AH3064>0.001,AH3064<-0.001),Table1[[#This Row],[Employee '#]],\" \")","v":" "},false,{"$f":"SUMIF(Table1[[#This Row],[Total Wage Diff bonus]:[Bank Bonus]],\"<> \")","v":0},{"$f":"IF(AA3064>0, Table1[[#This Row],[Column4]], IF(AB3064>0,Table1[[#This Row],[Column4]],IF(X3064>0,\"1000\")))","v":false}]
[null,null,null,null,null,null,null,null,null,null,null,null,null,null,null,null,0,null,null,null,null,null,null,null,{"$f":"IF(Table1[[#This Row],[Wage differential Bonus                            - NotePay Rate you are bonusing to]]>0, Table1[[#This Row],[Wage differential Bonus                            - NotePay Rate you are bonusing to]]-Table1[[#This Row],[Pay Rate]], \"\")","v":""},{"$f":"IF(Table1[[#This Row],[Wage differential Bonus                            - NotePay Rate you are bonusing to]]>0,Table1[[#This Row],[Bonus Rate]]*Table1[[#This Row],[Hours]],\"\")","v":""},null,null,null,null,null,{"$f":"IF(OR(AH3065>0.001,AH3065<-0.001),Table1[[#This Row],[Employee '#]],\" \")","v":" "},false,{"$f":"SUMIF(Table1[[#This Row],[Total Wage Diff bonus]:[Bank Bonus]],\"<> \")","v":0},{"$f":"IF(AA3065>0, Table1[[#This Row],[Column4]], IF(AB3065>0,Table1[[#This Row],[Column4]],IF(X3065>0,\"1000\")))","v":false}]
[null,null,null,null,null,null,null,null,null,null,null,null,null,null,null,null,0,null,null,null,null,null,null,null,{"$f":"IF(Table1[[#This Row],[Wage differential Bonus                            - NotePay Rate you are bonusing to]]>0, Table1[[#This Row],[Wage differential Bonus                            - NotePay Rate you are bonusing to]]-Table1[[#This Row],[Pay Rate]], \"\")","v":""},{"$f":"IF(Table1[[#This Row],[Wage differential Bonus                            - NotePay Rate you are bonusing to]]>0,Table1[[#This Row],[Bonus Rate]]*Table1[[#This Row],[Hours]],\"\")","v":""},null,null,null,null,null,{"$f":"IF(OR(AH3068>0.001,AH3068<-0.001),Table1[[#This Row],[Employee '#]],\" \")","v":" "},false,{"$f":"SUMIF(Table1[[#This Row],[Total Wage Diff bonus]:[Bank Bonus]],\"<> \")","v":0},{"$f":"IF(AA3068>0, Table1[[#This Row],[Column4]], IF(AB3068>0,Table1[[#This Row],[Column4]],IF(X3068>0,\"1000\")))","v":false}]
[null,null,null,null,null,null,null,null,null,null,null,null,null,null,null,null,0,null,null,null,null,null,null,null,{"$f":"IF(Table1[[#This Row],[Wage differential Bonus                            - NotePay Rate you are bonusing to]]>0, Table1[[#This Row],[Wage differential Bonus                            - NotePay Rate you are bonusing to]]-Table1[[#This Row],[Pay Rate]], \"\")","v":""},{"$f":"IF(Table1[[#This Row],[Wage differential Bonus                            - NotePay Rate you are bonusing to]]>0,Table1[[#This Row],[Bonus Rate]]*Table1[[#This Row],[Hours]],\"\")","v":""},null,null,null,null,null,{"$f":"IF(OR(AH3070>0.001,AH3070<-0.001),Table1[[#This Row],[Employee '#]],\" \")","v":" "},false,{"$f":"SUMIF(Table1[[#This Row],[Total Wage Diff bonus]:[Bank Bonus]],\"<> \")","v":0},{"$f":"IF(AA3070>0, Table1[[#This Row],[Column4]], IF(AB3070>0,Table1[[#This Row],[Column4]],IF(X3070>0,\"1000\")))","v":false}]
[null,null,null,null,null,null,null,null,null,null,null,null,null,null,null,null,0,null,null,null,null,null,null,null,{"$f":"IF(Table1[[#This Row],[Wage differential Bonus                            - NotePay Rate you are bonusing to]]>0, Table1[[#This Row],[Wage differential Bonus                            - NotePay Rate you are bonusing to]]-Table1[[#This Row],[Pay Rate]], \"\")","v":""},{"$f":"IF(Table1[[#This Row],[Wage differential Bonus                            - NotePay Rate you are bonusing to]]>0,Table1[[#This Row],[Bonus Rate]]*Table1[[#This Row],[Hours]],\"\")","v":""},null,null,null,null,null,{"$f":"IF(OR(AH3073>0.001,AH3073<-0.001),Table1[[#This Row],[Employee '#]],\" \")","v":" "},false,{"$f":"SUMIF(Table1[[#This Row],[Total Wage Diff bonus]:[Bank Bonus]],\"<> \")","v":0},{"$f":"IF(AA3073>0, Table1[[#This Row],[Column4]], IF(AB3073>0,Table1[[#This Row],[Column4]],IF(X3073>0,\"1000\")))","v":false}]
[null,null,null,null,null,null,null,null,null,null,null,null,null,null,null,null,0,null,null,null,null,null,null,null,{"$f":"IF(Table1[[#This Row],[Wage differential Bonus                            - NotePay Rate you are bonusing to]]>0, Table1[[#This Row],[Wage differential Bonus                            - NotePay Rate you are bonusing to]]-Table1[[#This Row],[Pay Rate]], \"\")","v":""},{"$f":"IF(Table1[[#This Row],[Wage differential Bonus                            - NotePay Rate you are bonusing to]]>0,Table1[[#This Row],[Bonus Rate]]*Table1[[#This Row],[Hours]],\"\")","v":""},null,null,null,null,null,{"$f":"IF(OR(AH3074>0.001,AH3074<-0.001),Table1[[#This Row],[Employee '#]],\" \")","v":" "},false,{"$f":"SUMIF(Table1[[#This Row],[Total Wage Diff bonus]:[Bank Bonus]],\"<> \")","v":0},{"$f":"IF(AA3074>0, Table1[[#This Row],[Column4]], IF(AB3074>0,Table1[[#This Row],[Column4]],IF(X3074>0,\"1000\")))","v":false}]
[null,null,null,null,null,null,null,null,null,null,null,null,null,null,null,null,0,null,null,null,null,null,null,null,{"$f":"IF(Table1[[#This Row],[Wage differential Bonus                            - NotePay Rate you are bonusing to]]>0, Table1[[#This Row],[Wage differential Bonus                            - NotePay Rate you are bonusing to]]-Table1[[#This Row],[Pay Rate]], \"\")","v":""},{"$f":"IF(Table1[[#This Row],[Wage differential Bonus                            - NotePay Rate you are bonusing to]]>0,Table1[[#This Row],[Bonus Rate]]*Table1[[#This Row],[Hours]],\"\")","v":""},null,null,null,null,null,{"$f":"IF(OR(AH3077>0.001,AH3077<-0.001),Table1[[#This Row],[Employee '#]],\" \")","v":" "},false,{"$f":"SUMIF(Table1[[#This Row],[Total Wage Diff bonus]:[Bank Bonus]],\"<> \")","v":0},{"$f":"IF(AA3077>0, Table1[[#This Row],[Column4]], IF(AB3077>0,Table1[[#This Row],[Column4]],IF(X3077>0,\"1000\")))","v":false}]
[null,null,null,null,null,null,null,null,null,null,null,null,null,null,null,null,0,null,null,null,null,null,null,null,{"$f":"IF(Table1[[#This Row],[Wage differential Bonus                            - NotePay Rate you are bonusing to]]>0, Table1[[#This Row],[Wage differential Bonus                            - NotePay Rate you are bonusing to]]-Table1[[#This Row],[Pay Rate]], \"\")","v":""},{"$f":"IF(Table1[[#This Row],[Wage differential Bonus                            - NotePay Rate you are bonusing to]]>0,Table1[[#This Row],[Bonus Rate]]*Table1[[#This Row],[Hours]],\"\")","v":""},null,null,null,null,null,{"$f":"IF(OR(AH3078>0.001,AH3078<-0.001),Table1[[#This Row],[Employee '#]],\" \")","v":" "},false,{"$f":"SUMIF(Table1[[#This Row],[Total Wage Diff bonus]:[Bank Bonus]],\"<> \")","v":0},{"$f":"IF(AA3078>0, Table1[[#This Row],[Column4]], IF(AB3078>0,Table1[[#This Row],[Column4]],IF(X3078>0,\"1000\")))","v":false}]
[null,null,null,null,null,null,null,null,null,null,null,null,null,null,null,null,0,null,null,null,null,null,null,null,{"$f":"IF(Table1[[#This Row],[Wage differential Bonus                            - NotePay Rate you are bonusing to]]>0, Table1[[#This Row],[Wage differential Bonus                            - NotePay Rate you are bonusing to]]-Table1[[#This Row],[Pay Rate]], \"\")","v":""},{"$f":"IF(Table1[[#This Row],[Wage differential Bonus                            - NotePay Rate you are bonusing to]]>0,Table1[[#This Row],[Bonus Rate]]*Table1[[#This Row],[Hours]],\"\")","v":""},null,null,null,null,null,{"$f":"IF(OR(AH3082>0.001,AH3082<-0.001),Table1[[#This Row],[Employee '#]],\" \")","v":" "},false,{"$f":"SUMIF(Table1[[#This Row],[Total Wage Diff bonus]:[Bank Bonus]],\"<> \")","v":0},{"$f":"IF(AA3082>0, Table1[[#This Row],[Column4]], IF(AB3082>0,Table1[[#This Row],[Column4]],IF(X3082>0,\"1000\")))","v":false}]
[null,null,null,null,null,null,null,null,null,null,null,null,null,null,null,null,0,null,null,null,null,null,null,null,{"$f":"IF(Table1[[#This Row],[Wage differential Bonus                            - NotePay Rate you are bonusing to]]>0, Table1[[#This Row],[Wage differential Bonus                            - NotePay Rate you are bonusing to]]-Table1[[#This Row],[Pay Rate]], \"\")","v":""},{"$f":"IF(Table1[[#This Row],[Wage differential Bonus                            - NotePay Rate you are bonusing to]]>0,Table1[[#This Row],[Bonus Rate]]*Table1[[#This Row],[Hours]],\"\")","v":""},null,null,null,null,null,{"$f":"IF(OR(AH3083>0.001,AH3083<-0.001),Table1[[#This Row],[Employee '#]],\" \")","v":" "},false,{"$f":"SUMIF(Table1[[#This Row],[Total Wage Diff bonus]:[Bank Bonus]],\"<> \")","v":0},{"$f":"IF(AA3083>0, Table1[[#This Row],[Column4]], IF(AB3083>0,Table1[[#This Row],[Column4]],IF(X3083>0,\"1000\")))","v":false}]
[null,null,null,null,null,null,null,null,null,null,null,null,null,null,null,null,0,null,null,null,null,null,null,null,{"$f":"IF(Table1[[#This Row],[Wage differential Bonus                            - NotePay Rate you are bonusing to]]>0, Table1[[#This Row],[Wage differential Bonus                            - NotePay Rate you are bonusing to]]-Table1[[#This Row],[Pay Rate]], \"\")","v":""},{"$f":"IF(Table1[[#This Row],[Wage differential Bonus                            - NotePay Rate you are bonusing to]]>0,Table1[[#This Row],[Bonus Rate]]*Table1[[#This Row],[Hours]],\"\")","v":""},null,null,null,null,null,{"$f":"IF(OR(AH3086>0.001,AH3086<-0.001),Table1[[#This Row],[Employee '#]],\" \")","v":" "},false,{"$f":"SUMIF(Table1[[#This Row],[Total Wage Diff bonus]:[Bank Bonus]],\"<> \")","v":0},{"$f":"IF(AA3086>0, Table1[[#This Row],[Column4]], IF(AB3086>0,Table1[[#This Row],[Column4]],IF(X3086>0,\"1000\")))","v":false}]
[null,null,null,null,null,null,null,null,null,null,null,null,null,null,null,null,0,null,null,null,null,null,null,null,{"$f":"IF(Table1[[#This Row],[Wage differential Bonus                            - NotePay Rate you are bonusing to]]>0, Table1[[#This Row],[Wage differential Bonus                            - NotePay Rate you are bonusing to]]-Table1[[#This Row],[Pay Rate]], \"\")","v":""},{"$f":"IF(Table1[[#This Row],[Wage differential Bonus                            - NotePay Rate you are bonusing to]]>0,Table1[[#This Row],[Bonus Rate]]*Table1[[#This Row],[Hours]],\"\")","v":""},null,null,null,null,null,{"$f":"IF(OR(AH3088>0.001,AH3088<-0.001),Table1[[#This Row],[Employee '#]],\" \")","v":" "},false,{"$f":"SUMIF(Table1[[#This Row],[Total Wage Diff bonus]:[Bank Bonus]],\"<> \")","v":0},{"$f":"IF(AA3088>0, Table1[[#This Row],[Column4]], IF(AB3088>0,Table1[[#This Row],[Column4]],IF(X3088>0,\"1000\")))","v":false}]
[null,null,null,null,null,null,null,null,null,null,null,null,null,null,null,null,0,null,null,null,null,null,null,null,{"$f":"IF(Table1[[#This Row],[Wage differential Bonus                            - NotePay Rate you are bonusing to]]>0, Table1[[#This Row],[Wage differential Bonus                            - NotePay Rate you are bonusing to]]-Table1[[#This Row],[Pay Rate]], \"\")","v":""},{"$f":"IF(Table1[[#This Row],[Wage differential Bonus                            - NotePay Rate you are bonusing to]]>0,Table1[[#This Row],[Bonus Rate]]*Table1[[#This Row],[Hours]],\"\")","v":""},null,null,null,null,null,{"$f":"IF(OR(AH3091>0.001,AH3091<-0.001),Table1[[#This Row],[Employee '#]],\" \")","v":" "},false,{"$f":"SUMIF(Table1[[#This Row],[Total Wage Diff bonus]:[Bank Bonus]],\"<> \")","v":0},{"$f":"IF(AA3091>0, Table1[[#This Row],[Column4]], IF(AB3091>0,Table1[[#This Row],[Column4]],IF(X3091>0,\"1000\")))","v":false}]
[null,null,null,null,null,null,null,null,null,null,null,null,null,null,null,null,0,null,null,null,null,null,null,null,{"$f":"IF(Table1[[#This Row],[Wage differential Bonus                            - NotePay Rate you are bonusing to]]>0, Table1[[#This Row],[Wage differential Bonus                            - NotePay Rate you are bonusing to]]-Table1[[#This Row],[Pay Rate]], \"\")","v":""},{"$f":"IF(Table1[[#This Row],[Wage differential Bonus                            - NotePay Rate you are bonusing to]]>0,Table1[[#This Row],[Bonus Rate]]*Table1[[#This Row],[Hours]],\"\")","v":""},null,null,null,null,null,{"$f":"IF(OR(AH3092>0.001,AH3092<-0.001),Table1[[#This Row],[Employee '#]],\" \")","v":" "},false,{"$f":"SUMIF(Table1[[#This Row],[Total Wage Diff bonus]:[Bank Bonus]],\"<> \")","v":0},{"$f":"IF(AA3092>0, Table1[[#This Row],[Column4]], IF(AB3092>0,Table1[[#This Row],[Column4]],IF(X3092>0,\"1000\")))","v":false}]
[null,null,null,null,null,null,null,null,null,null,null,null,null,null,null,null,0,null,null,null,null,null,null,null,{"$f":"IF(Table1[[#This Row],[Wage differential Bonus                            - NotePay Rate you are bonusing to]]>0, Table1[[#This Row],[Wage differential Bonus                            - NotePay Rate you are bonusing to]]-Table1[[#This Row],[Pay Rate]], \"\")","v":""},{"$f":"IF(Table1[[#This Row],[Wage differential Bonus                            - NotePay Rate you are bonusing to]]>0,Table1[[#This Row],[Bonus Rate]]*Table1[[#This Row],[Hours]],\"\")","v":""},null,null,null,null,null,{"$f":"IF(OR(AH3096>0.001,AH3096<-0.001),Table1[[#This Row],[Employee '#]],\" \")","v":" "},false,{"$f":"SUMIF(Table1[[#This Row],[Total Wage Diff bonus]:[Bank Bonus]],\"<> \")","v":0},{"$f":"IF(AA3096>0, Table1[[#This Row],[Column4]], IF(AB3096>0,Table1[[#This Row],[Column4]],IF(X3096>0,\"1000\")))","v":false}]
[null,null,null,null,null,null,null,null,null,null,null,null,null,null,null,null,0,null,null,null,null,null,null,null,{"$f":"IF(Table1[[#This Row],[Wage differential Bonus                            - NotePay Rate you are bonusing to]]>0, Table1[[#This Row],[Wage differential Bonus                            - NotePay Rate you are bonusing to]]-Table1[[#This Row],[Pay Rate]], \"\")","v":""},{"$f":"IF(Table1[[#This Row],[Wage differential Bonus                            - NotePay Rate you are bonusing to]]>0,Table1[[#This Row],[Bonus Rate]]*Table1[[#This Row],[Hours]],\"\")","v":""},null,null,null,null,null,{"$f":"IF(OR(AH3097>0.001,AH3097<-0.001),Table1[[#This Row],[Employee '#]],\" \")","v":" "},false,{"$f":"SUMIF(Table1[[#This Row],[Total Wage Diff bonus]:[Bank Bonus]],\"<> \")","v":0},{"$f":"IF(AA3097>0, Table1[[#This Row],[Column4]], IF(AB3097>0,Table1[[#This Row],[Column4]],IF(X3097>0,\"1000\")))","v":false}]
[null,null,null,null,null,null,null,null,null,null,null,null,null,null,null,null,0,null,null,null,null,null,null,null,{"$f":"IF(Table1[[#This Row],[Wage differential Bonus                            - NotePay Rate you are bonusing to]]>0, Table1[[#This Row],[Wage differential Bonus                            - NotePay Rate you are bonusing to]]-Table1[[#This Row],[Pay Rate]], \"\")","v":""},{"$f":"IF(Table1[[#This Row],[Wage differential Bonus                            - NotePay Rate you are bonusing to]]>0,Table1[[#This Row],[Bonus Rate]]*Table1[[#This Row],[Hours]],\"\")","v":""},null,null,null,null,null,{"$f":"IF(OR(AH3100>0.001,AH3100<-0.001),Table1[[#This Row],[Employee '#]],\" \")","v":" "},false,{"$f":"SUMIF(Table1[[#This Row],[Total Wage Diff bonus]:[Bank Bonus]],\"<> \")","v":0},{"$f":"IF(AA3100>0, Table1[[#This Row],[Column4]], IF(AB3100>0,Table1[[#This Row],[Column4]],IF(X3100>0,\"1000\")))","v":false}]
[null,null,null,null,null,null,null,null,null,null,null,null,null,null,null,null,0,null,null,null,null,null,null,null,{"$f":"IF(Table1[[#This Row],[Wage differential Bonus                            - NotePay Rate you are bonusing to]]>0, Table1[[#This Row],[Wage differential Bonus                            - NotePay Rate you are bonusing to]]-Table1[[#This Row],[Pay Rate]], \"\")","v":""},{"$f":"IF(Table1[[#This Row],[Wage differential Bonus                            - NotePay Rate you are bonusing to]]>0,Table1[[#This Row],[Bonus Rate]]*Table1[[#This Row],[Hours]],\"\")","v":""},null,null,null,null,null,{"$f":"IF(OR(AH3101>0.001,AH3101<-0.001),Table1[[#This Row],[Employee '#]],\" \")","v":" "},false,{"$f":"SUMIF(Table1[[#This Row],[Total Wage Diff bonus]:[Bank Bonus]],\"<> \")","v":0},{"$f":"IF(AA3101>0, Table1[[#This Row],[Column4]], IF(AB3101>0,Table1[[#This Row],[Column4]],IF(X3101>0,\"1000\")))","v":false}]
[null,null,null,null,null,null,null,null,null,null,null,null,null,null,null,null,0,null,null,null,null,null,null,null,{"$f":"IF(Table1[[#This Row],[Wage differential Bonus                            - NotePay Rate you are bonusing to]]>0, Table1[[#This Row],[Wage differential Bonus                            - NotePay Rate you are bonusing to]]-Table1[[#This Row],[Pay Rate]], \"\")","v":""},{"$f":"IF(Table1[[#This Row],[Wage differential Bonus                            - NotePay Rate you are bonusing to]]>0,Table1[[#This Row],[Bonus Rate]]*Table1[[#This Row],[Hours]],\"\")","v":""},null,null,null,null,null,{"$f":"IF(OR(AH3104>0.001,AH3104<-0.001),Table1[[#This Row],[Employee '#]],\" \")","v":" "},false,{"$f":"SUMIF(Table1[[#This Row],[Total Wage Diff bonus]:[Bank Bonus]],\"<> \")","v":0},{"$f":"IF(AA3104>0, Table1[[#This Row],[Column4]], IF(AB3104>0,Table1[[#This Row],[Column4]],IF(X3104>0,\"1000\")))","v":false}]
[null,null,null,null,null,null,null,null,null,null,null,null,null,null,null,null,0,null,null,null,null,null,null,null,{"$f":"IF(Table1[[#This Row],[Wage differential Bonus                            - NotePay Rate you are bonusing to]]>0, Table1[[#This Row],[Wage differential Bonus                            - NotePay Rate you are bonusing to]]-Table1[[#This Row],[Pay Rate]], \"\")","v":""},{"$f":"IF(Table1[[#This Row],[Wage differential Bonus                            - NotePay Rate you are bonusing to]]>0,Table1[[#This Row],[Bonus Rate]]*Table1[[#This Row],[Hours]],\"\")","v":""},null,null,null,null,null,{"$f":"IF(OR(AH3106>0.001,AH3106<-0.001),Table1[[#This Row],[Employee '#]],\" \")","v":" "},false,{"$f":"SUMIF(Table1[[#This Row],[Total Wage Diff bonus]:[Bank Bonus]],\"<> \")","v":0},{"$f":"IF(AA3106>0, Table1[[#This Row],[Column4]], IF(AB3106>0,Table1[[#This Row],[Column4]],IF(X3106>0,\"1000\")))","v":false}]
[null,null,null,null,null,null,null,null,null,null,null,null,null,null,null,null,0,null,null,null,null,null,null,null,{"$f":"IF(Table1[[#This Row],[Wage differential Bonus                            - NotePay Rate you are bonusing to]]>0, Table1[[#This Row],[Wage differential Bonus                            - NotePay Rate you are bonusing to]]-Table1[[#This Row],[Pay Rate]], \"\")","v":""},{"$f":"IF(Table1[[#This Row],[Wage differential Bonus                            - NotePay Rate you are bonusing to]]>0,Table1[[#This Row],[Bonus Rate]]*Table1[[#This Row],[Hours]],\"\")","v":""},null,null,null,null,null,{"$f":"IF(OR(AH3109>0.001,AH3109<-0.001),Table1[[#This Row],[Employee '#]],\" \")","v":" "},false,{"$f":"SUMIF(Table1[[#This Row],[Total Wage Diff bonus]:[Bank Bonus]],\"<> \")","v":0},{"$f":"IF(AA3109>0, Table1[[#This Row],[Column4]], IF(AB3109>0,Table1[[#This Row],[Column4]],IF(X3109>0,\"1000\")))","v":false}]
[null,null,null,null,null,null,null,null,null,null,null,null,null,null,null,null,0,null,null,null,null,null,null,null,{"$f":"IF(Table1[[#This Row],[Wage differential Bonus                            - NotePay Rate you are bonusing to]]>0, Table1[[#This Row],[Wage differential Bonus                            - NotePay Rate you are bonusing to]]-Table1[[#This Row],[Pay Rate]], \"\")","v":""},{"$f":"IF(Table1[[#This Row],[Wage differential Bonus                            - NotePay Rate you are bonusing to]]>0,Table1[[#This Row],[Bonus Rate]]*Table1[[#This Row],[Hours]],\"\")","v":""},null,null,null,null,null,{"$f":"IF(OR(AH3110>0.001,AH3110<-0.001),Table1[[#This Row],[Employee '#]],\" \")","v":" "},false,{"$f":"SUMIF(Table1[[#This Row],[Total Wage Diff bonus]:[Bank Bonus]],\"<> \")","v":0},{"$f":"IF(AA3110>0, Table1[[#This Row],[Column4]], IF(AB3110>0,Table1[[#This Row],[Column4]],IF(X3110>0,\"1000\")))","v":false}]
[null,null,null,null,null,null,null,null,null,null,null,null,null,null,null,null,0,null,null,null,null,null,null,null,{"$f":"IF(Table1[[#This Row],[Wage differential Bonus                            - NotePay Rate you are bonusing to]]>0, Table1[[#This Row],[Wage differential Bonus                            - NotePay Rate you are bonusing to]]-Table1[[#This Row],[Pay Rate]], \"\")","v":""},{"$f":"IF(Table1[[#This Row],[Wage differential Bonus                            - NotePay Rate you are bonusing to]]>0,Table1[[#This Row],[Bonus Rate]]*Table1[[#This Row],[Hours]],\"\")","v":""},null,null,null,null,null,{"$f":"IF(OR(AH3114>0.001,AH3114<-0.001),Table1[[#This Row],[Employee '#]],\" \")","v":" "},false,{"$f":"SUMIF(Table1[[#This Row],[Total Wage Diff bonus]:[Bank Bonus]],\"<> \")","v":0},{"$f":"IF(AA3114>0, Table1[[#This Row],[Column4]], IF(AB3114>0,Table1[[#This Row],[Column4]],IF(X3114>0,\"1000\")))","v":false}]
[null,null,null,null,null,null,null,null,null,null,null,null,null,null,null,null,0,null,null,null,null,null,null,null,{"$f":"IF(Table1[[#This Row],[Wage differential Bonus                            - NotePay Rate you are bonusing to]]>0, Table1[[#This Row],[Wage differential Bonus                            - NotePay Rate you are bonusing to]]-Table1[[#This Row],[Pay Rate]], \"\")","v":""},{"$f":"IF(Table1[[#This Row],[Wage differential Bonus                            - NotePay Rate you are bonusing to]]>0,Table1[[#This Row],[Bonus Rate]]*Table1[[#This Row],[Hours]],\"\")","v":""},null,null,null,null,null,{"$f":"IF(OR(AH3115>0.001,AH3115<-0.001),Table1[[#This Row],[Employee '#]],\" \")","v":" "},false,{"$f":"SUMIF(Table1[[#This Row],[Total Wage Diff bonus]:[Bank Bonus]],\"<> \")","v":0},{"$f":"IF(AA3115>0, Table1[[#This Row],[Column4]], IF(AB3115>0,Table1[[#This Row],[Column4]],IF(X3115>0,\"1000\")))","v":false}]
[null,null,null,null,null,null,null,null,null,null,null,null,null,null,null,null,0,null,null,null,null,null,null,null,{"$f":"IF(Table1[[#This Row],[Wage differential Bonus                            - NotePay Rate you are bonusing to]]>0, Table1[[#This Row],[Wage differential Bonus                            - NotePay Rate you are bonusing to]]-Table1[[#This Row],[Pay Rate]], \"\")","v":""},{"$f":"IF(Table1[[#This Row],[Wage differential Bonus                            - NotePay Rate you are bonusing to]]>0,Table1[[#This Row],[Bonus Rate]]*Table1[[#This Row],[Hours]],\"\")","v":""},null,null,null,null,null,{"$f":"IF(OR(AH3118>0.001,AH3118<-0.001),Table1[[#This Row],[Employee '#]],\" \")","v":" "},false,{"$f":"SUMIF(Table1[[#This Row],[Total Wage Diff bonus]:[Bank Bonus]],\"<> \")","v":0},{"$f":"IF(AA3118>0, Table1[[#This Row],[Column4]], IF(AB3118>0,Table1[[#This Row],[Column4]],IF(X3118>0,\"1000\")))","v":false}]
[null,null,null,null,null,null,null,null,null,null,null,null,null,null,null,null,0,null,null,null,null,null,null,null,{"$f":"IF(Table1[[#This Row],[Wage differential Bonus                            - NotePay Rate you are bonusing to]]>0, Table1[[#This Row],[Wage differential Bonus                            - NotePay Rate you are bonusing to]]-Table1[[#This Row],[Pay Rate]], \"\")","v":""},{"$f":"IF(Table1[[#This Row],[Wage differential Bonus                            - NotePay Rate you are bonusing to]]>0,Table1[[#This Row],[Bonus Rate]]*Table1[[#This Row],[Hours]],\"\")","v":""},null,null,null,null,null,{"$f":"IF(OR(AH3119>0.001,AH3119<-0.001),Table1[[#This Row],[Employee '#]],\" \")","v":" "},false,{"$f":"SUMIF(Table1[[#This Row],[Total Wage Diff bonus]:[Bank Bonus]],\"<> \")","v":0},{"$f":"IF(AA3119>0, Table1[[#This Row],[Column4]], IF(AB3119>0,Table1[[#This Row],[Column4]],IF(X3119>0,\"1000\")))","v":false}]
[null,null,null,null,null,null,null,null,null,null,null,null,null,null,null,null,0,null,null,null,null,null,null,null,{"$f":"IF(Table1[[#This Row],[Wage differential Bonus                            - NotePay Rate you are bonusing to]]>0, Table1[[#This Row],[Wage differential Bonus                            - NotePay Rate you are bonusing to]]-Table1[[#This Row],[Pay Rate]], \"\")","v":""},{"$f":"IF(Table1[[#This Row],[Wage differential Bonus                            - NotePay Rate you are bonusing to]]>0,Table1[[#This Row],[Bonus Rate]]*Table1[[#This Row],[Hours]],\"\")","v":""},null,null,null,null,null,{"$f":"IF(OR(AH3122>0.001,AH3122<-0.001),Table1[[#This Row],[Employee '#]],\" \")","v":" "},false,{"$f":"SUMIF(Table1[[#This Row],[Total Wage Diff bonus]:[Bank Bonus]],\"<> \")","v":0},{"$f":"IF(AA3122>0, Table1[[#This Row],[Column4]], IF(AB3122>0,Table1[[#This Row],[Column4]],IF(X3122>0,\"1000\")))","v":false}]
[null,null,null,null,null,null,null,null,null,null,null,null,null,null,null,null,0,null,null,null,null,null,null,null,{"$f":"IF(Table1[[#This Row],[Wage differential Bonus                            - NotePay Rate you are bonusing to]]>0, Table1[[#This Row],[Wage differential Bonus                            - NotePay Rate you are bonusing to]]-Table1[[#This Row],[Pay Rate]], \"\")","v":""},{"$f":"IF(Table1[[#This Row],[Wage differential Bonus                            - NotePay Rate you are bonusing to]]>0,Table1[[#This Row],[Bonus Rate]]*Table1[[#This Row],[Hours]],\"\")","v":""},null,null,null,null,null,{"$f":"IF(OR(AH3124>0.001,AH3124<-0.001),Table1[[#This Row],[Employee '#]],\" \")","v":" "},false,{"$f":"SUMIF(Table1[[#This Row],[Total Wage Diff bonus]:[Bank Bonus]],\"<> \")","v":0},{"$f":"IF(AA3124>0, Table1[[#This Row],[Column4]], IF(AB3124>0,Table1[[#This Row],[Column4]],IF(X3124>0,\"1000\")))","v":false}]
[null,null,null,null,null,null,null,null,null,null,null,null,null,null,null,null,{"$f":"L3127+P3127","v":0},null,null,null,null,null,null,null,{"$f":"IF(Table1[[#This Row],[Wage differential Bonus                            - NotePay Rate you are bonusing to]]>0, Table1[[#This Row],[Wage differential Bonus                            - NotePay Rate you are bonusing to]]-Table1[[#This Row],[Pay Rate]], \"\")","v":""},{"$f":"IF(Table1[[#This Row],[Wage differential Bonus                            - NotePay Rate you are bonusing to]]>0,Table1[[#This Row],[Bonus Rate]]*Table1[[#This Row],[Hours]],\"\")","v":""},null,null,null,null,null,{"$f":"IF(OR(AH3127>0.001,AH3127<-0.001),Table1[[#This Row],[Employee '#]],\" \")","v":" "},{"$f":"IF(AA3127>0, \"28\", IF(AB3127>0,\"53\",IF(X3127>0,\"20\")))","v":false},{"$f":"SUMIF(Table1[[#This Row],[Total Wage Diff bonus]:[Bank Bonus]],\"<> \")","v":0},{"$f":"IF(AA3127>0, Table1[[#This Row],[Column4]], IF(AB3127>0,Table1[[#This Row],[Column4]],IF(X3127>0,\"1000\")))","v":false}]
[null,null,null,null,null,null,null,null,null,null,null,null,null,null,null,null,0,null,null,null,null,null,null,null,{"$f":"IF(Table1[[#This Row],[Wage differential Bonus                            - NotePay Rate you are bonusing to]]>0, Table1[[#This Row],[Wage differential Bonus                            - NotePay Rate you are bonusing to]]-Table1[[#This Row],[Pay Rate]], \"\")","v":""},{"$f":"IF(Table1[[#This Row],[Wage differential Bonus                            - NotePay Rate you are bonusing to]]>0,Table1[[#This Row],[Bonus Rate]]*Table1[[#This Row],[Hours]],\"\")","v":""},null,null,null,null,null,{"$f":"IF(OR(AH3130>0.001,AH3130<-0.001),Table1[[#This Row],[Employee '#]],\" \")","v":" "},false,{"$f":"SUMIF(Table1[[#This Row],[Total Wage Diff bonus]:[Bank Bonus]],\"<> \")","v":0},{"$f":"IF(AA3130>0, Table1[[#This Row],[Column4]], IF(AB3130>0,Table1[[#This Row],[Column4]],IF(X3130>0,\"1000\")))","v":false}]
[null,null,null,null,null,null,null,null,null,null,null,null,null,null,null,null,0,null,null,null,null,null,null,null,{"$f":"IF(Table1[[#This Row],[Wage differential Bonus                            - NotePay Rate you are bonusing to]]>0, Table1[[#This Row],[Wage differential Bonus                            - NotePay Rate you are bonusing to]]-Table1[[#This Row],[Pay Rate]], \"\")","v":""},{"$f":"IF(Table1[[#This Row],[Wage differential Bonus                            - NotePay Rate you are bonusing to]]>0,Table1[[#This Row],[Bonus Rate]]*Table1[[#This Row],[Hours]],\"\")","v":""},null,null,null,null,null,{"$f":"IF(OR(AH3132>0.001,AH3132<-0.001),Table1[[#This Row],[Employee '#]],\" \")","v":" "},false,{"$f":"SUMIF(Table1[[#This Row],[Total Wage Diff bonus]:[Bank Bonus]],\"<> \")","v":0},{"$f":"IF(AA3132>0, Table1[[#This Row],[Column4]], IF(AB3132>0,Table1[[#This Row],[Column4]],IF(X3132>0,\"1000\")))","v":false}]
[null,null,null,null,null,null,null,null,null,null,null,null,null,null,null,null,0,null,null,null,null,null,null,null,{"$f":"IF(Table1[[#This Row],[Wage differential Bonus                            - NotePay Rate you are bonusing to]]>0, Table1[[#This Row],[Wage differential Bonus                            - NotePay Rate you are bonusing to]]-Table1[[#This Row],[Pay Rate]], \"\")","v":""},{"$f":"IF(Table1[[#This Row],[Wage differential Bonus                            - NotePay Rate you are bonusing to]]>0,Table1[[#This Row],[Bonus Rate]]*Table1[[#This Row],[Hours]],\"\")","v":""},null,null,null,null,null,{"$f":"IF(OR(AH3133>0.001,AH3133<-0.001),Table1[[#This Row],[Employee '#]],\" \")","v":" "},false,{"$f":"SUMIF(Table1[[#This Row],[Total Wage Diff bonus]:[Bank Bonus]],\"<> \")","v":0},{"$f":"IF(AA3133>0, Table1[[#This Row],[Column4]], IF(AB3133>0,Table1[[#This Row],[Column4]],IF(X3133>0,\"1000\")))","v":false}]
[null,null,null,null,null,null,null,null,null,null,null,null,null,null,null,null,0,null,null,null,null,null,null,null,{"$f":"IF(Table1[[#This Row],[Wage differential Bonus                            - NotePay Rate you are bonusing to]]>0, Table1[[#This Row],[Wage differential Bonus                            - NotePay Rate you are bonusing to]]-Table1[[#This Row],[Pay Rate]], \"\")","v":""},{"$f":"IF(Table1[[#This Row],[Wage differential Bonus                            - NotePay Rate you are bonusing to]]>0,Table1[[#This Row],[Bonus Rate]]*Table1[[#This Row],[Hours]],\"\")","v":""},null,null,null,null,null,{"$f":"IF(OR(AH3136>0.001,AH3136<-0.001),Table1[[#This Row],[Employee '#]],\" \")","v":" "},false,{"$f":"SUMIF(Table1[[#This Row],[Total Wage Diff bonus]:[Bank Bonus]],\"<> \")","v":0},{"$f":"IF(AA3136>0, Table1[[#This Row],[Column4]], IF(AB3136>0,Table1[[#This Row],[Column4]],IF(X3136>0,\"1000\")))","v":false}]
[null,null,null,null,null,null,null,null,null,null,null,null,null,null,null,null,0,null,null,null,null,null,null,null,{"$f":"IF(Table1[[#This Row],[Wage differential Bonus                            - NotePay Rate you are bonusing to]]>0, Table1[[#This Row],[Wage differential Bonus                            - NotePay Rate you are bonusing to]]-Table1[[#This Row],[Pay Rate]], \"\")","v":""},{"$f":"IF(Table1[[#This Row],[Wage differential Bonus                            - NotePay Rate you are bonusing to]]>0,Table1[[#This Row],[Bonus Rate]]*Table1[[#This Row],[Hours]],\"\")","v":""},null,null,null,null,null,{"$f":"IF(OR(AH3138>0.001,AH3138<-0.001),Table1[[#This Row],[Employee '#]],\" \")","v":" "},false,{"$f":"SUMIF(Table1[[#This Row],[Total Wage Diff bonus]:[Bank Bonus]],\"<> \")","v":0},{"$f":"IF(AA3138>0, Table1[[#This Row],[Column4]], IF(AB3138>0,Table1[[#This Row],[Column4]],IF(X3138>0,\"1000\")))","v":false}]
[null,null,null,null,null,null,null,null,null,null,null,null,null,null,null,null,0,null,null,null,null,null,null,null,{"$f":"IF(Table1[[#This Row],[Wage differential Bonus                            - NotePay Rate you are bonusing to]]>0, Table1[[#This Row],[Wage differential Bonus                            - NotePay Rate you are bonusing to]]-Table1[[#This Row],[Pay Rate]], \"\")","v":""},{"$f":"IF(Table1[[#This Row],[Wage differential Bonus                            - NotePay Rate you are bonusing to]]>0,Table1[[#This Row],[Bonus Rate]]*Table1[[#This Row],[Hours]],\"\")","v":""},null,null,null,null,null,{"$f":"IF(OR(AH3141>0.001,AH3141<-0.001),Table1[[#This Row],[Employee '#]],\" \")","v":" "},false,{"$f":"SUMIF(Table1[[#This Row],[Total Wage Diff bonus]:[Bank Bonus]],\"<> \")","v":0},{"$f":"IF(AA3141>0, Table1[[#This Row],[Column4]], IF(AB3141>0,Table1[[#This Row],[Column4]],IF(X3141>0,\"1000\")))","v":false}]
[null,null,null,null,null,null,null,null,null,null,null,null,null,null,null,null,0,null,null,null,null,null,null,null,{"$f":"IF(Table1[[#This Row],[Wage differential Bonus                            - NotePay Rate you are bonusing to]]>0, Table1[[#This Row],[Wage differential Bonus                            - NotePay Rate you are bonusing to]]-Table1[[#This Row],[Pay Rate]], \"\")","v":""},{"$f":"IF(Table1[[#This Row],[Wage differential Bonus                            - NotePay Rate you are bonusing to]]>0,Table1[[#This Row],[Bonus Rate]]*Table1[[#This Row],[Hours]],\"\")","v":""},null,null,null,null,null,{"$f":"IF(OR(AH3142>0.001,AH3142<-0.001),Table1[[#This Row],[Employee '#]],\" \")","v":" "},false,{"$f":"SUMIF(Table1[[#This Row],[Total Wage Diff bonus]:[Bank Bonus]],\"<> \")","v":0},{"$f":"IF(AA3142>0, Table1[[#This Row],[Column4]], IF(AB3142>0,Table1[[#This Row],[Column4]],IF(X3142>0,\"1000\")))","v":false}]
[null,null,null,null,null,null,null,null,null,null,null,null,null,null,null,null,0,null,null,null,null,null,null,null,{"$f":"IF(Table1[[#This Row],[Wage differential Bonus                            - NotePay Rate you are bonusing to]]>0, Table1[[#This Row],[Wage differential Bonus                            - NotePay Rate you are bonusing to]]-Table1[[#This Row],[Pay Rate]], \"\")","v":""},{"$f":"IF(Table1[[#This Row],[Wage differential Bonus                            - NotePay Rate you are bonusing to]]>0,Table1[[#This Row],[Bonus Rate]]*Table1[[#This Row],[Hours]],\"\")","v":""},null,null,null,null,null,{"$f":"IF(OR(AH3145>0.001,AH3145<-0.001),Table1[[#This Row],[Employee '#]],\" \")","v":" "},false,{"$f":"SUMIF(Table1[[#This Row],[Total Wage Diff bonus]:[Bank Bonus]],\"<> \")","v":0},{"$f":"IF(AA3145>0, Table1[[#This Row],[Column4]], IF(AB3145>0,Table1[[#This Row],[Column4]],IF(X3145>0,\"1000\")))","v":false}]
[null,null,null,null,null,null,null,null,null,null,null,null,null,null,null,null,0,null,null,null,null,null,null,null,{"$f":"IF(Table1[[#This Row],[Wage differential Bonus                            - NotePay Rate you are bonusing to]]>0, Table1[[#This Row],[Wage differential Bonus                            - NotePay Rate you are bonusing to]]-Table1[[#This Row],[Pay Rate]], \"\")","v":""},{"$f":"IF(Table1[[#This Row],[Wage differential Bonus                            - NotePay Rate you are bonusing to]]>0,Table1[[#This Row],[Bonus Rate]]*Table1[[#This Row],[Hours]],\"\")","v":""},null,null,null,null,null,{"$f":"IF(OR(AH3148>0.001,AH3148<-0.001),Table1[[#This Row],[Employee '#]],\" \")","v":" "},false,{"$f":"SUMIF(Table1[[#This Row],[Total Wage Diff bonus]:[Bank Bonus]],\"<> \")","v":0},{"$f":"IF(AA3148>0, Table1[[#This Row],[Column4]], IF(AB3148>0,Table1[[#This Row],[Column4]],IF(X3148>0,\"1000\")))","v":false}]
[null,null,null,null,null,null,null,null,null,null,null,null,null,null,null,null,0,null,null,null,null,null,null,null,{"$f":"IF(Table1[[#This Row],[Wage differential Bonus                            - NotePay Rate you are bonusing to]]>0, Table1[[#This Row],[Wage differential Bonus                            - NotePay Rate you are bonusing to]]-Table1[[#This Row],[Pay Rate]], \"\")","v":""},{"$f":"IF(Table1[[#This Row],[Wage differential Bonus                            - NotePay Rate you are bonusing to]]>0,Table1[[#This Row],[Bonus Rate]]*Table1[[#This Row],[Hours]],\"\")","v":""},null,null,null,null,null,{"$f":"IF(OR(AH3150>0.001,AH3150<-0.001),Table1[[#This Row],[Employee '#]],\" \")","v":" "},false,{"$f":"SUMIF(Table1[[#This Row],[Total Wage Diff bonus]:[Bank Bonus]],\"<> \")","v":0},{"$f":"IF(AA3150>0, Table1[[#This Row],[Column4]], IF(AB3150>0,Table1[[#This Row],[Column4]],IF(X3150>0,\"1000\")))","v":false}]
[null,null,null,null,null,null,null,null,null,null,null,null,null,null,null,null,0,null,null,null,null,null,null,null,{"$f":"IF(Table1[[#This Row],[Wage differential Bonus                            - NotePay Rate you are bonusing to]]>0, Table1[[#This Row],[Wage differential Bonus                            - NotePay Rate you are bonusing to]]-Table1[[#This Row],[Pay Rate]], \"\")","v":""},{"$f":"IF(Table1[[#This Row],[Wage differential Bonus                            - NotePay Rate you are bonusing to]]>0,Table1[[#This Row],[Bonus Rate]]*Table1[[#This Row],[Hours]],\"\")","v":""},null,null,null,null,null,{"$f":"IF(OR(AH3151>0.001,AH3151<-0.001),Table1[[#This Row],[Employee '#]],\" \")","v":" "},false,{"$f":"SUMIF(Table1[[#This Row],[Total Wage Diff bonus]:[Bank Bonus]],\"<> \")","v":0},{"$f":"IF(AA3151>0, Table1[[#This Row],[Column4]], IF(AB3151>0,Table1[[#This Row],[Column4]],IF(X3151>0,\"1000\")))","v":false}]
[null,null,null,null,null,null,null,null,null,null,null,null,null,null,null,null,0,null,null,null,null,null,null,null,{"$f":"IF(Table1[[#This Row],[Wage differential Bonus                            - NotePay Rate you are bonusing to]]>0, Table1[[#This Row],[Wage differential Bonus                            - NotePay Rate you are bonusing to]]-Table1[[#This Row],[Pay Rate]], \"\")","v":""},{"$f":"IF(Table1[[#This Row],[Wage differential Bonus                            - NotePay Rate you are bonusing to]]>0,Table1[[#This Row],[Bonus Rate]]*Table1[[#This Row],[Hours]],\"\")","v":""},null,null,null,null,null,{"$f":"IF(OR(AH3154>0.001,AH3154<-0.001),Table1[[#This Row],[Employee '#]],\" \")","v":" "},false,{"$f":"SUMIF(Table1[[#This Row],[Total Wage Diff bonus]:[Bank Bonus]],\"<> \")","v":0},{"$f":"IF(AA3154>0, Table1[[#This Row],[Column4]], IF(AB3154>0,Table1[[#This Row],[Column4]],IF(X3154>0,\"1000\")))","v":false}]
[null,null,null,null,null,null,null,null,null,null,null,null,null,null,null,null,0,null,null,null,null,null,null,null,{"$f":"IF(Table1[[#This Row],[Wage differential Bonus                            - NotePay Rate you are bonusing to]]>0, Table1[[#This Row],[Wage differential Bonus                            - NotePay Rate you are bonusing to]]-Table1[[#This Row],[Pay Rate]], \"\")","v":""},{"$f":"IF(Table1[[#This Row],[Wage differential Bonus                            - NotePay Rate you are bonusing to]]>0,Table1[[#This Row],[Bonus Rate]]*Table1[[#This Row],[Hours]],\"\")","v":""},null,null,null,null,null,{"$f":"IF(OR(AH3156>0.001,AH3156<-0.001),Table1[[#This Row],[Employee '#]],\" \")","v":" "},false,{"$f":"SUMIF(Table1[[#This Row],[Total Wage Diff bonus]:[Bank Bonus]],\"<> \")","v":0},{"$f":"IF(AA3156>0, Table1[[#This Row],[Column4]], IF(AB3156>0,Table1[[#This Row],[Column4]],IF(X3156>0,\"1000\")))","v":false}]
[null,null,null,null,null,null,null,null,null,null,null,null,null,null,null,null,0,null,null,null,null,null,null,null,{"$f":"IF(Table1[[#This Row],[Wage differential Bonus                            - NotePay Rate you are bonusing to]]>0, Table1[[#This Row],[Wage differential Bonus                            - NotePay Rate you are bonusing to]]-Table1[[#This Row],[Pay Rate]], \"\")","v":""},{"$f":"IF(Table1[[#This Row],[Wage differential Bonus                            - NotePay Rate you are bonusing to]]>0,Table1[[#This Row],[Bonus Rate]]*Table1[[#This Row],[Hours]],\"\")","v":""},null,null,null,null,null,{"$f":"IF(OR(AH3159>0.001,AH3159<-0.001),Table1[[#This Row],[Employee '#]],\" \")","v":" "},false,{"$f":"SUMIF(Table1[[#This Row],[Total Wage Diff bonus]:[Bank Bonus]],\"<> \")","v":0},{"$f":"IF(AA3159>0, Table1[[#This Row],[Column4]], IF(AB3159>0,Table1[[#This Row],[Column4]],IF(X3159>0,\"1000\")))","v":false}]
[null,null,null,null,null,null,null,null,null,null,null,null,null,null,null,null,0,null,null,null,null,null,null,null,{"$f":"IF(Table1[[#This Row],[Wage differential Bonus                            - NotePay Rate you are bonusing to]]>0, Table1[[#This Row],[Wage differential Bonus                            - NotePay Rate you are bonusing to]]-Table1[[#This Row],[Pay Rate]], \"\")","v":""},{"$f":"IF(Table1[[#This Row],[Wage differential Bonus                            - NotePay Rate you are bonusing to]]>0,Table1[[#This Row],[Bonus Rate]]*Table1[[#This Row],[Hours]],\"\")","v":""},null,null,null,null,null,{"$f":"IF(OR(AH3160>0.001,AH3160<-0.001),Table1[[#This Row],[Employee '#]],\" \")","v":" "},false,{"$f":"SUMIF(Table1[[#This Row],[Total Wage Diff bonus]:[Bank Bonus]],\"<> \")","v":0},{"$f":"IF(AA3160>0, Table1[[#This Row],[Column4]], IF(AB3160>0,Table1[[#This Row],[Column4]],IF(X3160>0,\"1000\")))","v":false}]
[null,null,null,null,null,null,null,null,null,null,null,null,null,null,null,null,0,null,null,null,null,null,null,null,{"$f":"IF(Table1[[#This Row],[Wage differential Bonus                            - NotePay Rate you are bonusing to]]>0, Table1[[#This Row],[Wage differential Bonus                            - NotePay Rate you are bonusing to]]-Table1[[#This Row],[Pay Rate]], \"\")","v":""},{"$f":"IF(Table1[[#This Row],[Wage differential Bonus                            - NotePay Rate you are bonusing to]]>0,Table1[[#This Row],[Bonus Rate]]*Table1[[#This Row],[Hours]],\"\")","v":""},null,null,null,null,null,{"$f":"IF(OR(AH3164>0.001,AH3164<-0.001),Table1[[#This Row],[Employee '#]],\" \")","v":" "},false,{"$f":"SUMIF(Table1[[#This Row],[Total Wage Diff bonus]:[Bank Bonus]],\"<> \")","v":0},{"$f":"IF(AA3164>0, Table1[[#This Row],[Column4]], IF(AB3164>0,Table1[[#This Row],[Column4]],IF(X3164>0,\"1000\")))","v":false}]
[null,null,null,null,null,null,null,null,null,null,null,null,null,null,null,null,0,null,null,null,null,null,null,null,{"$f":"IF(Table1[[#This Row],[Wage differential Bonus                            - NotePay Rate you are bonusing to]]>0, Table1[[#This Row],[Wage differential Bonus                            - NotePay Rate you are bonusing to]]-Table1[[#This Row],[Pay Rate]], \"\")","v":""},{"$f":"IF(Table1[[#This Row],[Wage differential Bonus                            - NotePay Rate you are bonusing to]]>0,Table1[[#This Row],[Bonus Rate]]*Table1[[#This Row],[Hours]],\"\")","v":""},null,null,null,null,null,{"$f":"IF(OR(AH3165>0.001,AH3165<-0.001),Table1[[#This Row],[Employee '#]],\" \")","v":" "},false,{"$f":"SUMIF(Table1[[#This Row],[Total Wage Diff bonus]:[Bank Bonus]],\"<> \")","v":0},{"$f":"IF(AA3165>0, Table1[[#This Row],[Column4]], IF(AB3165>0,Table1[[#This Row],[Column4]],IF(X3165>0,\"1000\")))","v":false}]
[null,null,null,null,null,null,null,null,null,null,null,null,null,null,null,null,0,null,null,null,null,null,null,null,{"$f":"IF(Table1[[#This Row],[Wage differential Bonus                            - NotePay Rate you are bonusing to]]>0, Table1[[#This Row],[Wage differential Bonus                            - NotePay Rate you are bonusing to]]-Table1[[#This Row],[Pay Rate]], \"\")","v":""},{"$f":"IF(Table1[[#This Row],[Wage differential Bonus                            - NotePay Rate you are bonusing to]]>0,Table1[[#This Row],[Bonus Rate]]*Table1[[#This Row],[Hours]],\"\")","v":""},null,null,null,null,null,{"$f":"IF(OR(AH3168>0.001,AH3168<-0.001),Table1[[#This Row],[Employee '#]],\" \")","v":" "},false,{"$f":"SUMIF(Table1[[#This Row],[Total Wage Diff bonus]:[Bank Bonus]],\"<> \")","v":0},{"$f":"IF(AA3168>0, Table1[[#This Row],[Column4]], IF(AB3168>0,Table1[[#This Row],[Column4]],IF(X3168>0,\"1000\")))","v":false}]
[null,null,null,null,null,null,null,null,null,null,null,null,null,null,null,null,0,null,null,null,null,null,null,null,{"$f":"IF(Table1[[#This Row],[Wage differential Bonus                            - NotePay Rate you are bonusing to]]>0, Table1[[#This Row],[Wage differential Bonus                            - NotePay Rate you are bonusing to]]-Table1[[#This Row],[Pay Rate]], \"\")","v":""},{"$f":"IF(Table1[[#This Row],[Wage differential Bonus                            - NotePay Rate you are bonusing to]]>0,Table1[[#This Row],[Bonus Rate]]*Table1[[#This Row],[Hours]],\"\")","v":""},null,null,null,null,null,{"$f":"IF(OR(AH3169>0.001,AH3169<-0.001),Table1[[#This Row],[Employee '#]],\" \")","v":" "},false,{"$f":"SUMIF(Table1[[#This Row],[Total Wage Diff bonus]:[Bank Bonus]],\"<> \")","v":0},{"$f":"IF(AA3169>0, Table1[[#This Row],[Column4]], IF(AB3169>0,Table1[[#This Row],[Column4]],IF(X3169>0,\"1000\")))","v":false}]
[null,null,null,null,null,null,null,null,null,null,null,null,null,null,null,null,0,null,null,null,null,null,null,null,{"$f":"IF(Table1[[#This Row],[Wage differential Bonus                            - NotePay Rate you are bonusing to]]>0, Table1[[#This Row],[Wage differential Bonus                            - NotePay Rate you are bonusing to]]-Table1[[#This Row],[Pay Rate]], \"\")","v":""},{"$f":"IF(Table1[[#This Row],[Wage differential Bonus                            - NotePay Rate you are bonusing to]]>0,Table1[[#This Row],[Bonus Rate]]*Table1[[#This Row],[Hours]],\"\")","v":""},null,null,null,null,null,{"$f":"IF(OR(AH3171>0.001,AH3171<-0.001),Table1[[#This Row],[Employee '#]],\" \")","v":" "},false,{"$f":"SUMIF(Table1[[#This Row],[Total Wage Diff bonus]:[Bank Bonus]],\"<> \")","v":0},{"$f":"IF(AA3171>0, Table1[[#This Row],[Column4]], IF(AB3171>0,Table1[[#This Row],[Column4]],IF(X3171>0,\"1000\")))","v":false}]
[null,null,null,null,null,null,null,null,null,null,null,null,null,null,null,null,0,null,null,null,null,null,null,null,{"$f":"IF(Table1[[#This Row],[Wage differential Bonus                            - NotePay Rate you are bonusing to]]>0, Table1[[#This Row],[Wage differential Bonus                            - NotePay Rate you are bonusing to]]-Table1[[#This Row],[Pay Rate]], \"\")","v":""},{"$f":"IF(Table1[[#This Row],[Wage differential Bonus                            - NotePay Rate you are bonusing to]]>0,Table1[[#This Row],[Bonus Rate]]*Table1[[#This Row],[Hours]],\"\")","v":""},null,null,null,null,null,{"$f":"IF(OR(AH3174>0.001,AH3174<-0.001),Table1[[#This Row],[Employee '#]],\" \")","v":" "},false,{"$f":"SUMIF(Table1[[#This Row],[Total Wage Diff bonus]:[Bank Bonus]],\"<> \")","v":0},{"$f":"IF(AA3174>0, Table1[[#This Row],[Column4]], IF(AB3174>0,Table1[[#This Row],[Column4]],IF(X3174>0,\"1000\")))","v":false}]
[null,null,null,null,null,null,null,null,null,null,null,null,null,null,null,null,0,null,null,null,null,null,null,null,{"$f":"IF(Table1[[#This Row],[Wage differential Bonus                            - NotePay Rate you are bonusing to]]>0, Table1[[#This Row],[Wage differential Bonus                            - NotePay Rate you are bonusing to]]-Table1[[#This Row],[Pay Rate]], \"\")","v":""},{"$f":"IF(Table1[[#This Row],[Wage differential Bonus                            - NotePay Rate you are bonusing to]]>0,Table1[[#This Row],[Bonus Rate]]*Table1[[#This Row],[Hours]],\"\")","v":""},null,null,null,null,null,{"$f":"IF(OR(AH3177>0.001,AH3177<-0.001),Table1[[#This Row],[Employee '#]],\" \")","v":" "},false,{"$f":"SUMIF(Table1[[#This Row],[Total Wage Diff bonus]:[Bank Bonus]],\"<> \")","v":0},{"$f":"IF(AA3177>0, Table1[[#This Row],[Column4]], IF(AB3177>0,Table1[[#This Row],[Column4]],IF(X3177>0,\"1000\")))","v":false}]
[null,null,null,null,null,null,null,null,null,null,null,null,null,null,null,null,0,null,null,null,null,null,null,null,{"$f":"IF(Table1[[#This Row],[Wage differential Bonus                            - NotePay Rate you are bonusing to]]>0, Table1[[#This Row],[Wage differential Bonus                            - NotePay Rate you are bonusing to]]-Table1[[#This Row],[Pay Rate]], \"\")","v":""},{"$f":"IF(Table1[[#This Row],[Wage differential Bonus                            - NotePay Rate you are bonusing to]]>0,Table1[[#This Row],[Bonus Rate]]*Table1[[#This Row],[Hours]],\"\")","v":""},null,null,null,null,null,{"$f":"IF(OR(AH3178>0.001,AH3178<-0.001),Table1[[#This Row],[Employee '#]],\" \")","v":" "},false,{"$f":"SUMIF(Table1[[#This Row],[Total Wage Diff bonus]:[Bank Bonus]],\"<> \")","v":0},{"$f":"IF(AA3178>0, Table1[[#This Row],[Column4]], IF(AB3178>0,Table1[[#This Row],[Column4]],IF(X3178>0,\"1000\")))","v":false}]
[null,null,null,null,null,null,null,null,null,null,null,null,null,null,null,null,0,null,null,null,null,null,null,null,{"$f":"IF(Table1[[#This Row],[Wage differential Bonus                            - NotePay Rate you are bonusing to]]>0, Table1[[#This Row],[Wage differential Bonus                            - NotePay Rate you are bonusing to]]-Table1[[#This Row],[Pay Rate]], \"\")","v":""},{"$f":"IF(Table1[[#This Row],[Wage differential Bonus                            - NotePay Rate you are bonusing to]]>0,Table1[[#This Row],[Bonus Rate]]*Table1[[#This Row],[Hours]],\"\")","v":""},null,null,null,null,null,{"$f":"IF(OR(AH3182>0.001,AH3182<-0.001),Table1[[#This Row],[Employee '#]],\" \")","v":" "},false,{"$f":"SUMIF(Table1[[#This Row],[Total Wage Diff bonus]:[Bank Bonus]],\"<> \")","v":0},{"$f":"IF(AA3182>0, Table1[[#This Row],[Column4]], IF(AB3182>0,Table1[[#This Row],[Column4]],IF(X3182>0,\"1000\")))","v":false}]
[null,null,null,null,null,null,null,null,null,null,null,null,null,null,null,null,0,null,null,null,null,null,null,null,{"$f":"IF(Table1[[#This Row],[Wage differential Bonus                            - NotePay Rate you are bonusing to]]>0, Table1[[#This Row],[Wage differential Bonus                            - NotePay Rate you are bonusing to]]-Table1[[#This Row],[Pay Rate]], \"\")","v":""},{"$f":"IF(Table1[[#This Row],[Wage differential Bonus                            - NotePay Rate you are bonusing to]]>0,Table1[[#This Row],[Bonus Rate]]*Table1[[#This Row],[Hours]],\"\")","v":""},null,null,null,null,null,{"$f":"IF(OR(AH3183>0.001,AH3183<-0.001),Table1[[#This Row],[Employee '#]],\" \")","v":" "},false,{"$f":"SUMIF(Table1[[#This Row],[Total Wage Diff bonus]:[Bank Bonus]],\"<> \")","v":0},{"$f":"IF(AA3183>0, Table1[[#This Row],[Column4]], IF(AB3183>0,Table1[[#This Row],[Column4]],IF(X3183>0,\"1000\")))","v":false}]
[null,null,null,null,null,null,null,null,null,null,null,null,null,null,null,null,0,null,null,null,null,null,null,null,{"$f":"IF(Table1[[#This Row],[Wage differential Bonus                            - NotePay Rate you are bonusing to]]>0, Table1[[#This Row],[Wage differential Bonus                            - NotePay Rate you are bonusing to]]-Table1[[#This Row],[Pay Rate]], \"\")","v":""},{"$f":"IF(Table1[[#This Row],[Wage differential Bonus                            - NotePay Rate you are bonusing to]]>0,Table1[[#This Row],[Bonus Rate]]*Table1[[#This Row],[Hours]],\"\")","v":""},null,null,null,null,null,{"$f":"IF(OR(AH3186>0.001,AH3186<-0.001),Table1[[#This Row],[Employee '#]],\" \")","v":" "},false,{"$f":"SUMIF(Table1[[#This Row],[Total Wage Diff bonus]:[Bank Bonus]],\"<> \")","v":0},{"$f":"IF(AA3186>0, Table1[[#This Row],[Column4]], IF(AB3186>0,Table1[[#This Row],[Column4]],IF(X3186>0,\"1000\")))","v":false}]
[null,null,null,null,null,null,null,null,null,null,null,null,null,null,null,null,0,null,null,null,null,null,null,null,{"$f":"IF(Table1[[#This Row],[Wage differential Bonus                            - NotePay Rate you are bonusing to]]>0, Table1[[#This Row],[Wage differential Bonus                            - NotePay Rate you are bonusing to]]-Table1[[#This Row],[Pay Rate]], \"\")","v":""},{"$f":"IF(Table1[[#This Row],[Wage differential Bonus                            - NotePay Rate you are bonusing to]]>0,Table1[[#This Row],[Bonus Rate]]*Table1[[#This Row],[Hours]],\"\")","v":""},null,null,null,null,null,{"$f":"IF(OR(AH3187>0.001,AH3187<-0.001),Table1[[#This Row],[Employee '#]],\" \")","v":" "},false,{"$f":"SUMIF(Table1[[#This Row],[Total Wage Diff bonus]:[Bank Bonus]],\"<> \")","v":0},{"$f":"IF(AA3187>0, Table1[[#This Row],[Column4]], IF(AB3187>0,Table1[[#This Row],[Column4]],IF(X3187>0,\"1000\")))","v":false}]
[null,null,null,null,null,null,null,null,null,null,null,null,null,null,null,null,0,null,null,null,null,null,null,null,{"$f":"IF(Table1[[#This Row],[Wage differential Bonus                            - NotePay Rate you are bonusing to]]>0, Table1[[#This Row],[Wage differential Bonus                            - NotePay Rate you are bonusing to]]-Table1[[#This Row],[Pay Rate]], \"\")","v":""},{"$f":"IF(Table1[[#This Row],[Wage differential Bonus                            - NotePay Rate you are bonusing to]]>0,Table1[[#This Row],[Bonus Rate]]*Table1[[#This Row],[Hours]],\"\")","v":""},null,null,null,null,null,{"$f":"IF(OR(AH3189>0.001,AH3189<-0.001),Table1[[#This Row],[Employee '#]],\" \")","v":" "},false,{"$f":"SUMIF(Table1[[#This Row],[Total Wage Diff bonus]:[Bank Bonus]],\"<> \")","v":0},{"$f":"IF(AA3189>0, Table1[[#This Row],[Column4]], IF(AB3189>0,Table1[[#This Row],[Column4]],IF(X3189>0,\"1000\")))","v":false}]
[null,null,null,null,null,null,null,null,null,null,null,null,null,null,null,null,0,null,null,null,null,null,null,null,{"$f":"IF(Table1[[#This Row],[Wage differential Bonus                            - NotePay Rate you are bonusing to]]>0, Table1[[#This Row],[Wage differential Bonus                            - NotePay Rate you are bonusing to]]-Table1[[#This Row],[Pay Rate]], \"\")","v":""},{"$f":"IF(Table1[[#This Row],[Wage differential Bonus                            - NotePay Rate you are bonusing to]]>0,Table1[[#This Row],[Bonus Rate]]*Table1[[#This Row],[Hours]],\"\")","v":""},null,null,null,null,null,{"$f":"IF(OR(AH3192>0.001,AH3192<-0.001),Table1[[#This Row],[Employee '#]],\" \")","v":" "},false,{"$f":"SUMIF(Table1[[#This Row],[Total Wage Diff bonus]:[Bank Bonus]],\"<> \")","v":0},{"$f":"IF(AA3192>0, Table1[[#This Row],[Column4]], IF(AB3192>0,Table1[[#This Row],[Column4]],IF(X3192>0,\"1000\")))","v":false}]
[null,null,null,null,null,null,null,null,null,null,null,null,null,null,null,null,0,null,null,null,null,null,null,null,{"$f":"IF(Table1[[#This Row],[Wage differential Bonus                            - NotePay Rate you are bonusing to]]>0, Table1[[#This Row],[Wage differential Bonus                            - NotePay Rate you are bonusing to]]-Table1[[#This Row],[Pay Rate]], \"\")","v":""},{"$f":"IF(Table1[[#This Row],[Wage differential Bonus                            - NotePay Rate you are bonusing to]]>0,Table1[[#This Row],[Bonus Rate]]*Table1[[#This Row],[Hours]],\"\")","v":""},null,null,null,null,null,{"$f":"IF(OR(AH3195>0.001,AH3195<-0.001),Table1[[#This Row],[Employee '#]],\" \")","v":" "},false,{"$f":"SUMIF(Table1[[#This Row],[Total Wage Diff bonus]:[Bank Bonus]],\"<> \")","v":0},{"$f":"IF(AA3195>0, Table1[[#This Row],[Column4]], IF(AB3195>0,Table1[[#This Row],[Column4]],IF(X3195>0,\"1000\")))","v":false}]
[null,null,null,null,null,null,null,null,null,null,null,null,null,null,null,null,0,null,null,null,null,null,null,null,{"$f":"IF(Table1[[#This Row],[Wage differential Bonus                            - NotePay Rate you are bonusing to]]>0, Table1[[#This Row],[Wage differential Bonus                            - NotePay Rate you are bonusing to]]-Table1[[#This Row],[Pay Rate]], \"\")","v":""},{"$f":"IF(Table1[[#This Row],[Wage differential Bonus                            - NotePay Rate you are bonusing to]]>0,Table1[[#This Row],[Bonus Rate]]*Table1[[#This Row],[Hours]],\"\")","v":""},null,null,null,null,null,{"$f":"IF(OR(AH3198>0.001,AH3198<-0.001),Table1[[#This Row],[Employee '#]],\" \")","v":" "},false,{"$f":"SUMIF(Table1[[#This Row],[Total Wage Diff bonus]:[Bank Bonus]],\"<> \")","v":0},{"$f":"IF(AA3198>0, Table1[[#This Row],[Column4]], IF(AB3198>0,Table1[[#This Row],[Column4]],IF(X3198>0,\"1000\")))","v":false}]
[null,null,null,null,null,null,null,null,null,null,null,null,null,null,null,null,0,null,null,null,null,null,null,null,{"$f":"IF(Table1[[#This Row],[Wage differential Bonus                            - NotePay Rate you are bonusing to]]>0, Table1[[#This Row],[Wage differential Bonus                            - NotePay Rate you are bonusing to]]-Table1[[#This Row],[Pay Rate]], \"\")","v":""},{"$f":"IF(Table1[[#This Row],[Wage differential Bonus                            - NotePay Rate you are bonusing to]]>0,Table1[[#This Row],[Bonus Rate]]*Table1[[#This Row],[Hours]],\"\")","v":""},null,null,null,null,null,{"$f":"IF(OR(AH3200>0.001,AH3200<-0.001),Table1[[#This Row],[Employee '#]],\" \")","v":" "},false,{"$f":"SUMIF(Table1[[#This Row],[Total Wage Diff bonus]:[Bank Bonus]],\"<> \")","v":0},{"$f":"IF(AA3200>0, Table1[[#This Row],[Column4]], IF(AB3200>0,Table1[[#This Row],[Column4]],IF(X3200>0,\"1000\")))","v":false}]
[null,null,null,null,null,null,null,null,null,null,null,null,null,null,null,null,0,null,null,null,null,null,null,null,{"$f":"IF(Table1[[#This Row],[Wage differential Bonus                            - NotePay Rate you are bonusing to]]>0, Table1[[#This Row],[Wage differential Bonus                            - NotePay Rate you are bonusing to]]-Table1[[#This Row],[Pay Rate]], \"\")","v":""},{"$f":"IF(Table1[[#This Row],[Wage differential Bonus                            - NotePay Rate you are bonusing to]]>0,Table1[[#This Row],[Bonus Rate]]*Table1[[#This Row],[Hours]],\"\")","v":""},null,null,null,null,null,{"$f":"IF(OR(AH3201>0.001,AH3201<-0.001),Table1[[#This Row],[Employee '#]],\" \")","v":" "},false,{"$f":"SUMIF(Table1[[#This Row],[Total Wage Diff bonus]:[Bank Bonus]],\"<> \")","v":0},{"$f":"IF(AA3201>0, Table1[[#This Row],[Column4]], IF(AB3201>0,Table1[[#This Row],[Column4]],IF(X3201>0,\"1000\")))","v":false}]
[null,null,null,null,null,null,null,null,null,null,null,null,null,null,null,null,0,null,null,null,null,null,null,null,{"$f":"IF(Table1[[#This Row],[Wage differential Bonus                            - NotePay Rate you are bonusing to]]>0, Table1[[#This Row],[Wage differential Bonus                            - NotePay Rate you are bonusing to]]-Table1[[#This Row],[Pay Rate]], \"\")","v":""},{"$f":"IF(Table1[[#This Row],[Wage differential Bonus                            - NotePay Rate you are bonusing to]]>0,Table1[[#This Row],[Bonus Rate]]*Table1[[#This Row],[Hours]],\"\")","v":""},null,null,null,null,null,{"$f":"IF(OR(AH3204>0.001,AH3204<-0.001),Table1[[#This Row],[Employee '#]],\" \")","v":" "},false,{"$f":"SUMIF(Table1[[#This Row],[Total Wage Diff bonus]:[Bank Bonus]],\"<> \")","v":0},{"$f":"IF(AA3204>0, Table1[[#This Row],[Column4]], IF(AB3204>0,Table1[[#This Row],[Column4]],IF(X3204>0,\"1000\")))","v":false}]
[null,null,null,null,null,null,null,null,null,null,null,null,null,null,null,null,0,null,null,null,null,null,null,null,{"$f":"IF(Table1[[#This Row],[Wage differential Bonus                            - NotePay Rate you are bonusing to]]>0, Table1[[#This Row],[Wage differential Bonus                            - NotePay Rate you are bonusing to]]-Table1[[#This Row],[Pay Rate]], \"\")","v":""},{"$f":"IF(Table1[[#This Row],[Wage differential Bonus                            - NotePay Rate you are bonusing to]]>0,Table1[[#This Row],[Bonus Rate]]*Table1[[#This Row],[Hours]],\"\")","v":""},null,null,null,null,null,{"$f":"IF(OR(AH3205>0.001,AH3205<-0.001),Table1[[#This Row],[Employee '#]],\" \")","v":" "},false,{"$f":"SUMIF(Table1[[#This Row],[Total Wage Diff bonus]:[Bank Bonus]],\"<> \")","v":0},{"$f":"IF(AA3205>0, Table1[[#This Row],[Column4]], IF(AB3205>0,Table1[[#This Row],[Column4]],IF(X3205>0,\"1000\")))","v":false}]
[null,null,null,null,null,null,null,null,null,null,null,null,null,null,null,null,0,null,null,null,null,null,null,null,{"$f":"IF(Table1[[#This Row],[Wage differential Bonus                            - NotePay Rate you are bonusing to]]>0, Table1[[#This Row],[Wage differential Bonus                            - NotePay Rate you are bonusing to]]-Table1[[#This Row],[Pay Rate]], \"\")","v":""},{"$f":"IF(Table1[[#This Row],[Wage differential Bonus                            - NotePay Rate you are bonusing to]]>0,Table1[[#This Row],[Bonus Rate]]*Table1[[#This Row],[Hours]],\"\")","v":""},null,null,null,null,null,{"$f":"IF(OR(AH3209>0.001,AH3209<-0.001),Table1[[#This Row],[Employee '#]],\" \")","v":" "},false,{"$f":"SUMIF(Table1[[#This Row],[Total Wage Diff bonus]:[Bank Bonus]],\"<> \")","v":0},{"$f":"IF(AA3209>0, Table1[[#This Row],[Column4]], IF(AB3209>0,Table1[[#This Row],[Column4]],IF(X3209>0,\"1000\")))","v":false}]
[null,null,null,null,null,null,null,null,null,null,null,null,null,null,null,null,0,null,null,null,null,null,null,null,{"$f":"IF(Table1[[#This Row],[Wage differential Bonus                            - NotePay Rate you are bonusing to]]>0, Table1[[#This Row],[Wage differential Bonus                            - NotePay Rate you are bonusing to]]-Table1[[#This Row],[Pay Rate]], \"\")","v":""},{"$f":"IF(Table1[[#This Row],[Wage differential Bonus                            - NotePay Rate you are bonusing to]]>0,Table1[[#This Row],[Bonus Rate]]*Table1[[#This Row],[Hours]],\"\")","v":""},null,null,null,null,null,{"$f":"IF(OR(AH3210>0.001,AH3210<-0.001),Table1[[#This Row],[Employee '#]],\" \")","v":" "},false,{"$f":"SUMIF(Table1[[#This Row],[Total Wage Diff bonus]:[Bank Bonus]],\"<> \")","v":0},{"$f":"IF(AA3210>0, Table1[[#This Row],[Column4]], IF(AB3210>0,Table1[[#This Row],[Column4]],IF(X3210>0,\"1000\")))","v":false}]
[null,null,null,null,null,null,null,null,null,null,null,null,null,null,null,null,0,null,null,null,null,null,null,null,{"$f":"IF(Table1[[#This Row],[Wage differential Bonus                            - NotePay Rate you are bonusing to]]>0, Table1[[#This Row],[Wage differential Bonus                            - NotePay Rate you are bonusing to]]-Table1[[#This Row],[Pay Rate]], \"\")","v":""},{"$f":"IF(Table1[[#This Row],[Wage differential Bonus                            - NotePay Rate you are bonusing to]]>0,Table1[[#This Row],[Bonus Rate]]*Table1[[#This Row],[Hours]],\"\")","v":""},null,null,null,null,null,{"$f":"IF(OR(AH3213>0.001,AH3213<-0.001),Table1[[#This Row],[Employee '#]],\" \")","v":" "},false,{"$f":"SUMIF(Table1[[#This Row],[Total Wage Diff bonus]:[Bank Bonus]],\"<> \")","v":0},{"$f":"IF(AA3213>0, Table1[[#This Row],[Column4]], IF(AB3213>0,Table1[[#This Row],[Column4]],IF(X3213>0,\"1000\")))","v":false}]
[null,null,null,null,null,null,null,null,null,null,null,null,null,null,null,null,0,null,null,null,null,null,null,null,{"$f":"IF(Table1[[#This Row],[Wage differential Bonus                            - NotePay Rate you are bonusing to]]>0, Table1[[#This Row],[Wage differential Bonus                            - NotePay Rate you are bonusing to]]-Table1[[#This Row],[Pay Rate]], \"\")","v":""},{"$f":"IF(Table1[[#This Row],[Wage differential Bonus                            - NotePay Rate you are bonusing to]]>0,Table1[[#This Row],[Bonus Rate]]*Table1[[#This Row],[Hours]],\"\")","v":""},null,null,null,null,null,{"$f":"IF(OR(AH3216>0.001,AH3216<-0.001),Table1[[#This Row],[Employee '#]],\" \")","v":" "},false,{"$f":"SUMIF(Table1[[#This Row],[Total Wage Diff bonus]:[Bank Bonus]],\"<> \")","v":0},{"$f":"IF(AA3216>0, Table1[[#This Row],[Column4]], IF(AB3216>0,Table1[[#This Row],[Column4]],IF(X3216>0,\"1000\")))","v":false}]
[null,null,null,null,null,null,null,null,null,null,null,null,null,null,null,null,0,null,null,null,null,null,null,null,{"$f":"IF(Table1[[#This Row],[Wage differential Bonus                            - NotePay Rate you are bonusing to]]>0, Table1[[#This Row],[Wage differential Bonus                            - NotePay Rate you are bonusing to]]-Table1[[#This Row],[Pay Rate]], \"\")","v":""},{"$f":"IF(Table1[[#This Row],[Wage differential Bonus                            - NotePay Rate you are bonusing to]]>0,Table1[[#This Row],[Bonus Rate]]*Table1[[#This Row],[Hours]],\"\")","v":""},null,null,null,null,null,{"$f":"IF(OR(AH3218>0.001,AH3218<-0.001),Table1[[#This Row],[Employee '#]],\" \")","v":" "},false,{"$f":"SUMIF(Table1[[#This Row],[Total Wage Diff bonus]:[Bank Bonus]],\"<> \")","v":0},{"$f":"IF(AA3218>0, Table1[[#This Row],[Column4]], IF(AB3218>0,Table1[[#This Row],[Column4]],IF(X3218>0,\"1000\")))","v":false}]
[null,null,null,null,null,null,null,null,null,null,null,null,null,null,null,null,0,null,null,null,null,null,null,null,{"$f":"IF(Table1[[#This Row],[Wage differential Bonus                            - NotePay Rate you are bonusing to]]>0, Table1[[#This Row],[Wage differential Bonus                            - NotePay Rate you are bonusing to]]-Table1[[#This Row],[Pay Rate]], \"\")","v":""},{"$f":"IF(Table1[[#This Row],[Wage differential Bonus                            - NotePay Rate you are bonusing to]]>0,Table1[[#This Row],[Bonus Rate]]*Table1[[#This Row],[Hours]],\"\")","v":""},null,null,null,null,null,{"$f":"IF(OR(AH3219>0.001,AH3219<-0.001),Table1[[#This Row],[Employee '#]],\" \")","v":" "},false,{"$f":"SUMIF(Table1[[#This Row],[Total Wage Diff bonus]:[Bank Bonus]],\"<> \")","v":0},{"$f":"IF(AA3219>0, Table1[[#This Row],[Column4]], IF(AB3219>0,Table1[[#This Row],[Column4]],IF(X3219>0,\"1000\")))","v":false}]
[null,null,null,null,null,null,null,null,null,null,null,null,null,null,null,null,0,null,null,null,null,null,null,null,{"$f":"IF(Table1[[#This Row],[Wage differential Bonus                            - NotePay Rate you are bonusing to]]>0, Table1[[#This Row],[Wage differential Bonus                            - NotePay Rate you are bonusing to]]-Table1[[#This Row],[Pay Rate]], \"\")","v":""},{"$f":"IF(Table1[[#This Row],[Wage differential Bonus                            - NotePay Rate you are bonusing to]]>0,Table1[[#This Row],[Bonus Rate]]*Table1[[#This Row],[Hours]],\"\")","v":""},null,null,null,null,null,{"$f":"IF(OR(AH3222>0.001,AH3222<-0.001),Table1[[#This Row],[Employee '#]],\" \")","v":" "},false,{"$f":"SUMIF(Table1[[#This Row],[Total Wage Diff bonus]:[Bank Bonus]],\"<> \")","v":0},{"$f":"IF(AA3222>0, Table1[[#This Row],[Column4]], IF(AB3222>0,Table1[[#This Row],[Column4]],IF(X3222>0,\"1000\")))","v":false}]
[null,null,null,null,null,null,null,null,null,null,null,null,null,null,null,null,0,null,null,null,null,null,null,null,{"$f":"IF(Table1[[#This Row],[Wage differential Bonus                            - NotePay Rate you are bonusing to]]>0, Table1[[#This Row],[Wage differential Bonus                            - NotePay Rate you are bonusing to]]-Table1[[#This Row],[Pay Rate]], \"\")","v":""},{"$f":"IF(Table1[[#This Row],[Wage differential Bonus                            - NotePay Rate you are bonusing to]]>0,Table1[[#This Row],[Bonus Rate]]*Table1[[#This Row],[Hours]],\"\")","v":""},null,null,null,null,null,{"$f":"IF(OR(AH3223>0.001,AH3223<-0.001),Table1[[#This Row],[Employee '#]],\" \")","v":" "},false,{"$f":"SUMIF(Table1[[#This Row],[Total Wage Diff bonus]:[Bank Bonus]],\"<> \")","v":0},{"$f":"IF(AA3223>0, Table1[[#This Row],[Column4]], IF(AB3223>0,Table1[[#This Row],[Column4]],IF(X3223>0,\"1000\")))","v":false}]
[null,null,null,null,null,null,null,null,null,null,null,null,null,null,null,null,0,null,null,null,null,null,null,null,{"$f":"IF(Table1[[#This Row],[Wage differential Bonus                            - NotePay Rate you are bonusing to]]>0, Table1[[#This Row],[Wage differential Bonus                            - NotePay Rate you are bonusing to]]-Table1[[#This Row],[Pay Rate]], \"\")","v":""},{"$f":"IF(Table1[[#This Row],[Wage differential Bonus                            - NotePay Rate you are bonusing to]]>0,Table1[[#This Row],[Bonus Rate]]*Table1[[#This Row],[Hours]],\"\")","v":""},null,null,null,null,null,{"$f":"IF(OR(AH3227>0.001,AH3227<-0.001),Table1[[#This Row],[Employee '#]],\" \")","v":" "},false,{"$f":"SUMIF(Table1[[#This Row],[Total Wage Diff bonus]:[Bank Bonus]],\"<> \")","v":0},{"$f":"IF(AA3227>0, Table1[[#This Row],[Column4]], IF(AB3227>0,Table1[[#This Row],[Column4]],IF(X3227>0,\"1000\")))","v":false}]
[null,null,null,null,null,null,null,null,null,null,null,null,null,null,null,null,0,null,null,null,null,null,null,null,{"$f":"IF(Table1[[#This Row],[Wage differential Bonus                            - NotePay Rate you are bonusing to]]>0, Table1[[#This Row],[Wage differential Bonus                            - NotePay Rate you are bonusing to]]-Table1[[#This Row],[Pay Rate]], \"\")","v":""},{"$f":"IF(Table1[[#This Row],[Wage differential Bonus                            - NotePay Rate you are bonusing to]]>0,Table1[[#This Row],[Bonus Rate]]*Table1[[#This Row],[Hours]],\"\")","v":""},null,null,null,null,null,{"$f":"IF(OR(AH3228>0.001,AH3228<-0.001),Table1[[#This Row],[Employee '#]],\" \")","v":" "},false,{"$f":"SUMIF(Table1[[#This Row],[Total Wage Diff bonus]:[Bank Bonus]],\"<> \")","v":0},{"$f":"IF(AA3228>0, Table1[[#This Row],[Column4]], IF(AB3228>0,Table1[[#This Row],[Column4]],IF(X3228>0,\"1000\")))","v":false}]
[null,null,null,null,null,null,null,null,null,null,null,null,null,null,null,null,0,null,null,null,null,null,null,null,{"$f":"IF(Table1[[#This Row],[Wage differential Bonus                            - NotePay Rate you are bonusing to]]>0, Table1[[#This Row],[Wage differential Bonus                            - NotePay Rate you are bonusing to]]-Table1[[#This Row],[Pay Rate]], \"\")","v":""},{"$f":"IF(Table1[[#This Row],[Wage differential Bonus                            - NotePay Rate you are bonusing to]]>0,Table1[[#This Row],[Bonus Rate]]*Table1[[#This Row],[Hours]],\"\")","v":""},null,null,null,null,null,{"$f":"IF(OR(AH3231>0.001,AH3231<-0.001),Table1[[#This Row],[Employee '#]],\" \")","v":" "},false,{"$f":"SUMIF(Table1[[#This Row],[Total Wage Diff bonus]:[Bank Bonus]],\"<> \")","v":0},{"$f":"IF(AA3231>0, Table1[[#This Row],[Column4]], IF(AB3231>0,Table1[[#This Row],[Column4]],IF(X3231>0,\"1000\")))","v":false}]
[null,null,null,null,null,null,null,null,null,null,null,null,null,null,null,null,0,null,null,null,null,null,null,null,{"$f":"IF(Table1[[#This Row],[Wage differential Bonus                            - NotePay Rate you are bonusing to]]>0, Table1[[#This Row],[Wage differential Bonus                            - NotePay Rate you are bonusing to]]-Table1[[#This Row],[Pay Rate]], \"\")","v":""},{"$f":"IF(Table1[[#This Row],[Wage differential Bonus                            - NotePay Rate you are bonusing to]]>0,Table1[[#This Row],[Bonus Rate]]*Table1[[#This Row],[Hours]],\"\")","v":""},null,null,null,null,null,{"$f":"IF(OR(AH3233>0.001,AH3233<-0.001),Table1[[#This Row],[Employee '#]],\" \")","v":" "},false,{"$f":"SUMIF(Table1[[#This Row],[Total Wage Diff bonus]:[Bank Bonus]],\"<> \")","v":0},{"$f":"IF(AA3233>0, Table1[[#This Row],[Column4]], IF(AB3233>0,Table1[[#This Row],[Column4]],IF(X3233>0,\"1000\")))","v":false}]
[null,null,null,null,null,null,null,null,null,null,null,null,null,null,null,null,0,null,null,null,null,null,null,null,{"$f":"IF(Table1[[#This Row],[Wage differential Bonus                            - NotePay Rate you are bonusing to]]>0, Table1[[#This Row],[Wage differential Bonus                            - NotePay Rate you are bonusing to]]-Table1[[#This Row],[Pay Rate]], \"\")","v":""},{"$f":"IF(Table1[[#This Row],[Wage differential Bonus                            - NotePay Rate you are bonusing to]]>0,Table1[[#This Row],[Bonus Rate]]*Table1[[#This Row],[Hours]],\"\")","v":""},null,null,null,null,null,{"$f":"IF(OR(AH3236>0.001,AH3236<-0.001),Table1[[#This Row],[Employee '#]],\" \")","v":" "},false,{"$f":"SUMIF(Table1[[#This Row],[Total Wage Diff bonus]:[Bank Bonus]],\"<> \")","v":0},{"$f":"IF(AA3236>0, Table1[[#This Row],[Column4]], IF(AB3236>0,Table1[[#This Row],[Column4]],IF(X3236>0,\"1000\")))","v":false}]
[null,null,null,null,null,null,null,null,null,null,null,null,null,null,null,null,0,null,null,null,null,null,null,null,{"$f":"IF(Table1[[#This Row],[Wage differential Bonus                            - NotePay Rate you are bonusing to]]>0, Table1[[#This Row],[Wage differential Bonus                            - NotePay Rate you are bonusing to]]-Table1[[#This Row],[Pay Rate]], \"\")","v":""},{"$f":"IF(Table1[[#This Row],[Wage differential Bonus                            - NotePay Rate you are bonusing to]]>0,Table1[[#This Row],[Bonus Rate]]*Table1[[#This Row],[Hours]],\"\")","v":""},null,null,null,null,null,{"$f":"IF(OR(AH3237>0.001,AH3237<-0.001),Table1[[#This Row],[Employee '#]],\" \")","v":" "},false,{"$f":"SUMIF(Table1[[#This Row],[Total Wage Diff bonus]:[Bank Bonus]],\"<> \")","v":0},{"$f":"IF(AA3237>0, Table1[[#This Row],[Column4]], IF(AB3237>0,Table1[[#This Row],[Column4]],IF(X3237>0,\"1000\")))","v":false}]
[null,null,null,null,null,null,null,null,null,null,null,null,null,null,null,null,0,null,null,null,null,null,null,null,{"$f":"IF(Table1[[#This Row],[Wage differential Bonus                            - NotePay Rate you are bonusing to]]>0, Table1[[#This Row],[Wage differential Bonus                            - NotePay Rate you are bonusing to]]-Table1[[#This Row],[Pay Rate]], \"\")","v":""},{"$f":"IF(Table1[[#This Row],[Wage differential Bonus                            - NotePay Rate you are bonusing to]]>0,Table1[[#This Row],[Bonus Rate]]*Table1[[#This Row],[Hours]],\"\")","v":""},null,null,null,null,null,{"$f":"IF(OR(AH3239>0.001,AH3239<-0.001),Table1[[#This Row],[Employee '#]],\" \")","v":" "},false,{"$f":"SUMIF(Table1[[#This Row],[Total Wage Diff bonus]:[Bank Bonus]],\"<> \")","v":0},{"$f":"IF(AA3239>0, Table1[[#This Row],[Column4]], IF(AB3239>0,Table1[[#This Row],[Column4]],IF(X3239>0,\"1000\")))","v":false}]
[null,null,null,null,null,null,null,null,null,null,null,null,null,null,null,null,0,null,null,null,null,null,null,null,{"$f":"IF(Table1[[#This Row],[Wage differential Bonus                            - NotePay Rate you are bonusing to]]>0, Table1[[#This Row],[Wage differential Bonus                            - NotePay Rate you are bonusing to]]-Table1[[#This Row],[Pay Rate]], \"\")","v":""},{"$f":"IF(Table1[[#This Row],[Wage differential Bonus                            - NotePay Rate you are bonusing to]]>0,Table1[[#This Row],[Bonus Rate]]*Table1[[#This Row],[Hours]],\"\")","v":""},null,null,null,null,null,{"$f":"IF(OR(AH3242>0.001,AH3242<-0.001),Table1[[#This Row],[Employee '#]],\" \")","v":" "},false,{"$f":"SUMIF(Table1[[#This Row],[Total Wage Diff bonus]:[Bank Bonus]],\"<> \")","v":0},{"$f":"IF(AA3242>0, Table1[[#This Row],[Column4]], IF(AB3242>0,Table1[[#This Row],[Column4]],IF(X3242>0,\"1000\")))","v":false}]
[null,null,null,null,null,null,null,null,null,null,null,null,null,null,null,null,0,null,null,null,null,null,null,null,{"$f":"IF(Table1[[#This Row],[Wage differential Bonus                            - NotePay Rate you are bonusing to]]>0, Table1[[#This Row],[Wage differential Bonus                            - NotePay Rate you are bonusing to]]-Table1[[#This Row],[Pay Rate]], \"\")","v":""},{"$f":"IF(Table1[[#This Row],[Wage differential Bonus                            - NotePay Rate you are bonusing to]]>0,Table1[[#This Row],[Bonus Rate]]*Table1[[#This Row],[Hours]],\"\")","v":""},null,null,null,null,null,{"$f":"IF(OR(AH3245>0.001,AH3245<-0.001),Table1[[#This Row],[Employee '#]],\" \")","v":" "},false,{"$f":"SUMIF(Table1[[#This Row],[Total Wage Diff bonus]:[Bank Bonus]],\"<> \")","v":0},{"$f":"IF(AA3245>0, Table1[[#This Row],[Column4]], IF(AB3245>0,Table1[[#This Row],[Column4]],IF(X3245>0,\"1000\")))","v":false}]
[null,null,null,null,null,null,null,null,null,null,null,null,null,null,null,null,0,null,null,null,null,null,null,null,{"$f":"IF(Table1[[#This Row],[Wage differential Bonus                            - NotePay Rate you are bonusing to]]>0, Table1[[#This Row],[Wage differential Bonus                            - NotePay Rate you are bonusing to]]-Table1[[#This Row],[Pay Rate]], \"\")","v":""},{"$f":"IF(Table1[[#This Row],[Wage differential Bonus                            - NotePay Rate you are bonusing to]]>0,Table1[[#This Row],[Bonus Rate]]*Table1[[#This Row],[Hours]],\"\")","v":""},null,null,null,null,null,{"$f":"IF(OR(AH3246>0.001,AH3246<-0.001),Table1[[#This Row],[Employee '#]],\" \")","v":" "},false,{"$f":"SUMIF(Table1[[#This Row],[Total Wage Diff bonus]:[Bank Bonus]],\"<> \")","v":0},{"$f":"IF(AA3246>0, Table1[[#This Row],[Column4]], IF(AB3246>0,Table1[[#This Row],[Column4]],IF(X3246>0,\"1000\")))","v":false}]
[null,null,null,null,null,null,null,null,null,null,null,null,null,null,null,null,0,null,null,null,null,null,null,null,{"$f":"IF(Table1[[#This Row],[Wage differential Bonus                            - NotePay Rate you are bonusing to]]>0, Table1[[#This Row],[Wage differential Bonus                            - NotePay Rate you are bonusing to]]-Table1[[#This Row],[Pay Rate]], \"\")","v":""},{"$f":"IF(Table1[[#This Row],[Wage differential Bonus                            - NotePay Rate you are bonusing to]]>0,Table1[[#This Row],[Bonus Rate]]*Table1[[#This Row],[Hours]],\"\")","v":""},null,null,null,null,null,{"$f":"IF(OR(AH3249>0.001,AH3249<-0.001),Table1[[#This Row],[Employee '#]],\" \")","v":" "},false,{"$f":"SUMIF(Table1[[#This Row],[Total Wage Diff bonus]:[Bank Bonus]],\"<> \")","v":0},{"$f":"IF(AA3249>0, Table1[[#This Row],[Column4]], IF(AB3249>0,Table1[[#This Row],[Column4]],IF(X3249>0,\"1000\")))","v":false}]
[null,null,null,null,null,null,null,null,null,null,null,null,null,null,null,null,0,null,null,null,null,null,null,null,{"$f":"IF(Table1[[#This Row],[Wage differential Bonus                            - NotePay Rate you are bonusing to]]>0, Table1[[#This Row],[Wage differential Bonus                            - NotePay Rate you are bonusing to]]-Table1[[#This Row],[Pay Rate]], \"\")","v":""},{"$f":"IF(Table1[[#This Row],[Wage differential Bonus                            - NotePay Rate you are bonusing to]]>0,Table1[[#This Row],[Bonus Rate]]*Table1[[#This Row],[Hours]],\"\")","v":""},null,null,null,null,null,{"$f":"IF(OR(AH3251>0.001,AH3251<-0.001),Table1[[#This Row],[Employee '#]],\" \")","v":" "},false,{"$f":"SUMIF(Table1[[#This Row],[Total Wage Diff bonus]:[Bank Bonus]],\"<> \")","v":0},{"$f":"IF(AA3251>0, Table1[[#This Row],[Column4]], IF(AB3251>0,Table1[[#This Row],[Column4]],IF(X3251>0,\"1000\")))","v":false}]
[null,null,null,null,null,null,null,null,null,null,null,null,null,null,null,null,0,null,null,null,null,null,null,null,{"$f":"IF(Table1[[#This Row],[Wage differential Bonus                            - NotePay Rate you are bonusing to]]>0, Table1[[#This Row],[Wage differential Bonus                            - NotePay Rate you are bonusing to]]-Table1[[#This Row],[Pay Rate]], \"\")","v":""},{"$f":"IF(Table1[[#This Row],[Wage differential Bonus                            - NotePay Rate you are bonusing to]]>0,Table1[[#This Row],[Bonus Rate]]*Table1[[#This Row],[Hours]],\"\")","v":""},null,null,null,null,null,{"$f":"IF(OR(AH3254>0.001,AH3254<-0.001),Table1[[#This Row],[Employee '#]],\" \")","v":" "},false,{"$f":"SUMIF(Table1[[#This Row],[Total Wage Diff bonus]:[Bank Bonus]],\"<> \")","v":0},{"$f":"IF(AA3254>0, Table1[[#This Row],[Column4]], IF(AB3254>0,Table1[[#This Row],[Column4]],IF(X3254>0,\"1000\")))","v":false}]
[null,null,null,null,null,null,null,null,null,null,null,null,null,null,null,null,{"$f":"L3255+P3255","v":0},null,null,null,null,null,null,null,{"$f":"IF(Table1[[#This Row],[Wage differential Bonus                            - NotePay Rate you are bonusing to]]>0, Table1[[#This Row],[Wage differential Bonus                            - NotePay Rate you are bonusing to]]-Table1[[#This Row],[Pay Rate]], \"\")","v":""},{"$f":"IF(Table1[[#This Row],[Wage differential Bonus                            - NotePay Rate you are bonusing to]]>0,Table1[[#This Row],[Bonus Rate]]*Table1[[#This Row],[Hours]],\"\")","v":""},null,null,null,null,null,{"$f":"IF(OR(AH3255>0.001,AH3255<-0.001),Table1[[#This Row],[Employee '#]],\" \")","v":" "},{"$f":"IF(AA3255>0, \"28\", IF(AB3255>0,\"53\",IF(X3255>0,\"20\")))","v":false},{"$f":"SUMIF(Table1[[#This Row],[Total Wage Diff bonus]:[Bank Bonus]],\"<> \")","v":0},{"$f":"IF(AA3255>0, Table1[[#This Row],[Column4]], IF(AB3255>0,Table1[[#This Row],[Column4]],IF(X3255>0,\"1000\")))","v":false}]
[null,null,null,null,null,null,null,null,null,null,null,null,null,null,null,null,0,null,null,null,null,null,null,null,{"$f":"IF(Table1[[#This Row],[Wage differential Bonus                            - NotePay Rate you are bonusing to]]>0, Table1[[#This Row],[Wage differential Bonus                            - NotePay Rate you are bonusing to]]-Table1[[#This Row],[Pay Rate]], \"\")","v":""},{"$f":"IF(Table1[[#This Row],[Wage differential Bonus                            - NotePay Rate you are bonusing to]]>0,Table1[[#This Row],[Bonus Rate]]*Table1[[#This Row],[Hours]],\"\")","v":""},null,null,null,null,null,{"$f":"IF(OR(AH3257>0.001,AH3257<-0.001),Table1[[#This Row],[Employee '#]],\" \")","v":" "},false,{"$f":"SUMIF(Table1[[#This Row],[Total Wage Diff bonus]:[Bank Bonus]],\"<> \")","v":0},{"$f":"IF(AA3257>0, Table1[[#This Row],[Column4]], IF(AB3257>0,Table1[[#This Row],[Column4]],IF(X3257>0,\"1000\")))","v":false}]
[null,null,null,null,null,null,null,null,null,null,null,null,null,null,null,null,0,null,null,null,null,null,null,null,{"$f":"IF(Table1[[#This Row],[Wage differential Bonus                            - NotePay Rate you are bonusing to]]>0, Table1[[#This Row],[Wage differential Bonus                            - NotePay Rate you are bonusing to]]-Table1[[#This Row],[Pay Rate]], \"\")","v":""},{"$f":"IF(Table1[[#This Row],[Wage differential Bonus                            - NotePay Rate you are bonusing to]]>0,Table1[[#This Row],[Bonus Rate]]*Table1[[#This Row],[Hours]],\"\")","v":""},null,null,null,null,null,{"$f":"IF(OR(AH3260>0.001,AH3260<-0.001),Table1[[#This Row],[Employee '#]],\" \")","v":" "},false,{"$f":"SUMIF(Table1[[#This Row],[Total Wage Diff bonus]:[Bank Bonus]],\"<> \")","v":0},{"$f":"IF(AA3260>0, Table1[[#This Row],[Column4]], IF(AB3260>0,Table1[[#This Row],[Column4]],IF(X3260>0,\"1000\")))","v":false}]
[null,null,null,null,null,null,null,null,null,null,null,null,null,null,null,null,0,null,null,null,null,null,null,null,{"$f":"IF(Table1[[#This Row],[Wage differential Bonus                            - NotePay Rate you are bonusing to]]>0, Table1[[#This Row],[Wage differential Bonus                            - NotePay Rate you are bonusing to]]-Table1[[#This Row],[Pay Rate]], \"\")","v":""},{"$f":"IF(Table1[[#This Row],[Wage differential Bonus                            - NotePay Rate you are bonusing to]]>0,Table1[[#This Row],[Bonus Rate]]*Table1[[#This Row],[Hours]],\"\")","v":""},null,null,null,null,null,{"$f":"IF(OR(AH3263>0.001,AH3263<-0.001),Table1[[#This Row],[Employee '#]],\" \")","v":" "},false,{"$f":"SUMIF(Table1[[#This Row],[Total Wage Diff bonus]:[Bank Bonus]],\"<> \")","v":0},{"$f":"IF(AA3263>0, Table1[[#This Row],[Column4]], IF(AB3263>0,Table1[[#This Row],[Column4]],IF(X3263>0,\"1000\")))","v":false}]
[null,null,null,null,null,null,null,null,null,null,null,null,null,null,null,null,0,null,null,null,null,null,null,null,{"$f":"IF(Table1[[#This Row],[Wage differential Bonus                            - NotePay Rate you are bonusing to]]>0, Table1[[#This Row],[Wage differential Bonus                            - NotePay Rate you are bonusing to]]-Table1[[#This Row],[Pay Rate]], \"\")","v":""},{"$f":"IF(Table1[[#This Row],[Wage differential Bonus                            - NotePay Rate you are bonusing to]]>0,Table1[[#This Row],[Bonus Rate]]*Table1[[#This Row],[Hours]],\"\")","v":""},null,null,null,null,null,{"$f":"IF(OR(AH3265>0.001,AH3265<-0.001),Table1[[#This Row],[Employee '#]],\" \")","v":" "},false,{"$f":"SUMIF(Table1[[#This Row],[Total Wage Diff bonus]:[Bank Bonus]],\"<> \")","v":0},{"$f":"IF(AA3265>0, Table1[[#This Row],[Column4]], IF(AB3265>0,Table1[[#This Row],[Column4]],IF(X3265>0,\"1000\")))","v":false}]
[null,null,null,null,null,null,null,null,null,null,null,null,null,null,null,null,0,null,null,null,null,null,null,null,{"$f":"IF(Table1[[#This Row],[Wage differential Bonus                            - NotePay Rate you are bonusing to]]>0, Table1[[#This Row],[Wage differential Bonus                            - NotePay Rate you are bonusing to]]-Table1[[#This Row],[Pay Rate]], \"\")","v":""},{"$f":"IF(Table1[[#This Row],[Wage differential Bonus                            - NotePay Rate you are bonusing to]]>0,Table1[[#This Row],[Bonus Rate]]*Table1[[#This Row],[Hours]],\"\")","v":""},null,null,null,null,null,{"$f":"IF(OR(AH3267>0.001,AH3267<-0.001),Table1[[#This Row],[Employee '#]],\" \")","v":" "},false,{"$f":"SUMIF(Table1[[#This Row],[Total Wage Diff bonus]:[Bank Bonus]],\"<> \")","v":0},{"$f":"IF(AA3267>0, Table1[[#This Row],[Column4]], IF(AB3267>0,Table1[[#This Row],[Column4]],IF(X3267>0,\"1000\")))","v":false}]
[null,null,null,null,null,null,null,null,null,null,null,null,null,null,null,null,0,null,null,null,null,null,null,null,{"$f":"IF(Table1[[#This Row],[Wage differential Bonus                            - NotePay Rate you are bonusing to]]>0, Table1[[#This Row],[Wage differential Bonus                            - NotePay Rate you are bonusing to]]-Table1[[#This Row],[Pay Rate]], \"\")","v":""},{"$f":"IF(Table1[[#This Row],[Wage differential Bonus                            - NotePay Rate you are bonusing to]]>0,Table1[[#This Row],[Bonus Rate]]*Table1[[#This Row],[Hours]],\"\")","v":""},null,null,null,null,null,{"$f":"IF(OR(AH3268>0.001,AH3268<-0.001),Table1[[#This Row],[Employee '#]],\" \")","v":" "},false,{"$f":"SUMIF(Table1[[#This Row],[Total Wage Diff bonus]:[Bank Bonus]],\"<> \")","v":0},{"$f":"IF(AA3268>0, Table1[[#This Row],[Column4]], IF(AB3268>0,Table1[[#This Row],[Column4]],IF(X3268>0,\"1000\")))","v":false}]
[null,null,null,null,null,null,null,null,null,null,null,null,null,null,null,null,0,null,null,null,null,null,null,null,{"$f":"IF(Table1[[#This Row],[Wage differential Bonus                            - NotePay Rate you are bonusing to]]>0, Table1[[#This Row],[Wage differential Bonus                            - NotePay Rate you are bonusing to]]-Table1[[#This Row],[Pay Rate]], \"\")","v":""},{"$f":"IF(Table1[[#This Row],[Wage differential Bonus                            - NotePay Rate you are bonusing to]]>0,Table1[[#This Row],[Bonus Rate]]*Table1[[#This Row],[Hours]],\"\")","v":""},null,null,null,null,null,{"$f":"IF(OR(AH3269>0.001,AH3269<-0.001),Table1[[#This Row],[Employee '#]],\" \")","v":" "},false,{"$f":"SUMIF(Table1[[#This Row],[Total Wage Diff bonus]:[Bank Bonus]],\"<> \")","v":0},{"$f":"IF(AA3269>0, Table1[[#This Row],[Column4]], IF(AB3269>0,Table1[[#This Row],[Column4]],IF(X3269>0,\"1000\")))","v":false}]
[null,null,null,null,null,null,null,null,null,null,null,null,null,null,null,null,0,null,null,null,null,null,null,null,{"$f":"IF(Table1[[#This Row],[Wage differential Bonus                            - NotePay Rate you are bonusing to]]>0, Table1[[#This Row],[Wage differential Bonus                            - NotePay Rate you are bonusing to]]-Table1[[#This Row],[Pay Rate]], \"\")","v":""},{"$f":"IF(Table1[[#This Row],[Wage differential Bonus                            - NotePay Rate you are bonusing to]]>0,Table1[[#This Row],[Bonus Rate]]*Table1[[#This Row],[Hours]],\"\")","v":""},null,null,null,null,null,{"$f":"IF(OR(AH3270>0.001,AH3270<-0.001),Table1[[#This Row],[Employee '#]],\" \")","v":" "},false,{"$f":"SUMIF(Table1[[#This Row],[Total Wage Diff bonus]:[Bank Bonus]],\"<> \")","v":0},{"$f":"IF(AA3270>0, Table1[[#This Row],[Column4]], IF(AB3270>0,Table1[[#This Row],[Column4]],IF(X3270>0,\"1000\")))","v":false}]
[null,null,null,null,null,null,null,null,null,null,null,null,null,null,null,null,0,null,null,null,null,null,null,null,{"$f":"IF(Table1[[#This Row],[Wage differential Bonus                            - NotePay Rate you are bonusing to]]>0, Table1[[#This Row],[Wage differential Bonus                            - NotePay Rate you are bonusing to]]-Table1[[#This Row],[Pay Rate]], \"\")","v":""},{"$f":"IF(Table1[[#This Row],[Wage differential Bonus                            - NotePay Rate you are bonusing to]]>0,Table1[[#This Row],[Bonus Rate]]*Table1[[#This Row],[Hours]],\"\")","v":""},null,null,null,null,null,{"$f":"IF(OR(AH3271>0.001,AH3271<-0.001),Table1[[#This Row],[Employee '#]],\" \")","v":" "},false,{"$f":"SUMIF(Table1[[#This Row],[Total Wage Diff bonus]:[Bank Bonus]],\"<> \")","v":0},{"$f":"IF(AA3271>0, Table1[[#This Row],[Column4]], IF(AB3271>0,Table1[[#This Row],[Column4]],IF(X3271>0,\"1000\")))","v":false}]
[null,null,null,null,null,null,null,null,null,null,null,null,null,null,null,null,0,null,null,null,null,null,null,null,{"$f":"IF(Table1[[#This Row],[Wage differential Bonus                            - NotePay Rate you are bonusing to]]>0, Table1[[#This Row],[Wage differential Bonus                            - NotePay Rate you are bonusing to]]-Table1[[#This Row],[Pay Rate]], \"\")","v":""},{"$f":"IF(Table1[[#This Row],[Wage differential Bonus                            - NotePay Rate you are bonusing to]]>0,Table1[[#This Row],[Bonus Rate]]*Table1[[#This Row],[Hours]],\"\")","v":""},null,null,null,null,null,{"$f":"IF(OR(AH3272>0.001,AH3272<-0.001),Table1[[#This Row],[Employee '#]],\" \")","v":" "},false,{"$f":"SUMIF(Table1[[#This Row],[Total Wage Diff bonus]:[Bank Bonus]],\"<> \")","v":0},{"$f":"IF(AA3272>0, Table1[[#This Row],[Column4]], IF(AB3272>0,Table1[[#This Row],[Column4]],IF(X3272>0,\"1000\")))","v":false}]
[null,null,null,null,null,null,null,null,null,null,null,null,null,null,null,null,0,null,null,null,null,null,null,null,{"$f":"IF(Table1[[#This Row],[Wage differential Bonus                            - NotePay Rate you are bonusing to]]>0, Table1[[#This Row],[Wage differential Bonus                            - NotePay Rate you are bonusing to]]-Table1[[#This Row],[Pay Rate]], \"\")","v":""},{"$f":"IF(Table1[[#This Row],[Wage differential Bonus                            - NotePay Rate you are bonusing to]]>0,Table1[[#This Row],[Bonus Rate]]*Table1[[#This Row],[Hours]],\"\")","v":""},null,null,null,null,null,{"$f":"IF(OR(AH3273>0.001,AH3273<-0.001),Table1[[#This Row],[Employee '#]],\" \")","v":" "},false,{"$f":"SUMIF(Table1[[#This Row],[Total Wage Diff bonus]:[Bank Bonus]],\"<> \")","v":0},{"$f":"IF(AA3273>0, Table1[[#This Row],[Column4]], IF(AB3273>0,Table1[[#This Row],[Column4]],IF(X3273>0,\"1000\")))","v":false}]
[null,null,null,null,null,null,null,null,null,null,null,null,null,null,null,null,0,null,null,null,null,null,null,null,{"$f":"IF(Table1[[#This Row],[Wage differential Bonus                            - NotePay Rate you are bonusing to]]>0, Table1[[#This Row],[Wage differential Bonus                            - NotePay Rate you are bonusing to]]-Table1[[#This Row],[Pay Rate]], \"\")","v":""},{"$f":"IF(Table1[[#This Row],[Wage differential Bonus                            - NotePay Rate you are bonusing to]]>0,Table1[[#This Row],[Bonus Rate]]*Table1[[#This Row],[Hours]],\"\")","v":""},null,null,null,null,null,{"$f":"IF(OR(AH3274>0.001,AH3274<-0.001),Table1[[#This Row],[Employee '#]],\" \")","v":" "},false,{"$f":"SUMIF(Table1[[#This Row],[Total Wage Diff bonus]:[Bank Bonus]],\"<> \")","v":0},{"$f":"IF(AA3274>0, Table1[[#This Row],[Column4]], IF(AB3274>0,Table1[[#This Row],[Column4]],IF(X3274>0,\"1000\")))","v":false}]
[null,null,null,null,null,null,null,null,null,null,null,null,null,null,null,null,0,null,null,null,null,null,null,null,{"$f":"IF(Table1[[#This Row],[Wage differential Bonus                            - NotePay Rate you are bonusing to]]>0, Table1[[#This Row],[Wage differential Bonus                            - NotePay Rate you are bonusing to]]-Table1[[#This Row],[Pay Rate]], \"\")","v":""},{"$f":"IF(Table1[[#This Row],[Wage differential Bonus                            - NotePay Rate you are bonusing to]]>0,Table1[[#This Row],[Bonus Rate]]*Table1[[#This Row],[Hours]],\"\")","v":""},null,null,null,null,null,{"$f":"IF(OR(AH3275>0.001,AH3275<-0.001),Table1[[#This Row],[Employee '#]],\" \")","v":" "},false,{"$f":"SUMIF(Table1[[#This Row],[Total Wage Diff bonus]:[Bank Bonus]],\"<> \")","v":0},{"$f":"IF(AA3275>0, Table1[[#This Row],[Column4]], IF(AB3275>0,Table1[[#This Row],[Column4]],IF(X3275>0,\"1000\")))","v":false}]
[null,null,null,null,null,null,null,null,null,null,null,null,null,null,null,null,0,null,null,null,null,null,null,null,{"$f":"IF(Table1[[#This Row],[Wage differential Bonus                            - NotePay Rate you are bonusing to]]>0, Table1[[#This Row],[Wage differential Bonus                            - NotePay Rate you are bonusing to]]-Table1[[#This Row],[Pay Rate]], \"\")","v":""},{"$f":"IF(Table1[[#This Row],[Wage differential Bonus                            - NotePay Rate you are bonusing to]]>0,Table1[[#This Row],[Bonus Rate]]*Table1[[#This Row],[Hours]],\"\")","v":""},null,null,null,null,null,{"$f":"IF(OR(AH3276>0.001,AH3276<-0.001),Table1[[#This Row],[Employee '#]],\" \")","v":" "},false,{"$f":"SUMIF(Table1[[#This Row],[Total Wage Diff bonus]:[Bank Bonus]],\"<> \")","v":0},{"$f":"IF(AA3276>0, Table1[[#This Row],[Column4]], IF(AB3276>0,Table1[[#This Row],[Column4]],IF(X3276>0,\"1000\")))","v":false}]
[null,null,null,null,null,null,null,null,null,null,null,null,null,null,null,null,0,null,null,null,null,null,null,null,{"$f":"IF(Table1[[#This Row],[Wage differential Bonus                            - NotePay Rate you are bonusing to]]>0, Table1[[#This Row],[Wage differential Bonus                            - NotePay Rate you are bonusing to]]-Table1[[#This Row],[Pay Rate]], \"\")","v":""},{"$f":"IF(Table1[[#This Row],[Wage differential Bonus                            - NotePay Rate you are bonusing to]]>0,Table1[[#This Row],[Bonus Rate]]*Table1[[#This Row],[Hours]],\"\")","v":""},null,null,null,null,null,{"$f":"IF(OR(AH3277>0.001,AH3277<-0.001),Table1[[#This Row],[Employee '#]],\" \")","v":" "},false,{"$f":"SUMIF(Table1[[#This Row],[Total Wage Diff bonus]:[Bank Bonus]],\"<> \")","v":0},{"$f":"IF(AA3277>0, Table1[[#This Row],[Column4]], IF(AB3277>0,Table1[[#This Row],[Column4]],IF(X3277>0,\"1000\")))","v":false}]
[null,null,null,null,null,null,null,null,null,null,null,null,null,null,null,null,0,null,null,null,null,null,null,null,{"$f":"IF(Table1[[#This Row],[Wage differential Bonus                            - NotePay Rate you are bonusing to]]>0, Table1[[#This Row],[Wage differential Bonus                            - NotePay Rate you are bonusing to]]-Table1[[#This Row],[Pay Rate]], \"\")","v":""},{"$f":"IF(Table1[[#This Row],[Wage differential Bonus                            - NotePay Rate you are bonusing to]]>0,Table1[[#This Row],[Bonus Rate]]*Table1[[#This Row],[Hours]],\"\")","v":""},null,null,null,null,null,{"$f":"IF(OR(AH3278>0.001,AH3278<-0.001),Table1[[#This Row],[Employee '#]],\" \")","v":" "},false,{"$f":"SUMIF(Table1[[#This Row],[Total Wage Diff bonus]:[Bank Bonus]],\"<> \")","v":0},{"$f":"IF(AA3278>0, Table1[[#This Row],[Column4]], IF(AB3278>0,Table1[[#This Row],[Column4]],IF(X3278>0,\"1000\")))","v":false}]
[null,null,null,null,null,null,null,null,null,null,null,null,null,null,null,null,0,null,null,null,null,null,null,null,{"$f":"IF(Table1[[#This Row],[Wage differential Bonus                            - NotePay Rate you are bonusing to]]>0, Table1[[#This Row],[Wage differential Bonus                            - NotePay Rate you are bonusing to]]-Table1[[#This Row],[Pay Rate]], \"\")","v":""},{"$f":"IF(Table1[[#This Row],[Wage differential Bonus                            - NotePay Rate you are bonusing to]]>0,Table1[[#This Row],[Bonus Rate]]*Table1[[#This Row],[Hours]],\"\")","v":""},null,null,null,null,null,{"$f":"IF(OR(AH3279>0.001,AH3279<-0.001),Table1[[#This Row],[Employee '#]],\" \")","v":" "},false,{"$f":"SUMIF(Table1[[#This Row],[Total Wage Diff bonus]:[Bank Bonus]],\"<> \")","v":0},{"$f":"IF(AA3279>0, Table1[[#This Row],[Column4]], IF(AB3279>0,Table1[[#This Row],[Column4]],IF(X3279>0,\"1000\")))","v":false}]
[null,null,null,null,null,null,null,null,null,null,null,null,null,null,null,null,0,null,null,null,null,null,null,null,{"$f":"IF(Table1[[#This Row],[Wage differential Bonus                            - NotePay Rate you are bonusing to]]>0, Table1[[#This Row],[Wage differential Bonus                            - NotePay Rate you are bonusing to]]-Table1[[#This Row],[Pay Rate]], \"\")","v":""},{"$f":"IF(Table1[[#This Row],[Wage differential Bonus                            - NotePay Rate you are bonusing to]]>0,Table1[[#This Row],[Bonus Rate]]*Table1[[#This Row],[Hours]],\"\")","v":""},null,null,null,null,null,{"$f":"IF(OR(AH3280>0.001,AH3280<-0.001),Table1[[#This Row],[Employee '#]],\" \")","v":" "},false,{"$f":"SUMIF(Table1[[#This Row],[Total Wage Diff bonus]:[Bank Bonus]],\"<> \")","v":0},{"$f":"IF(AA3280>0, Table1[[#This Row],[Column4]], IF(AB3280>0,Table1[[#This Row],[Column4]],IF(X3280>0,\"1000\")))","v":false}]
[null,null,null,null,null,null,null,null,null,null,null,null,null,null,null,null,0,null,null,null,null,null,null,null,{"$f":"IF(Table1[[#This Row],[Wage differential Bonus                            - NotePay Rate you are bonusing to]]>0, Table1[[#This Row],[Wage differential Bonus                            - NotePay Rate you are bonusing to]]-Table1[[#This Row],[Pay Rate]], \"\")","v":""},{"$f":"IF(Table1[[#This Row],[Wage differential Bonus                            - NotePay Rate you are bonusing to]]>0,Table1[[#This Row],[Bonus Rate]]*Table1[[#This Row],[Hours]],\"\")","v":""},null,null,null,null,null,{"$f":"IF(OR(AH3281>0.001,AH3281<-0.001),Table1[[#This Row],[Employee '#]],\" \")","v":" "},false,{"$f":"SUMIF(Table1[[#This Row],[Total Wage Diff bonus]:[Bank Bonus]],\"<> \")","v":0},{"$f":"IF(AA3281>0, Table1[[#This Row],[Column4]], IF(AB3281>0,Table1[[#This Row],[Column4]],IF(X3281>0,\"1000\")))","v":false}]
[null,null,null,null,null,null,null,null,null,null,null,null,null,null,null,null,0,null,null,null,null,null,null,null,{"$f":"IF(Table1[[#This Row],[Wage differential Bonus                            - NotePay Rate you are bonusing to]]>0, Table1[[#This Row],[Wage differential Bonus                            - NotePay Rate you are bonusing to]]-Table1[[#This Row],[Pay Rate]], \"\")","v":""},{"$f":"IF(Table1[[#This Row],[Wage differential Bonus                            - NotePay Rate you are bonusing to]]>0,Table1[[#This Row],[Bonus Rate]]*Table1[[#This Row],[Hours]],\"\")","v":""},null,null,null,null,null,{"$f":"IF(OR(AH3282>0.001,AH3282<-0.001),Table1[[#This Row],[Employee '#]],\" \")","v":" "},false,{"$f":"SUMIF(Table1[[#This Row],[Total Wage Diff bonus]:[Bank Bonus]],\"<> \")","v":0},{"$f":"IF(AA3282>0, Table1[[#This Row],[Column4]], IF(AB3282>0,Table1[[#This Row],[Column4]],IF(X3282>0,\"1000\")))","v":false}]
[null,null,null,null,null,null,null,null,null,null,null,null,null,null,null,null,0,null,null,null,null,null,null,null,{"$f":"IF(Table1[[#This Row],[Wage differential Bonus                            - NotePay Rate you are bonusing to]]>0, Table1[[#This Row],[Wage differential Bonus                            - NotePay Rate you are bonusing to]]-Table1[[#This Row],[Pay Rate]], \"\")","v":""},{"$f":"IF(Table1[[#This Row],[Wage differential Bonus                            - NotePay Rate you are bonusing to]]>0,Table1[[#This Row],[Bonus Rate]]*Table1[[#This Row],[Hours]],\"\")","v":""},null,null,null,null,null,{"$f":"IF(OR(AH3283>0.001,AH3283<-0.001),Table1[[#This Row],[Employee '#]],\" \")","v":" "},false,{"$f":"SUMIF(Table1[[#This Row],[Total Wage Diff bonus]:[Bank Bonus]],\"<> \")","v":0},{"$f":"IF(AA3283>0, Table1[[#This Row],[Column4]], IF(AB3283>0,Table1[[#This Row],[Column4]],IF(X3283>0,\"1000\")))","v":false}]
[null,null,null,null,null,null,null,null,null,null,null,null,null,null,null,null,0,null,null,null,null,null,null,null,{"$f":"IF(Table1[[#This Row],[Wage differential Bonus                            - NotePay Rate you are bonusing to]]>0, Table1[[#This Row],[Wage differential Bonus                            - NotePay Rate you are bonusing to]]-Table1[[#This Row],[Pay Rate]], \"\")","v":""},{"$f":"IF(Table1[[#This Row],[Wage differential Bonus                            - NotePay Rate you are bonusing to]]>0,Table1[[#This Row],[Bonus Rate]]*Table1[[#This Row],[Hours]],\"\")","v":""},null,null,null,null,null,{"$f":"IF(OR(AH3284>0.001,AH3284<-0.001),Table1[[#This Row],[Employee '#]],\" \")","v":" "},false,{"$f":"SUMIF(Table1[[#This Row],[Total Wage Diff bonus]:[Bank Bonus]],\"<> \")","v":0},{"$f":"IF(AA3284>0, Table1[[#This Row],[Column4]], IF(AB3284>0,Table1[[#This Row],[Column4]],IF(X3284>0,\"1000\")))","v":false}]
[null,null,null,null,null,null,null,null,null,null,null,null,null,null,null,null,0,null,null,null,null,null,null,null,{"$f":"IF(Table1[[#This Row],[Wage differential Bonus                            - NotePay Rate you are bonusing to]]>0, Table1[[#This Row],[Wage differential Bonus                            - NotePay Rate you are bonusing to]]-Table1[[#This Row],[Pay Rate]], \"\")","v":""},{"$f":"IF(Table1[[#This Row],[Wage differential Bonus                            - NotePay Rate you are bonusing to]]>0,Table1[[#This Row],[Bonus Rate]]*Table1[[#This Row],[Hours]],\"\")","v":""},null,null,null,null,null,{"$f":"IF(OR(AH3285>0.001,AH3285<-0.001),Table1[[#This Row],[Employee '#]],\" \")","v":" "},false,{"$f":"SUMIF(Table1[[#This Row],[Total Wage Diff bonus]:[Bank Bonus]],\"<> \")","v":0},{"$f":"IF(AA3285>0, Table1[[#This Row],[Column4]], IF(AB3285>0,Table1[[#This Row],[Column4]],IF(X3285>0,\"1000\")))","v":false}]
[null,null,null,null,null,null,null,null,null,null,null,null,null,null,null,null,0,null,null,null,null,null,null,null,{"$f":"IF(Table1[[#This Row],[Wage differential Bonus                            - NotePay Rate you are bonusing to]]>0, Table1[[#This Row],[Wage differential Bonus                            - NotePay Rate you are bonusing to]]-Table1[[#This Row],[Pay Rate]], \"\")","v":""},{"$f":"IF(Table1[[#This Row],[Wage differential Bonus                            - NotePay Rate you are bonusing to]]>0,Table1[[#This Row],[Bonus Rate]]*Table1[[#This Row],[Hours]],\"\")","v":""},null,null,null,null,null,{"$f":"IF(OR(AH3286>0.001,AH3286<-0.001),Table1[[#This Row],[Employee '#]],\" \")","v":" "},false,{"$f":"SUMIF(Table1[[#This Row],[Total Wage Diff bonus]:[Bank Bonus]],\"<> \")","v":0},{"$f":"IF(AA3286>0, Table1[[#This Row],[Column4]], IF(AB3286>0,Table1[[#This Row],[Column4]],IF(X3286>0,\"1000\")))","v":false}]
[null,null,null,null,null,null,null,null,null,null,null,null,null,null,null,null,0,null,null,null,null,null,null,null,{"$f":"IF(Table1[[#This Row],[Wage differential Bonus                            - NotePay Rate you are bonusing to]]>0, Table1[[#This Row],[Wage differential Bonus                            - NotePay Rate you are bonusing to]]-Table1[[#This Row],[Pay Rate]], \"\")","v":""},{"$f":"IF(Table1[[#This Row],[Wage differential Bonus                            - NotePay Rate you are bonusing to]]>0,Table1[[#This Row],[Bonus Rate]]*Table1[[#This Row],[Hours]],\"\")","v":""},null,null,null,null,null,{"$f":"IF(OR(AH3287>0.001,AH3287<-0.001),Table1[[#This Row],[Employee '#]],\" \")","v":" "},false,{"$f":"SUMIF(Table1[[#This Row],[Total Wage Diff bonus]:[Bank Bonus]],\"<> \")","v":0},{"$f":"IF(AA3287>0, Table1[[#This Row],[Column4]], IF(AB3287>0,Table1[[#This Row],[Column4]],IF(X3287>0,\"1000\")))","v":false}]
[null,null,null,null,null,null,null,null,null,null,null,null,null,null,null,null,0,null,null,null,null,null,null,null,{"$f":"IF(Table1[[#This Row],[Wage differential Bonus                            - NotePay Rate you are bonusing to]]>0, Table1[[#This Row],[Wage differential Bonus                            - NotePay Rate you are bonusing to]]-Table1[[#This Row],[Pay Rate]], \"\")","v":""},{"$f":"IF(Table1[[#This Row],[Wage differential Bonus                            - NotePay Rate you are bonusing to]]>0,Table1[[#This Row],[Bonus Rate]]*Table1[[#This Row],[Hours]],\"\")","v":""},null,null,null,null,null,{"$f":"IF(OR(AH3288>0.001,AH3288<-0.001),Table1[[#This Row],[Employee '#]],\" \")","v":" "},false,{"$f":"SUMIF(Table1[[#This Row],[Total Wage Diff bonus]:[Bank Bonus]],\"<> \")","v":0},{"$f":"IF(AA3288>0, Table1[[#This Row],[Column4]], IF(AB3288>0,Table1[[#This Row],[Column4]],IF(X3288>0,\"1000\")))","v":false}]
[null,null,null,null,null,null,null,null,null,null,null,null,null,null,null,null,0,null,null,null,null,null,null,null,{"$f":"IF(Table1[[#This Row],[Wage differential Bonus                            - NotePay Rate you are bonusing to]]>0, Table1[[#This Row],[Wage differential Bonus                            - NotePay Rate you are bonusing to]]-Table1[[#This Row],[Pay Rate]], \"\")","v":""},{"$f":"IF(Table1[[#This Row],[Wage differential Bonus                            - NotePay Rate you are bonusing to]]>0,Table1[[#This Row],[Bonus Rate]]*Table1[[#This Row],[Hours]],\"\")","v":""},null,null,null,null,null,{"$f":"IF(OR(AH3289>0.001,AH3289<-0.001),Table1[[#This Row],[Employee '#]],\" \")","v":" "},false,{"$f":"SUMIF(Table1[[#This Row],[Total Wage Diff bonus]:[Bank Bonus]],\"<> \")","v":0},{"$f":"IF(AA3289>0, Table1[[#This Row],[Column4]], IF(AB3289>0,Table1[[#This Row],[Column4]],IF(X3289>0,\"1000\")))","v":false}]
[null,null,null,null,null,null,null,null,null,null,null,null,null,null,null,null,0,null,null,null,null,null,null,null,{"$f":"IF(Table1[[#This Row],[Wage differential Bonus                            - NotePay Rate you are bonusing to]]>0, Table1[[#This Row],[Wage differential Bonus                            - NotePay Rate you are bonusing to]]-Table1[[#This Row],[Pay Rate]], \"\")","v":""},{"$f":"IF(Table1[[#This Row],[Wage differential Bonus                            - NotePay Rate you are bonusing to]]>0,Table1[[#This Row],[Bonus Rate]]*Table1[[#This Row],[Hours]],\"\")","v":""},null,null,null,null,null,{"$f":"IF(OR(AH3290>0.001,AH3290<-0.001),Table1[[#This Row],[Employee '#]],\" \")","v":" "},false,{"$f":"SUMIF(Table1[[#This Row],[Total Wage Diff bonus]:[Bank Bonus]],\"<> \")","v":0},{"$f":"IF(AA3290>0, Table1[[#This Row],[Column4]], IF(AB3290>0,Table1[[#This Row],[Column4]],IF(X3290>0,\"1000\")))","v":false}]
[null,null,null,null,null,null,null,null,null,null,null,null,null,null,null,null,0,null,null,null,null,null,null,null,{"$f":"IF(Table1[[#This Row],[Wage differential Bonus                            - NotePay Rate you are bonusing to]]>0, Table1[[#This Row],[Wage differential Bonus                            - NotePay Rate you are bonusing to]]-Table1[[#This Row],[Pay Rate]], \"\")","v":""},{"$f":"IF(Table1[[#This Row],[Wage differential Bonus                            - NotePay Rate you are bonusing to]]>0,Table1[[#This Row],[Bonus Rate]]*Table1[[#This Row],[Hours]],\"\")","v":""},null,null,null,null,null,{"$f":"IF(OR(AH3291>0.001,AH3291<-0.001),Table1[[#This Row],[Employee '#]],\" \")","v":" "},false,{"$f":"SUMIF(Table1[[#This Row],[Total Wage Diff bonus]:[Bank Bonus]],\"<> \")","v":0},{"$f":"IF(AA3291>0, Table1[[#This Row],[Column4]], IF(AB3291>0,Table1[[#This Row],[Column4]],IF(X3291>0,\"1000\")))","v":false}]
[null,null,null,null,null,null,null,null,null,null,null,null,null,null,null,null,0,null,null,null,null,null,null,null,{"$f":"IF(Table1[[#This Row],[Wage differential Bonus                            - NotePay Rate you are bonusing to]]>0, Table1[[#This Row],[Wage differential Bonus                            - NotePay Rate you are bonusing to]]-Table1[[#This Row],[Pay Rate]], \"\")","v":""},{"$f":"IF(Table1[[#This Row],[Wage differential Bonus                            - NotePay Rate you are bonusing to]]>0,Table1[[#This Row],[Bonus Rate]]*Table1[[#This Row],[Hours]],\"\")","v":""},null,null,null,null,null,{"$f":"IF(OR(AH3292>0.001,AH3292<-0.001),Table1[[#This Row],[Employee '#]],\" \")","v":" "},false,{"$f":"SUMIF(Table1[[#This Row],[Total Wage Diff bonus]:[Bank Bonus]],\"<> \")","v":0},{"$f":"IF(AA3292>0, Table1[[#This Row],[Column4]], IF(AB3292>0,Table1[[#This Row],[Column4]],IF(X3292>0,\"1000\")))","v":false}]
[null,null,null,null,null,null,null,null,null,null,null,null,null,null,null,null,0,null,null,null,null,null,null,null,{"$f":"IF(Table1[[#This Row],[Wage differential Bonus                            - NotePay Rate you are bonusing to]]>0, Table1[[#This Row],[Wage differential Bonus                            - NotePay Rate you are bonusing to]]-Table1[[#This Row],[Pay Rate]], \"\")","v":""},{"$f":"IF(Table1[[#This Row],[Wage differential Bonus                            - NotePay Rate you are bonusing to]]>0,Table1[[#This Row],[Bonus Rate]]*Table1[[#This Row],[Hours]],\"\")","v":""},null,null,null,null,null,{"$f":"IF(OR(AH3293>0.001,AH3293<-0.001),Table1[[#This Row],[Employee '#]],\" \")","v":" "},false,{"$f":"SUMIF(Table1[[#This Row],[Total Wage Diff bonus]:[Bank Bonus]],\"<> \")","v":0},{"$f":"IF(AA3293>0, Table1[[#This Row],[Column4]], IF(AB3293>0,Table1[[#This Row],[Column4]],IF(X3293>0,\"1000\")))","v":false}]
[null,null,null,null,null,null,null,null,null,null,null,null,null,null,null,null,0,null,null,null,null,null,null,null,{"$f":"IF(Table1[[#This Row],[Wage differential Bonus                            - NotePay Rate you are bonusing to]]>0, Table1[[#This Row],[Wage differential Bonus                            - NotePay Rate you are bonusing to]]-Table1[[#This Row],[Pay Rate]], \"\")","v":""},{"$f":"IF(Table1[[#This Row],[Wage differential Bonus                            - NotePay Rate you are bonusing to]]>0,Table1[[#This Row],[Bonus Rate]]*Table1[[#This Row],[Hours]],\"\")","v":""},null,null,null,null,null,{"$f":"IF(OR(AH3294>0.001,AH3294<-0.001),Table1[[#This Row],[Employee '#]],\" \")","v":" "},false,{"$f":"SUMIF(Table1[[#This Row],[Total Wage Diff bonus]:[Bank Bonus]],\"<> \")","v":0},{"$f":"IF(AA3294>0, Table1[[#This Row],[Column4]], IF(AB3294>0,Table1[[#This Row],[Column4]],IF(X3294>0,\"1000\")))","v":false}]
[null,null,null,null,null,null,null,null,null,null,null,null,null,null,null,null,0,null,null,null,null,null,null,null,{"$f":"IF(Table1[[#This Row],[Wage differential Bonus                            - NotePay Rate you are bonusing to]]>0, Table1[[#This Row],[Wage differential Bonus                            - NotePay Rate you are bonusing to]]-Table1[[#This Row],[Pay Rate]], \"\")","v":""},{"$f":"IF(Table1[[#This Row],[Wage differential Bonus                            - NotePay Rate you are bonusing to]]>0,Table1[[#This Row],[Bonus Rate]]*Table1[[#This Row],[Hours]],\"\")","v":""},null,null,null,null,null,{"$f":"IF(OR(AH3295>0.001,AH3295<-0.001),Table1[[#This Row],[Employee '#]],\" \")","v":" "},false,{"$f":"SUMIF(Table1[[#This Row],[Total Wage Diff bonus]:[Bank Bonus]],\"<> \")","v":0},{"$f":"IF(AA3295>0, Table1[[#This Row],[Column4]], IF(AB3295>0,Table1[[#This Row],[Column4]],IF(X3295>0,\"1000\")))","v":false}]
[null,null,null,null,null,null,null,null,null,null,null,null,null,null,null,null,0,null,null,null,null,null,null,null,{"$f":"IF(Table1[[#This Row],[Wage differential Bonus                            - NotePay Rate you are bonusing to]]>0, Table1[[#This Row],[Wage differential Bonus                            - NotePay Rate you are bonusing to]]-Table1[[#This Row],[Pay Rate]], \"\")","v":""},{"$f":"IF(Table1[[#This Row],[Wage differential Bonus                            - NotePay Rate you are bonusing to]]>0,Table1[[#This Row],[Bonus Rate]]*Table1[[#This Row],[Hours]],\"\")","v":""},null,null,null,null,null,{"$f":"IF(OR(AH3296>0.001,AH3296<-0.001),Table1[[#This Row],[Employee '#]],\" \")","v":" "},false,{"$f":"SUMIF(Table1[[#This Row],[Total Wage Diff bonus]:[Bank Bonus]],\"<> \")","v":0},{"$f":"IF(AA3296>0, Table1[[#This Row],[Column4]], IF(AB3296>0,Table1[[#This Row],[Column4]],IF(X3296>0,\"1000\")))","v":false}]
[null,null,null,null,null,null,null,null,null,null,null,null,null,null,null,null,0,null,null,null,null,null,null,null,{"$f":"IF(Table1[[#This Row],[Wage differential Bonus                            - NotePay Rate you are bonusing to]]>0, Table1[[#This Row],[Wage differential Bonus                            - NotePay Rate you are bonusing to]]-Table1[[#This Row],[Pay Rate]], \"\")","v":""},{"$f":"IF(Table1[[#This Row],[Wage differential Bonus                            - NotePay Rate you are bonusing to]]>0,Table1[[#This Row],[Bonus Rate]]*Table1[[#This Row],[Hours]],\"\")","v":""},null,null,null,null,null,{"$f":"IF(OR(AH3297>0.001,AH3297<-0.001),Table1[[#This Row],[Employee '#]],\" \")","v":" "},false,{"$f":"SUMIF(Table1[[#This Row],[Total Wage Diff bonus]:[Bank Bonus]],\"<> \")","v":0},{"$f":"IF(AA3297>0, Table1[[#This Row],[Column4]], IF(AB3297>0,Table1[[#This Row],[Column4]],IF(X3297>0,\"1000\")))","v":false}]
[null,null,null,null,null,null,null,null,null,null,null,null,null,null,null,null,0,null,null,null,null,null,null,null,{"$f":"IF(Table1[[#This Row],[Wage differential Bonus                            - NotePay Rate you are bonusing to]]>0, Table1[[#This Row],[Wage differential Bonus                            - NotePay Rate you are bonusing to]]-Table1[[#This Row],[Pay Rate]], \"\")","v":""},{"$f":"IF(Table1[[#This Row],[Wage differential Bonus                            - NotePay Rate you are bonusing to]]>0,Table1[[#This Row],[Bonus Rate]]*Table1[[#This Row],[Hours]],\"\")","v":""},null,null,null,null,null,{"$f":"IF(OR(AH3298>0.001,AH3298<-0.001),Table1[[#This Row],[Employee '#]],\" \")","v":" "},false,{"$f":"SUMIF(Table1[[#This Row],[Total Wage Diff bonus]:[Bank Bonus]],\"<> \")","v":0},{"$f":"IF(AA3298>0, Table1[[#This Row],[Column4]], IF(AB3298>0,Table1[[#This Row],[Column4]],IF(X3298>0,\"1000\")))","v":false}]
[null,null,null,null,null,null,null,null,null,null,null,null,null,null,null,null,0,null,null,null,null,null,null,null,{"$f":"IF(Table1[[#This Row],[Wage differential Bonus                            - NotePay Rate you are bonusing to]]>0, Table1[[#This Row],[Wage differential Bonus                            - NotePay Rate you are bonusing to]]-Table1[[#This Row],[Pay Rate]], \"\")","v":""},{"$f":"IF(Table1[[#This Row],[Wage differential Bonus                            - NotePay Rate you are bonusing to]]>0,Table1[[#This Row],[Bonus Rate]]*Table1[[#This Row],[Hours]],\"\")","v":""},null,null,null,null,null,{"$f":"IF(OR(AH3299>0.001,AH3299<-0.001),Table1[[#This Row],[Employee '#]],\" \")","v":" "},false,{"$f":"SUMIF(Table1[[#This Row],[Total Wage Diff bonus]:[Bank Bonus]],\"<> \")","v":0},{"$f":"IF(AA3299>0, Table1[[#This Row],[Column4]], IF(AB3299>0,Table1[[#This Row],[Column4]],IF(X3299>0,\"1000\")))","v":false}]
[null,null,null,null,null,null,null,null,null,null,null,null,null,null,null,null,0,null,null,null,null,null,null,null,{"$f":"IF(Table1[[#This Row],[Wage differential Bonus                            - NotePay Rate you are bonusing to]]>0, Table1[[#This Row],[Wage differential Bonus                            - NotePay Rate you are bonusing to]]-Table1[[#This Row],[Pay Rate]], \"\")","v":""},{"$f":"IF(Table1[[#This Row],[Wage differential Bonus                            - NotePay Rate you are bonusing to]]>0,Table1[[#This Row],[Bonus Rate]]*Table1[[#This Row],[Hours]],\"\")","v":""},null,null,null,null,null,{"$f":"IF(OR(AH3300>0.001,AH3300<-0.001),Table1[[#This Row],[Employee '#]],\" \")","v":" "},false,{"$f":"SUMIF(Table1[[#This Row],[Total Wage Diff bonus]:[Bank Bonus]],\"<> \")","v":0},{"$f":"IF(AA3300>0, Table1[[#This Row],[Column4]], IF(AB3300>0,Table1[[#This Row],[Column4]],IF(X3300>0,\"1000\")))","v":false}]
[null,null,null,null,null,null,null,null,null,null,null,null,null,null,null,null,0,null,null,null,null,null,null,null,{"$f":"IF(Table1[[#This Row],[Wage differential Bonus                            - NotePay Rate you are bonusing to]]>0, Table1[[#This Row],[Wage differential Bonus                            - NotePay Rate you are bonusing to]]-Table1[[#This Row],[Pay Rate]], \"\")","v":""},{"$f":"IF(Table1[[#This Row],[Wage differential Bonus                            - NotePay Rate you are bonusing to]]>0,Table1[[#This Row],[Bonus Rate]]*Table1[[#This Row],[Hours]],\"\")","v":""},null,null,null,null,null,{"$f":"IF(OR(AH3301>0.001,AH3301<-0.001),Table1[[#This Row],[Employee '#]],\" \")","v":" "},false,{"$f":"SUMIF(Table1[[#This Row],[Total Wage Diff bonus]:[Bank Bonus]],\"<> \")","v":0},{"$f":"IF(AA3301>0, Table1[[#This Row],[Column4]], IF(AB3301>0,Table1[[#This Row],[Column4]],IF(X3301>0,\"1000\")))","v":false}]
[null,null,null,null,null,null,null,null,null,null,null,null,null,null,null,null,0,null,null,null,null,null,null,null,{"$f":"IF(Table1[[#This Row],[Wage differential Bonus                            - NotePay Rate you are bonusing to]]>0, Table1[[#This Row],[Wage differential Bonus                            - NotePay Rate you are bonusing to]]-Table1[[#This Row],[Pay Rate]], \"\")","v":""},{"$f":"IF(Table1[[#This Row],[Wage differential Bonus                            - NotePay Rate you are bonusing to]]>0,Table1[[#This Row],[Bonus Rate]]*Table1[[#This Row],[Hours]],\"\")","v":""},null,null,null,null,null,{"$f":"IF(OR(AH3302>0.001,AH3302<-0.001),Table1[[#This Row],[Employee '#]],\" \")","v":" "},false,{"$f":"SUMIF(Table1[[#This Row],[Total Wage Diff bonus]:[Bank Bonus]],\"<> \")","v":0},{"$f":"IF(AA3302>0, Table1[[#This Row],[Column4]], IF(AB3302>0,Table1[[#This Row],[Column4]],IF(X3302>0,\"1000\")))","v":false}]
[null,null,null,null,null,null,null,null,null,null,null,null,null,null,null,null,0,null,null,null,null,null,null,null,{"$f":"IF(Table1[[#This Row],[Wage differential Bonus                            - NotePay Rate you are bonusing to]]>0, Table1[[#This Row],[Wage differential Bonus                            - NotePay Rate you are bonusing to]]-Table1[[#This Row],[Pay Rate]], \"\")","v":""},{"$f":"IF(Table1[[#This Row],[Wage differential Bonus                            - NotePay Rate you are bonusing to]]>0,Table1[[#This Row],[Bonus Rate]]*Table1[[#This Row],[Hours]],\"\")","v":""},null,null,null,null,null,{"$f":"IF(OR(AH3303>0.001,AH3303<-0.001),Table1[[#This Row],[Employee '#]],\" \")","v":" "},false,{"$f":"SUMIF(Table1[[#This Row],[Total Wage Diff bonus]:[Bank Bonus]],\"<> \")","v":0},{"$f":"IF(AA3303>0, Table1[[#This Row],[Column4]], IF(AB3303>0,Table1[[#This Row],[Column4]],IF(X3303>0,\"1000\")))","v":false}]
[null,null,null,null,null,null,null,null,null,null,null,null,null,null,null,null,0,null,null,null,null,null,null,null,{"$f":"IF(Table1[[#This Row],[Wage differential Bonus                            - NotePay Rate you are bonusing to]]>0, Table1[[#This Row],[Wage differential Bonus                            - NotePay Rate you are bonusing to]]-Table1[[#This Row],[Pay Rate]], \"\")","v":""},{"$f":"IF(Table1[[#This Row],[Wage differential Bonus                            - NotePay Rate you are bonusing to]]>0,Table1[[#This Row],[Bonus Rate]]*Table1[[#This Row],[Hours]],\"\")","v":""},null,null,null,null,null,{"$f":"IF(OR(AH3304>0.001,AH3304<-0.001),Table1[[#This Row],[Employee '#]],\" \")","v":" "},false,{"$f":"SUMIF(Table1[[#This Row],[Total Wage Diff bonus]:[Bank Bonus]],\"<> \")","v":0},{"$f":"IF(AA3304>0, Table1[[#This Row],[Column4]], IF(AB3304>0,Table1[[#This Row],[Column4]],IF(X3304>0,\"1000\")))","v":false}]
[null,null,null,null,null,null,null,null,null,null,null,null,null,null,null,null,0,null,null,null,null,null,null,null,{"$f":"IF(Table1[[#This Row],[Wage differential Bonus                            - NotePay Rate you are bonusing to]]>0, Table1[[#This Row],[Wage differential Bonus                            - NotePay Rate you are bonusing to]]-Table1[[#This Row],[Pay Rate]], \"\")","v":""},{"$f":"IF(Table1[[#This Row],[Wage differential Bonus                            - NotePay Rate you are bonusing to]]>0,Table1[[#This Row],[Bonus Rate]]*Table1[[#This Row],[Hours]],\"\")","v":""},null,null,null,null,null,{"$f":"IF(OR(AH3305>0.001,AH3305<-0.001),Table1[[#This Row],[Employee '#]],\" \")","v":" "},false,{"$f":"SUMIF(Table1[[#This Row],[Total Wage Diff bonus]:[Bank Bonus]],\"<> \")","v":0},{"$f":"IF(AA3305>0, Table1[[#This Row],[Column4]], IF(AB3305>0,Table1[[#This Row],[Column4]],IF(X3305>0,\"1000\")))","v":false}]
[null,null,null,null,null,null,null,null,null,null,null,null,null,null,null,null,0,null,null,null,null,null,null,null,{"$f":"IF(Table1[[#This Row],[Wage differential Bonus                            - NotePay Rate you are bonusing to]]>0, Table1[[#This Row],[Wage differential Bonus                            - NotePay Rate you are bonusing to]]-Table1[[#This Row],[Pay Rate]], \"\")","v":""},{"$f":"IF(Table1[[#This Row],[Wage differential Bonus                            - NotePay Rate you are bonusing to]]>0,Table1[[#This Row],[Bonus Rate]]*Table1[[#This Row],[Hours]],\"\")","v":""},null,null,null,null,null,{"$f":"IF(OR(AH3306>0.001,AH3306<-0.001),Table1[[#This Row],[Employee '#]],\" \")","v":" "},false,{"$f":"SUMIF(Table1[[#This Row],[Total Wage Diff bonus]:[Bank Bonus]],\"<> \")","v":0},{"$f":"IF(AA3306>0, Table1[[#This Row],[Column4]], IF(AB3306>0,Table1[[#This Row],[Column4]],IF(X3306>0,\"1000\")))","v":false}]
[null,null,null,null,null,null,null,null,null,null,null,null,null,null,null,null,0,null,null,null,null,null,null,null,{"$f":"IF(Table1[[#This Row],[Wage differential Bonus                            - NotePay Rate you are bonusing to]]>0, Table1[[#This Row],[Wage differential Bonus                            - NotePay Rate you are bonusing to]]-Table1[[#This Row],[Pay Rate]], \"\")","v":""},{"$f":"IF(Table1[[#This Row],[Wage differential Bonus                            - NotePay Rate you are bonusing to]]>0,Table1[[#This Row],[Bonus Rate]]*Table1[[#This Row],[Hours]],\"\")","v":""},null,null,null,null,null,{"$f":"IF(OR(AH3307>0.001,AH3307<-0.001),Table1[[#This Row],[Employee '#]],\" \")","v":" "},false,{"$f":"SUMIF(Table1[[#This Row],[Total Wage Diff bonus]:[Bank Bonus]],\"<> \")","v":0},{"$f":"IF(AA3307>0, Table1[[#This Row],[Column4]], IF(AB3307>0,Table1[[#This Row],[Column4]],IF(X3307>0,\"1000\")))","v":false}]
[null,null,null,null,null,null,null,null,null,null,null,null,null,null,null,null,0,null,null,null,null,null,null,null,{"$f":"IF(Table1[[#This Row],[Wage differential Bonus                            - NotePay Rate you are bonusing to]]>0, Table1[[#This Row],[Wage differential Bonus                            - NotePay Rate you are bonusing to]]-Table1[[#This Row],[Pay Rate]], \"\")","v":""},{"$f":"IF(Table1[[#This Row],[Wage differential Bonus                            - NotePay Rate you are bonusing to]]>0,Table1[[#This Row],[Bonus Rate]]*Table1[[#This Row],[Hours]],\"\")","v":""},null,null,null,null,null,{"$f":"IF(OR(AH3308>0.001,AH3308<-0.001),Table1[[#This Row],[Employee '#]],\" \")","v":" "},false,{"$f":"SUMIF(Table1[[#This Row],[Total Wage Diff bonus]:[Bank Bonus]],\"<> \")","v":0},{"$f":"IF(AA3308>0, Table1[[#This Row],[Column4]], IF(AB3308>0,Table1[[#This Row],[Column4]],IF(X3308>0,\"1000\")))","v":false}]
[null,null,null,null,null,null,null,null,null,null,null,null,null,null,null,null,0,null,null,null,null,null,null,null,{"$f":"IF(Table1[[#This Row],[Wage differential Bonus                            - NotePay Rate you are bonusing to]]>0, Table1[[#This Row],[Wage differential Bonus                            - NotePay Rate you are bonusing to]]-Table1[[#This Row],[Pay Rate]], \"\")","v":""},{"$f":"IF(Table1[[#This Row],[Wage differential Bonus                            - NotePay Rate you are bonusing to]]>0,Table1[[#This Row],[Bonus Rate]]*Table1[[#This Row],[Hours]],\"\")","v":""},null,null,null,null,null,{"$f":"IF(OR(AH3309>0.001,AH3309<-0.001),Table1[[#This Row],[Employee '#]],\" \")","v":" "},false,{"$f":"SUMIF(Table1[[#This Row],[Total Wage Diff bonus]:[Bank Bonus]],\"<> \")","v":0},{"$f":"IF(AA3309>0, Table1[[#This Row],[Column4]], IF(AB3309>0,Table1[[#This Row],[Column4]],IF(X3309>0,\"1000\")))","v":false}]
[null,null,null,null,null,null,null,null,null,null,null,null,null,null,null,null,0,null,null,null,null,null,null,null,{"$f":"IF(Table1[[#This Row],[Wage differential Bonus                            - NotePay Rate you are bonusing to]]>0, Table1[[#This Row],[Wage differential Bonus                            - NotePay Rate you are bonusing to]]-Table1[[#This Row],[Pay Rate]], \"\")","v":""},{"$f":"IF(Table1[[#This Row],[Wage differential Bonus                            - NotePay Rate you are bonusing to]]>0,Table1[[#This Row],[Bonus Rate]]*Table1[[#This Row],[Hours]],\"\")","v":""},null,null,null,null,null,{"$f":"IF(OR(AH3310>0.001,AH3310<-0.001),Table1[[#This Row],[Employee '#]],\" \")","v":" "},false,{"$f":"SUMIF(Table1[[#This Row],[Total Wage Diff bonus]:[Bank Bonus]],\"<> \")","v":0},{"$f":"IF(AA3310>0, Table1[[#This Row],[Column4]], IF(AB3310>0,Table1[[#This Row],[Column4]],IF(X3310>0,\"1000\")))","v":false}]
[null,null,null,null,null,null,null,null,null,null,null,null,null,null,null,null,0,null,null,null,null,null,null,null,{"$f":"IF(Table1[[#This Row],[Wage differential Bonus                            - NotePay Rate you are bonusing to]]>0, Table1[[#This Row],[Wage differential Bonus                            - NotePay Rate you are bonusing to]]-Table1[[#This Row],[Pay Rate]], \"\")","v":""},{"$f":"IF(Table1[[#This Row],[Wage differential Bonus                            - NotePay Rate you are bonusing to]]>0,Table1[[#This Row],[Bonus Rate]]*Table1[[#This Row],[Hours]],\"\")","v":""},null,null,null,null,null,{"$f":"IF(OR(AH3311>0.001,AH3311<-0.001),Table1[[#This Row],[Employee '#]],\" \")","v":" "},false,{"$f":"SUMIF(Table1[[#This Row],[Total Wage Diff bonus]:[Bank Bonus]],\"<> \")","v":0},{"$f":"IF(AA3311>0, Table1[[#This Row],[Column4]], IF(AB3311>0,Table1[[#This Row],[Column4]],IF(X3311>0,\"1000\")))","v":false}]
[null,null,null,null,null,null,null,null,null,null,null,null,null,null,null,null,0,null,null,null,null,null,null,null,{"$f":"IF(Table1[[#This Row],[Wage differential Bonus                            - NotePay Rate you are bonusing to]]>0, Table1[[#This Row],[Wage differential Bonus                            - NotePay Rate you are bonusing to]]-Table1[[#This Row],[Pay Rate]], \"\")","v":""},{"$f":"IF(Table1[[#This Row],[Wage differential Bonus                            - NotePay Rate you are bonusing to]]>0,Table1[[#This Row],[Bonus Rate]]*Table1[[#This Row],[Hours]],\"\")","v":""},null,null,null,null,null,{"$f":"IF(OR(AH3312>0.001,AH3312<-0.001),Table1[[#This Row],[Employee '#]],\" \")","v":" "},false,{"$f":"SUMIF(Table1[[#This Row],[Total Wage Diff bonus]:[Bank Bonus]],\"<> \")","v":0},{"$f":"IF(AA3312>0, Table1[[#This Row],[Column4]], IF(AB3312>0,Table1[[#This Row],[Column4]],IF(X3312>0,\"1000\")))","v":false}]
[null,null,null,null,null,null,null,null,null,null,null,null,null,null,null,null,0,null,null,null,null,null,null,null,{"$f":"IF(Table1[[#This Row],[Wage differential Bonus                            - NotePay Rate you are bonusing to]]>0, Table1[[#This Row],[Wage differential Bonus                            - NotePay Rate you are bonusing to]]-Table1[[#This Row],[Pay Rate]], \"\")","v":""},{"$f":"IF(Table1[[#This Row],[Wage differential Bonus                            - NotePay Rate you are bonusing to]]>0,Table1[[#This Row],[Bonus Rate]]*Table1[[#This Row],[Hours]],\"\")","v":""},null,null,null,null,null,{"$f":"IF(OR(AH3313>0.001,AH3313<-0.001),Table1[[#This Row],[Employee '#]],\" \")","v":" "},false,{"$f":"SUMIF(Table1[[#This Row],[Total Wage Diff bonus]:[Bank Bonus]],\"<> \")","v":0},{"$f":"IF(AA3313>0, Table1[[#This Row],[Column4]], IF(AB3313>0,Table1[[#This Row],[Column4]],IF(X3313>0,\"1000\")))","v":false}]
[null,null,null,null,null,null,null,null,null,null,null,null,null,null,null,null,0,null,null,null,null,null,null,null,{"$f":"IF(Table1[[#This Row],[Wage differential Bonus                            - NotePay Rate you are bonusing to]]>0, Table1[[#This Row],[Wage differential Bonus                            - NotePay Rate you are bonusing to]]-Table1[[#This Row],[Pay Rate]], \"\")","v":""},{"$f":"IF(Table1[[#This Row],[Wage differential Bonus                            - NotePay Rate you are bonusing to]]>0,Table1[[#This Row],[Bonus Rate]]*Table1[[#This Row],[Hours]],\"\")","v":""},null,null,null,null,null,{"$f":"IF(OR(AH3314>0.001,AH3314<-0.001),Table1[[#This Row],[Employee '#]],\" \")","v":" "},false,{"$f":"SUMIF(Table1[[#This Row],[Total Wage Diff bonus]:[Bank Bonus]],\"<> \")","v":0},{"$f":"IF(AA3314>0, Table1[[#This Row],[Column4]], IF(AB3314>0,Table1[[#This Row],[Column4]],IF(X3314>0,\"1000\")))","v":false}]
[null,null,null,null,null,null,null,null,null,null,null,null,null,null,null,null,0,null,null,null,null,null,null,null,{"$f":"IF(Table1[[#This Row],[Wage differential Bonus                            - NotePay Rate you are bonusing to]]>0, Table1[[#This Row],[Wage differential Bonus                            - NotePay Rate you are bonusing to]]-Table1[[#This Row],[Pay Rate]], \"\")","v":""},{"$f":"IF(Table1[[#This Row],[Wage differential Bonus                            - NotePay Rate you are bonusing to]]>0,Table1[[#This Row],[Bonus Rate]]*Table1[[#This Row],[Hours]],\"\")","v":""},null,null,null,null,null,{"$f":"IF(OR(AH3315>0.001,AH3315<-0.001),Table1[[#This Row],[Employee '#]],\" \")","v":" "},false,{"$f":"SUMIF(Table1[[#This Row],[Total Wage Diff bonus]:[Bank Bonus]],\"<> \")","v":0},{"$f":"IF(AA3315>0, Table1[[#This Row],[Column4]], IF(AB3315>0,Table1[[#This Row],[Column4]],IF(X3315>0,\"1000\")))","v":false}]
[null,null,null,null,null,null,null,null,null,null,null,null,null,null,null,null,0,null,null,null,null,null,null,null,{"$f":"IF(Table1[[#This Row],[Wage differential Bonus                            - NotePay Rate you are bonusing to]]>0, Table1[[#This Row],[Wage differential Bonus                            - NotePay Rate you are bonusing to]]-Table1[[#This Row],[Pay Rate]], \"\")","v":""},{"$f":"IF(Table1[[#This Row],[Wage differential Bonus                            - NotePay Rate you are bonusing to]]>0,Table1[[#This Row],[Bonus Rate]]*Table1[[#This Row],[Hours]],\"\")","v":""},null,null,null,null,null,{"$f":"IF(OR(AH3316>0.001,AH3316<-0.001),Table1[[#This Row],[Employee '#]],\" \")","v":" "},false,{"$f":"SUMIF(Table1[[#This Row],[Total Wage Diff bonus]:[Bank Bonus]],\"<> \")","v":0},{"$f":"IF(AA3316>0, Table1[[#This Row],[Column4]], IF(AB3316>0,Table1[[#This Row],[Column4]],IF(X3316>0,\"1000\")))","v":false}]
[null,null,null,null,null,null,null,null,null,null,null,null,null,null,null,null,0,null,null,null,null,null,null,null,{"$f":"IF(Table1[[#This Row],[Wage differential Bonus                            - NotePay Rate you are bonusing to]]>0, Table1[[#This Row],[Wage differential Bonus                            - NotePay Rate you are bonusing to]]-Table1[[#This Row],[Pay Rate]], \"\")","v":""},{"$f":"IF(Table1[[#This Row],[Wage differential Bonus                            - NotePay Rate you are bonusing to]]>0,Table1[[#This Row],[Bonus Rate]]*Table1[[#This Row],[Hours]],\"\")","v":""},null,null,null,null,null,{"$f":"IF(OR(AH3317>0.001,AH3317<-0.001),Table1[[#This Row],[Employee '#]],\" \")","v":" "},false,{"$f":"SUMIF(Table1[[#This Row],[Total Wage Diff bonus]:[Bank Bonus]],\"<> \")","v":0},{"$f":"IF(AA3317>0, Table1[[#This Row],[Column4]], IF(AB3317>0,Table1[[#This Row],[Column4]],IF(X3317>0,\"1000\")))","v":false}]
[null,null,null,null,null,null,null,null,null,null,null,null,null,null,null,null,0,null,null,null,null,null,null,null,{"$f":"IF(Table1[[#This Row],[Wage differential Bonus                            - NotePay Rate you are bonusing to]]>0, Table1[[#This Row],[Wage differential Bonus                            - NotePay Rate you are bonusing to]]-Table1[[#This Row],[Pay Rate]], \"\")","v":""},{"$f":"IF(Table1[[#This Row],[Wage differential Bonus                            - NotePay Rate you are bonusing to]]>0,Table1[[#This Row],[Bonus Rate]]*Table1[[#This Row],[Hours]],\"\")","v":""},null,null,null,null,null,{"$f":"IF(OR(AH3318>0.001,AH3318<-0.001),Table1[[#This Row],[Employee '#]],\" \")","v":" "},false,{"$f":"SUMIF(Table1[[#This Row],[Total Wage Diff bonus]:[Bank Bonus]],\"<> \")","v":0},{"$f":"IF(AA3318>0, Table1[[#This Row],[Column4]], IF(AB3318>0,Table1[[#This Row],[Column4]],IF(X3318>0,\"1000\")))","v":false}]
[null,null,null,null,null,null,null,null,null,null,null,null,null,null,null,null,{"$f":"L3319+P3319","v":0},null,null,null,null,null,null,null,{"$f":"IF(Table1[[#This Row],[Wage differential Bonus                            - NotePay Rate you are bonusing to]]>0, Table1[[#This Row],[Wage differential Bonus                            - NotePay Rate you are bonusing to]]-Table1[[#This Row],[Pay Rate]], \"\")","v":""},{"$f":"IF(Table1[[#This Row],[Wage differential Bonus                            - NotePay Rate you are bonusing to]]>0,Table1[[#This Row],[Bonus Rate]]*Table1[[#This Row],[Hours]],\"\")","v":""},null,null,null,null,null,{"$f":"IF(OR(AH3319>0.001,AH3319<-0.001),Table1[[#This Row],[Employee '#]],\" \")","v":" "},{"$f":"IF(AA3319>0, \"28\", IF(AB3319>0,\"53\",IF(X3319>0,\"20\")))","v":false},{"$f":"SUMIF(Table1[[#This Row],[Total Wage Diff bonus]:[Bank Bonus]],\"<> \")","v":0},{"$f":"IF(AA3319>0, Table1[[#This Row],[Column4]], IF(AB3319>0,Table1[[#This Row],[Column4]],IF(X3319>0,\"1000\")))","v":false}]
[null,null,null,null,null,null,null,null,null,null,null,null,null,null,null,null,0,null,null,null,null,null,null,null,{"$f":"IF(Table1[[#This Row],[Wage differential Bonus                            - NotePay Rate you are bonusing to]]>0, Table1[[#This Row],[Wage differential Bonus                            - NotePay Rate you are bonusing to]]-Table1[[#This Row],[Pay Rate]], \"\")","v":""},{"$f":"IF(Table1[[#This Row],[Wage differential Bonus                            - NotePay Rate you are bonusing to]]>0,Table1[[#This Row],[Bonus Rate]]*Table1[[#This Row],[Hours]],\"\")","v":""},null,null,null,null,null,{"$f":"IF(OR(AH3320>0.001,AH3320<-0.001),Table1[[#This Row],[Employee '#]],\" \")","v":" "},false,{"$f":"SUMIF(Table1[[#This Row],[Total Wage Diff bonus]:[Bank Bonus]],\"<> \")","v":0},{"$f":"IF(AA3320>0, Table1[[#This Row],[Column4]], IF(AB3320>0,Table1[[#This Row],[Column4]],IF(X3320>0,\"1000\")))","v":false}]
[null,null,null,null,null,null,null,null,null,null,null,null,null,null,null,null,0,null,null,null,null,null,null,null,{"$f":"IF(Table1[[#This Row],[Wage differential Bonus                            - NotePay Rate you are bonusing to]]>0, Table1[[#This Row],[Wage differential Bonus                            - NotePay Rate you are bonusing to]]-Table1[[#This Row],[Pay Rate]], \"\")","v":""},{"$f":"IF(Table1[[#This Row],[Wage differential Bonus                            - NotePay Rate you are bonusing to]]>0,Table1[[#This Row],[Bonus Rate]]*Table1[[#This Row],[Hours]],\"\")","v":""},null,null,null,null,null,{"$f":"IF(OR(AH3321>0.001,AH3321<-0.001),Table1[[#This Row],[Employee '#]],\" \")","v":" "},false,{"$f":"SUMIF(Table1[[#This Row],[Total Wage Diff bonus]:[Bank Bonus]],\"<> \")","v":0},{"$f":"IF(AA3321>0, Table1[[#This Row],[Column4]], IF(AB3321>0,Table1[[#This Row],[Column4]],IF(X3321>0,\"1000\")))","v":false}]
[null,null,null,null,null,null,null,null,null,null,null,null,null,null,null,null,0,null,null,null,null,null,null,null,{"$f":"IF(Table1[[#This Row],[Wage differential Bonus                            - NotePay Rate you are bonusing to]]>0, Table1[[#This Row],[Wage differential Bonus                            - NotePay Rate you are bonusing to]]-Table1[[#This Row],[Pay Rate]], \"\")","v":""},{"$f":"IF(Table1[[#This Row],[Wage differential Bonus                            - NotePay Rate you are bonusing to]]>0,Table1[[#This Row],[Bonus Rate]]*Table1[[#This Row],[Hours]],\"\")","v":""},null,null,null,null,null,{"$f":"IF(OR(AH3322>0.001,AH3322<-0.001),Table1[[#This Row],[Employee '#]],\" \")","v":" "},false,{"$f":"SUMIF(Table1[[#This Row],[Total Wage Diff bonus]:[Bank Bonus]],\"<> \")","v":0},{"$f":"IF(AA3322>0, Table1[[#This Row],[Column4]], IF(AB3322>0,Table1[[#This Row],[Column4]],IF(X3322>0,\"1000\")))","v":false}]
[null,null,null,null,null,null,null,null,null,null,null,null,null,null,null,null,0,null,null,null,null,null,null,null,{"$f":"IF(Table1[[#This Row],[Wage differential Bonus                            - NotePay Rate you are bonusing to]]>0, Table1[[#This Row],[Wage differential Bonus                            - NotePay Rate you are bonusing to]]-Table1[[#This Row],[Pay Rate]], \"\")","v":""},{"$f":"IF(Table1[[#This Row],[Wage differential Bonus                            - NotePay Rate you are bonusing to]]>0,Table1[[#This Row],[Bonus Rate]]*Table1[[#This Row],[Hours]],\"\")","v":""},null,null,null,null,null,{"$f":"IF(OR(AH3323>0.001,AH3323<-0.001),Table1[[#This Row],[Employee '#]],\" \")","v":" "},false,{"$f":"SUMIF(Table1[[#This Row],[Total Wage Diff bonus]:[Bank Bonus]],\"<> \")","v":0},{"$f":"IF(AA3323>0, Table1[[#This Row],[Column4]], IF(AB3323>0,Table1[[#This Row],[Column4]],IF(X3323>0,\"1000\")))","v":false}]
[null,null,null,null,null,null,null,null,null,null,null,null,null,null,null,null,0,null,null,null,null,null,null,null,{"$f":"IF(Table1[[#This Row],[Wage differential Bonus                            - NotePay Rate you are bonusing to]]>0, Table1[[#This Row],[Wage differential Bonus                            - NotePay Rate you are bonusing to]]-Table1[[#This Row],[Pay Rate]], \"\")","v":""},{"$f":"IF(Table1[[#This Row],[Wage differential Bonus                            - NotePay Rate you are bonusing to]]>0,Table1[[#This Row],[Bonus Rate]]*Table1[[#This Row],[Hours]],\"\")","v":""},null,null,null,null,null,{"$f":"IF(OR(AH3324>0.001,AH3324<-0.001),Table1[[#This Row],[Employee '#]],\" \")","v":" "},false,{"$f":"SUMIF(Table1[[#This Row],[Total Wage Diff bonus]:[Bank Bonus]],\"<> \")","v":0},{"$f":"IF(AA3324>0, Table1[[#This Row],[Column4]], IF(AB3324>0,Table1[[#This Row],[Column4]],IF(X3324>0,\"1000\")))","v":false}]
[null,null,null,null,null,null,null,null,null,null,null,null,null,null,null,null,0,null,null,null,null,null,null,null,{"$f":"IF(Table1[[#This Row],[Wage differential Bonus                            - NotePay Rate you are bonusing to]]>0, Table1[[#This Row],[Wage differential Bonus                            - NotePay Rate you are bonusing to]]-Table1[[#This Row],[Pay Rate]], \"\")","v":""},{"$f":"IF(Table1[[#This Row],[Wage differential Bonus                            - NotePay Rate you are bonusing to]]>0,Table1[[#This Row],[Bonus Rate]]*Table1[[#This Row],[Hours]],\"\")","v":""},null,null,null,null,null,{"$f":"IF(OR(AH3325>0.001,AH3325<-0.001),Table1[[#This Row],[Employee '#]],\" \")","v":" "},false,{"$f":"SUMIF(Table1[[#This Row],[Total Wage Diff bonus]:[Bank Bonus]],\"<> \")","v":0},{"$f":"IF(AA3325>0, Table1[[#This Row],[Column4]], IF(AB3325>0,Table1[[#This Row],[Column4]],IF(X3325>0,\"1000\")))","v":false}]
[null,null,null,null,null,null,null,null,null,null,null,null,null,null,null,null,0,null,null,null,null,null,null,null,{"$f":"IF(Table1[[#This Row],[Wage differential Bonus                            - NotePay Rate you are bonusing to]]>0, Table1[[#This Row],[Wage differential Bonus                            - NotePay Rate you are bonusing to]]-Table1[[#This Row],[Pay Rate]], \"\")","v":""},{"$f":"IF(Table1[[#This Row],[Wage differential Bonus                            - NotePay Rate you are bonusing to]]>0,Table1[[#This Row],[Bonus Rate]]*Table1[[#This Row],[Hours]],\"\")","v":""},null,null,null,null,null,{"$f":"IF(OR(AH3326>0.001,AH3326<-0.001),Table1[[#This Row],[Employee '#]],\" \")","v":" "},false,{"$f":"SUMIF(Table1[[#This Row],[Total Wage Diff bonus]:[Bank Bonus]],\"<> \")","v":0},{"$f":"IF(AA3326>0, Table1[[#This Row],[Column4]], IF(AB3326>0,Table1[[#This Row],[Column4]],IF(X3326>0,\"1000\")))","v":false}]
[null,null,null,null,null,null,null,null,null,null,null,null,null,null,null,null,0,null,null,null,null,null,null,null,{"$f":"IF(Table1[[#This Row],[Wage differential Bonus                            - NotePay Rate you are bonusing to]]>0, Table1[[#This Row],[Wage differential Bonus                            - NotePay Rate you are bonusing to]]-Table1[[#This Row],[Pay Rate]], \"\")","v":""},{"$f":"IF(Table1[[#This Row],[Wage differential Bonus                            - NotePay Rate you are bonusing to]]>0,Table1[[#This Row],[Bonus Rate]]*Table1[[#This Row],[Hours]],\"\")","v":""},null,null,null,null,null,{"$f":"IF(OR(AH3327>0.001,AH3327<-0.001),Table1[[#This Row],[Employee '#]],\" \")","v":" "},false,{"$f":"SUMIF(Table1[[#This Row],[Total Wage Diff bonus]:[Bank Bonus]],\"<> \")","v":0},{"$f":"IF(AA3327>0, Table1[[#This Row],[Column4]], IF(AB3327>0,Table1[[#This Row],[Column4]],IF(X3327>0,\"1000\")))","v":false}]
[null,null,null,null,null,null,null,null,null,null,null,null,null,null,null,null,0,null,null,null,null,null,null,null,{"$f":"IF(Table1[[#This Row],[Wage differential Bonus                            - NotePay Rate you are bonusing to]]>0, Table1[[#This Row],[Wage differential Bonus                            - NotePay Rate you are bonusing to]]-Table1[[#This Row],[Pay Rate]], \"\")","v":""},{"$f":"IF(Table1[[#This Row],[Wage differential Bonus                            - NotePay Rate you are bonusing to]]>0,Table1[[#This Row],[Bonus Rate]]*Table1[[#This Row],[Hours]],\"\")","v":""},null,null,null,null,null,{"$f":"IF(OR(AH3328>0.001,AH3328<-0.001),Table1[[#This Row],[Employee '#]],\" \")","v":" "},false,{"$f":"SUMIF(Table1[[#This Row],[Total Wage Diff bonus]:[Bank Bonus]],\"<> \")","v":0},{"$f":"IF(AA3328>0, Table1[[#This Row],[Column4]], IF(AB3328>0,Table1[[#This Row],[Column4]],IF(X3328>0,\"1000\")))","v":false}]
[null,null,null,null,null,null,null,null,null,null,null,null,null,null,null,null,0,null,null,null,null,null,null,null,{"$f":"IF(Table1[[#This Row],[Wage differential Bonus                            - NotePay Rate you are bonusing to]]>0, Table1[[#This Row],[Wage differential Bonus                            - NotePay Rate you are bonusing to]]-Table1[[#This Row],[Pay Rate]], \"\")","v":""},{"$f":"IF(Table1[[#This Row],[Wage differential Bonus                            - NotePay Rate you are bonusing to]]>0,Table1[[#This Row],[Bonus Rate]]*Table1[[#This Row],[Hours]],\"\")","v":""},null,null,null,null,null,{"$f":"IF(OR(AH3329>0.001,AH3329<-0.001),Table1[[#This Row],[Employee '#]],\" \")","v":" "},false,{"$f":"SUMIF(Table1[[#This Row],[Total Wage Diff bonus]:[Bank Bonus]],\"<> \")","v":0},{"$f":"IF(AA3329>0, Table1[[#This Row],[Column4]], IF(AB3329>0,Table1[[#This Row],[Column4]],IF(X3329>0,\"1000\")))","v":false}]
[null,null,null,null,null,null,null,null,null,null,null,null,null,null,null,null,0,null,null,null,null,null,null,null,{"$f":"IF(Table1[[#This Row],[Wage differential Bonus                            - NotePay Rate you are bonusing to]]>0, Table1[[#This Row],[Wage differential Bonus                            - NotePay Rate you are bonusing to]]-Table1[[#This Row],[Pay Rate]], \"\")","v":""},{"$f":"IF(Table1[[#This Row],[Wage differential Bonus                            - NotePay Rate you are bonusing to]]>0,Table1[[#This Row],[Bonus Rate]]*Table1[[#This Row],[Hours]],\"\")","v":""},null,null,null,null,null,{"$f":"IF(OR(AH3330>0.001,AH3330<-0.001),Table1[[#This Row],[Employee '#]],\" \")","v":" "},false,{"$f":"SUMIF(Table1[[#This Row],[Total Wage Diff bonus]:[Bank Bonus]],\"<> \")","v":0},{"$f":"IF(AA3330>0, Table1[[#This Row],[Column4]], IF(AB3330>0,Table1[[#This Row],[Column4]],IF(X3330>0,\"1000\")))","v":false}]
[null,null,null,null,null,null,null,null,null,null,null,null,null,null,null,null,0,null,null,null,null,null,null,null,{"$f":"IF(Table1[[#This Row],[Wage differential Bonus                            - NotePay Rate you are bonusing to]]>0, Table1[[#This Row],[Wage differential Bonus                            - NotePay Rate you are bonusing to]]-Table1[[#This Row],[Pay Rate]], \"\")","v":""},{"$f":"IF(Table1[[#This Row],[Wage differential Bonus                            - NotePay Rate you are bonusing to]]>0,Table1[[#This Row],[Bonus Rate]]*Table1[[#This Row],[Hours]],\"\")","v":""},null,null,null,null,null,{"$f":"IF(OR(AH3331>0.001,AH3331<-0.001),Table1[[#This Row],[Employee '#]],\" \")","v":" "},false,{"$f":"SUMIF(Table1[[#This Row],[Total Wage Diff bonus]:[Bank Bonus]],\"<> \")","v":0},{"$f":"IF(AA3331>0, Table1[[#This Row],[Column4]], IF(AB3331>0,Table1[[#This Row],[Column4]],IF(X3331>0,\"1000\")))","v":false}]
[null,null,null,null,null,null,null,null,null,null,null,null,null,null,null,null,0,null,null,null,null,null,null,null,{"$f":"IF(Table1[[#This Row],[Wage differential Bonus                            - NotePay Rate you are bonusing to]]>0, Table1[[#This Row],[Wage differential Bonus                            - NotePay Rate you are bonusing to]]-Table1[[#This Row],[Pay Rate]], \"\")","v":""},{"$f":"IF(Table1[[#This Row],[Wage differential Bonus                            - NotePay Rate you are bonusing to]]>0,Table1[[#This Row],[Bonus Rate]]*Table1[[#This Row],[Hours]],\"\")","v":""},null,null,null,null,null,{"$f":"IF(OR(AH3332>0.001,AH3332<-0.001),Table1[[#This Row],[Employee '#]],\" \")","v":" "},false,{"$f":"SUMIF(Table1[[#This Row],[Total Wage Diff bonus]:[Bank Bonus]],\"<> \")","v":0},{"$f":"IF(AA3332>0, Table1[[#This Row],[Column4]], IF(AB3332>0,Table1[[#This Row],[Column4]],IF(X3332>0,\"1000\")))","v":false}]
[null,null,null,null,null,null,null,null,null,null,null,null,null,null,null,null,0,null,null,null,null,null,null,null,{"$f":"IF(Table1[[#This Row],[Wage differential Bonus                            - NotePay Rate you are bonusing to]]>0, Table1[[#This Row],[Wage differential Bonus                            - NotePay Rate you are bonusing to]]-Table1[[#This Row],[Pay Rate]], \"\")","v":""},{"$f":"IF(Table1[[#This Row],[Wage differential Bonus                            - NotePay Rate you are bonusing to]]>0,Table1[[#This Row],[Bonus Rate]]*Table1[[#This Row],[Hours]],\"\")","v":""},null,null,null,null,null,{"$f":"IF(OR(AH3333>0.001,AH3333<-0.001),Table1[[#This Row],[Employee '#]],\" \")","v":" "},false,{"$f":"SUMIF(Table1[[#This Row],[Total Wage Diff bonus]:[Bank Bonus]],\"<> \")","v":0},{"$f":"IF(AA3333>0, Table1[[#This Row],[Column4]], IF(AB3333>0,Table1[[#This Row],[Column4]],IF(X3333>0,\"1000\")))","v":false}]
[null,null,null,null,null,null,null,null,null,null,null,null,null,null,null,null,0,null,null,null,null,null,null,null,{"$f":"IF(Table1[[#This Row],[Wage differential Bonus                            - NotePay Rate you are bonusing to]]>0, Table1[[#This Row],[Wage differential Bonus                            - NotePay Rate you are bonusing to]]-Table1[[#This Row],[Pay Rate]], \"\")","v":""},{"$f":"IF(Table1[[#This Row],[Wage differential Bonus                            - NotePay Rate you are bonusing to]]>0,Table1[[#This Row],[Bonus Rate]]*Table1[[#This Row],[Hours]],\"\")","v":""},null,null,null,null,null,{"$f":"IF(OR(AH3334>0.001,AH3334<-0.001),Table1[[#This Row],[Employee '#]],\" \")","v":" "},false,{"$f":"SUMIF(Table1[[#This Row],[Total Wage Diff bonus]:[Bank Bonus]],\"<> \")","v":0},{"$f":"IF(AA3334>0, Table1[[#This Row],[Column4]], IF(AB3334>0,Table1[[#This Row],[Column4]],IF(X3334>0,\"1000\")))","v":false}]
[null,null,null,null,null,null,null,null,null,null,null,null,null,null,null,null,0,null,null,null,null,null,null,null,{"$f":"IF(Table1[[#This Row],[Wage differential Bonus                            - NotePay Rate you are bonusing to]]>0, Table1[[#This Row],[Wage differential Bonus                            - NotePay Rate you are bonusing to]]-Table1[[#This Row],[Pay Rate]], \"\")","v":""},{"$f":"IF(Table1[[#This Row],[Wage differential Bonus                            - NotePay Rate you are bonusing to]]>0,Table1[[#This Row],[Bonus Rate]]*Table1[[#This Row],[Hours]],\"\")","v":""},null,null,null,null,null,{"$f":"IF(OR(AH3335>0.001,AH3335<-0.001),Table1[[#This Row],[Employee '#]],\" \")","v":" "},false,{"$f":"SUMIF(Table1[[#This Row],[Total Wage Diff bonus]:[Bank Bonus]],\"<> \")","v":0},{"$f":"IF(AA3335>0, Table1[[#This Row],[Column4]], IF(AB3335>0,Table1[[#This Row],[Column4]],IF(X3335>0,\"1000\")))","v":false}]
[null,null,null,null,null,null,null,null,null,null,null,null,null,null,null,null,0,null,null,null,null,null,null,null,{"$f":"IF(Table1[[#This Row],[Wage differential Bonus                            - NotePay Rate you are bonusing to]]>0, Table1[[#This Row],[Wage differential Bonus                            - NotePay Rate you are bonusing to]]-Table1[[#This Row],[Pay Rate]], \"\")","v":""},{"$f":"IF(Table1[[#This Row],[Wage differential Bonus                            - NotePay Rate you are bonusing to]]>0,Table1[[#This Row],[Bonus Rate]]*Table1[[#This Row],[Hours]],\"\")","v":""},null,null,null,null,null,{"$f":"IF(OR(AH3336>0.001,AH3336<-0.001),Table1[[#This Row],[Employee '#]],\" \")","v":" "},false,{"$f":"SUMIF(Table1[[#This Row],[Total Wage Diff bonus]:[Bank Bonus]],\"<> \")","v":0},{"$f":"IF(AA3336>0, Table1[[#This Row],[Column4]], IF(AB3336>0,Table1[[#This Row],[Column4]],IF(X3336>0,\"1000\")))","v":false}]
[null,null,null,null,null,null,null,null,null,null,null,null,null,null,null,null,0,null,null,null,null,null,null,null,{"$f":"IF(Table1[[#This Row],[Wage differential Bonus                            - NotePay Rate you are bonusing to]]>0, Table1[[#This Row],[Wage differential Bonus                            - NotePay Rate you are bonusing to]]-Table1[[#This Row],[Pay Rate]], \"\")","v":""},{"$f":"IF(Table1[[#This Row],[Wage differential Bonus                            - NotePay Rate you are bonusing to]]>0,Table1[[#This Row],[Bonus Rate]]*Table1[[#This Row],[Hours]],\"\")","v":""},null,null,null,null,null,{"$f":"IF(OR(AH3337>0.001,AH3337<-0.001),Table1[[#This Row],[Employee '#]],\" \")","v":" "},false,{"$f":"SUMIF(Table1[[#This Row],[Total Wage Diff bonus]:[Bank Bonus]],\"<> \")","v":0},{"$f":"IF(AA3337>0, Table1[[#This Row],[Column4]], IF(AB3337>0,Table1[[#This Row],[Column4]],IF(X3337>0,\"1000\")))","v":false}]
[null,null,null,null,null,null,null,null,null,null,null,null,null,null,null,null,0,null,null,null,null,null,null,null,{"$f":"IF(Table1[[#This Row],[Wage differential Bonus                            - NotePay Rate you are bonusing to]]>0, Table1[[#This Row],[Wage differential Bonus                            - NotePay Rate you are bonusing to]]-Table1[[#This Row],[Pay Rate]], \"\")","v":""},{"$f":"IF(Table1[[#This Row],[Wage differential Bonus                            - NotePay Rate you are bonusing to]]>0,Table1[[#This Row],[Bonus Rate]]*Table1[[#This Row],[Hours]],\"\")","v":""},null,null,null,null,null,{"$f":"IF(OR(AH3338>0.001,AH3338<-0.001),Table1[[#This Row],[Employee '#]],\" \")","v":" "},false,{"$f":"SUMIF(Table1[[#This Row],[Total Wage Diff bonus]:[Bank Bonus]],\"<> \")","v":0},{"$f":"IF(AA3338>0, Table1[[#This Row],[Column4]], IF(AB3338>0,Table1[[#This Row],[Column4]],IF(X3338>0,\"1000\")))","v":false}]
[null,null,null,null,null,null,null,null,null,null,null,null,null,null,null,null,0,null,null,null,null,null,null,null,{"$f":"IF(Table1[[#This Row],[Wage differential Bonus                            - NotePay Rate you are bonusing to]]>0, Table1[[#This Row],[Wage differential Bonus                            - NotePay Rate you are bonusing to]]-Table1[[#This Row],[Pay Rate]], \"\")","v":""},{"$f":"IF(Table1[[#This Row],[Wage differential Bonus                            - NotePay Rate you are bonusing to]]>0,Table1[[#This Row],[Bonus Rate]]*Table1[[#This Row],[Hours]],\"\")","v":""},null,null,null,null,null,{"$f":"IF(OR(AH3339>0.001,AH3339<-0.001),Table1[[#This Row],[Employee '#]],\" \")","v":" "},false,{"$f":"SUMIF(Table1[[#This Row],[Total Wage Diff bonus]:[Bank Bonus]],\"<> \")","v":0},{"$f":"IF(AA3339>0, Table1[[#This Row],[Column4]], IF(AB3339>0,Table1[[#This Row],[Column4]],IF(X3339>0,\"1000\")))","v":false}]
[null,null,null,null,null,null,null,null,null,null,null,null,null,null,null,null,0,null,null,null,null,null,null,null,{"$f":"IF(Table1[[#This Row],[Wage differential Bonus                            - NotePay Rate you are bonusing to]]>0, Table1[[#This Row],[Wage differential Bonus                            - NotePay Rate you are bonusing to]]-Table1[[#This Row],[Pay Rate]], \"\")","v":""},{"$f":"IF(Table1[[#This Row],[Wage differential Bonus                            - NotePay Rate you are bonusing to]]>0,Table1[[#This Row],[Bonus Rate]]*Table1[[#This Row],[Hours]],\"\")","v":""},null,null,null,null,null,{"$f":"IF(OR(AH3340>0.001,AH3340<-0.001),Table1[[#This Row],[Employee '#]],\" \")","v":" "},false,{"$f":"SUMIF(Table1[[#This Row],[Total Wage Diff bonus]:[Bank Bonus]],\"<> \")","v":0},{"$f":"IF(AA3340>0, Table1[[#This Row],[Column4]], IF(AB3340>0,Table1[[#This Row],[Column4]],IF(X3340>0,\"1000\")))","v":false}]
[null,null,null,null,null,null,null,null,null,null,null,null,null,null,null,null,0,null,null,null,null,null,null,null,{"$f":"IF(Table1[[#This Row],[Wage differential Bonus                            - NotePay Rate you are bonusing to]]>0, Table1[[#This Row],[Wage differential Bonus                            - NotePay Rate you are bonusing to]]-Table1[[#This Row],[Pay Rate]], \"\")","v":""},{"$f":"IF(Table1[[#This Row],[Wage differential Bonus                            - NotePay Rate you are bonusing to]]>0,Table1[[#This Row],[Bonus Rate]]*Table1[[#This Row],[Hours]],\"\")","v":""},null,null,null,null,null,{"$f":"IF(OR(AH3341>0.001,AH3341<-0.001),Table1[[#This Row],[Employee '#]],\" \")","v":" "},false,{"$f":"SUMIF(Table1[[#This Row],[Total Wage Diff bonus]:[Bank Bonus]],\"<> \")","v":0},{"$f":"IF(AA3341>0, Table1[[#This Row],[Column4]], IF(AB3341>0,Table1[[#This Row],[Column4]],IF(X3341>0,\"1000\")))","v":false}]
[null,null,null,null,null,null,null,null,null,null,null,null,null,null,null,null,0,null,null,null,null,null,null,null,{"$f":"IF(Table1[[#This Row],[Wage differential Bonus                            - NotePay Rate you are bonusing to]]>0, Table1[[#This Row],[Wage differential Bonus                            - NotePay Rate you are bonusing to]]-Table1[[#This Row],[Pay Rate]], \"\")","v":""},{"$f":"IF(Table1[[#This Row],[Wage differential Bonus                            - NotePay Rate you are bonusing to]]>0,Table1[[#This Row],[Bonus Rate]]*Table1[[#This Row],[Hours]],\"\")","v":""},null,null,null,null,null,{"$f":"IF(OR(AH3342>0.001,AH3342<-0.001),Table1[[#This Row],[Employee '#]],\" \")","v":" "},false,{"$f":"SUMIF(Table1[[#This Row],[Total Wage Diff bonus]:[Bank Bonus]],\"<> \")","v":0},{"$f":"IF(AA3342>0, Table1[[#This Row],[Column4]], IF(AB3342>0,Table1[[#This Row],[Column4]],IF(X3342>0,\"1000\")))","v":false}]
[null,null,null,null,null,null,null,null,null,null,null,null,null,null,null,null,0,null,null,null,null,null,null,null,{"$f":"IF(Table1[[#This Row],[Wage differential Bonus                            - NotePay Rate you are bonusing to]]>0, Table1[[#This Row],[Wage differential Bonus                            - NotePay Rate you are bonusing to]]-Table1[[#This Row],[Pay Rate]], \"\")","v":""},{"$f":"IF(Table1[[#This Row],[Wage differential Bonus                            - NotePay Rate you are bonusing to]]>0,Table1[[#This Row],[Bonus Rate]]*Table1[[#This Row],[Hours]],\"\")","v":""},null,null,null,null,null,{"$f":"IF(OR(AH3343>0.001,AH3343<-0.001),Table1[[#This Row],[Employee '#]],\" \")","v":" "},false,{"$f":"SUMIF(Table1[[#This Row],[Total Wage Diff bonus]:[Bank Bonus]],\"<> \")","v":0},{"$f":"IF(AA3343>0, Table1[[#This Row],[Column4]], IF(AB3343>0,Table1[[#This Row],[Column4]],IF(X3343>0,\"1000\")))","v":false}]
[null,null,null,null,null,null,null,null,null,null,null,null,null,null,null,null,0,null,null,null,null,null,null,null,{"$f":"IF(Table1[[#This Row],[Wage differential Bonus                            - NotePay Rate you are bonusing to]]>0, Table1[[#This Row],[Wage differential Bonus                            - NotePay Rate you are bonusing to]]-Table1[[#This Row],[Pay Rate]], \"\")","v":""},{"$f":"IF(Table1[[#This Row],[Wage differential Bonus                            - NotePay Rate you are bonusing to]]>0,Table1[[#This Row],[Bonus Rate]]*Table1[[#This Row],[Hours]],\"\")","v":""},null,null,null,null,null,{"$f":"IF(OR(AH3344>0.001,AH3344<-0.001),Table1[[#This Row],[Employee '#]],\" \")","v":" "},false,{"$f":"SUMIF(Table1[[#This Row],[Total Wage Diff bonus]:[Bank Bonus]],\"<> \")","v":0},{"$f":"IF(AA3344>0, Table1[[#This Row],[Column4]], IF(AB3344>0,Table1[[#This Row],[Column4]],IF(X3344>0,\"1000\")))","v":false}]
[null,null,null,null,null,null,null,null,null,null,null,null,null,null,null,null,0,null,null,null,null,null,null,null,{"$f":"IF(Table1[[#This Row],[Wage differential Bonus                            - NotePay Rate you are bonusing to]]>0, Table1[[#This Row],[Wage differential Bonus                            - NotePay Rate you are bonusing to]]-Table1[[#This Row],[Pay Rate]], \"\")","v":""},{"$f":"IF(Table1[[#This Row],[Wage differential Bonus                            - NotePay Rate you are bonusing to]]>0,Table1[[#This Row],[Bonus Rate]]*Table1[[#This Row],[Hours]],\"\")","v":""},null,null,null,null,null,{"$f":"IF(OR(AH3345>0.001,AH3345<-0.001),Table1[[#This Row],[Employee '#]],\" \")","v":" "},false,{"$f":"SUMIF(Table1[[#This Row],[Total Wage Diff bonus]:[Bank Bonus]],\"<> \")","v":0},{"$f":"IF(AA3345>0, Table1[[#This Row],[Column4]], IF(AB3345>0,Table1[[#This Row],[Column4]],IF(X3345>0,\"1000\")))","v":false}]
[null,null,null,null,null,null,null,null,null,null,null,null,null,null,null,null,0,null,null,null,null,null,null,null,{"$f":"IF(Table1[[#This Row],[Wage differential Bonus                            - NotePay Rate you are bonusing to]]>0, Table1[[#This Row],[Wage differential Bonus                            - NotePay Rate you are bonusing to]]-Table1[[#This Row],[Pay Rate]], \"\")","v":""},{"$f":"IF(Table1[[#This Row],[Wage differential Bonus                            - NotePay Rate you are bonusing to]]>0,Table1[[#This Row],[Bonus Rate]]*Table1[[#This Row],[Hours]],\"\")","v":""},null,null,null,null,null,{"$f":"IF(OR(AH3346>0.001,AH3346<-0.001),Table1[[#This Row],[Employee '#]],\" \")","v":" "},false,{"$f":"SUMIF(Table1[[#This Row],[Total Wage Diff bonus]:[Bank Bonus]],\"<> \")","v":0},{"$f":"IF(AA3346>0, Table1[[#This Row],[Column4]], IF(AB3346>0,Table1[[#This Row],[Column4]],IF(X3346>0,\"1000\")))","v":false}]
[null,null,null,null,null,null,null,null,null,null,null,null,null,null,null,null,0,null,null,null,null,null,null,null,{"$f":"IF(Table1[[#This Row],[Wage differential Bonus                            - NotePay Rate you are bonusing to]]>0, Table1[[#This Row],[Wage differential Bonus                            - NotePay Rate you are bonusing to]]-Table1[[#This Row],[Pay Rate]], \"\")","v":""},{"$f":"IF(Table1[[#This Row],[Wage differential Bonus                            - NotePay Rate you are bonusing to]]>0,Table1[[#This Row],[Bonus Rate]]*Table1[[#This Row],[Hours]],\"\")","v":""},null,null,null,null,null,{"$f":"IF(OR(AH3347>0.001,AH3347<-0.001),Table1[[#This Row],[Employee '#]],\" \")","v":" "},false,{"$f":"SUMIF(Table1[[#This Row],[Total Wage Diff bonus]:[Bank Bonus]],\"<> \")","v":0},{"$f":"IF(AA3347>0, Table1[[#This Row],[Column4]], IF(AB3347>0,Table1[[#This Row],[Column4]],IF(X3347>0,\"1000\")))","v":false}]
[null,null,null,null,null,null,null,null,null,null,null,null,null,null,null,null,0,null,null,null,null,null,null,null,{"$f":"IF(Table1[[#This Row],[Wage differential Bonus                            - NotePay Rate you are bonusing to]]>0, Table1[[#This Row],[Wage differential Bonus                            - NotePay Rate you are bonusing to]]-Table1[[#This Row],[Pay Rate]], \"\")","v":""},{"$f":"IF(Table1[[#This Row],[Wage differential Bonus                            - NotePay Rate you are bonusing to]]>0,Table1[[#This Row],[Bonus Rate]]*Table1[[#This Row],[Hours]],\"\")","v":""},null,null,null,null,null,{"$f":"IF(OR(AH3348>0.001,AH3348<-0.001),Table1[[#This Row],[Employee '#]],\" \")","v":" "},false,{"$f":"SUMIF(Table1[[#This Row],[Total Wage Diff bonus]:[Bank Bonus]],\"<> \")","v":0},{"$f":"IF(AA3348>0, Table1[[#This Row],[Column4]], IF(AB3348>0,Table1[[#This Row],[Column4]],IF(X3348>0,\"1000\")))","v":false}]
[null,null,null,null,null,null,null,null,null,null,null,null,null,null,null,null,0,null,null,null,null,null,null,null,{"$f":"IF(Table1[[#This Row],[Wage differential Bonus                            - NotePay Rate you are bonusing to]]>0, Table1[[#This Row],[Wage differential Bonus                            - NotePay Rate you are bonusing to]]-Table1[[#This Row],[Pay Rate]], \"\")","v":""},{"$f":"IF(Table1[[#This Row],[Wage differential Bonus                            - NotePay Rate you are bonusing to]]>0,Table1[[#This Row],[Bonus Rate]]*Table1[[#This Row],[Hours]],\"\")","v":""},null,null,null,null,null,{"$f":"IF(OR(AH3349>0.001,AH3349<-0.001),Table1[[#This Row],[Employee '#]],\" \")","v":" "},false,{"$f":"SUMIF(Table1[[#This Row],[Total Wage Diff bonus]:[Bank Bonus]],\"<> \")","v":0},{"$f":"IF(AA3349>0, Table1[[#This Row],[Column4]], IF(AB3349>0,Table1[[#This Row],[Column4]],IF(X3349>0,\"1000\")))","v":false}]
[null,null,null,null,null,null,null,null,null,null,null,null,null,null,null,null,0,null,null,null,null,null,null,null,{"$f":"IF(Table1[[#This Row],[Wage differential Bonus                            - NotePay Rate you are bonusing to]]>0, Table1[[#This Row],[Wage differential Bonus                            - NotePay Rate you are bonusing to]]-Table1[[#This Row],[Pay Rate]], \"\")","v":""},{"$f":"IF(Table1[[#This Row],[Wage differential Bonus                            - NotePay Rate you are bonusing to]]>0,Table1[[#This Row],[Bonus Rate]]*Table1[[#This Row],[Hours]],\"\")","v":""},null,null,null,null,null,{"$f":"IF(OR(AH3350>0.001,AH3350<-0.001),Table1[[#This Row],[Employee '#]],\" \")","v":" "},false,{"$f":"SUMIF(Table1[[#This Row],[Total Wage Diff bonus]:[Bank Bonus]],\"<> \")","v":0},{"$f":"IF(AA3350>0, Table1[[#This Row],[Column4]], IF(AB3350>0,Table1[[#This Row],[Column4]],IF(X3350>0,\"1000\")))","v":false}]
[null,null,null,null,null,null,null,null,null,null,null,null,null,null,null,null,0,null,null,null,null,null,null,null,{"$f":"IF(Table1[[#This Row],[Wage differential Bonus                            - NotePay Rate you are bonusing to]]>0, Table1[[#This Row],[Wage differential Bonus                            - NotePay Rate you are bonusing to]]-Table1[[#This Row],[Pay Rate]], \"\")","v":""},{"$f":"IF(Table1[[#This Row],[Wage differential Bonus                            - NotePay Rate you are bonusing to]]>0,Table1[[#This Row],[Bonus Rate]]*Table1[[#This Row],[Hours]],\"\")","v":""},null,null,null,null,null,{"$f":"IF(OR(AH3351>0.001,AH3351<-0.001),Table1[[#This Row],[Employee '#]],\" \")","v":" "},false,{"$f":"SUMIF(Table1[[#This Row],[Total Wage Diff bonus]:[Bank Bonus]],\"<> \")","v":0},{"$f":"IF(AA3351>0, Table1[[#This Row],[Column4]], IF(AB3351>0,Table1[[#This Row],[Column4]],IF(X3351>0,\"1000\")))","v":false}]
[null,null,null,null,null,null,null,null,null,null,null,null,null,null,null,null,0,null,null,null,null,null,null,null,{"$f":"IF(Table1[[#This Row],[Wage differential Bonus                            - NotePay Rate you are bonusing to]]>0, Table1[[#This Row],[Wage differential Bonus                            - NotePay Rate you are bonusing to]]-Table1[[#This Row],[Pay Rate]], \"\")","v":""},{"$f":"IF(Table1[[#This Row],[Wage differential Bonus                            - NotePay Rate you are bonusing to]]>0,Table1[[#This Row],[Bonus Rate]]*Table1[[#This Row],[Hours]],\"\")","v":""},null,null,null,null,null,{"$f":"IF(OR(AH3352>0.001,AH3352<-0.001),Table1[[#This Row],[Employee '#]],\" \")","v":" "},false,{"$f":"SUMIF(Table1[[#This Row],[Total Wage Diff bonus]:[Bank Bonus]],\"<> \")","v":0},{"$f":"IF(AA3352>0, Table1[[#This Row],[Column4]], IF(AB3352>0,Table1[[#This Row],[Column4]],IF(X3352>0,\"1000\")))","v":false}]
[null,null,null,null,null,null,null,null,null,null,null,null,null,null,null,null,0,null,null,null,null,null,null,null,{"$f":"IF(Table1[[#This Row],[Wage differential Bonus                            - NotePay Rate you are bonusing to]]>0, Table1[[#This Row],[Wage differential Bonus                            - NotePay Rate you are bonusing to]]-Table1[[#This Row],[Pay Rate]], \"\")","v":""},{"$f":"IF(Table1[[#This Row],[Wage differential Bonus                            - NotePay Rate you are bonusing to]]>0,Table1[[#This Row],[Bonus Rate]]*Table1[[#This Row],[Hours]],\"\")","v":""},null,null,null,null,null,{"$f":"IF(OR(AH3353>0.001,AH3353<-0.001),Table1[[#This Row],[Employee '#]],\" \")","v":" "},false,{"$f":"SUMIF(Table1[[#This Row],[Total Wage Diff bonus]:[Bank Bonus]],\"<> \")","v":0},{"$f":"IF(AA3353>0, Table1[[#This Row],[Column4]], IF(AB3353>0,Table1[[#This Row],[Column4]],IF(X3353>0,\"1000\")))","v":false}]
[null,null,null,null,null,null,null,null,null,null,null,null,null,null,null,null,0,null,null,null,null,null,null,null,{"$f":"IF(Table1[[#This Row],[Wage differential Bonus                            - NotePay Rate you are bonusing to]]>0, Table1[[#This Row],[Wage differential Bonus                            - NotePay Rate you are bonusing to]]-Table1[[#This Row],[Pay Rate]], \"\")","v":""},{"$f":"IF(Table1[[#This Row],[Wage differential Bonus                            - NotePay Rate you are bonusing to]]>0,Table1[[#This Row],[Bonus Rate]]*Table1[[#This Row],[Hours]],\"\")","v":""},null,null,null,null,null,{"$f":"IF(OR(AH3354>0.001,AH3354<-0.001),Table1[[#This Row],[Employee '#]],\" \")","v":" "},false,{"$f":"SUMIF(Table1[[#This Row],[Total Wage Diff bonus]:[Bank Bonus]],\"<> \")","v":0},{"$f":"IF(AA3354>0, Table1[[#This Row],[Column4]], IF(AB3354>0,Table1[[#This Row],[Column4]],IF(X3354>0,\"1000\")))","v":false}]
[null,null,null,null,null,null,null,null,null,null,null,null,null,null,null,null,0,null,null,null,null,null,null,null,{"$f":"IF(Table1[[#This Row],[Wage differential Bonus                            - NotePay Rate you are bonusing to]]>0, Table1[[#This Row],[Wage differential Bonus                            - NotePay Rate you are bonusing to]]-Table1[[#This Row],[Pay Rate]], \"\")","v":""},{"$f":"IF(Table1[[#This Row],[Wage differential Bonus                            - NotePay Rate you are bonusing to]]>0,Table1[[#This Row],[Bonus Rate]]*Table1[[#This Row],[Hours]],\"\")","v":""},null,null,null,null,null,{"$f":"IF(OR(AH3355>0.001,AH3355<-0.001),Table1[[#This Row],[Employee '#]],\" \")","v":" "},false,{"$f":"SUMIF(Table1[[#This Row],[Total Wage Diff bonus]:[Bank Bonus]],\"<> \")","v":0},{"$f":"IF(AA3355>0, Table1[[#This Row],[Column4]], IF(AB3355>0,Table1[[#This Row],[Column4]],IF(X3355>0,\"1000\")))","v":false}]
[null,null,null,null,null,null,null,null,null,null,null,null,null,null,null,null,0,null,null,null,null,null,null,null,{"$f":"IF(Table1[[#This Row],[Wage differential Bonus                            - NotePay Rate you are bonusing to]]>0, Table1[[#This Row],[Wage differential Bonus                            - NotePay Rate you are bonusing to]]-Table1[[#This Row],[Pay Rate]], \"\")","v":""},{"$f":"IF(Table1[[#This Row],[Wage differential Bonus                            - NotePay Rate you are bonusing to]]>0,Table1[[#This Row],[Bonus Rate]]*Table1[[#This Row],[Hours]],\"\")","v":""},null,null,null,null,null,{"$f":"IF(OR(AH3356>0.001,AH3356<-0.001),Table1[[#This Row],[Employee '#]],\" \")","v":" "},false,{"$f":"SUMIF(Table1[[#This Row],[Total Wage Diff bonus]:[Bank Bonus]],\"<> \")","v":0},{"$f":"IF(AA3356>0, Table1[[#This Row],[Column4]], IF(AB3356>0,Table1[[#This Row],[Column4]],IF(X3356>0,\"1000\")))","v":false}]
[null,null,null,null,null,null,null,null,null,null,null,null,null,null,null,null,0,null,null,null,null,null,null,null,{"$f":"IF(Table1[[#This Row],[Wage differential Bonus                            - NotePay Rate you are bonusing to]]>0, Table1[[#This Row],[Wage differential Bonus                            - NotePay Rate you are bonusing to]]-Table1[[#This Row],[Pay Rate]], \"\")","v":""},{"$f":"IF(Table1[[#This Row],[Wage differential Bonus                            - NotePay Rate you are bonusing to]]>0,Table1[[#This Row],[Bonus Rate]]*Table1[[#This Row],[Hours]],\"\")","v":""},null,null,null,null,null,{"$f":"IF(OR(AH3357>0.001,AH3357<-0.001),Table1[[#This Row],[Employee '#]],\" \")","v":" "},false,{"$f":"SUMIF(Table1[[#This Row],[Total Wage Diff bonus]:[Bank Bonus]],\"<> \")","v":0},{"$f":"IF(AA3357>0, Table1[[#This Row],[Column4]], IF(AB3357>0,Table1[[#This Row],[Column4]],IF(X3357>0,\"1000\")))","v":false}]
[null,null,null,null,null,null,null,null,null,null,null,null,null,null,null,null,0,null,null,null,null,null,null,null,{"$f":"IF(Table1[[#This Row],[Wage differential Bonus                            - NotePay Rate you are bonusing to]]>0, Table1[[#This Row],[Wage differential Bonus                            - NotePay Rate you are bonusing to]]-Table1[[#This Row],[Pay Rate]], \"\")","v":""},{"$f":"IF(Table1[[#This Row],[Wage differential Bonus                            - NotePay Rate you are bonusing to]]>0,Table1[[#This Row],[Bonus Rate]]*Table1[[#This Row],[Hours]],\"\")","v":""},null,null,null,null,null,{"$f":"IF(OR(AH3358>0.001,AH3358<-0.001),Table1[[#This Row],[Employee '#]],\" \")","v":" "},false,{"$f":"SUMIF(Table1[[#This Row],[Total Wage Diff bonus]:[Bank Bonus]],\"<> \")","v":0},{"$f":"IF(AA3358>0, Table1[[#This Row],[Column4]], IF(AB3358>0,Table1[[#This Row],[Column4]],IF(X3358>0,\"1000\")))","v":false}]
[null,null,null,null,null,null,null,null,null,null,null,null,null,null,null,null,0,null,null,null,null,null,null,null,{"$f":"IF(Table1[[#This Row],[Wage differential Bonus                            - NotePay Rate you are bonusing to]]>0, Table1[[#This Row],[Wage differential Bonus                            - NotePay Rate you are bonusing to]]-Table1[[#This Row],[Pay Rate]], \"\")","v":""},{"$f":"IF(Table1[[#This Row],[Wage differential Bonus                            - NotePay Rate you are bonusing to]]>0,Table1[[#This Row],[Bonus Rate]]*Table1[[#This Row],[Hours]],\"\")","v":""},null,null,null,null,null,{"$f":"IF(OR(AH3359>0.001,AH3359<-0.001),Table1[[#This Row],[Employee '#]],\" \")","v":" "},false,{"$f":"SUMIF(Table1[[#This Row],[Total Wage Diff bonus]:[Bank Bonus]],\"<> \")","v":0},{"$f":"IF(AA3359>0, Table1[[#This Row],[Column4]], IF(AB3359>0,Table1[[#This Row],[Column4]],IF(X3359>0,\"1000\")))","v":false}]
[null,null,null,null,null,null,null,null,null,null,null,null,null,null,null,null,0,null,null,null,null,null,null,null,{"$f":"IF(Table1[[#This Row],[Wage differential Bonus                            - NotePay Rate you are bonusing to]]>0, Table1[[#This Row],[Wage differential Bonus                            - NotePay Rate you are bonusing to]]-Table1[[#This Row],[Pay Rate]], \"\")","v":""},{"$f":"IF(Table1[[#This Row],[Wage differential Bonus                            - NotePay Rate you are bonusing to]]>0,Table1[[#This Row],[Bonus Rate]]*Table1[[#This Row],[Hours]],\"\")","v":""},null,null,null,null,null,{"$f":"IF(OR(AH3360>0.001,AH3360<-0.001),Table1[[#This Row],[Employee '#]],\" \")","v":" "},false,{"$f":"SUMIF(Table1[[#This Row],[Total Wage Diff bonus]:[Bank Bonus]],\"<> \")","v":0},{"$f":"IF(AA3360>0, Table1[[#This Row],[Column4]], IF(AB3360>0,Table1[[#This Row],[Column4]],IF(X3360>0,\"1000\")))","v":false}]
[null,null,null,null,null,null,null,null,null,null,null,null,null,null,null,null,0,null,null,null,null,null,null,null,{"$f":"IF(Table1[[#This Row],[Wage differential Bonus                            - NotePay Rate you are bonusing to]]>0, Table1[[#This Row],[Wage differential Bonus                            - NotePay Rate you are bonusing to]]-Table1[[#This Row],[Pay Rate]], \"\")","v":""},{"$f":"IF(Table1[[#This Row],[Wage differential Bonus                            - NotePay Rate you are bonusing to]]>0,Table1[[#This Row],[Bonus Rate]]*Table1[[#This Row],[Hours]],\"\")","v":""},null,null,null,null,null,{"$f":"IF(OR(AH3361>0.001,AH3361<-0.001),Table1[[#This Row],[Employee '#]],\" \")","v":" "},false,{"$f":"SUMIF(Table1[[#This Row],[Total Wage Diff bonus]:[Bank Bonus]],\"<> \")","v":0},{"$f":"IF(AA3361>0, Table1[[#This Row],[Column4]], IF(AB3361>0,Table1[[#This Row],[Column4]],IF(X3361>0,\"1000\")))","v":false}]
[null,null,null,null,null,null,null,null,null,null,null,null,null,null,null,null,0,null,null,null,null,null,null,null,{"$f":"IF(Table1[[#This Row],[Wage differential Bonus                            - NotePay Rate you are bonusing to]]>0, Table1[[#This Row],[Wage differential Bonus                            - NotePay Rate you are bonusing to]]-Table1[[#This Row],[Pay Rate]], \"\")","v":""},{"$f":"IF(Table1[[#This Row],[Wage differential Bonus                            - NotePay Rate you are bonusing to]]>0,Table1[[#This Row],[Bonus Rate]]*Table1[[#This Row],[Hours]],\"\")","v":""},null,null,null,null,null,{"$f":"IF(OR(AH3362>0.001,AH3362<-0.001),Table1[[#This Row],[Employee '#]],\" \")","v":" "},false,{"$f":"SUMIF(Table1[[#This Row],[Total Wage Diff bonus]:[Bank Bonus]],\"<> \")","v":0},{"$f":"IF(AA3362>0, Table1[[#This Row],[Column4]], IF(AB3362>0,Table1[[#This Row],[Column4]],IF(X3362>0,\"1000\")))","v":false}]
[null,null,null,null,null,null,null,null,null,null,null,null,null,null,null,null,0,null,null,null,null,null,null,null,{"$f":"IF(Table1[[#This Row],[Wage differential Bonus                            - NotePay Rate you are bonusing to]]>0, Table1[[#This Row],[Wage differential Bonus                            - NotePay Rate you are bonusing to]]-Table1[[#This Row],[Pay Rate]], \"\")","v":""},{"$f":"IF(Table1[[#This Row],[Wage differential Bonus                            - NotePay Rate you are bonusing to]]>0,Table1[[#This Row],[Bonus Rate]]*Table1[[#This Row],[Hours]],\"\")","v":""},null,null,null,null,null,{"$f":"IF(OR(AH3363>0.001,AH3363<-0.001),Table1[[#This Row],[Employee '#]],\" \")","v":" "},false,{"$f":"SUMIF(Table1[[#This Row],[Total Wage Diff bonus]:[Bank Bonus]],\"<> \")","v":0},{"$f":"IF(AA3363>0, Table1[[#This Row],[Column4]], IF(AB3363>0,Table1[[#This Row],[Column4]],IF(X3363>0,\"1000\")))","v":false}]
[null,null,null,null,null,null,null,null,null,null,null,null,null,null,null,null,0,null,null,null,null,null,null,null,{"$f":"IF(Table1[[#This Row],[Wage differential Bonus                            - NotePay Rate you are bonusing to]]>0, Table1[[#This Row],[Wage differential Bonus                            - NotePay Rate you are bonusing to]]-Table1[[#This Row],[Pay Rate]], \"\")","v":""},{"$f":"IF(Table1[[#This Row],[Wage differential Bonus                            - NotePay Rate you are bonusing to]]>0,Table1[[#This Row],[Bonus Rate]]*Table1[[#This Row],[Hours]],\"\")","v":""},null,null,null,null,null,{"$f":"IF(OR(AH3364>0.001,AH3364<-0.001),Table1[[#This Row],[Employee '#]],\" \")","v":" "},false,{"$f":"SUMIF(Table1[[#This Row],[Total Wage Diff bonus]:[Bank Bonus]],\"<> \")","v":0},{"$f":"IF(AA3364>0, Table1[[#This Row],[Column4]], IF(AB3364>0,Table1[[#This Row],[Column4]],IF(X3364>0,\"1000\")))","v":false}]
[null,null,null,null,null,null,null,null,null,null,null,null,null,null,null,null,0,null,null,null,null,null,null,null,{"$f":"IF(Table1[[#This Row],[Wage differential Bonus                            - NotePay Rate you are bonusing to]]>0, Table1[[#This Row],[Wage differential Bonus                            - NotePay Rate you are bonusing to]]-Table1[[#This Row],[Pay Rate]], \"\")","v":""},{"$f":"IF(Table1[[#This Row],[Wage differential Bonus                            - NotePay Rate you are bonusing to]]>0,Table1[[#This Row],[Bonus Rate]]*Table1[[#This Row],[Hours]],\"\")","v":""},null,null,null,null,null,{"$f":"IF(OR(AH3365>0.001,AH3365<-0.001),Table1[[#This Row],[Employee '#]],\" \")","v":" "},false,{"$f":"SUMIF(Table1[[#This Row],[Total Wage Diff bonus]:[Bank Bonus]],\"<> \")","v":0},{"$f":"IF(AA3365>0, Table1[[#This Row],[Column4]], IF(AB3365>0,Table1[[#This Row],[Column4]],IF(X3365>0,\"1000\")))","v":false}]
[null,null,null,null,null,null,null,null,null,null,null,null,null,null,null,null,0,null,null,null,null,null,null,null,{"$f":"IF(Table1[[#This Row],[Wage differential Bonus                            - NotePay Rate you are bonusing to]]>0, Table1[[#This Row],[Wage differential Bonus                            - NotePay Rate you are bonusing to]]-Table1[[#This Row],[Pay Rate]], \"\")","v":""},{"$f":"IF(Table1[[#This Row],[Wage differential Bonus                            - NotePay Rate you are bonusing to]]>0,Table1[[#This Row],[Bonus Rate]]*Table1[[#This Row],[Hours]],\"\")","v":""},null,null,null,null,null,{"$f":"IF(OR(AH3366>0.001,AH3366<-0.001),Table1[[#This Row],[Employee '#]],\" \")","v":" "},false,{"$f":"SUMIF(Table1[[#This Row],[Total Wage Diff bonus]:[Bank Bonus]],\"<> \")","v":0},{"$f":"IF(AA3366>0, Table1[[#This Row],[Column4]], IF(AB3366>0,Table1[[#This Row],[Column4]],IF(X3366>0,\"1000\")))","v":false}]
[null,null,null,null,null,null,null,null,null,null,null,null,null,null,null,null,0,null,null,null,null,null,null,null,{"$f":"IF(Table1[[#This Row],[Wage differential Bonus                            - NotePay Rate you are bonusing to]]>0, Table1[[#This Row],[Wage differential Bonus                            - NotePay Rate you are bonusing to]]-Table1[[#This Row],[Pay Rate]], \"\")","v":""},{"$f":"IF(Table1[[#This Row],[Wage differential Bonus                            - NotePay Rate you are bonusing to]]>0,Table1[[#This Row],[Bonus Rate]]*Table1[[#This Row],[Hours]],\"\")","v":""},null,null,null,null,null,{"$f":"IF(OR(AH3367>0.001,AH3367<-0.001),Table1[[#This Row],[Employee '#]],\" \")","v":" "},false,{"$f":"SUMIF(Table1[[#This Row],[Total Wage Diff bonus]:[Bank Bonus]],\"<> \")","v":0},{"$f":"IF(AA3367>0, Table1[[#This Row],[Column4]], IF(AB3367>0,Table1[[#This Row],[Column4]],IF(X3367>0,\"1000\")))","v":false}]
[null,null,null,null,null,null,null,null,null,null,null,null,null,null,null,null,0,null,null,null,null,null,null,null,{"$f":"IF(Table1[[#This Row],[Wage differential Bonus                            - NotePay Rate you are bonusing to]]>0, Table1[[#This Row],[Wage differential Bonus                            - NotePay Rate you are bonusing to]]-Table1[[#This Row],[Pay Rate]], \"\")","v":""},{"$f":"IF(Table1[[#This Row],[Wage differential Bonus                            - NotePay Rate you are bonusing to]]>0,Table1[[#This Row],[Bonus Rate]]*Table1[[#This Row],[Hours]],\"\")","v":""},null,null,null,null,null,{"$f":"IF(OR(AH3368>0.001,AH3368<-0.001),Table1[[#This Row],[Employee '#]],\" \")","v":" "},false,{"$f":"SUMIF(Table1[[#This Row],[Total Wage Diff bonus]:[Bank Bonus]],\"<> \")","v":0},{"$f":"IF(AA3368>0, Table1[[#This Row],[Column4]], IF(AB3368>0,Table1[[#This Row],[Column4]],IF(X3368>0,\"1000\")))","v":false}]
[null,null,null,null,null,null,null,null,null,null,null,null,null,null,null,null,0,null,null,null,null,null,null,null,{"$f":"IF(Table1[[#This Row],[Wage differential Bonus                            - NotePay Rate you are bonusing to]]>0, Table1[[#This Row],[Wage differential Bonus                            - NotePay Rate you are bonusing to]]-Table1[[#This Row],[Pay Rate]], \"\")","v":""},{"$f":"IF(Table1[[#This Row],[Wage differential Bonus                            - NotePay Rate you are bonusing to]]>0,Table1[[#This Row],[Bonus Rate]]*Table1[[#This Row],[Hours]],\"\")","v":""},null,null,null,null,null,{"$f":"IF(OR(AH3369>0.001,AH3369<-0.001),Table1[[#This Row],[Employee '#]],\" \")","v":" "},false,{"$f":"SUMIF(Table1[[#This Row],[Total Wage Diff bonus]:[Bank Bonus]],\"<> \")","v":0},{"$f":"IF(AA3369>0, Table1[[#This Row],[Column4]], IF(AB3369>0,Table1[[#This Row],[Column4]],IF(X3369>0,\"1000\")))","v":false}]
[null,null,null,null,null,null,null,null,null,null,null,null,null,null,null,null,0,null,null,null,null,null,null,null,{"$f":"IF(Table1[[#This Row],[Wage differential Bonus                            - NotePay Rate you are bonusing to]]>0, Table1[[#This Row],[Wage differential Bonus                            - NotePay Rate you are bonusing to]]-Table1[[#This Row],[Pay Rate]], \"\")","v":""},{"$f":"IF(Table1[[#This Row],[Wage differential Bonus                            - NotePay Rate you are bonusing to]]>0,Table1[[#This Row],[Bonus Rate]]*Table1[[#This Row],[Hours]],\"\")","v":""},null,null,null,null,null,{"$f":"IF(OR(AH3370>0.001,AH3370<-0.001),Table1[[#This Row],[Employee '#]],\" \")","v":" "},false,{"$f":"SUMIF(Table1[[#This Row],[Total Wage Diff bonus]:[Bank Bonus]],\"<> \")","v":0},{"$f":"IF(AA3370>0, Table1[[#This Row],[Column4]], IF(AB3370>0,Table1[[#This Row],[Column4]],IF(X3370>0,\"1000\")))","v":false}]
[null,null,null,null,null,null,null,null,null,null,null,null,null,null,null,null,0,null,null,null,null,null,null,null,{"$f":"IF(Table1[[#This Row],[Wage differential Bonus                            - NotePay Rate you are bonusing to]]>0, Table1[[#This Row],[Wage differential Bonus                            - NotePay Rate you are bonusing to]]-Table1[[#This Row],[Pay Rate]], \"\")","v":""},{"$f":"IF(Table1[[#This Row],[Wage differential Bonus                            - NotePay Rate you are bonusing to]]>0,Table1[[#This Row],[Bonus Rate]]*Table1[[#This Row],[Hours]],\"\")","v":""},null,null,null,null,null,{"$f":"IF(OR(AH3371>0.001,AH3371<-0.001),Table1[[#This Row],[Employee '#]],\" \")","v":" "},false,{"$f":"SUMIF(Table1[[#This Row],[Total Wage Diff bonus]:[Bank Bonus]],\"<> \")","v":0},{"$f":"IF(AA3371>0, Table1[[#This Row],[Column4]], IF(AB3371>0,Table1[[#This Row],[Column4]],IF(X3371>0,\"1000\")))","v":false}]
[null,null,null,null,null,null,null,null,null,null,null,null,null,null,null,null,0,null,null,null,null,null,null,null,{"$f":"IF(Table1[[#This Row],[Wage differential Bonus                            - NotePay Rate you are bonusing to]]>0, Table1[[#This Row],[Wage differential Bonus                            - NotePay Rate you are bonusing to]]-Table1[[#This Row],[Pay Rate]], \"\")","v":""},{"$f":"IF(Table1[[#This Row],[Wage differential Bonus                            - NotePay Rate you are bonusing to]]>0,Table1[[#This Row],[Bonus Rate]]*Table1[[#This Row],[Hours]],\"\")","v":""},null,null,null,null,null,{"$f":"IF(OR(AH3372>0.001,AH3372<-0.001),Table1[[#This Row],[Employee '#]],\" \")","v":" "},false,{"$f":"SUMIF(Table1[[#This Row],[Total Wage Diff bonus]:[Bank Bonus]],\"<> \")","v":0},{"$f":"IF(AA3372>0, Table1[[#This Row],[Column4]], IF(AB3372>0,Table1[[#This Row],[Column4]],IF(X3372>0,\"1000\")))","v":false}]
[null,null,null,null,null,null,null,null,null,null,null,null,null,null,null,null,0,null,null,null,null,null,null,null,{"$f":"IF(Table1[[#This Row],[Wage differential Bonus                            - NotePay Rate you are bonusing to]]>0, Table1[[#This Row],[Wage differential Bonus                            - NotePay Rate you are bonusing to]]-Table1[[#This Row],[Pay Rate]], \"\")","v":""},{"$f":"IF(Table1[[#This Row],[Wage differential Bonus                            - NotePay Rate you are bonusing to]]>0,Table1[[#This Row],[Bonus Rate]]*Table1[[#This Row],[Hours]],\"\")","v":""},null,null,null,null,null,{"$f":"IF(OR(AH3373>0.001,AH3373<-0.001),Table1[[#This Row],[Employee '#]],\" \")","v":" "},false,{"$f":"SUMIF(Table1[[#This Row],[Total Wage Diff bonus]:[Bank Bonus]],\"<> \")","v":0},{"$f":"IF(AA3373>0, Table1[[#This Row],[Column4]], IF(AB3373>0,Table1[[#This Row],[Column4]],IF(X3373>0,\"1000\")))","v":false}]
[null,null,null,null,null,null,null,null,null,null,null,null,null,null,null,null,0,null,null,null,null,null,null,null,{"$f":"IF(Table1[[#This Row],[Wage differential Bonus                            - NotePay Rate you are bonusing to]]>0, Table1[[#This Row],[Wage differential Bonus                            - NotePay Rate you are bonusing to]]-Table1[[#This Row],[Pay Rate]], \"\")","v":""},{"$f":"IF(Table1[[#This Row],[Wage differential Bonus                            - NotePay Rate you are bonusing to]]>0,Table1[[#This Row],[Bonus Rate]]*Table1[[#This Row],[Hours]],\"\")","v":""},null,null,null,null,null,{"$f":"IF(OR(AH3374>0.001,AH3374<-0.001),Table1[[#This Row],[Employee '#]],\" \")","v":" "},false,{"$f":"SUMIF(Table1[[#This Row],[Total Wage Diff bonus]:[Bank Bonus]],\"<> \")","v":0},{"$f":"IF(AA3374>0, Table1[[#This Row],[Column4]], IF(AB3374>0,Table1[[#This Row],[Column4]],IF(X3374>0,\"1000\")))","v":false}]
[null,null,null,null,null,null,null,null,null,null,null,null,null,null,null,null,0,null,null,null,null,null,null,null,{"$f":"IF(Table1[[#This Row],[Wage differential Bonus                            - NotePay Rate you are bonusing to]]>0, Table1[[#This Row],[Wage differential Bonus                            - NotePay Rate you are bonusing to]]-Table1[[#This Row],[Pay Rate]], \"\")","v":""},{"$f":"IF(Table1[[#This Row],[Wage differential Bonus                            - NotePay Rate you are bonusing to]]>0,Table1[[#This Row],[Bonus Rate]]*Table1[[#This Row],[Hours]],\"\")","v":""},null,null,null,null,null,{"$f":"IF(OR(AH3375>0.001,AH3375<-0.001),Table1[[#This Row],[Employee '#]],\" \")","v":" "},false,{"$f":"SUMIF(Table1[[#This Row],[Total Wage Diff bonus]:[Bank Bonus]],\"<> \")","v":0},{"$f":"IF(AA3375>0, Table1[[#This Row],[Column4]], IF(AB3375>0,Table1[[#This Row],[Column4]],IF(X3375>0,\"1000\")))","v":false}]
[null,null,null,null,null,null,null,null,null,null,null,null,null,null,null,null,0,null,null,null,null,null,null,null,{"$f":"IF(Table1[[#This Row],[Wage differential Bonus                            - NotePay Rate you are bonusing to]]>0, Table1[[#This Row],[Wage differential Bonus                            - NotePay Rate you are bonusing to]]-Table1[[#This Row],[Pay Rate]], \"\")","v":""},{"$f":"IF(Table1[[#This Row],[Wage differential Bonus                            - NotePay Rate you are bonusing to]]>0,Table1[[#This Row],[Bonus Rate]]*Table1[[#This Row],[Hours]],\"\")","v":""},null,null,null,null,null,{"$f":"IF(OR(AH3376>0.001,AH3376<-0.001),Table1[[#This Row],[Employee '#]],\" \")","v":" "},false,{"$f":"SUMIF(Table1[[#This Row],[Total Wage Diff bonus]:[Bank Bonus]],\"<> \")","v":0},{"$f":"IF(AA3376>0, Table1[[#This Row],[Column4]], IF(AB3376>0,Table1[[#This Row],[Column4]],IF(X3376>0,\"1000\")))","v":false}]
[null,null,null,null,null,null,null,null,null,null,null,null,null,null,null,null,0,null,null,null,null,null,null,null,{"$f":"IF(Table1[[#This Row],[Wage differential Bonus                            - NotePay Rate you are bonusing to]]>0, Table1[[#This Row],[Wage differential Bonus                            - NotePay Rate you are bonusing to]]-Table1[[#This Row],[Pay Rate]], \"\")","v":""},{"$f":"IF(Table1[[#This Row],[Wage differential Bonus                            - NotePay Rate you are bonusing to]]>0,Table1[[#This Row],[Bonus Rate]]*Table1[[#This Row],[Hours]],\"\")","v":""},null,null,null,null,null,{"$f":"IF(OR(AH3377>0.001,AH3377<-0.001),Table1[[#This Row],[Employee '#]],\" \")","v":" "},false,{"$f":"SUMIF(Table1[[#This Row],[Total Wage Diff bonus]:[Bank Bonus]],\"<> \")","v":0},{"$f":"IF(AA3377>0, Table1[[#This Row],[Column4]], IF(AB3377>0,Table1[[#This Row],[Column4]],IF(X3377>0,\"1000\")))","v":false}]
[null,null,null,null,null,null,null,null,null,null,null,null,null,null,null,null,0,null,null,null,null,null,null,null,{"$f":"IF(Table1[[#This Row],[Wage differential Bonus                            - NotePay Rate you are bonusing to]]>0, Table1[[#This Row],[Wage differential Bonus                            - NotePay Rate you are bonusing to]]-Table1[[#This Row],[Pay Rate]], \"\")","v":""},{"$f":"IF(Table1[[#This Row],[Wage differential Bonus                            - NotePay Rate you are bonusing to]]>0,Table1[[#This Row],[Bonus Rate]]*Table1[[#This Row],[Hours]],\"\")","v":""},null,null,null,null,null,{"$f":"IF(OR(AH3378>0.001,AH3378<-0.001),Table1[[#This Row],[Employee '#]],\" \")","v":" "},false,{"$f":"SUMIF(Table1[[#This Row],[Total Wage Diff bonus]:[Bank Bonus]],\"<> \")","v":0},{"$f":"IF(AA3378>0, Table1[[#This Row],[Column4]], IF(AB3378>0,Table1[[#This Row],[Column4]],IF(X3378>0,\"1000\")))","v":false}]
[null,null,null,null,null,null,null,null,null,null,null,null,null,null,null,null,0,null,null,null,null,null,null,null,{"$f":"IF(Table1[[#This Row],[Wage differential Bonus                            - NotePay Rate you are bonusing to]]>0, Table1[[#This Row],[Wage differential Bonus                            - NotePay Rate you are bonusing to]]-Table1[[#This Row],[Pay Rate]], \"\")","v":""},{"$f":"IF(Table1[[#This Row],[Wage differential Bonus                            - NotePay Rate you are bonusing to]]>0,Table1[[#This Row],[Bonus Rate]]*Table1[[#This Row],[Hours]],\"\")","v":""},null,null,null,null,null,{"$f":"IF(OR(AH3379>0.001,AH3379<-0.001),Table1[[#This Row],[Employee '#]],\" \")","v":" "},false,{"$f":"SUMIF(Table1[[#This Row],[Total Wage Diff bonus]:[Bank Bonus]],\"<> \")","v":0},{"$f":"IF(AA3379>0, Table1[[#This Row],[Column4]], IF(AB3379>0,Table1[[#This Row],[Column4]],IF(X3379>0,\"1000\")))","v":false}]
[null,null,null,null,null,null,null,null,null,null,null,null,null,null,null,null,0,null,null,null,null,null,null,null,{"$f":"IF(Table1[[#This Row],[Wage differential Bonus                            - NotePay Rate you are bonusing to]]>0, Table1[[#This Row],[Wage differential Bonus                            - NotePay Rate you are bonusing to]]-Table1[[#This Row],[Pay Rate]], \"\")","v":""},{"$f":"IF(Table1[[#This Row],[Wage differential Bonus                            - NotePay Rate you are bonusing to]]>0,Table1[[#This Row],[Bonus Rate]]*Table1[[#This Row],[Hours]],\"\")","v":""},null,null,null,null,null,{"$f":"IF(OR(AH3380>0.001,AH3380<-0.001),Table1[[#This Row],[Employee '#]],\" \")","v":" "},false,{"$f":"SUMIF(Table1[[#This Row],[Total Wage Diff bonus]:[Bank Bonus]],\"<> \")","v":0},{"$f":"IF(AA3380>0, Table1[[#This Row],[Column4]], IF(AB3380>0,Table1[[#This Row],[Column4]],IF(X3380>0,\"1000\")))","v":false}]
[null,null,null,null,null,null,null,null,null,null,null,null,null,null,null,null,0,null,null,null,null,null,null,null,{"$f":"IF(Table1[[#This Row],[Wage differential Bonus                            - NotePay Rate you are bonusing to]]>0, Table1[[#This Row],[Wage differential Bonus                            - NotePay Rate you are bonusing to]]-Table1[[#This Row],[Pay Rate]], \"\")","v":""},{"$f":"IF(Table1[[#This Row],[Wage differential Bonus                            - NotePay Rate you are bonusing to]]>0,Table1[[#This Row],[Bonus Rate]]*Table1[[#This Row],[Hours]],\"\")","v":""},null,null,null,null,null,{"$f":"IF(OR(AH3381>0.001,AH3381<-0.001),Table1[[#This Row],[Employee '#]],\" \")","v":" "},false,{"$f":"SUMIF(Table1[[#This Row],[Total Wage Diff bonus]:[Bank Bonus]],\"<> \")","v":0},{"$f":"IF(AA3381>0, Table1[[#This Row],[Column4]], IF(AB3381>0,Table1[[#This Row],[Column4]],IF(X3381>0,\"1000\")))","v":false}]
[null,null,null,null,null,null,null,null,null,null,null,null,null,null,null,null,0,null,null,null,null,null,null,null,{"$f":"IF(Table1[[#This Row],[Wage differential Bonus                            - NotePay Rate you are bonusing to]]>0, Table1[[#This Row],[Wage differential Bonus                            - NotePay Rate you are bonusing to]]-Table1[[#This Row],[Pay Rate]], \"\")","v":""},{"$f":"IF(Table1[[#This Row],[Wage differential Bonus                            - NotePay Rate you are bonusing to]]>0,Table1[[#This Row],[Bonus Rate]]*Table1[[#This Row],[Hours]],\"\")","v":""},null,null,null,null,null,{"$f":"IF(OR(AH3382>0.001,AH3382<-0.001),Table1[[#This Row],[Employee '#]],\" \")","v":" "},false,{"$f":"SUMIF(Table1[[#This Row],[Total Wage Diff bonus]:[Bank Bonus]],\"<> \")","v":0},{"$f":"IF(AA3382>0, Table1[[#This Row],[Column4]], IF(AB3382>0,Table1[[#This Row],[Column4]],IF(X3382>0,\"1000\")))","v":false}]
[null,null,null,null,null,null,null,null,null,null,null,null,null,null,null,null,{"$f":"L3383+P3383","v":0},null,null,null,null,null,null,null,{"$f":"IF(Table1[[#This Row],[Wage differential Bonus                            - NotePay Rate you are bonusing to]]>0, Table1[[#This Row],[Wage differential Bonus                            - NotePay Rate you are bonusing to]]-Table1[[#This Row],[Pay Rate]], \"\")","v":""},{"$f":"IF(Table1[[#This Row],[Wage differential Bonus                            - NotePay Rate you are bonusing to]]>0,Table1[[#This Row],[Bonus Rate]]*Table1[[#This Row],[Hours]],\"\")","v":""},null,null,null,null,null,{"$f":"IF(OR(AH3383>0.001,AH3383<-0.001),Table1[[#This Row],[Employee '#]],\" \")","v":" "},{"$f":"IF(AA3383>0, \"28\", IF(AB3383>0,\"53\",IF(X3383>0,\"20\")))","v":false},{"$f":"SUMIF(Table1[[#This Row],[Total Wage Diff bonus]:[Bank Bonus]],\"<> \")","v":0},{"$f":"IF(AA3383>0, Table1[[#This Row],[Column4]], IF(AB3383>0,Table1[[#This Row],[Column4]],IF(X3383>0,\"1000\")))","v":false}]
[null,null,null,null,null,null,null,null,null,null,null,null,null,null,null,null,0,null,null,null,null,null,null,null,{"$f":"IF(Table1[[#This Row],[Wage differential Bonus                            - NotePay Rate you are bonusing to]]>0, Table1[[#This Row],[Wage differential Bonus                            - NotePay Rate you are bonusing to]]-Table1[[#This Row],[Pay Rate]], \"\")","v":""},{"$f":"IF(Table1[[#This Row],[Wage differential Bonus                            - NotePay Rate you are bonusing to]]>0,Table1[[#This Row],[Bonus Rate]]*Table1[[#This Row],[Hours]],\"\")","v":""},null,null,null,null,null,{"$f":"IF(OR(AH3384>0.001,AH3384<-0.001),Table1[[#This Row],[Employee '#]],\" \")","v":" "},false,{"$f":"SUMIF(Table1[[#This Row],[Total Wage Diff bonus]:[Bank Bonus]],\"<> \")","v":0},{"$f":"IF(AA3384>0, Table1[[#This Row],[Column4]], IF(AB3384>0,Table1[[#This Row],[Column4]],IF(X3384>0,\"1000\")))","v":false}]
[null,null,null,null,null,null,null,null,null,null,null,null,null,null,null,null,0,null,null,null,null,null,null,null,{"$f":"IF(Table1[[#This Row],[Wage differential Bonus                            - NotePay Rate you are bonusing to]]>0, Table1[[#This Row],[Wage differential Bonus                            - NotePay Rate you are bonusing to]]-Table1[[#This Row],[Pay Rate]], \"\")","v":""},{"$f":"IF(Table1[[#This Row],[Wage differential Bonus                            - NotePay Rate you are bonusing to]]>0,Table1[[#This Row],[Bonus Rate]]*Table1[[#This Row],[Hours]],\"\")","v":""},null,null,null,null,null,{"$f":"IF(OR(AH3385>0.001,AH3385<-0.001),Table1[[#This Row],[Employee '#]],\" \")","v":" "},false,{"$f":"SUMIF(Table1[[#This Row],[Total Wage Diff bonus]:[Bank Bonus]],\"<> \")","v":0},{"$f":"IF(AA3385>0, Table1[[#This Row],[Column4]], IF(AB3385>0,Table1[[#This Row],[Column4]],IF(X3385>0,\"1000\")))","v":false}]
[null,null,null,null,null,null,null,null,null,null,null,null,null,null,null,null,0,null,null,null,null,null,null,null,{"$f":"IF(Table1[[#This Row],[Wage differential Bonus                            - NotePay Rate you are bonusing to]]>0, Table1[[#This Row],[Wage differential Bonus                            - NotePay Rate you are bonusing to]]-Table1[[#This Row],[Pay Rate]], \"\")","v":""},{"$f":"IF(Table1[[#This Row],[Wage differential Bonus                            - NotePay Rate you are bonusing to]]>0,Table1[[#This Row],[Bonus Rate]]*Table1[[#This Row],[Hours]],\"\")","v":""},null,null,null,null,null,{"$f":"IF(OR(AH3386>0.001,AH3386<-0.001),Table1[[#This Row],[Employee '#]],\" \")","v":" "},false,{"$f":"SUMIF(Table1[[#This Row],[Total Wage Diff bonus]:[Bank Bonus]],\"<> \")","v":0},{"$f":"IF(AA3386>0, Table1[[#This Row],[Column4]], IF(AB3386>0,Table1[[#This Row],[Column4]],IF(X3386>0,\"1000\")))","v":false}]
[null,null,null,null,null,null,null,null,null,null,null,null,null,null,null,null,0,null,null,null,null,null,null,null,{"$f":"IF(Table1[[#This Row],[Wage differential Bonus                            - NotePay Rate you are bonusing to]]>0, Table1[[#This Row],[Wage differential Bonus                            - NotePay Rate you are bonusing to]]-Table1[[#This Row],[Pay Rate]], \"\")","v":""},{"$f":"IF(Table1[[#This Row],[Wage differential Bonus                            - NotePay Rate you are bonusing to]]>0,Table1[[#This Row],[Bonus Rate]]*Table1[[#This Row],[Hours]],\"\")","v":""},null,null,null,null,null,{"$f":"IF(OR(AH3387>0.001,AH3387<-0.001),Table1[[#This Row],[Employee '#]],\" \")","v":" "},false,{"$f":"SUMIF(Table1[[#This Row],[Total Wage Diff bonus]:[Bank Bonus]],\"<> \")","v":0},{"$f":"IF(AA3387>0, Table1[[#This Row],[Column4]], IF(AB3387>0,Table1[[#This Row],[Column4]],IF(X3387>0,\"1000\")))","v":false}]
[null,null,null,null,null,null,null,null,null,null,null,null,null,null,null,null,0,null,null,null,null,null,null,null,{"$f":"IF(Table1[[#This Row],[Wage differential Bonus                            - NotePay Rate you are bonusing to]]>0, Table1[[#This Row],[Wage differential Bonus                            - NotePay Rate you are bonusing to]]-Table1[[#This Row],[Pay Rate]], \"\")","v":""},{"$f":"IF(Table1[[#This Row],[Wage differential Bonus                            - NotePay Rate you are bonusing to]]>0,Table1[[#This Row],[Bonus Rate]]*Table1[[#This Row],[Hours]],\"\")","v":""},null,null,null,null,null,{"$f":"IF(OR(AH3388>0.001,AH3388<-0.001),Table1[[#This Row],[Employee '#]],\" \")","v":" "},false,{"$f":"SUMIF(Table1[[#This Row],[Total Wage Diff bonus]:[Bank Bonus]],\"<> \")","v":0},{"$f":"IF(AA3388>0, Table1[[#This Row],[Column4]], IF(AB3388>0,Table1[[#This Row],[Column4]],IF(X3388>0,\"1000\")))","v":false}]
[null,null,null,null,null,null,null,null,null,null,null,null,null,null,null,null,0,null,null,null,null,null,null,null,{"$f":"IF(Table1[[#This Row],[Wage differential Bonus                            - NotePay Rate you are bonusing to]]>0, Table1[[#This Row],[Wage differential Bonus                            - NotePay Rate you are bonusing to]]-Table1[[#This Row],[Pay Rate]], \"\")","v":""},{"$f":"IF(Table1[[#This Row],[Wage differential Bonus                            - NotePay Rate you are bonusing to]]>0,Table1[[#This Row],[Bonus Rate]]*Table1[[#This Row],[Hours]],\"\")","v":""},null,null,null,null,null,{"$f":"IF(OR(AH3389>0.001,AH3389<-0.001),Table1[[#This Row],[Employee '#]],\" \")","v":" "},false,{"$f":"SUMIF(Table1[[#This Row],[Total Wage Diff bonus]:[Bank Bonus]],\"<> \")","v":0},{"$f":"IF(AA3389>0, Table1[[#This Row],[Column4]], IF(AB3389>0,Table1[[#This Row],[Column4]],IF(X3389>0,\"1000\")))","v":false}]
[null,null,null,null,null,null,null,null,null,null,null,null,null,null,null,null,0,null,null,null,null,null,null,null,{"$f":"IF(Table1[[#This Row],[Wage differential Bonus                            - NotePay Rate you are bonusing to]]>0, Table1[[#This Row],[Wage differential Bonus                            - NotePay Rate you are bonusing to]]-Table1[[#This Row],[Pay Rate]], \"\")","v":""},{"$f":"IF(Table1[[#This Row],[Wage differential Bonus                            - NotePay Rate you are bonusing to]]>0,Table1[[#This Row],[Bonus Rate]]*Table1[[#This Row],[Hours]],\"\")","v":""},null,null,null,null,null,{"$f":"IF(OR(AH3390>0.001,AH3390<-0.001),Table1[[#This Row],[Employee '#]],\" \")","v":" "},false,{"$f":"SUMIF(Table1[[#This Row],[Total Wage Diff bonus]:[Bank Bonus]],\"<> \")","v":0},{"$f":"IF(AA3390>0, Table1[[#This Row],[Column4]], IF(AB3390>0,Table1[[#This Row],[Column4]],IF(X3390>0,\"1000\")))","v":false}]
[null,null,null,null,null,null,null,null,null,null,null,null,null,null,null,null,0,null,null,null,null,null,null,null,{"$f":"IF(Table1[[#This Row],[Wage differential Bonus                            - NotePay Rate you are bonusing to]]>0, Table1[[#This Row],[Wage differential Bonus                            - NotePay Rate you are bonusing to]]-Table1[[#This Row],[Pay Rate]], \"\")","v":""},{"$f":"IF(Table1[[#This Row],[Wage differential Bonus                            - NotePay Rate you are bonusing to]]>0,Table1[[#This Row],[Bonus Rate]]*Table1[[#This Row],[Hours]],\"\")","v":""},null,null,null,null,null,{"$f":"IF(OR(AH3391>0.001,AH3391<-0.001),Table1[[#This Row],[Employee '#]],\" \")","v":" "},false,{"$f":"SUMIF(Table1[[#This Row],[Total Wage Diff bonus]:[Bank Bonus]],\"<> \")","v":0},{"$f":"IF(AA3391>0, Table1[[#This Row],[Column4]], IF(AB3391>0,Table1[[#This Row],[Column4]],IF(X3391>0,\"1000\")))","v":false}]
[null,null,null,null,null,null,null,null,null,null,null,null,null,null,null,null,0,null,null,null,null,null,null,null,{"$f":"IF(Table1[[#This Row],[Wage differential Bonus                            - NotePay Rate you are bonusing to]]>0, Table1[[#This Row],[Wage differential Bonus                            - NotePay Rate you are bonusing to]]-Table1[[#This Row],[Pay Rate]], \"\")","v":""},{"$f":"IF(Table1[[#This Row],[Wage differential Bonus                            - NotePay Rate you are bonusing to]]>0,Table1[[#This Row],[Bonus Rate]]*Table1[[#This Row],[Hours]],\"\")","v":""},null,null,null,null,null,{"$f":"IF(OR(AH3392>0.001,AH3392<-0.001),Table1[[#This Row],[Employee '#]],\" \")","v":" "},false,{"$f":"SUMIF(Table1[[#This Row],[Total Wage Diff bonus]:[Bank Bonus]],\"<> \")","v":0},{"$f":"IF(AA3392>0, Table1[[#This Row],[Column4]], IF(AB3392>0,Table1[[#This Row],[Column4]],IF(X3392>0,\"1000\")))","v":false}]
[null,null,null,null,null,null,null,null,null,null,null,null,null,null,null,null,0,null,null,null,null,null,null,null,{"$f":"IF(Table1[[#This Row],[Wage differential Bonus                            - NotePay Rate you are bonusing to]]>0, Table1[[#This Row],[Wage differential Bonus                            - NotePay Rate you are bonusing to]]-Table1[[#This Row],[Pay Rate]], \"\")","v":""},{"$f":"IF(Table1[[#This Row],[Wage differential Bonus                            - NotePay Rate you are bonusing to]]>0,Table1[[#This Row],[Bonus Rate]]*Table1[[#This Row],[Hours]],\"\")","v":""},null,null,null,null,null,{"$f":"IF(OR(AH3393>0.001,AH3393<-0.001),Table1[[#This Row],[Employee '#]],\" \")","v":" "},false,{"$f":"SUMIF(Table1[[#This Row],[Total Wage Diff bonus]:[Bank Bonus]],\"<> \")","v":0},{"$f":"IF(AA3393>0, Table1[[#This Row],[Column4]], IF(AB3393>0,Table1[[#This Row],[Column4]],IF(X3393>0,\"1000\")))","v":false}]
[null,null,null,null,null,null,null,null,null,null,null,null,null,null,null,null,0,null,null,null,null,null,null,null,{"$f":"IF(Table1[[#This Row],[Wage differential Bonus                            - NotePay Rate you are bonusing to]]>0, Table1[[#This Row],[Wage differential Bonus                            - NotePay Rate you are bonusing to]]-Table1[[#This Row],[Pay Rate]], \"\")","v":""},{"$f":"IF(Table1[[#This Row],[Wage differential Bonus                            - NotePay Rate you are bonusing to]]>0,Table1[[#This Row],[Bonus Rate]]*Table1[[#This Row],[Hours]],\"\")","v":""},null,null,null,null,null,{"$f":"IF(OR(AH3394>0.001,AH3394<-0.001),Table1[[#This Row],[Employee '#]],\" \")","v":" "},false,{"$f":"SUMIF(Table1[[#This Row],[Total Wage Diff bonus]:[Bank Bonus]],\"<> \")","v":0},{"$f":"IF(AA3394>0, Table1[[#This Row],[Column4]], IF(AB3394>0,Table1[[#This Row],[Column4]],IF(X3394>0,\"1000\")))","v":false}]
[null,null,null,null,null,null,null,null,null,null,null,null,null,null,null,null,0,null,null,null,null,null,null,null,{"$f":"IF(Table1[[#This Row],[Wage differential Bonus                            - NotePay Rate you are bonusing to]]>0, Table1[[#This Row],[Wage differential Bonus                            - NotePay Rate you are bonusing to]]-Table1[[#This Row],[Pay Rate]], \"\")","v":""},{"$f":"IF(Table1[[#This Row],[Wage differential Bonus                            - NotePay Rate you are bonusing to]]>0,Table1[[#This Row],[Bonus Rate]]*Table1[[#This Row],[Hours]],\"\")","v":""},null,null,null,null,null,{"$f":"IF(OR(AH3395>0.001,AH3395<-0.001),Table1[[#This Row],[Employee '#]],\" \")","v":" "},false,{"$f":"SUMIF(Table1[[#This Row],[Total Wage Diff bonus]:[Bank Bonus]],\"<> \")","v":0},{"$f":"IF(AA3395>0, Table1[[#This Row],[Column4]], IF(AB3395>0,Table1[[#This Row],[Column4]],IF(X3395>0,\"1000\")))","v":false}]
[null,null,null,null,null,null,null,null,null,null,null,null,null,null,null,null,0,null,null,null,null,null,null,null,{"$f":"IF(Table1[[#This Row],[Wage differential Bonus                            - NotePay Rate you are bonusing to]]>0, Table1[[#This Row],[Wage differential Bonus                            - NotePay Rate you are bonusing to]]-Table1[[#This Row],[Pay Rate]], \"\")","v":""},{"$f":"IF(Table1[[#This Row],[Wage differential Bonus                            - NotePay Rate you are bonusing to]]>0,Table1[[#This Row],[Bonus Rate]]*Table1[[#This Row],[Hours]],\"\")","v":""},null,null,null,null,null,{"$f":"IF(OR(AH3396>0.001,AH3396<-0.001),Table1[[#This Row],[Employee '#]],\" \")","v":" "},false,{"$f":"SUMIF(Table1[[#This Row],[Total Wage Diff bonus]:[Bank Bonus]],\"<> \")","v":0},{"$f":"IF(AA3396>0, Table1[[#This Row],[Column4]], IF(AB3396>0,Table1[[#This Row],[Column4]],IF(X3396>0,\"1000\")))","v":false}]
[null,null,null,null,null,null,null,null,null,null,null,null,null,null,null,null,0,null,null,null,null,null,null,null,{"$f":"IF(Table1[[#This Row],[Wage differential Bonus                            - NotePay Rate you are bonusing to]]>0, Table1[[#This Row],[Wage differential Bonus                            - NotePay Rate you are bonusing to]]-Table1[[#This Row],[Pay Rate]], \"\")","v":""},{"$f":"IF(Table1[[#This Row],[Wage differential Bonus                            - NotePay Rate you are bonusing to]]>0,Table1[[#This Row],[Bonus Rate]]*Table1[[#This Row],[Hours]],\"\")","v":""},null,null,null,null,null,{"$f":"IF(OR(AH3397>0.001,AH3397<-0.001),Table1[[#This Row],[Employee '#]],\" \")","v":" "},false,{"$f":"SUMIF(Table1[[#This Row],[Total Wage Diff bonus]:[Bank Bonus]],\"<> \")","v":0},{"$f":"IF(AA3397>0, Table1[[#This Row],[Column4]], IF(AB3397>0,Table1[[#This Row],[Column4]],IF(X3397>0,\"1000\")))","v":false}]
[null,null,null,null,null,null,null,null,null,null,null,null,null,null,null,null,0,null,null,null,null,null,null,null,{"$f":"IF(Table1[[#This Row],[Wage differential Bonus                            - NotePay Rate you are bonusing to]]>0, Table1[[#This Row],[Wage differential Bonus                            - NotePay Rate you are bonusing to]]-Table1[[#This Row],[Pay Rate]], \"\")","v":""},{"$f":"IF(Table1[[#This Row],[Wage differential Bonus                            - NotePay Rate you are bonusing to]]>0,Table1[[#This Row],[Bonus Rate]]*Table1[[#This Row],[Hours]],\"\")","v":""},null,null,null,null,null,{"$f":"IF(OR(AH3398>0.001,AH3398<-0.001),Table1[[#This Row],[Employee '#]],\" \")","v":" "},false,{"$f":"SUMIF(Table1[[#This Row],[Total Wage Diff bonus]:[Bank Bonus]],\"<> \")","v":0},{"$f":"IF(AA3398>0, Table1[[#This Row],[Column4]], IF(AB3398>0,Table1[[#This Row],[Column4]],IF(X3398>0,\"1000\")))","v":false}]
[null,null,null,null,null,null,null,null,null,null,null,null,null,null,null,null,{"$f":"L3399+P3399","v":0},null,null,null,null,null,null,null,{"$f":"IF(Table1[[#This Row],[Wage differential Bonus                            - NotePay Rate you are bonusing to]]>0, Table1[[#This Row],[Wage differential Bonus                            - NotePay Rate you are bonusing to]]-Table1[[#This Row],[Pay Rate]], \"\")","v":""},{"$f":"IF(Table1[[#This Row],[Wage differential Bonus                            - NotePay Rate you are bonusing to]]>0,Table1[[#This Row],[Bonus Rate]]*Table1[[#This Row],[Hours]],\"\")","v":""},null,null,null,null,null,{"$f":"IF(OR(AH3399>0.001,AH3399<-0.001),Table1[[#This Row],[Employee '#]],\" \")","v":" "},{"$f":"IF(AA3399>0, \"28\", IF(AB3399>0,\"53\",IF(X3399>0,\"20\")))","v":false},{"$f":"SUMIF(Table1[[#This Row],[Total Wage Diff bonus]:[Bank Bonus]],\"<> \")","v":0},{"$f":"IF(AA3399>0, Table1[[#This Row],[Column4]], IF(AB3399>0,Table1[[#This Row],[Column4]],IF(X3399>0,\"1000\")))","v":false}]
[null,null,null,null,null,null,null,null,null,null,null,null,null,null,null,null,0,null,null,null,null,null,null,null,{"$f":"IF(Table1[[#This Row],[Wage differential Bonus                            - NotePay Rate you are bonusing to]]>0, Table1[[#This Row],[Wage differential Bonus                            - NotePay Rate you are bonusing to]]-Table1[[#This Row],[Pay Rate]], \"\")","v":""},{"$f":"IF(Table1[[#This Row],[Wage differential Bonus                            - NotePay Rate you are bonusing to]]>0,Table1[[#This Row],[Bonus Rate]]*Table1[[#This Row],[Hours]],\"\")","v":""},null,null,null,null,null,{"$f":"IF(OR(AH3400>0.001,AH3400<-0.001),Table1[[#This Row],[Employee '#]],\" \")","v":" "},false,{"$f":"SUMIF(Table1[[#This Row],[Total Wage Diff bonus]:[Bank Bonus]],\"<> \")","v":0},{"$f":"IF(AA3400>0, Table1[[#This Row],[Column4]], IF(AB3400>0,Table1[[#This Row],[Column4]],IF(X3400>0,\"1000\")))","v":false}]
[null,null,null,null,null,null,null,null,null,null,null,null,null,null,null,null,0,null,null,null,null,null,null,null,{"$f":"IF(Table1[[#This Row],[Wage differential Bonus                            - NotePay Rate you are bonusing to]]>0, Table1[[#This Row],[Wage differential Bonus                            - NotePay Rate you are bonusing to]]-Table1[[#This Row],[Pay Rate]], \"\")","v":""},{"$f":"IF(Table1[[#This Row],[Wage differential Bonus                            - NotePay Rate you are bonusing to]]>0,Table1[[#This Row],[Bonus Rate]]*Table1[[#This Row],[Hours]],\"\")","v":""},null,null,null,null,null,{"$f":"IF(OR(AH3401>0.001,AH3401<-0.001),Table1[[#This Row],[Employee '#]],\" \")","v":" "},false,{"$f":"SUMIF(Table1[[#This Row],[Total Wage Diff bonus]:[Bank Bonus]],\"<> \")","v":0},{"$f":"IF(AA3401>0, Table1[[#This Row],[Column4]], IF(AB3401>0,Table1[[#This Row],[Column4]],IF(X3401>0,\"1000\")))","v":false}]
[null,null,null,null,null,null,null,null,null,null,null,null,null,null,null,null,0,null,null,null,null,null,null,null,{"$f":"IF(Table1[[#This Row],[Wage differential Bonus                            - NotePay Rate you are bonusing to]]>0, Table1[[#This Row],[Wage differential Bonus                            - NotePay Rate you are bonusing to]]-Table1[[#This Row],[Pay Rate]], \"\")","v":""},{"$f":"IF(Table1[[#This Row],[Wage differential Bonus                            - NotePay Rate you are bonusing to]]>0,Table1[[#This Row],[Bonus Rate]]*Table1[[#This Row],[Hours]],\"\")","v":""},null,null,null,null,null,{"$f":"IF(OR(AH3402>0.001,AH3402<-0.001),Table1[[#This Row],[Employee '#]],\" \")","v":" "},false,{"$f":"SUMIF(Table1[[#This Row],[Total Wage Diff bonus]:[Bank Bonus]],\"<> \")","v":0},{"$f":"IF(AA3402>0, Table1[[#This Row],[Column4]], IF(AB3402>0,Table1[[#This Row],[Column4]],IF(X3402>0,\"1000\")))","v":false}]
[null,null,null,null,null,null,null,null,null,null,null,null,null,null,null,null,0,null,null,null,null,null,null,null,{"$f":"IF(Table1[[#This Row],[Wage differential Bonus                            - NotePay Rate you are bonusing to]]>0, Table1[[#This Row],[Wage differential Bonus                            - NotePay Rate you are bonusing to]]-Table1[[#This Row],[Pay Rate]], \"\")","v":""},{"$f":"IF(Table1[[#This Row],[Wage differential Bonus                            - NotePay Rate you are bonusing to]]>0,Table1[[#This Row],[Bonus Rate]]*Table1[[#This Row],[Hours]],\"\")","v":""},null,null,null,null,null,{"$f":"IF(OR(AH3403>0.001,AH3403<-0.001),Table1[[#This Row],[Employee '#]],\" \")","v":" "},false,{"$f":"SUMIF(Table1[[#This Row],[Total Wage Diff bonus]:[Bank Bonus]],\"<> \")","v":0},{"$f":"IF(AA3403>0, Table1[[#This Row],[Column4]], IF(AB3403>0,Table1[[#This Row],[Column4]],IF(X3403>0,\"1000\")))","v":false}]
[null,null,null,null,null,null,null,null,null,null,null,null,null,null,null,null,0,null,null,null,null,null,null,null,{"$f":"IF(Table1[[#This Row],[Wage differential Bonus                            - NotePay Rate you are bonusing to]]>0, Table1[[#This Row],[Wage differential Bonus                            - NotePay Rate you are bonusing to]]-Table1[[#This Row],[Pay Rate]], \"\")","v":""},{"$f":"IF(Table1[[#This Row],[Wage differential Bonus                            - NotePay Rate you are bonusing to]]>0,Table1[[#This Row],[Bonus Rate]]*Table1[[#This Row],[Hours]],\"\")","v":""},null,null,null,null,null,{"$f":"IF(OR(AH3404>0.001,AH3404<-0.001),Table1[[#This Row],[Employee '#]],\" \")","v":" "},false,{"$f":"SUMIF(Table1[[#This Row],[Total Wage Diff bonus]:[Bank Bonus]],\"<> \")","v":0},{"$f":"IF(AA3404>0, Table1[[#This Row],[Column4]], IF(AB3404>0,Table1[[#This Row],[Column4]],IF(X3404>0,\"1000\")))","v":false}]
[null,null,null,null,null,null,null,null,null,null,null,null,null,null,null,null,0,null,null,null,null,null,null,null,{"$f":"IF(Table1[[#This Row],[Wage differential Bonus                            - NotePay Rate you are bonusing to]]>0, Table1[[#This Row],[Wage differential Bonus                            - NotePay Rate you are bonusing to]]-Table1[[#This Row],[Pay Rate]], \"\")","v":""},{"$f":"IF(Table1[[#This Row],[Wage differential Bonus                            - NotePay Rate you are bonusing to]]>0,Table1[[#This Row],[Bonus Rate]]*Table1[[#This Row],[Hours]],\"\")","v":""},null,null,null,null,null,{"$f":"IF(OR(AH3405>0.001,AH3405<-0.001),Table1[[#This Row],[Employee '#]],\" \")","v":" "},false,{"$f":"SUMIF(Table1[[#This Row],[Total Wage Diff bonus]:[Bank Bonus]],\"<> \")","v":0},{"$f":"IF(AA3405>0, Table1[[#This Row],[Column4]], IF(AB3405>0,Table1[[#This Row],[Column4]],IF(X3405>0,\"1000\")))","v":false}]
[null,null,null,null,null,null,null,null,null,null,null,null,null,null,null,null,0,null,null,null,null,null,null,null,{"$f":"IF(Table1[[#This Row],[Wage differential Bonus                            - NotePay Rate you are bonusing to]]>0, Table1[[#This Row],[Wage differential Bonus                            - NotePay Rate you are bonusing to]]-Table1[[#This Row],[Pay Rate]], \"\")","v":""},{"$f":"IF(Table1[[#This Row],[Wage differential Bonus                            - NotePay Rate you are bonusing to]]>0,Table1[[#This Row],[Bonus Rate]]*Table1[[#This Row],[Hours]],\"\")","v":""},null,null,null,null,null,{"$f":"IF(OR(AH3406>0.001,AH3406<-0.001),Table1[[#This Row],[Employee '#]],\" \")","v":" "},false,{"$f":"SUMIF(Table1[[#This Row],[Total Wage Diff bonus]:[Bank Bonus]],\"<> \")","v":0},{"$f":"IF(AA3406>0, Table1[[#This Row],[Column4]], IF(AB3406>0,Table1[[#This Row],[Column4]],IF(X3406>0,\"1000\")))","v":false}]
[null,null,null,null,null,null,null,null,null,null,null,null,null,null,null,null,0,null,null,null,null,null,null,null,{"$f":"IF(Table1[[#This Row],[Wage differential Bonus                            - NotePay Rate you are bonusing to]]>0, Table1[[#This Row],[Wage differential Bonus                            - NotePay Rate you are bonusing to]]-Table1[[#This Row],[Pay Rate]], \"\")","v":""},{"$f":"IF(Table1[[#This Row],[Wage differential Bonus                            - NotePay Rate you are bonusing to]]>0,Table1[[#This Row],[Bonus Rate]]*Table1[[#This Row],[Hours]],\"\")","v":""},null,null,null,null,null,{"$f":"IF(OR(AH3407>0.001,AH3407<-0.001),Table1[[#This Row],[Employee '#]],\" \")","v":" "},false,{"$f":"SUMIF(Table1[[#This Row],[Total Wage Diff bonus]:[Bank Bonus]],\"<> \")","v":0},{"$f":"IF(AA3407>0, Table1[[#This Row],[Column4]], IF(AB3407>0,Table1[[#This Row],[Column4]],IF(X3407>0,\"1000\")))","v":false}]
[null,null,null,null,null,null,null,null,null,null,null,null,null,null,null,null,0,null,null,null,null,null,null,null,{"$f":"IF(Table1[[#This Row],[Wage differential Bonus                            - NotePay Rate you are bonusing to]]>0, Table1[[#This Row],[Wage differential Bonus                            - NotePay Rate you are bonusing to]]-Table1[[#This Row],[Pay Rate]], \"\")","v":""},{"$f":"IF(Table1[[#This Row],[Wage differential Bonus                            - NotePay Rate you are bonusing to]]>0,Table1[[#This Row],[Bonus Rate]]*Table1[[#This Row],[Hours]],\"\")","v":""},null,null,null,null,null,{"$f":"IF(OR(AH3408>0.001,AH3408<-0.001),Table1[[#This Row],[Employee '#]],\" \")","v":" "},false,{"$f":"SUMIF(Table1[[#This Row],[Total Wage Diff bonus]:[Bank Bonus]],\"<> \")","v":0},{"$f":"IF(AA3408>0, Table1[[#This Row],[Column4]], IF(AB3408>0,Table1[[#This Row],[Column4]],IF(X3408>0,\"1000\")))","v":false}]
[null,null,null,null,null,null,null,null,null,null,null,null,null,null,null,null,0,null,null,null,null,null,null,null,{"$f":"IF(Table1[[#This Row],[Wage differential Bonus                            - NotePay Rate you are bonusing to]]>0, Table1[[#This Row],[Wage differential Bonus                            - NotePay Rate you are bonusing to]]-Table1[[#This Row],[Pay Rate]], \"\")","v":""},{"$f":"IF(Table1[[#This Row],[Wage differential Bonus                            - NotePay Rate you are bonusing to]]>0,Table1[[#This Row],[Bonus Rate]]*Table1[[#This Row],[Hours]],\"\")","v":""},null,null,null,null,null,{"$f":"IF(OR(AH3409>0.001,AH3409<-0.001),Table1[[#This Row],[Employee '#]],\" \")","v":" "},false,{"$f":"SUMIF(Table1[[#This Row],[Total Wage Diff bonus]:[Bank Bonus]],\"<> \")","v":0},{"$f":"IF(AA3409>0, Table1[[#This Row],[Column4]], IF(AB3409>0,Table1[[#This Row],[Column4]],IF(X3409>0,\"1000\")))","v":false}]
[null,null,null,null,null,null,null,null,null,null,null,null,null,null,null,null,0,null,null,null,null,null,null,null,{"$f":"IF(Table1[[#This Row],[Wage differential Bonus                            - NotePay Rate you are bonusing to]]>0, Table1[[#This Row],[Wage differential Bonus                            - NotePay Rate you are bonusing to]]-Table1[[#This Row],[Pay Rate]], \"\")","v":""},{"$f":"IF(Table1[[#This Row],[Wage differential Bonus                            - NotePay Rate you are bonusing to]]>0,Table1[[#This Row],[Bonus Rate]]*Table1[[#This Row],[Hours]],\"\")","v":""},null,null,null,null,null,{"$f":"IF(OR(AH3410>0.001,AH3410<-0.001),Table1[[#This Row],[Employee '#]],\" \")","v":" "},false,{"$f":"SUMIF(Table1[[#This Row],[Total Wage Diff bonus]:[Bank Bonus]],\"<> \")","v":0},{"$f":"IF(AA3410>0, Table1[[#This Row],[Column4]], IF(AB3410>0,Table1[[#This Row],[Column4]],IF(X3410>0,\"1000\")))","v":false}]
[null,null,null,null,null,null,null,null,null,null,null,null,null,null,null,null,0,null,null,null,null,null,null,null,{"$f":"IF(Table1[[#This Row],[Wage differential Bonus                            - NotePay Rate you are bonusing to]]>0, Table1[[#This Row],[Wage differential Bonus                            - NotePay Rate you are bonusing to]]-Table1[[#This Row],[Pay Rate]], \"\")","v":""},{"$f":"IF(Table1[[#This Row],[Wage differential Bonus                            - NotePay Rate you are bonusing to]]>0,Table1[[#This Row],[Bonus Rate]]*Table1[[#This Row],[Hours]],\"\")","v":""},null,null,null,null,null,{"$f":"IF(OR(AH3411>0.001,AH3411<-0.001),Table1[[#This Row],[Employee '#]],\" \")","v":" "},false,{"$f":"SUMIF(Table1[[#This Row],[Total Wage Diff bonus]:[Bank Bonus]],\"<> \")","v":0},{"$f":"IF(AA3411>0, Table1[[#This Row],[Column4]], IF(AB3411>0,Table1[[#This Row],[Column4]],IF(X3411>0,\"1000\")))","v":false}]
[null,null,null,null,null,null,null,null,null,null,null,null,null,null,null,null,0,null,null,null,null,null,null,null,{"$f":"IF(Table1[[#This Row],[Wage differential Bonus                            - NotePay Rate you are bonusing to]]>0, Table1[[#This Row],[Wage differential Bonus                            - NotePay Rate you are bonusing to]]-Table1[[#This Row],[Pay Rate]], \"\")","v":""},{"$f":"IF(Table1[[#This Row],[Wage differential Bonus                            - NotePay Rate you are bonusing to]]>0,Table1[[#This Row],[Bonus Rate]]*Table1[[#This Row],[Hours]],\"\")","v":""},null,null,null,null,null,{"$f":"IF(OR(AH3412>0.001,AH3412<-0.001),Table1[[#This Row],[Employee '#]],\" \")","v":" "},false,{"$f":"SUMIF(Table1[[#This Row],[Total Wage Diff bonus]:[Bank Bonus]],\"<> \")","v":0},{"$f":"IF(AA3412>0, Table1[[#This Row],[Column4]], IF(AB3412>0,Table1[[#This Row],[Column4]],IF(X3412>0,\"1000\")))","v":false}]
[null,null,null,null,null,null,null,null,null,null,null,null,null,null,null,null,0,null,null,null,null,null,null,null,{"$f":"IF(Table1[[#This Row],[Wage differential Bonus                            - NotePay Rate you are bonusing to]]>0, Table1[[#This Row],[Wage differential Bonus                            - NotePay Rate you are bonusing to]]-Table1[[#This Row],[Pay Rate]], \"\")","v":""},{"$f":"IF(Table1[[#This Row],[Wage differential Bonus                            - NotePay Rate you are bonusing to]]>0,Table1[[#This Row],[Bonus Rate]]*Table1[[#This Row],[Hours]],\"\")","v":""},null,null,null,null,null,{"$f":"IF(OR(AH3413>0.001,AH3413<-0.001),Table1[[#This Row],[Employee '#]],\" \")","v":" "},false,{"$f":"SUMIF(Table1[[#This Row],[Total Wage Diff bonus]:[Bank Bonus]],\"<> \")","v":0},{"$f":"IF(AA3413>0, Table1[[#This Row],[Column4]], IF(AB3413>0,Table1[[#This Row],[Column4]],IF(X3413>0,\"1000\")))","v":false}]
[null,null,null,null,null,null,null,null,null,null,null,null,null,null,null,null,0,null,null,null,null,null,null,null,{"$f":"IF(Table1[[#This Row],[Wage differential Bonus                            - NotePay Rate you are bonusing to]]>0, Table1[[#This Row],[Wage differential Bonus                            - NotePay Rate you are bonusing to]]-Table1[[#This Row],[Pay Rate]], \"\")","v":""},{"$f":"IF(Table1[[#This Row],[Wage differential Bonus                            - NotePay Rate you are bonusing to]]>0,Table1[[#This Row],[Bonus Rate]]*Table1[[#This Row],[Hours]],\"\")","v":""},null,null,null,null,null,{"$f":"IF(OR(AH3414>0.001,AH3414<-0.001),Table1[[#This Row],[Employee '#]],\" \")","v":" "},false,{"$f":"SUMIF(Table1[[#This Row],[Total Wage Diff bonus]:[Bank Bonus]],\"<> \")","v":0},{"$f":"IF(AA3414>0, Table1[[#This Row],[Column4]], IF(AB3414>0,Table1[[#This Row],[Column4]],IF(X3414>0,\"1000\")))","v":false}]
[null,null,null,null,null,null,null,null,null,null,null,null,null,null,null,null,0,null,null,null,null,null,null,null,{"$f":"IF(Table1[[#This Row],[Wage differential Bonus                            - NotePay Rate you are bonusing to]]>0, Table1[[#This Row],[Wage differential Bonus                            - NotePay Rate you are bonusing to]]-Table1[[#This Row],[Pay Rate]], \"\")","v":""},{"$f":"IF(Table1[[#This Row],[Wage differential Bonus                            - NotePay Rate you are bonusing to]]>0,Table1[[#This Row],[Bonus Rate]]*Table1[[#This Row],[Hours]],\"\")","v":""},null,null,null,null,null,{"$f":"IF(OR(AH3415>0.001,AH3415<-0.001),Table1[[#This Row],[Employee '#]],\" \")","v":" "},false,{"$f":"SUMIF(Table1[[#This Row],[Total Wage Diff bonus]:[Bank Bonus]],\"<> \")","v":0},{"$f":"IF(AA3415>0, Table1[[#This Row],[Column4]], IF(AB3415>0,Table1[[#This Row],[Column4]],IF(X3415>0,\"1000\")))","v":false}]
[null,null,null,null,null,null,null,null,null,null,null,null,null,null,null,null,0,null,null,null,null,null,null,null,{"$f":"IF(Table1[[#This Row],[Wage differential Bonus                            - NotePay Rate you are bonusing to]]>0, Table1[[#This Row],[Wage differential Bonus                            - NotePay Rate you are bonusing to]]-Table1[[#This Row],[Pay Rate]], \"\")","v":""},{"$f":"IF(Table1[[#This Row],[Wage differential Bonus                            - NotePay Rate you are bonusing to]]>0,Table1[[#This Row],[Bonus Rate]]*Table1[[#This Row],[Hours]],\"\")","v":""},null,null,null,null,null,{"$f":"IF(OR(AH3416>0.001,AH3416<-0.001),Table1[[#This Row],[Employee '#]],\" \")","v":" "},false,{"$f":"SUMIF(Table1[[#This Row],[Total Wage Diff bonus]:[Bank Bonus]],\"<> \")","v":0},{"$f":"IF(AA3416>0, Table1[[#This Row],[Column4]], IF(AB3416>0,Table1[[#This Row],[Column4]],IF(X3416>0,\"1000\")))","v":false}]
[null,null,null,null,null,null,null,null,null,null,null,null,null,null,null,null,0,null,null,null,null,null,null,null,{"$f":"IF(Table1[[#This Row],[Wage differential Bonus                            - NotePay Rate you are bonusing to]]>0, Table1[[#This Row],[Wage differential Bonus                            - NotePay Rate you are bonusing to]]-Table1[[#This Row],[Pay Rate]], \"\")","v":""},{"$f":"IF(Table1[[#This Row],[Wage differential Bonus                            - NotePay Rate you are bonusing to]]>0,Table1[[#This Row],[Bonus Rate]]*Table1[[#This Row],[Hours]],\"\")","v":""},null,null,null,null,null,{"$f":"IF(OR(AH3417>0.001,AH3417<-0.001),Table1[[#This Row],[Employee '#]],\" \")","v":" "},false,{"$f":"SUMIF(Table1[[#This Row],[Total Wage Diff bonus]:[Bank Bonus]],\"<> \")","v":0},{"$f":"IF(AA3417>0, Table1[[#This Row],[Column4]], IF(AB3417>0,Table1[[#This Row],[Column4]],IF(X3417>0,\"1000\")))","v":false}]
[null,null,null,null,null,null,null,null,null,null,null,null,null,null,null,null,0,null,null,null,null,null,null,null,{"$f":"IF(Table1[[#This Row],[Wage differential Bonus                            - NotePay Rate you are bonusing to]]>0, Table1[[#This Row],[Wage differential Bonus                            - NotePay Rate you are bonusing to]]-Table1[[#This Row],[Pay Rate]], \"\")","v":""},{"$f":"IF(Table1[[#This Row],[Wage differential Bonus                            - NotePay Rate you are bonusing to]]>0,Table1[[#This Row],[Bonus Rate]]*Table1[[#This Row],[Hours]],\"\")","v":""},null,null,null,null,null,{"$f":"IF(OR(AH3418>0.001,AH3418<-0.001),Table1[[#This Row],[Employee '#]],\" \")","v":" "},false,{"$f":"SUMIF(Table1[[#This Row],[Total Wage Diff bonus]:[Bank Bonus]],\"<> \")","v":0},{"$f":"IF(AA3418>0, Table1[[#This Row],[Column4]], IF(AB3418>0,Table1[[#This Row],[Column4]],IF(X3418>0,\"1000\")))","v":false}]
[null,null,null,null,null,null,null,null,null,null,null,null,null,null,null,null,0,null,null,null,null,null,null,null,{"$f":"IF(Table1[[#This Row],[Wage differential Bonus                            - NotePay Rate you are bonusing to]]>0, Table1[[#This Row],[Wage differential Bonus                            - NotePay Rate you are bonusing to]]-Table1[[#This Row],[Pay Rate]], \"\")","v":""},{"$f":"IF(Table1[[#This Row],[Wage differential Bonus                            - NotePay Rate you are bonusing to]]>0,Table1[[#This Row],[Bonus Rate]]*Table1[[#This Row],[Hours]],\"\")","v":""},null,null,null,null,null,{"$f":"IF(OR(AH3419>0.001,AH3419<-0.001),Table1[[#This Row],[Employee '#]],\" \")","v":" "},false,{"$f":"SUMIF(Table1[[#This Row],[Total Wage Diff bonus]:[Bank Bonus]],\"<> \")","v":0},{"$f":"IF(AA3419>0, Table1[[#This Row],[Column4]], IF(AB3419>0,Table1[[#This Row],[Column4]],IF(X3419>0,\"1000\")))","v":false}]
[null,null,null,null,null,null,null,null,null,null,null,null,null,null,null,null,0,null,null,null,null,null,null,null,{"$f":"IF(Table1[[#This Row],[Wage differential Bonus                            - NotePay Rate you are bonusing to]]>0, Table1[[#This Row],[Wage differential Bonus                            - NotePay Rate you are bonusing to]]-Table1[[#This Row],[Pay Rate]], \"\")","v":""},{"$f":"IF(Table1[[#This Row],[Wage differential Bonus                            - NotePay Rate you are bonusing to]]>0,Table1[[#This Row],[Bonus Rate]]*Table1[[#This Row],[Hours]],\"\")","v":""},null,null,null,null,null,{"$f":"IF(OR(AH3420>0.001,AH3420<-0.001),Table1[[#This Row],[Employee '#]],\" \")","v":" "},false,{"$f":"SUMIF(Table1[[#This Row],[Total Wage Diff bonus]:[Bank Bonus]],\"<> \")","v":0},{"$f":"IF(AA3420>0, Table1[[#This Row],[Column4]], IF(AB3420>0,Table1[[#This Row],[Column4]],IF(X3420>0,\"1000\")))","v":false}]
[null,null,null,null,null,null,null,null,null,null,null,null,null,null,null,null,0,null,null,null,null,null,null,null,{"$f":"IF(Table1[[#This Row],[Wage differential Bonus                            - NotePay Rate you are bonusing to]]>0, Table1[[#This Row],[Wage differential Bonus                            - NotePay Rate you are bonusing to]]-Table1[[#This Row],[Pay Rate]], \"\")","v":""},{"$f":"IF(Table1[[#This Row],[Wage differential Bonus                            - NotePay Rate you are bonusing to]]>0,Table1[[#This Row],[Bonus Rate]]*Table1[[#This Row],[Hours]],\"\")","v":""},null,null,null,null,null,{"$f":"IF(OR(AH3421>0.001,AH3421<-0.001),Table1[[#This Row],[Employee '#]],\" \")","v":" "},false,{"$f":"SUMIF(Table1[[#This Row],[Total Wage Diff bonus]:[Bank Bonus]],\"<> \")","v":0},{"$f":"IF(AA3421>0, Table1[[#This Row],[Column4]], IF(AB3421>0,Table1[[#This Row],[Column4]],IF(X3421>0,\"1000\")))","v":false}]
[null,null,null,null,null,null,null,null,null,null,null,null,null,null,null,null,0,null,null,null,null,null,null,null,{"$f":"IF(Table1[[#This Row],[Wage differential Bonus                            - NotePay Rate you are bonusing to]]>0, Table1[[#This Row],[Wage differential Bonus                            - NotePay Rate you are bonusing to]]-Table1[[#This Row],[Pay Rate]], \"\")","v":""},{"$f":"IF(Table1[[#This Row],[Wage differential Bonus                            - NotePay Rate you are bonusing to]]>0,Table1[[#This Row],[Bonus Rate]]*Table1[[#This Row],[Hours]],\"\")","v":""},null,null,null,null,null,{"$f":"IF(OR(AH3422>0.001,AH3422<-0.001),Table1[[#This Row],[Employee '#]],\" \")","v":" "},false,{"$f":"SUMIF(Table1[[#This Row],[Total Wage Diff bonus]:[Bank Bonus]],\"<> \")","v":0},{"$f":"IF(AA3422>0, Table1[[#This Row],[Column4]], IF(AB3422>0,Table1[[#This Row],[Column4]],IF(X3422>0,\"1000\")))","v":false}]
[null,null,null,null,null,null,null,null,null,null,null,null,null,null,null,null,0,null,null,null,null,null,null,null,{"$f":"IF(Table1[[#This Row],[Wage differential Bonus                            - NotePay Rate you are bonusing to]]>0, Table1[[#This Row],[Wage differential Bonus                            - NotePay Rate you are bonusing to]]-Table1[[#This Row],[Pay Rate]], \"\")","v":""},{"$f":"IF(Table1[[#This Row],[Wage differential Bonus                            - NotePay Rate you are bonusing to]]>0,Table1[[#This Row],[Bonus Rate]]*Table1[[#This Row],[Hours]],\"\")","v":""},null,null,null,null,null,{"$f":"IF(OR(AH3423>0.001,AH3423<-0.001),Table1[[#This Row],[Employee '#]],\" \")","v":" "},false,{"$f":"SUMIF(Table1[[#This Row],[Total Wage Diff bonus]:[Bank Bonus]],\"<> \")","v":0},{"$f":"IF(AA3423>0, Table1[[#This Row],[Column4]], IF(AB3423>0,Table1[[#This Row],[Column4]],IF(X3423>0,\"1000\")))","v":false}]
[null,null,null,null,null,null,null,null,null,null,null,null,null,null,null,null,0,null,null,null,null,null,null,null,{"$f":"IF(Table1[[#This Row],[Wage differential Bonus                            - NotePay Rate you are bonusing to]]>0, Table1[[#This Row],[Wage differential Bonus                            - NotePay Rate you are bonusing to]]-Table1[[#This Row],[Pay Rate]], \"\")","v":""},{"$f":"IF(Table1[[#This Row],[Wage differential Bonus                            - NotePay Rate you are bonusing to]]>0,Table1[[#This Row],[Bonus Rate]]*Table1[[#This Row],[Hours]],\"\")","v":""},null,null,null,null,null,{"$f":"IF(OR(AH3424>0.001,AH3424<-0.001),Table1[[#This Row],[Employee '#]],\" \")","v":" "},false,{"$f":"SUMIF(Table1[[#This Row],[Total Wage Diff bonus]:[Bank Bonus]],\"<> \")","v":0},{"$f":"IF(AA3424>0, Table1[[#This Row],[Column4]], IF(AB3424>0,Table1[[#This Row],[Column4]],IF(X3424>0,\"1000\")))","v":false}]
[null,null,null,null,null,null,null,null,null,null,null,null,null,null,null,null,0,null,null,null,null,null,null,null,{"$f":"IF(Table1[[#This Row],[Wage differential Bonus                            - NotePay Rate you are bonusing to]]>0, Table1[[#This Row],[Wage differential Bonus                            - NotePay Rate you are bonusing to]]-Table1[[#This Row],[Pay Rate]], \"\")","v":""},{"$f":"IF(Table1[[#This Row],[Wage differential Bonus                            - NotePay Rate you are bonusing to]]>0,Table1[[#This Row],[Bonus Rate]]*Table1[[#This Row],[Hours]],\"\")","v":""},null,null,null,null,null,{"$f":"IF(OR(AH3425>0.001,AH3425<-0.001),Table1[[#This Row],[Employee '#]],\" \")","v":" "},false,{"$f":"SUMIF(Table1[[#This Row],[Total Wage Diff bonus]:[Bank Bonus]],\"<> \")","v":0},{"$f":"IF(AA3425>0, Table1[[#This Row],[Column4]], IF(AB3425>0,Table1[[#This Row],[Column4]],IF(X3425>0,\"1000\")))","v":false}]
[null,null,null,null,null,null,null,null,null,null,null,null,null,null,null,null,0,null,null,null,null,null,null,null,{"$f":"IF(Table1[[#This Row],[Wage differential Bonus                            - NotePay Rate you are bonusing to]]>0, Table1[[#This Row],[Wage differential Bonus                            - NotePay Rate you are bonusing to]]-Table1[[#This Row],[Pay Rate]], \"\")","v":""},{"$f":"IF(Table1[[#This Row],[Wage differential Bonus                            - NotePay Rate you are bonusing to]]>0,Table1[[#This Row],[Bonus Rate]]*Table1[[#This Row],[Hours]],\"\")","v":""},null,null,null,null,null,{"$f":"IF(OR(AH3426>0.001,AH3426<-0.001),Table1[[#This Row],[Employee '#]],\" \")","v":" "},false,{"$f":"SUMIF(Table1[[#This Row],[Total Wage Diff bonus]:[Bank Bonus]],\"<> \")","v":0},{"$f":"IF(AA3426>0, Table1[[#This Row],[Column4]], IF(AB3426>0,Table1[[#This Row],[Column4]],IF(X3426>0,\"1000\")))","v":false}]
[null,null,null,null,null,null,null,null,null,null,null,null,null,null,null,null,0,null,null,null,null,null,null,null,{"$f":"IF(Table1[[#This Row],[Wage differential Bonus                            - NotePay Rate you are bonusing to]]>0, Table1[[#This Row],[Wage differential Bonus                            - NotePay Rate you are bonusing to]]-Table1[[#This Row],[Pay Rate]], \"\")","v":""},{"$f":"IF(Table1[[#This Row],[Wage differential Bonus                            - NotePay Rate you are bonusing to]]>0,Table1[[#This Row],[Bonus Rate]]*Table1[[#This Row],[Hours]],\"\")","v":""},null,null,null,null,null,{"$f":"IF(OR(AH3427>0.001,AH3427<-0.001),Table1[[#This Row],[Employee '#]],\" \")","v":" "},false,{"$f":"SUMIF(Table1[[#This Row],[Total Wage Diff bonus]:[Bank Bonus]],\"<> \")","v":0},{"$f":"IF(AA3427>0, Table1[[#This Row],[Column4]], IF(AB3427>0,Table1[[#This Row],[Column4]],IF(X3427>0,\"1000\")))","v":false}]
[null,null,null,null,null,null,null,null,null,null,null,null,null,null,null,null,0,null,null,null,null,null,null,null,{"$f":"IF(Table1[[#This Row],[Wage differential Bonus                            - NotePay Rate you are bonusing to]]>0, Table1[[#This Row],[Wage differential Bonus                            - NotePay Rate you are bonusing to]]-Table1[[#This Row],[Pay Rate]], \"\")","v":""},{"$f":"IF(Table1[[#This Row],[Wage differential Bonus                            - NotePay Rate you are bonusing to]]>0,Table1[[#This Row],[Bonus Rate]]*Table1[[#This Row],[Hours]],\"\")","v":""},null,null,null,null,null,{"$f":"IF(OR(AH3428>0.001,AH3428<-0.001),Table1[[#This Row],[Employee '#]],\" \")","v":" "},false,{"$f":"SUMIF(Table1[[#This Row],[Total Wage Diff bonus]:[Bank Bonus]],\"<> \")","v":0},{"$f":"IF(AA3428>0, Table1[[#This Row],[Column4]], IF(AB3428>0,Table1[[#This Row],[Column4]],IF(X3428>0,\"1000\")))","v":false}]
[null,null,null,null,null,null,null,null,null,null,null,null,null,null,null,null,0,null,null,null,null,null,null,null,{"$f":"IF(Table1[[#This Row],[Wage differential Bonus                            - NotePay Rate you are bonusing to]]>0, Table1[[#This Row],[Wage differential Bonus                            - NotePay Rate you are bonusing to]]-Table1[[#This Row],[Pay Rate]], \"\")","v":""},{"$f":"IF(Table1[[#This Row],[Wage differential Bonus                            - NotePay Rate you are bonusing to]]>0,Table1[[#This Row],[Bonus Rate]]*Table1[[#This Row],[Hours]],\"\")","v":""},null,null,null,null,null,{"$f":"IF(OR(AH3429>0.001,AH3429<-0.001),Table1[[#This Row],[Employee '#]],\" \")","v":" "},false,{"$f":"SUMIF(Table1[[#This Row],[Total Wage Diff bonus]:[Bank Bonus]],\"<> \")","v":0},{"$f":"IF(AA3429>0, Table1[[#This Row],[Column4]], IF(AB3429>0,Table1[[#This Row],[Column4]],IF(X3429>0,\"1000\")))","v":false}]
[null,null,null,null,null,null,null,null,null,null,null,null,null,null,null,null,0,null,null,null,null,null,null,null,{"$f":"IF(Table1[[#This Row],[Wage differential Bonus                            - NotePay Rate you are bonusing to]]>0, Table1[[#This Row],[Wage differential Bonus                            - NotePay Rate you are bonusing to]]-Table1[[#This Row],[Pay Rate]], \"\")","v":""},{"$f":"IF(Table1[[#This Row],[Wage differential Bonus                            - NotePay Rate you are bonusing to]]>0,Table1[[#This Row],[Bonus Rate]]*Table1[[#This Row],[Hours]],\"\")","v":""},null,null,null,null,null,{"$f":"IF(OR(AH3430>0.001,AH3430<-0.001),Table1[[#This Row],[Employee '#]],\" \")","v":" "},false,{"$f":"SUMIF(Table1[[#This Row],[Total Wage Diff bonus]:[Bank Bonus]],\"<> \")","v":0},{"$f":"IF(AA3430>0, Table1[[#This Row],[Column4]], IF(AB3430>0,Table1[[#This Row],[Column4]],IF(X3430>0,\"1000\")))","v":false}]
[null,null,null,null,null,null,null,null,null,null,null,null,null,null,null,null,0,null,null,null,null,null,null,null,{"$f":"IF(Table1[[#This Row],[Wage differential Bonus                            - NotePay Rate you are bonusing to]]>0, Table1[[#This Row],[Wage differential Bonus                            - NotePay Rate you are bonusing to]]-Table1[[#This Row],[Pay Rate]], \"\")","v":""},{"$f":"IF(Table1[[#This Row],[Wage differential Bonus                            - NotePay Rate you are bonusing to]]>0,Table1[[#This Row],[Bonus Rate]]*Table1[[#This Row],[Hours]],\"\")","v":""},null,null,null,null,null,{"$f":"IF(OR(AH3431>0.001,AH3431<-0.001),Table1[[#This Row],[Employee '#]],\" \")","v":" "},false,{"$f":"SUMIF(Table1[[#This Row],[Total Wage Diff bonus]:[Bank Bonus]],\"<> \")","v":0},{"$f":"IF(AA3431>0, Table1[[#This Row],[Column4]], IF(AB3431>0,Table1[[#This Row],[Column4]],IF(X3431>0,\"1000\")))","v":false}]
[null,null,null,null,null,null,null,null,null,null,null,null,null,null,null,null,0,null,null,null,null,null,null,null,{"$f":"IF(Table1[[#This Row],[Wage differential Bonus                            - NotePay Rate you are bonusing to]]>0, Table1[[#This Row],[Wage differential Bonus                            - NotePay Rate you are bonusing to]]-Table1[[#This Row],[Pay Rate]], \"\")","v":""},{"$f":"IF(Table1[[#This Row],[Wage differential Bonus                            - NotePay Rate you are bonusing to]]>0,Table1[[#This Row],[Bonus Rate]]*Table1[[#This Row],[Hours]],\"\")","v":""},null,null,null,null,null,{"$f":"IF(OR(AH3432>0.001,AH3432<-0.001),Table1[[#This Row],[Employee '#]],\" \")","v":" "},false,{"$f":"SUMIF(Table1[[#This Row],[Total Wage Diff bonus]:[Bank Bonus]],\"<> \")","v":0},{"$f":"IF(AA3432>0, Table1[[#This Row],[Column4]], IF(AB3432>0,Table1[[#This Row],[Column4]],IF(X3432>0,\"1000\")))","v":false}]
[null,null,null,null,null,null,null,null,null,null,null,null,null,null,null,null,0,null,null,null,null,null,null,null,{"$f":"IF(Table1[[#This Row],[Wage differential Bonus                            - NotePay Rate you are bonusing to]]>0, Table1[[#This Row],[Wage differential Bonus                            - NotePay Rate you are bonusing to]]-Table1[[#This Row],[Pay Rate]], \"\")","v":""},{"$f":"IF(Table1[[#This Row],[Wage differential Bonus                            - NotePay Rate you are bonusing to]]>0,Table1[[#This Row],[Bonus Rate]]*Table1[[#This Row],[Hours]],\"\")","v":""},null,null,null,null,null,{"$f":"IF(OR(AH3433>0.001,AH3433<-0.001),Table1[[#This Row],[Employee '#]],\" \")","v":" "},false,{"$f":"SUMIF(Table1[[#This Row],[Total Wage Diff bonus]:[Bank Bonus]],\"<> \")","v":0},{"$f":"IF(AA3433>0, Table1[[#This Row],[Column4]], IF(AB3433>0,Table1[[#This Row],[Column4]],IF(X3433>0,\"1000\")))","v":false}]
[null,null,null,null,null,null,null,null,null,null,null,null,null,null,null,null,0,null,null,null,null,null,null,null,{"$f":"IF(Table1[[#This Row],[Wage differential Bonus                            - NotePay Rate you are bonusing to]]>0, Table1[[#This Row],[Wage differential Bonus                            - NotePay Rate you are bonusing to]]-Table1[[#This Row],[Pay Rate]], \"\")","v":""},{"$f":"IF(Table1[[#This Row],[Wage differential Bonus                            - NotePay Rate you are bonusing to]]>0,Table1[[#This Row],[Bonus Rate]]*Table1[[#This Row],[Hours]],\"\")","v":""},null,null,null,null,null,{"$f":"IF(OR(AH3434>0.001,AH3434<-0.001),Table1[[#This Row],[Employee '#]],\" \")","v":" "},false,{"$f":"SUMIF(Table1[[#This Row],[Total Wage Diff bonus]:[Bank Bonus]],\"<> \")","v":0},{"$f":"IF(AA3434>0, Table1[[#This Row],[Column4]], IF(AB3434>0,Table1[[#This Row],[Column4]],IF(X3434>0,\"1000\")))","v":false}]
[null,null,null,null,null,null,null,null,null,null,null,null,null,null,null,null,0,null,null,null,null,null,null,null,{"$f":"IF(Table1[[#This Row],[Wage differential Bonus                            - NotePay Rate you are bonusing to]]>0, Table1[[#This Row],[Wage differential Bonus                            - NotePay Rate you are bonusing to]]-Table1[[#This Row],[Pay Rate]], \"\")","v":""},{"$f":"IF(Table1[[#This Row],[Wage differential Bonus                            - NotePay Rate you are bonusing to]]>0,Table1[[#This Row],[Bonus Rate]]*Table1[[#This Row],[Hours]],\"\")","v":""},null,null,null,null,null,{"$f":"IF(OR(AH3435>0.001,AH3435<-0.001),Table1[[#This Row],[Employee '#]],\" \")","v":" "},false,{"$f":"SUMIF(Table1[[#This Row],[Total Wage Diff bonus]:[Bank Bonus]],\"<> \")","v":0},{"$f":"IF(AA3435>0, Table1[[#This Row],[Column4]], IF(AB3435>0,Table1[[#This Row],[Column4]],IF(X3435>0,\"1000\")))","v":false}]
[null,null,null,null,null,null,null,null,null,null,null,null,null,null,null,null,0,null,null,null,null,null,null,null,{"$f":"IF(Table1[[#This Row],[Wage differential Bonus                            - NotePay Rate you are bonusing to]]>0, Table1[[#This Row],[Wage differential Bonus                            - NotePay Rate you are bonusing to]]-Table1[[#This Row],[Pay Rate]], \"\")","v":""},{"$f":"IF(Table1[[#This Row],[Wage differential Bonus                            - NotePay Rate you are bonusing to]]>0,Table1[[#This Row],[Bonus Rate]]*Table1[[#This Row],[Hours]],\"\")","v":""},null,null,null,null,null,{"$f":"IF(OR(AH3436>0.001,AH3436<-0.001),Table1[[#This Row],[Employee '#]],\" \")","v":" "},false,{"$f":"SUMIF(Table1[[#This Row],[Total Wage Diff bonus]:[Bank Bonus]],\"<> \")","v":0},{"$f":"IF(AA3436>0, Table1[[#This Row],[Column4]], IF(AB3436>0,Table1[[#This Row],[Column4]],IF(X3436>0,\"1000\")))","v":false}]
[null,null,null,null,null,null,null,null,null,null,null,null,null,null,null,null,0,null,null,null,null,null,null,null,{"$f":"IF(Table1[[#This Row],[Wage differential Bonus                            - NotePay Rate you are bonusing to]]>0, Table1[[#This Row],[Wage differential Bonus                            - NotePay Rate you are bonusing to]]-Table1[[#This Row],[Pay Rate]], \"\")","v":""},{"$f":"IF(Table1[[#This Row],[Wage differential Bonus                            - NotePay Rate you are bonusing to]]>0,Table1[[#This Row],[Bonus Rate]]*Table1[[#This Row],[Hours]],\"\")","v":""},null,null,null,null,null,{"$f":"IF(OR(AH3437>0.001,AH3437<-0.001),Table1[[#This Row],[Employee '#]],\" \")","v":" "},false,{"$f":"SUMIF(Table1[[#This Row],[Total Wage Diff bonus]:[Bank Bonus]],\"<> \")","v":0},{"$f":"IF(AA3437>0, Table1[[#This Row],[Column4]], IF(AB3437>0,Table1[[#This Row],[Column4]],IF(X3437>0,\"1000\")))","v":false}]
[null,null,null,null,null,null,null,null,null,null,null,null,null,null,null,null,0,null,null,null,null,null,null,null,{"$f":"IF(Table1[[#This Row],[Wage differential Bonus                            - NotePay Rate you are bonusing to]]>0, Table1[[#This Row],[Wage differential Bonus                            - NotePay Rate you are bonusing to]]-Table1[[#This Row],[Pay Rate]], \"\")","v":""},{"$f":"IF(Table1[[#This Row],[Wage differential Bonus                            - NotePay Rate you are bonusing to]]>0,Table1[[#This Row],[Bonus Rate]]*Table1[[#This Row],[Hours]],\"\")","v":""},null,null,null,null,null,{"$f":"IF(OR(AH3438>0.001,AH3438<-0.001),Table1[[#This Row],[Employee '#]],\" \")","v":" "},false,{"$f":"SUMIF(Table1[[#This Row],[Total Wage Diff bonus]:[Bank Bonus]],\"<> \")","v":0},{"$f":"IF(AA3438>0, Table1[[#This Row],[Column4]], IF(AB3438>0,Table1[[#This Row],[Column4]],IF(X3438>0,\"1000\")))","v":false}]
[null,null,null,null,null,null,null,null,null,null,null,null,null,null,null,null,0,null,null,null,null,null,null,null,{"$f":"IF(Table1[[#This Row],[Wage differential Bonus                            - NotePay Rate you are bonusing to]]>0, Table1[[#This Row],[Wage differential Bonus                            - NotePay Rate you are bonusing to]]-Table1[[#This Row],[Pay Rate]], \"\")","v":""},{"$f":"IF(Table1[[#This Row],[Wage differential Bonus                            - NotePay Rate you are bonusing to]]>0,Table1[[#This Row],[Bonus Rate]]*Table1[[#This Row],[Hours]],\"\")","v":""},null,null,null,null,null,{"$f":"IF(OR(AH3439>0.001,AH3439<-0.001),Table1[[#This Row],[Employee '#]],\" \")","v":" "},false,{"$f":"SUMIF(Table1[[#This Row],[Total Wage Diff bonus]:[Bank Bonus]],\"<> \")","v":0},{"$f":"IF(AA3439>0, Table1[[#This Row],[Column4]], IF(AB3439>0,Table1[[#This Row],[Column4]],IF(X3439>0,\"1000\")))","v":false}]
[null,null,null,null,null,null,null,null,null,null,null,null,null,null,null,null,0,null,null,null,null,null,null,null,{"$f":"IF(Table1[[#This Row],[Wage differential Bonus                            - NotePay Rate you are bonusing to]]>0, Table1[[#This Row],[Wage differential Bonus                            - NotePay Rate you are bonusing to]]-Table1[[#This Row],[Pay Rate]], \"\")","v":""},{"$f":"IF(Table1[[#This Row],[Wage differential Bonus                            - NotePay Rate you are bonusing to]]>0,Table1[[#This Row],[Bonus Rate]]*Table1[[#This Row],[Hours]],\"\")","v":""},null,null,null,null,null,{"$f":"IF(OR(AH3440>0.001,AH3440<-0.001),Table1[[#This Row],[Employee '#]],\" \")","v":" "},false,{"$f":"SUMIF(Table1[[#This Row],[Total Wage Diff bonus]:[Bank Bonus]],\"<> \")","v":0},{"$f":"IF(AA3440>0, Table1[[#This Row],[Column4]], IF(AB3440>0,Table1[[#This Row],[Column4]],IF(X3440>0,\"1000\")))","v":false}]
[null,null,null,null,null,null,null,null,null,null,null,null,null,null,null,null,0,null,null,null,null,null,null,null,{"$f":"IF(Table1[[#This Row],[Wage differential Bonus                            - NotePay Rate you are bonusing to]]>0, Table1[[#This Row],[Wage differential Bonus                            - NotePay Rate you are bonusing to]]-Table1[[#This Row],[Pay Rate]], \"\")","v":""},{"$f":"IF(Table1[[#This Row],[Wage differential Bonus                            - NotePay Rate you are bonusing to]]>0,Table1[[#This Row],[Bonus Rate]]*Table1[[#This Row],[Hours]],\"\")","v":""},null,null,null,null,null,{"$f":"IF(OR(AH3441>0.001,AH3441<-0.001),Table1[[#This Row],[Employee '#]],\" \")","v":" "},false,{"$f":"SUMIF(Table1[[#This Row],[Total Wage Diff bonus]:[Bank Bonus]],\"<> \")","v":0},{"$f":"IF(AA3441>0, Table1[[#This Row],[Column4]], IF(AB3441>0,Table1[[#This Row],[Column4]],IF(X3441>0,\"1000\")))","v":false}]
[null,null,null,null,null,null,null,null,null,null,null,null,null,null,null,null,0,null,null,null,null,null,null,null,{"$f":"IF(Table1[[#This Row],[Wage differential Bonus                            - NotePay Rate you are bonusing to]]>0, Table1[[#This Row],[Wage differential Bonus                            - NotePay Rate you are bonusing to]]-Table1[[#This Row],[Pay Rate]], \"\")","v":""},{"$f":"IF(Table1[[#This Row],[Wage differential Bonus                            - NotePay Rate you are bonusing to]]>0,Table1[[#This Row],[Bonus Rate]]*Table1[[#This Row],[Hours]],\"\")","v":""},null,null,null,null,null,{"$f":"IF(OR(AH3442>0.001,AH3442<-0.001),Table1[[#This Row],[Employee '#]],\" \")","v":" "},false,{"$f":"SUMIF(Table1[[#This Row],[Total Wage Diff bonus]:[Bank Bonus]],\"<> \")","v":0},{"$f":"IF(AA3442>0, Table1[[#This Row],[Column4]], IF(AB3442>0,Table1[[#This Row],[Column4]],IF(X3442>0,\"1000\")))","v":false}]
[null,null,null,null,null,null,null,null,null,null,null,null,null,null,null,null,0,null,null,null,null,null,null,null,{"$f":"IF(Table1[[#This Row],[Wage differential Bonus                            - NotePay Rate you are bonusing to]]>0, Table1[[#This Row],[Wage differential Bonus                            - NotePay Rate you are bonusing to]]-Table1[[#This Row],[Pay Rate]], \"\")","v":""},{"$f":"IF(Table1[[#This Row],[Wage differential Bonus                            - NotePay Rate you are bonusing to]]>0,Table1[[#This Row],[Bonus Rate]]*Table1[[#This Row],[Hours]],\"\")","v":""},null,null,null,null,null,{"$f":"IF(OR(AH3443>0.001,AH3443<-0.001),Table1[[#This Row],[Employee '#]],\" \")","v":" "},false,{"$f":"SUMIF(Table1[[#This Row],[Total Wage Diff bonus]:[Bank Bonus]],\"<> \")","v":0},{"$f":"IF(AA3443>0, Table1[[#This Row],[Column4]], IF(AB3443>0,Table1[[#This Row],[Column4]],IF(X3443>0,\"1000\")))","v":false}]
[null,null,null,null,null,null,null,null,null,null,null,null,null,null,null,null,0,null,null,null,null,null,null,null,{"$f":"IF(Table1[[#This Row],[Wage differential Bonus                            - NotePay Rate you are bonusing to]]>0, Table1[[#This Row],[Wage differential Bonus                            - NotePay Rate you are bonusing to]]-Table1[[#This Row],[Pay Rate]], \"\")","v":""},{"$f":"IF(Table1[[#This Row],[Wage differential Bonus                            - NotePay Rate you are bonusing to]]>0,Table1[[#This Row],[Bonus Rate]]*Table1[[#This Row],[Hours]],\"\")","v":""},null,null,null,null,null,{"$f":"IF(OR(AH3444>0.001,AH3444<-0.001),Table1[[#This Row],[Employee '#]],\" \")","v":" "},false,{"$f":"SUMIF(Table1[[#This Row],[Total Wage Diff bonus]:[Bank Bonus]],\"<> \")","v":0},{"$f":"IF(AA3444>0, Table1[[#This Row],[Column4]], IF(AB3444>0,Table1[[#This Row],[Column4]],IF(X3444>0,\"1000\")))","v":false}]
[null,null,null,null,null,null,null,null,null,null,null,null,null,null,null,null,0,null,null,null,null,null,null,null,{"$f":"IF(Table1[[#This Row],[Wage differential Bonus                            - NotePay Rate you are bonusing to]]>0, Table1[[#This Row],[Wage differential Bonus                            - NotePay Rate you are bonusing to]]-Table1[[#This Row],[Pay Rate]], \"\")","v":""},{"$f":"IF(Table1[[#This Row],[Wage differential Bonus                            - NotePay Rate you are bonusing to]]>0,Table1[[#This Row],[Bonus Rate]]*Table1[[#This Row],[Hours]],\"\")","v":""},null,null,null,null,null,{"$f":"IF(OR(AH3445>0.001,AH3445<-0.001),Table1[[#This Row],[Employee '#]],\" \")","v":" "},false,{"$f":"SUMIF(Table1[[#This Row],[Total Wage Diff bonus]:[Bank Bonus]],\"<> \")","v":0},{"$f":"IF(AA3445>0, Table1[[#This Row],[Column4]], IF(AB3445>0,Table1[[#This Row],[Column4]],IF(X3445>0,\"1000\")))","v":false}]
[null,null,null,null,null,null,null,null,null,null,null,null,null,null,null,null,0,null,null,null,null,null,null,null,{"$f":"IF(Table1[[#This Row],[Wage differential Bonus                            - NotePay Rate you are bonusing to]]>0, Table1[[#This Row],[Wage differential Bonus                            - NotePay Rate you are bonusing to]]-Table1[[#This Row],[Pay Rate]], \"\")","v":""},{"$f":"IF(Table1[[#This Row],[Wage differential Bonus                            - NotePay Rate you are bonusing to]]>0,Table1[[#This Row],[Bonus Rate]]*Table1[[#This Row],[Hours]],\"\")","v":""},null,null,null,null,null,{"$f":"IF(OR(AH3446>0.001,AH3446<-0.001),Table1[[#This Row],[Employee '#]],\" \")","v":" "},false,{"$f":"SUMIF(Table1[[#This Row],[Total Wage Diff bonus]:[Bank Bonus]],\"<> \")","v":0},{"$f":"IF(AA3446>0, Table1[[#This Row],[Column4]], IF(AB3446>0,Table1[[#This Row],[Column4]],IF(X3446>0,\"1000\")))","v":false}]
[null,null,null,null,null,null,null,null,null,null,null,null,null,null,null,null,0,null,null,null,null,null,null,null,{"$f":"IF(Table1[[#This Row],[Wage differential Bonus                            - NotePay Rate you are bonusing to]]>0, Table1[[#This Row],[Wage differential Bonus                            - NotePay Rate you are bonusing to]]-Table1[[#This Row],[Pay Rate]], \"\")","v":""},{"$f":"IF(Table1[[#This Row],[Wage differential Bonus                            - NotePay Rate you are bonusing to]]>0,Table1[[#This Row],[Bonus Rate]]*Table1[[#This Row],[Hours]],\"\")","v":""},null,null,null,null,null,{"$f":"IF(OR(AH3447>0.001,AH3447<-0.001),Table1[[#This Row],[Employee '#]],\" \")","v":" "},false,{"$f":"SUMIF(Table1[[#This Row],[Total Wage Diff bonus]:[Bank Bonus]],\"<> \")","v":0},{"$f":"IF(AA3447>0, Table1[[#This Row],[Column4]], IF(AB3447>0,Table1[[#This Row],[Column4]],IF(X3447>0,\"1000\")))","v":false}]
[null,null,null,null,null,null,null,null,null,null,null,null,null,null,null,null,0,null,null,null,null,null,null,null,{"$f":"IF(Table1[[#This Row],[Wage differential Bonus                            - NotePay Rate you are bonusing to]]>0, Table1[[#This Row],[Wage differential Bonus                            - NotePay Rate you are bonusing to]]-Table1[[#This Row],[Pay Rate]], \"\")","v":""},{"$f":"IF(Table1[[#This Row],[Wage differential Bonus                            - NotePay Rate you are bonusing to]]>0,Table1[[#This Row],[Bonus Rate]]*Table1[[#This Row],[Hours]],\"\")","v":""},null,null,null,null,null,{"$f":"IF(OR(AH3448>0.001,AH3448<-0.001),Table1[[#This Row],[Employee '#]],\" \")","v":" "},false,{"$f":"SUMIF(Table1[[#This Row],[Total Wage Diff bonus]:[Bank Bonus]],\"<> \")","v":0},{"$f":"IF(AA3448>0, Table1[[#This Row],[Column4]], IF(AB3448>0,Table1[[#This Row],[Column4]],IF(X3448>0,\"1000\")))","v":false}]
[null,null,null,null,null,null,null,null,null,null,null,null,null,null,null,null,0,null,null,null,null,null,null,null,{"$f":"IF(Table1[[#This Row],[Wage differential Bonus                            - NotePay Rate you are bonusing to]]>0, Table1[[#This Row],[Wage differential Bonus                            - NotePay Rate you are bonusing to]]-Table1[[#This Row],[Pay Rate]], \"\")","v":""},{"$f":"IF(Table1[[#This Row],[Wage differential Bonus                            - NotePay Rate you are bonusing to]]>0,Table1[[#This Row],[Bonus Rate]]*Table1[[#This Row],[Hours]],\"\")","v":""},null,null,null,null,null,{"$f":"IF(OR(AH3449>0.001,AH3449<-0.001),Table1[[#This Row],[Employee '#]],\" \")","v":" "},false,{"$f":"SUMIF(Table1[[#This Row],[Total Wage Diff bonus]:[Bank Bonus]],\"<> \")","v":0},{"$f":"IF(AA3449>0, Table1[[#This Row],[Column4]], IF(AB3449>0,Table1[[#This Row],[Column4]],IF(X3449>0,\"1000\")))","v":false}]
[null,null,null,null,null,null,null,null,null,null,null,null,null,null,null,null,0,null,null,null,null,null,null,null,{"$f":"IF(Table1[[#This Row],[Wage differential Bonus                            - NotePay Rate you are bonusing to]]>0, Table1[[#This Row],[Wage differential Bonus                            - NotePay Rate you are bonusing to]]-Table1[[#This Row],[Pay Rate]], \"\")","v":""},{"$f":"IF(Table1[[#This Row],[Wage differential Bonus                            - NotePay Rate you are bonusing to]]>0,Table1[[#This Row],[Bonus Rate]]*Table1[[#This Row],[Hours]],\"\")","v":""},null,null,null,null,null,{"$f":"IF(OR(AH3450>0.001,AH3450<-0.001),Table1[[#This Row],[Employee '#]],\" \")","v":" "},false,{"$f":"SUMIF(Table1[[#This Row],[Total Wage Diff bonus]:[Bank Bonus]],\"<> \")","v":0},{"$f":"IF(AA3450>0, Table1[[#This Row],[Column4]], IF(AB3450>0,Table1[[#This Row],[Column4]],IF(X3450>0,\"1000\")))","v":false}]
[null,null,null,null,null,null,null,null,null,null,null,null,null,null,null,null,0,null,null,null,null,null,null,null,{"$f":"IF(Table1[[#This Row],[Wage differential Bonus                            - NotePay Rate you are bonusing to]]>0, Table1[[#This Row],[Wage differential Bonus                            - NotePay Rate you are bonusing to]]-Table1[[#This Row],[Pay Rate]], \"\")","v":""},{"$f":"IF(Table1[[#This Row],[Wage differential Bonus                            - NotePay Rate you are bonusing to]]>0,Table1[[#This Row],[Bonus Rate]]*Table1[[#This Row],[Hours]],\"\")","v":""},null,null,null,null,null,{"$f":"IF(OR(AH3451>0.001,AH3451<-0.001),Table1[[#This Row],[Employee '#]],\" \")","v":" "},false,{"$f":"SUMIF(Table1[[#This Row],[Total Wage Diff bonus]:[Bank Bonus]],\"<> \")","v":0},{"$f":"IF(AA3451>0, Table1[[#This Row],[Column4]], IF(AB3451>0,Table1[[#This Row],[Column4]],IF(X3451>0,\"1000\")))","v":false}]
[null,null,null,null,null,null,null,null,null,null,null,null,null,null,null,null,0,null,null,null,null,null,null,null,{"$f":"IF(Table1[[#This Row],[Wage differential Bonus                            - NotePay Rate you are bonusing to]]>0, Table1[[#This Row],[Wage differential Bonus                            - NotePay Rate you are bonusing to]]-Table1[[#This Row],[Pay Rate]], \"\")","v":""},{"$f":"IF(Table1[[#This Row],[Wage differential Bonus                            - NotePay Rate you are bonusing to]]>0,Table1[[#This Row],[Bonus Rate]]*Table1[[#This Row],[Hours]],\"\")","v":""},null,null,null,null,null,{"$f":"IF(OR(AH3452>0.001,AH3452<-0.001),Table1[[#This Row],[Employee '#]],\" \")","v":" "},false,{"$f":"SUMIF(Table1[[#This Row],[Total Wage Diff bonus]:[Bank Bonus]],\"<> \")","v":0},{"$f":"IF(AA3452>0, Table1[[#This Row],[Column4]], IF(AB3452>0,Table1[[#This Row],[Column4]],IF(X3452>0,\"1000\")))","v":false}]
[null,null,null,null,null,null,null,null,null,null,null,null,null,null,null,null,0,null,null,null,null,null,null,null,{"$f":"IF(Table1[[#This Row],[Wage differential Bonus                            - NotePay Rate you are bonusing to]]>0, Table1[[#This Row],[Wage differential Bonus                            - NotePay Rate you are bonusing to]]-Table1[[#This Row],[Pay Rate]], \"\")","v":""},{"$f":"IF(Table1[[#This Row],[Wage differential Bonus                            - NotePay Rate you are bonusing to]]>0,Table1[[#This Row],[Bonus Rate]]*Table1[[#This Row],[Hours]],\"\")","v":""},null,null,null,null,null,{"$f":"IF(OR(AH3453>0.001,AH3453<-0.001),Table1[[#This Row],[Employee '#]],\" \")","v":" "},false,{"$f":"SUMIF(Table1[[#This Row],[Total Wage Diff bonus]:[Bank Bonus]],\"<> \")","v":0},{"$f":"IF(AA3453>0, Table1[[#This Row],[Column4]], IF(AB3453>0,Table1[[#This Row],[Column4]],IF(X3453>0,\"1000\")))","v":false}]
[null,null,null,null,null,null,null,null,null,null,null,null,null,null,null,null,0,null,null,null,null,null,null,null,{"$f":"IF(Table1[[#This Row],[Wage differential Bonus                            - NotePay Rate you are bonusing to]]>0, Table1[[#This Row],[Wage differential Bonus                            - NotePay Rate you are bonusing to]]-Table1[[#This Row],[Pay Rate]], \"\")","v":""},{"$f":"IF(Table1[[#This Row],[Wage differential Bonus                            - NotePay Rate you are bonusing to]]>0,Table1[[#This Row],[Bonus Rate]]*Table1[[#This Row],[Hours]],\"\")","v":""},null,null,null,null,null,{"$f":"IF(OR(AH3454>0.001,AH3454<-0.001),Table1[[#This Row],[Employee '#]],\" \")","v":" "},false,{"$f":"SUMIF(Table1[[#This Row],[Total Wage Diff bonus]:[Bank Bonus]],\"<> \")","v":0},{"$f":"IF(AA3454>0, Table1[[#This Row],[Column4]], IF(AB3454>0,Table1[[#This Row],[Column4]],IF(X3454>0,\"1000\")))","v":false}]
[null,null,null,null,null,null,null,null,null,null,null,null,null,null,null,null,0,null,null,null,null,null,null,null,{"$f":"IF(Table1[[#This Row],[Wage differential Bonus                            - NotePay Rate you are bonusing to]]>0, Table1[[#This Row],[Wage differential Bonus                            - NotePay Rate you are bonusing to]]-Table1[[#This Row],[Pay Rate]], \"\")","v":""},{"$f":"IF(Table1[[#This Row],[Wage differential Bonus                            - NotePay Rate you are bonusing to]]>0,Table1[[#This Row],[Bonus Rate]]*Table1[[#This Row],[Hours]],\"\")","v":""},null,null,null,null,null,{"$f":"IF(OR(AH3455>0.001,AH3455<-0.001),Table1[[#This Row],[Employee '#]],\" \")","v":" "},false,{"$f":"SUMIF(Table1[[#This Row],[Total Wage Diff bonus]:[Bank Bonus]],\"<> \")","v":0},{"$f":"IF(AA3455>0, Table1[[#This Row],[Column4]], IF(AB3455>0,Table1[[#This Row],[Column4]],IF(X3455>0,\"1000\")))","v":false}]
[null,null,null,null,null,null,null,null,null,null,null,null,null,null,null,null,0,null,null,null,null,null,null,null,{"$f":"IF(Table1[[#This Row],[Wage differential Bonus                            - NotePay Rate you are bonusing to]]>0, Table1[[#This Row],[Wage differential Bonus                            - NotePay Rate you are bonusing to]]-Table1[[#This Row],[Pay Rate]], \"\")","v":""},{"$f":"IF(Table1[[#This Row],[Wage differential Bonus                            - NotePay Rate you are bonusing to]]>0,Table1[[#This Row],[Bonus Rate]]*Table1[[#This Row],[Hours]],\"\")","v":""},null,null,null,null,null,{"$f":"IF(OR(AH3456>0.001,AH3456<-0.001),Table1[[#This Row],[Employee '#]],\" \")","v":" "},false,{"$f":"SUMIF(Table1[[#This Row],[Total Wage Diff bonus]:[Bank Bonus]],\"<> \")","v":0},{"$f":"IF(AA3456>0, Table1[[#This Row],[Column4]], IF(AB3456>0,Table1[[#This Row],[Column4]],IF(X3456>0,\"1000\")))","v":false}]
[null,null,null,null,null,null,null,null,null,null,null,null,null,null,null,null,0,null,null,null,null,null,null,null,{"$f":"IF(Table1[[#This Row],[Wage differential Bonus                            - NotePay Rate you are bonusing to]]>0, Table1[[#This Row],[Wage differential Bonus                            - NotePay Rate you are bonusing to]]-Table1[[#This Row],[Pay Rate]], \"\")","v":""},{"$f":"IF(Table1[[#This Row],[Wage differential Bonus                            - NotePay Rate you are bonusing to]]>0,Table1[[#This Row],[Bonus Rate]]*Table1[[#This Row],[Hours]],\"\")","v":""},null,null,null,null,null,{"$f":"IF(OR(AH3457>0.001,AH3457<-0.001),Table1[[#This Row],[Employee '#]],\" \")","v":" "},false,{"$f":"SUMIF(Table1[[#This Row],[Total Wage Diff bonus]:[Bank Bonus]],\"<> \")","v":0},{"$f":"IF(AA3457>0, Table1[[#This Row],[Column4]], IF(AB3457>0,Table1[[#This Row],[Column4]],IF(X3457>0,\"1000\")))","v":false}]
[null,null,null,null,null,null,null,null,null,null,null,null,null,null,null,null,0,null,null,null,null,null,null,null,{"$f":"IF(Table1[[#This Row],[Wage differential Bonus                            - NotePay Rate you are bonusing to]]>0, Table1[[#This Row],[Wage differential Bonus                            - NotePay Rate you are bonusing to]]-Table1[[#This Row],[Pay Rate]], \"\")","v":""},{"$f":"IF(Table1[[#This Row],[Wage differential Bonus                            - NotePay Rate you are bonusing to]]>0,Table1[[#This Row],[Bonus Rate]]*Table1[[#This Row],[Hours]],\"\")","v":""},null,null,null,null,null,{"$f":"IF(OR(AH3458>0.001,AH3458<-0.001),Table1[[#This Row],[Employee '#]],\" \")","v":" "},false,{"$f":"SUMIF(Table1[[#This Row],[Total Wage Diff bonus]:[Bank Bonus]],\"<> \")","v":0},{"$f":"IF(AA3458>0, Table1[[#This Row],[Column4]], IF(AB3458>0,Table1[[#This Row],[Column4]],IF(X3458>0,\"1000\")))","v":false}]
[null,null,null,null,null,null,null,null,null,null,null,null,null,null,null,null,0,null,null,null,null,null,null,null,{"$f":"IF(Table1[[#This Row],[Wage differential Bonus                            - NotePay Rate you are bonusing to]]>0, Table1[[#This Row],[Wage differential Bonus                            - NotePay Rate you are bonusing to]]-Table1[[#This Row],[Pay Rate]], \"\")","v":""},{"$f":"IF(Table1[[#This Row],[Wage differential Bonus                            - NotePay Rate you are bonusing to]]>0,Table1[[#This Row],[Bonus Rate]]*Table1[[#This Row],[Hours]],\"\")","v":""},null,null,null,null,null,{"$f":"IF(OR(AH3459>0.001,AH3459<-0.001),Table1[[#This Row],[Employee '#]],\" \")","v":" "},false,{"$f":"SUMIF(Table1[[#This Row],[Total Wage Diff bonus]:[Bank Bonus]],\"<> \")","v":0},{"$f":"IF(AA3459>0, Table1[[#This Row],[Column4]], IF(AB3459>0,Table1[[#This Row],[Column4]],IF(X3459>0,\"1000\")))","v":false}]
[null,null,null,null,null,null,null,null,null,null,null,null,null,null,null,null,0,null,null,null,null,null,null,null,{"$f":"IF(Table1[[#This Row],[Wage differential Bonus                            - NotePay Rate you are bonusing to]]>0, Table1[[#This Row],[Wage differential Bonus                            - NotePay Rate you are bonusing to]]-Table1[[#This Row],[Pay Rate]], \"\")","v":""},{"$f":"IF(Table1[[#This Row],[Wage differential Bonus                            - NotePay Rate you are bonusing to]]>0,Table1[[#This Row],[Bonus Rate]]*Table1[[#This Row],[Hours]],\"\")","v":""},null,null,null,null,null,{"$f":"IF(OR(AH3460>0.001,AH3460<-0.001),Table1[[#This Row],[Employee '#]],\" \")","v":" "},false,{"$f":"SUMIF(Table1[[#This Row],[Total Wage Diff bonus]:[Bank Bonus]],\"<> \")","v":0},{"$f":"IF(AA3460>0, Table1[[#This Row],[Column4]], IF(AB3460>0,Table1[[#This Row],[Column4]],IF(X3460>0,\"1000\")))","v":false}]
[null,null,null,null,null,null,null,null,null,null,null,null,null,null,null,null,0,null,null,null,null,null,null,null,{"$f":"IF(Table1[[#This Row],[Wage differential Bonus                            - NotePay Rate you are bonusing to]]>0, Table1[[#This Row],[Wage differential Bonus                            - NotePay Rate you are bonusing to]]-Table1[[#This Row],[Pay Rate]], \"\")","v":""},{"$f":"IF(Table1[[#This Row],[Wage differential Bonus                            - NotePay Rate you are bonusing to]]>0,Table1[[#This Row],[Bonus Rate]]*Table1[[#This Row],[Hours]],\"\")","v":""},null,null,null,null,null,{"$f":"IF(OR(AH3461>0.001,AH3461<-0.001),Table1[[#This Row],[Employee '#]],\" \")","v":" "},false,{"$f":"SUMIF(Table1[[#This Row],[Total Wage Diff bonus]:[Bank Bonus]],\"<> \")","v":0},{"$f":"IF(AA3461>0, Table1[[#This Row],[Column4]], IF(AB3461>0,Table1[[#This Row],[Column4]],IF(X3461>0,\"1000\")))","v":false}]
[null,null,null,null,null,null,null,null,null,null,null,null,null,null,null,null,0,null,null,null,null,null,null,null,{"$f":"IF(Table1[[#This Row],[Wage differential Bonus                            - NotePay Rate you are bonusing to]]>0, Table1[[#This Row],[Wage differential Bonus                            - NotePay Rate you are bonusing to]]-Table1[[#This Row],[Pay Rate]], \"\")","v":""},{"$f":"IF(Table1[[#This Row],[Wage differential Bonus                            - NotePay Rate you are bonusing to]]>0,Table1[[#This Row],[Bonus Rate]]*Table1[[#This Row],[Hours]],\"\")","v":""},null,null,null,null,null,{"$f":"IF(OR(AH3462>0.001,AH3462<-0.001),Table1[[#This Row],[Employee '#]],\" \")","v":" "},false,{"$f":"SUMIF(Table1[[#This Row],[Total Wage Diff bonus]:[Bank Bonus]],\"<> \")","v":0},{"$f":"IF(AA3462>0, Table1[[#This Row],[Column4]], IF(AB3462>0,Table1[[#This Row],[Column4]],IF(X3462>0,\"1000\")))","v":false}]
[null,null,null,null,null,null,null,null,null,null,null,null,null,null,null,null,{"$f":"L3463+P3463","v":0},null,null,null,null,null,null,null,{"$f":"IF(Table1[[#This Row],[Wage differential Bonus                            - NotePay Rate you are bonusing to]]>0, Table1[[#This Row],[Wage differential Bonus                            - NotePay Rate you are bonusing to]]-Table1[[#This Row],[Pay Rate]], \"\")","v":""},{"$f":"IF(Table1[[#This Row],[Wage differential Bonus                            - NotePay Rate you are bonusing to]]>0,Table1[[#This Row],[Bonus Rate]]*Table1[[#This Row],[Hours]],\"\")","v":""},null,null,null,null,null,{"$f":"IF(OR(AH3463>0.001,AH3463<-0.001),Table1[[#This Row],[Employee '#]],\" \")","v":" "},{"$f":"IF(AA3463>0, \"28\", IF(AB3463>0,\"53\",IF(X3463>0,\"20\")))","v":false},{"$f":"SUMIF(Table1[[#This Row],[Total Wage Diff bonus]:[Bank Bonus]],\"<> \")","v":0},{"$f":"IF(AA3463>0, Table1[[#This Row],[Column4]], IF(AB3463>0,Table1[[#This Row],[Column4]],IF(X3463>0,\"1000\")))","v":false}]
[null,null,null,null,null,null,null,null,null,null,null,null,null,null,null,null,0,null,null,null,null,null,null,null,{"$f":"IF(Table1[[#This Row],[Wage differential Bonus                            - NotePay Rate you are bonusing to]]>0, Table1[[#This Row],[Wage differential Bonus                            - NotePay Rate you are bonusing to]]-Table1[[#This Row],[Pay Rate]], \"\")","v":""},{"$f":"IF(Table1[[#This Row],[Wage differential Bonus                            - NotePay Rate you are bonusing to]]>0,Table1[[#This Row],[Bonus Rate]]*Table1[[#This Row],[Hours]],\"\")","v":""},null,null,null,null,null,{"$f":"IF(OR(AH3464>0.001,AH3464<-0.001),Table1[[#This Row],[Employee '#]],\" \")","v":" "},false,{"$f":"SUMIF(Table1[[#This Row],[Total Wage Diff bonus]:[Bank Bonus]],\"<> \")","v":0},{"$f":"IF(AA3464>0, Table1[[#This Row],[Column4]], IF(AB3464>0,Table1[[#This Row],[Column4]],IF(X3464>0,\"1000\")))","v":false}]
[null,null,null,null,null,null,null,null,null,null,null,null,null,null,null,null,0,null,null,null,null,null,null,null,{"$f":"IF(Table1[[#This Row],[Wage differential Bonus                            - NotePay Rate you are bonusing to]]>0, Table1[[#This Row],[Wage differential Bonus                            - NotePay Rate you are bonusing to]]-Table1[[#This Row],[Pay Rate]], \"\")","v":""},{"$f":"IF(Table1[[#This Row],[Wage differential Bonus                            - NotePay Rate you are bonusing to]]>0,Table1[[#This Row],[Bonus Rate]]*Table1[[#This Row],[Hours]],\"\")","v":""},null,null,null,null,null,{"$f":"IF(OR(AH3465>0.001,AH3465<-0.001),Table1[[#This Row],[Employee '#]],\" \")","v":" "},false,{"$f":"SUMIF(Table1[[#This Row],[Total Wage Diff bonus]:[Bank Bonus]],\"<> \")","v":0},{"$f":"IF(AA3465>0, Table1[[#This Row],[Column4]], IF(AB3465>0,Table1[[#This Row],[Column4]],IF(X3465>0,\"1000\")))","v":false}]
[null,null,null,null,null,null,null,null,null,null,null,null,null,null,null,null,0,null,null,null,null,null,null,null,{"$f":"IF(Table1[[#This Row],[Wage differential Bonus                            - NotePay Rate you are bonusing to]]>0, Table1[[#This Row],[Wage differential Bonus                            - NotePay Rate you are bonusing to]]-Table1[[#This Row],[Pay Rate]], \"\")","v":""},{"$f":"IF(Table1[[#This Row],[Wage differential Bonus                            - NotePay Rate you are bonusing to]]>0,Table1[[#This Row],[Bonus Rate]]*Table1[[#This Row],[Hours]],\"\")","v":""},null,null,null,null,null,{"$f":"IF(OR(AH3466>0.001,AH3466<-0.001),Table1[[#This Row],[Employee '#]],\" \")","v":" "},false,{"$f":"SUMIF(Table1[[#This Row],[Total Wage Diff bonus]:[Bank Bonus]],\"<> \")","v":0},{"$f":"IF(AA3466>0, Table1[[#This Row],[Column4]], IF(AB3466>0,Table1[[#This Row],[Column4]],IF(X3466>0,\"1000\")))","v":false}]
[null,null,null,null,null,null,null,null,null,null,null,null,null,null,null,null,0,null,null,null,null,null,null,null,{"$f":"IF(Table1[[#This Row],[Wage differential Bonus                            - NotePay Rate you are bonusing to]]>0, Table1[[#This Row],[Wage differential Bonus                            - NotePay Rate you are bonusing to]]-Table1[[#This Row],[Pay Rate]], \"\")","v":""},{"$f":"IF(Table1[[#This Row],[Wage differential Bonus                            - NotePay Rate you are bonusing to]]>0,Table1[[#This Row],[Bonus Rate]]*Table1[[#This Row],[Hours]],\"\")","v":""},null,null,null,null,null,{"$f":"IF(OR(AH3467>0.001,AH3467<-0.001),Table1[[#This Row],[Employee '#]],\" \")","v":" "},false,{"$f":"SUMIF(Table1[[#This Row],[Total Wage Diff bonus]:[Bank Bonus]],\"<> \")","v":0},{"$f":"IF(AA3467>0, Table1[[#This Row],[Column4]], IF(AB3467>0,Table1[[#This Row],[Column4]],IF(X3467>0,\"1000\")))","v":false}]
[null,null,null,null,null,null,null,null,null,null,null,null,null,null,null,null,0,null,null,null,null,null,null,null,{"$f":"IF(Table1[[#This Row],[Wage differential Bonus                            - NotePay Rate you are bonusing to]]>0, Table1[[#This Row],[Wage differential Bonus                            - NotePay Rate you are bonusing to]]-Table1[[#This Row],[Pay Rate]], \"\")","v":""},{"$f":"IF(Table1[[#This Row],[Wage differential Bonus                            - NotePay Rate you are bonusing to]]>0,Table1[[#This Row],[Bonus Rate]]*Table1[[#This Row],[Hours]],\"\")","v":""},null,null,null,null,null,{"$f":"IF(OR(AH3468>0.001,AH3468<-0.001),Table1[[#This Row],[Employee '#]],\" \")","v":" "},false,{"$f":"SUMIF(Table1[[#This Row],[Total Wage Diff bonus]:[Bank Bonus]],\"<> \")","v":0},{"$f":"IF(AA3468>0, Table1[[#This Row],[Column4]], IF(AB3468>0,Table1[[#This Row],[Column4]],IF(X3468>0,\"1000\")))","v":false}]
[null,null,null,null,null,null,null,null,null,null,null,null,null,null,null,null,0,null,null,null,null,null,null,null,{"$f":"IF(Table1[[#This Row],[Wage differential Bonus                            - NotePay Rate you are bonusing to]]>0, Table1[[#This Row],[Wage differential Bonus                            - NotePay Rate you are bonusing to]]-Table1[[#This Row],[Pay Rate]], \"\")","v":""},{"$f":"IF(Table1[[#This Row],[Wage differential Bonus                            - NotePay Rate you are bonusing to]]>0,Table1[[#This Row],[Bonus Rate]]*Table1[[#This Row],[Hours]],\"\")","v":""},null,null,null,null,null,{"$f":"IF(OR(AH3469>0.001,AH3469<-0.001),Table1[[#This Row],[Employee '#]],\" \")","v":" "},false,{"$f":"SUMIF(Table1[[#This Row],[Total Wage Diff bonus]:[Bank Bonus]],\"<> \")","v":0},{"$f":"IF(AA3469>0, Table1[[#This Row],[Column4]], IF(AB3469>0,Table1[[#This Row],[Column4]],IF(X3469>0,\"1000\")))","v":false}]
[null,null,null,null,null,null,null,null,null,null,null,null,null,null,null,null,0,null,null,null,null,null,null,null,{"$f":"IF(Table1[[#This Row],[Wage differential Bonus                            - NotePay Rate you are bonusing to]]>0, Table1[[#This Row],[Wage differential Bonus                            - NotePay Rate you are bonusing to]]-Table1[[#This Row],[Pay Rate]], \"\")","v":""},{"$f":"IF(Table1[[#This Row],[Wage differential Bonus                            - NotePay Rate you are bonusing to]]>0,Table1[[#This Row],[Bonus Rate]]*Table1[[#This Row],[Hours]],\"\")","v":""},null,null,null,null,null,{"$f":"IF(OR(AH3470>0.001,AH3470<-0.001),Table1[[#This Row],[Employee '#]],\" \")","v":" "},false,{"$f":"SUMIF(Table1[[#This Row],[Total Wage Diff bonus]:[Bank Bonus]],\"<> \")","v":0},{"$f":"IF(AA3470>0, Table1[[#This Row],[Column4]], IF(AB3470>0,Table1[[#This Row],[Column4]],IF(X3470>0,\"1000\")))","v":false}]
[null,null,null,null,null,null,null,null,null,null,null,null,null,null,null,null,0,null,null,null,null,null,null,null,{"$f":"IF(Table1[[#This Row],[Wage differential Bonus                            - NotePay Rate you are bonusing to]]>0, Table1[[#This Row],[Wage differential Bonus                            - NotePay Rate you are bonusing to]]-Table1[[#This Row],[Pay Rate]], \"\")","v":""},{"$f":"IF(Table1[[#This Row],[Wage differential Bonus                            - NotePay Rate you are bonusing to]]>0,Table1[[#This Row],[Bonus Rate]]*Table1[[#This Row],[Hours]],\"\")","v":""},null,null,null,null,null,{"$f":"IF(OR(AH3471>0.001,AH3471<-0.001),Table1[[#This Row],[Employee '#]],\" \")","v":" "},false,{"$f":"SUMIF(Table1[[#This Row],[Total Wage Diff bonus]:[Bank Bonus]],\"<> \")","v":0},{"$f":"IF(AA3471>0, Table1[[#This Row],[Column4]], IF(AB3471>0,Table1[[#This Row],[Column4]],IF(X3471>0,\"1000\")))","v":false}]
[null,null,null,null,null,null,null,null,null,null,null,null,null,null,null,null,0,null,null,null,null,null,null,null,{"$f":"IF(Table1[[#This Row],[Wage differential Bonus                            - NotePay Rate you are bonusing to]]>0, Table1[[#This Row],[Wage differential Bonus                            - NotePay Rate you are bonusing to]]-Table1[[#This Row],[Pay Rate]], \"\")","v":""},{"$f":"IF(Table1[[#This Row],[Wage differential Bonus                            - NotePay Rate you are bonusing to]]>0,Table1[[#This Row],[Bonus Rate]]*Table1[[#This Row],[Hours]],\"\")","v":""},null,null,null,null,null,{"$f":"IF(OR(AH3472>0.001,AH3472<-0.001),Table1[[#This Row],[Employee '#]],\" \")","v":" "},false,{"$f":"SUMIF(Table1[[#This Row],[Total Wage Diff bonus]:[Bank Bonus]],\"<> \")","v":0},{"$f":"IF(AA3472>0, Table1[[#This Row],[Column4]], IF(AB3472>0,Table1[[#This Row],[Column4]],IF(X3472>0,\"1000\")))","v":false}]
[null,null,null,null,null,null,null,null,null,null,null,null,null,null,null,null,0,null,null,null,null,null,null,null,{"$f":"IF(Table1[[#This Row],[Wage differential Bonus                            - NotePay Rate you are bonusing to]]>0, Table1[[#This Row],[Wage differential Bonus                            - NotePay Rate you are bonusing to]]-Table1[[#This Row],[Pay Rate]], \"\")","v":""},{"$f":"IF(Table1[[#This Row],[Wage differential Bonus                            - NotePay Rate you are bonusing to]]>0,Table1[[#This Row],[Bonus Rate]]*Table1[[#This Row],[Hours]],\"\")","v":""},null,null,null,null,null,{"$f":"IF(OR(AH3473>0.001,AH3473<-0.001),Table1[[#This Row],[Employee '#]],\" \")","v":" "},false,{"$f":"SUMIF(Table1[[#This Row],[Total Wage Diff bonus]:[Bank Bonus]],\"<> \")","v":0},{"$f":"IF(AA3473>0, Table1[[#This Row],[Column4]], IF(AB3473>0,Table1[[#This Row],[Column4]],IF(X3473>0,\"1000\")))","v":false}]
[null,null,null,null,null,null,null,null,null,null,null,null,null,null,null,null,0,null,null,null,null,null,null,null,{"$f":"IF(Table1[[#This Row],[Wage differential Bonus                            - NotePay Rate you are bonusing to]]>0, Table1[[#This Row],[Wage differential Bonus                            - NotePay Rate you are bonusing to]]-Table1[[#This Row],[Pay Rate]], \"\")","v":""},{"$f":"IF(Table1[[#This Row],[Wage differential Bonus                            - NotePay Rate you are bonusing to]]>0,Table1[[#This Row],[Bonus Rate]]*Table1[[#This Row],[Hours]],\"\")","v":""},null,null,null,null,null,{"$f":"IF(OR(AH3474>0.001,AH3474<-0.001),Table1[[#This Row],[Employee '#]],\" \")","v":" "},false,{"$f":"SUMIF(Table1[[#This Row],[Total Wage Diff bonus]:[Bank Bonus]],\"<> \")","v":0},{"$f":"IF(AA3474>0, Table1[[#This Row],[Column4]], IF(AB3474>0,Table1[[#This Row],[Column4]],IF(X3474>0,\"1000\")))","v":false}]
[null,null,null,null,null,null,null,null,null,null,null,null,null,null,null,null,0,null,null,null,null,null,null,null,{"$f":"IF(Table1[[#This Row],[Wage differential Bonus                            - NotePay Rate you are bonusing to]]>0, Table1[[#This Row],[Wage differential Bonus                            - NotePay Rate you are bonusing to]]-Table1[[#This Row],[Pay Rate]], \"\")","v":""},{"$f":"IF(Table1[[#This Row],[Wage differential Bonus                            - NotePay Rate you are bonusing to]]>0,Table1[[#This Row],[Bonus Rate]]*Table1[[#This Row],[Hours]],\"\")","v":""},null,null,null,null,null,{"$f":"IF(OR(AH3475>0.001,AH3475<-0.001),Table1[[#This Row],[Employee '#]],\" \")","v":" "},false,{"$f":"SUMIF(Table1[[#This Row],[Total Wage Diff bonus]:[Bank Bonus]],\"<> \")","v":0},{"$f":"IF(AA3475>0, Table1[[#This Row],[Column4]], IF(AB3475>0,Table1[[#This Row],[Column4]],IF(X3475>0,\"1000\")))","v":false}]
[null,null,null,null,null,null,null,null,null,null,null,null,null,null,null,null,0,null,null,null,null,null,null,null,{"$f":"IF(Table1[[#This Row],[Wage differential Bonus                            - NotePay Rate you are bonusing to]]>0, Table1[[#This Row],[Wage differential Bonus                            - NotePay Rate you are bonusing to]]-Table1[[#This Row],[Pay Rate]], \"\")","v":""},{"$f":"IF(Table1[[#This Row],[Wage differential Bonus                            - NotePay Rate you are bonusing to]]>0,Table1[[#This Row],[Bonus Rate]]*Table1[[#This Row],[Hours]],\"\")","v":""},null,null,null,null,null,{"$f":"IF(OR(AH3476>0.001,AH3476<-0.001),Table1[[#This Row],[Employee '#]],\" \")","v":" "},false,{"$f":"SUMIF(Table1[[#This Row],[Total Wage Diff bonus]:[Bank Bonus]],\"<> \")","v":0},{"$f":"IF(AA3476>0, Table1[[#This Row],[Column4]], IF(AB3476>0,Table1[[#This Row],[Column4]],IF(X3476>0,\"1000\")))","v":false}]
[null,null,null,null,null,null,null,null,null,null,null,null,null,null,null,null,0,null,null,null,null,null,null,null,{"$f":"IF(Table1[[#This Row],[Wage differential Bonus                            - NotePay Rate you are bonusing to]]>0, Table1[[#This Row],[Wage differential Bonus                            - NotePay Rate you are bonusing to]]-Table1[[#This Row],[Pay Rate]], \"\")","v":""},{"$f":"IF(Table1[[#This Row],[Wage differential Bonus                            - NotePay Rate you are bonusing to]]>0,Table1[[#This Row],[Bonus Rate]]*Table1[[#This Row],[Hours]],\"\")","v":""},null,null,null,null,null,{"$f":"IF(OR(AH3477>0.001,AH3477<-0.001),Table1[[#This Row],[Employee '#]],\" \")","v":" "},false,{"$f":"SUMIF(Table1[[#This Row],[Total Wage Diff bonus]:[Bank Bonus]],\"<> \")","v":0},{"$f":"IF(AA3477>0, Table1[[#This Row],[Column4]], IF(AB3477>0,Table1[[#This Row],[Column4]],IF(X3477>0,\"1000\")))","v":false}]
[null,null,null,null,null,null,null,null,null,null,null,null,null,null,null,null,0,null,null,null,null,null,null,null,{"$f":"IF(Table1[[#This Row],[Wage differential Bonus                            - NotePay Rate you are bonusing to]]>0, Table1[[#This Row],[Wage differential Bonus                            - NotePay Rate you are bonusing to]]-Table1[[#This Row],[Pay Rate]], \"\")","v":""},{"$f":"IF(Table1[[#This Row],[Wage differential Bonus                            - NotePay Rate you are bonusing to]]>0,Table1[[#This Row],[Bonus Rate]]*Table1[[#This Row],[Hours]],\"\")","v":""},null,null,null,null,null,{"$f":"IF(OR(AH3478>0.001,AH3478<-0.001),Table1[[#This Row],[Employee '#]],\" \")","v":" "},false,{"$f":"SUMIF(Table1[[#This Row],[Total Wage Diff bonus]:[Bank Bonus]],\"<> \")","v":0},{"$f":"IF(AA3478>0, Table1[[#This Row],[Column4]], IF(AB3478>0,Table1[[#This Row],[Column4]],IF(X3478>0,\"1000\")))","v":false}]
[null,null,null,null,null,null,null,null,null,null,null,null,null,null,null,null,0,null,null,null,null,null,null,null,{"$f":"IF(Table1[[#This Row],[Wage differential Bonus                            - NotePay Rate you are bonusing to]]>0, Table1[[#This Row],[Wage differential Bonus                            - NotePay Rate you are bonusing to]]-Table1[[#This Row],[Pay Rate]], \"\")","v":""},{"$f":"IF(Table1[[#This Row],[Wage differential Bonus                            - NotePay Rate you are bonusing to]]>0,Table1[[#This Row],[Bonus Rate]]*Table1[[#This Row],[Hours]],\"\")","v":""},null,null,null,null,null,{"$f":"IF(OR(AH3479>0.001,AH3479<-0.001),Table1[[#This Row],[Employee '#]],\" \")","v":" "},false,{"$f":"SUMIF(Table1[[#This Row],[Total Wage Diff bonus]:[Bank Bonus]],\"<> \")","v":0},{"$f":"IF(AA3479>0, Table1[[#This Row],[Column4]], IF(AB3479>0,Table1[[#This Row],[Column4]],IF(X3479>0,\"1000\")))","v":false}]
[null,null,null,null,null,null,null,null,null,null,null,null,null,null,null,null,0,null,null,null,null,null,null,null,{"$f":"IF(Table1[[#This Row],[Wage differential Bonus                            - NotePay Rate you are bonusing to]]>0, Table1[[#This Row],[Wage differential Bonus                            - NotePay Rate you are bonusing to]]-Table1[[#This Row],[Pay Rate]], \"\")","v":""},{"$f":"IF(Table1[[#This Row],[Wage differential Bonus                            - NotePay Rate you are bonusing to]]>0,Table1[[#This Row],[Bonus Rate]]*Table1[[#This Row],[Hours]],\"\")","v":""},null,null,null,null,null,{"$f":"IF(OR(AH3480>0.001,AH3480<-0.001),Table1[[#This Row],[Employee '#]],\" \")","v":" "},false,{"$f":"SUMIF(Table1[[#This Row],[Total Wage Diff bonus]:[Bank Bonus]],\"<> \")","v":0},{"$f":"IF(AA3480>0, Table1[[#This Row],[Column4]], IF(AB3480>0,Table1[[#This Row],[Column4]],IF(X3480>0,\"1000\")))","v":false}]
[null,null,null,null,null,null,null,null,null,null,null,null,null,null,null,null,0,null,null,null,null,null,null,null,{"$f":"IF(Table1[[#This Row],[Wage differential Bonus                            - NotePay Rate you are bonusing to]]>0, Table1[[#This Row],[Wage differential Bonus                            - NotePay Rate you are bonusing to]]-Table1[[#This Row],[Pay Rate]], \"\")","v":""},{"$f":"IF(Table1[[#This Row],[Wage differential Bonus                            - NotePay Rate you are bonusing to]]>0,Table1[[#This Row],[Bonus Rate]]*Table1[[#This Row],[Hours]],\"\")","v":""},null,null,null,null,null,{"$f":"IF(OR(AH3481>0.001,AH3481<-0.001),Table1[[#This Row],[Employee '#]],\" \")","v":" "},false,{"$f":"SUMIF(Table1[[#This Row],[Total Wage Diff bonus]:[Bank Bonus]],\"<> \")","v":0},{"$f":"IF(AA3481>0, Table1[[#This Row],[Column4]], IF(AB3481>0,Table1[[#This Row],[Column4]],IF(X3481>0,\"1000\")))","v":false}]
[null,null,null,null,null,null,null,null,null,null,null,null,null,null,null,null,0,null,null,null,null,null,null,null,{"$f":"IF(Table1[[#This Row],[Wage differential Bonus                            - NotePay Rate you are bonusing to]]>0, Table1[[#This Row],[Wage differential Bonus                            - NotePay Rate you are bonusing to]]-Table1[[#This Row],[Pay Rate]], \"\")","v":""},{"$f":"IF(Table1[[#This Row],[Wage differential Bonus                            - NotePay Rate you are bonusing to]]>0,Table1[[#This Row],[Bonus Rate]]*Table1[[#This Row],[Hours]],\"\")","v":""},null,null,null,null,null,{"$f":"IF(OR(AH3482>0.001,AH3482<-0.001),Table1[[#This Row],[Employee '#]],\" \")","v":" "},false,{"$f":"SUMIF(Table1[[#This Row],[Total Wage Diff bonus]:[Bank Bonus]],\"<> \")","v":0},{"$f":"IF(AA3482>0, Table1[[#This Row],[Column4]], IF(AB3482>0,Table1[[#This Row],[Column4]],IF(X3482>0,\"1000\")))","v":false}]
[null,null,null,null,null,null,null,null,null,null,null,null,null,null,null,null,0,null,null,null,null,null,null,null,{"$f":"IF(Table1[[#This Row],[Wage differential Bonus                            - NotePay Rate you are bonusing to]]>0, Table1[[#This Row],[Wage differential Bonus                            - NotePay Rate you are bonusing to]]-Table1[[#This Row],[Pay Rate]], \"\")","v":""},{"$f":"IF(Table1[[#This Row],[Wage differential Bonus                            - NotePay Rate you are bonusing to]]>0,Table1[[#This Row],[Bonus Rate]]*Table1[[#This Row],[Hours]],\"\")","v":""},null,null,null,null,null,{"$f":"IF(OR(AH3483>0.001,AH3483<-0.001),Table1[[#This Row],[Employee '#]],\" \")","v":" "},false,{"$f":"SUMIF(Table1[[#This Row],[Total Wage Diff bonus]:[Bank Bonus]],\"<> \")","v":0},{"$f":"IF(AA3483>0, Table1[[#This Row],[Column4]], IF(AB3483>0,Table1[[#This Row],[Column4]],IF(X3483>0,\"1000\")))","v":false}]
[null,null,null,null,null,null,null,null,null,null,null,null,null,null,null,null,0,null,null,null,null,null,null,null,{"$f":"IF(Table1[[#This Row],[Wage differential Bonus                            - NotePay Rate you are bonusing to]]>0, Table1[[#This Row],[Wage differential Bonus                            - NotePay Rate you are bonusing to]]-Table1[[#This Row],[Pay Rate]], \"\")","v":""},{"$f":"IF(Table1[[#This Row],[Wage differential Bonus                            - NotePay Rate you are bonusing to]]>0,Table1[[#This Row],[Bonus Rate]]*Table1[[#This Row],[Hours]],\"\")","v":""},null,null,null,null,null,{"$f":"IF(OR(AH3484>0.001,AH3484<-0.001),Table1[[#This Row],[Employee '#]],\" \")","v":" "},false,{"$f":"SUMIF(Table1[[#This Row],[Total Wage Diff bonus]:[Bank Bonus]],\"<> \")","v":0},{"$f":"IF(AA3484>0, Table1[[#This Row],[Column4]], IF(AB3484>0,Table1[[#This Row],[Column4]],IF(X3484>0,\"1000\")))","v":false}]
[null,null,null,null,null,null,null,null,null,null,null,null,null,null,null,null,0,null,null,null,null,null,null,null,{"$f":"IF(Table1[[#This Row],[Wage differential Bonus                            - NotePay Rate you are bonusing to]]>0, Table1[[#This Row],[Wage differential Bonus                            - NotePay Rate you are bonusing to]]-Table1[[#This Row],[Pay Rate]], \"\")","v":""},{"$f":"IF(Table1[[#This Row],[Wage differential Bonus                            - NotePay Rate you are bonusing to]]>0,Table1[[#This Row],[Bonus Rate]]*Table1[[#This Row],[Hours]],\"\")","v":""},null,null,null,null,null,{"$f":"IF(OR(AH3485>0.001,AH3485<-0.001),Table1[[#This Row],[Employee '#]],\" \")","v":" "},false,{"$f":"SUMIF(Table1[[#This Row],[Total Wage Diff bonus]:[Bank Bonus]],\"<> \")","v":0},{"$f":"IF(AA3485>0, Table1[[#This Row],[Column4]], IF(AB3485>0,Table1[[#This Row],[Column4]],IF(X3485>0,\"1000\")))","v":false}]
[null,null,null,null,null,null,null,null,null,null,null,null,null,null,null,null,0,null,null,null,null,null,null,null,{"$f":"IF(Table1[[#This Row],[Wage differential Bonus                            - NotePay Rate you are bonusing to]]>0, Table1[[#This Row],[Wage differential Bonus                            - NotePay Rate you are bonusing to]]-Table1[[#This Row],[Pay Rate]], \"\")","v":""},{"$f":"IF(Table1[[#This Row],[Wage differential Bonus                            - NotePay Rate you are bonusing to]]>0,Table1[[#This Row],[Bonus Rate]]*Table1[[#This Row],[Hours]],\"\")","v":""},null,null,null,null,null,{"$f":"IF(OR(AH3486>0.001,AH3486<-0.001),Table1[[#This Row],[Employee '#]],\" \")","v":" "},false,{"$f":"SUMIF(Table1[[#This Row],[Total Wage Diff bonus]:[Bank Bonus]],\"<> \")","v":0},{"$f":"IF(AA3486>0, Table1[[#This Row],[Column4]], IF(AB3486>0,Table1[[#This Row],[Column4]],IF(X3486>0,\"1000\")))","v":false}]
[null,null,null,null,null,null,null,null,null,null,null,null,null,null,null,null,0,null,null,null,null,null,null,null,{"$f":"IF(Table1[[#This Row],[Wage differential Bonus                            - NotePay Rate you are bonusing to]]>0, Table1[[#This Row],[Wage differential Bonus                            - NotePay Rate you are bonusing to]]-Table1[[#This Row],[Pay Rate]], \"\")","v":""},{"$f":"IF(Table1[[#This Row],[Wage differential Bonus                            - NotePay Rate you are bonusing to]]>0,Table1[[#This Row],[Bonus Rate]]*Table1[[#This Row],[Hours]],\"\")","v":""},null,null,null,null,null,{"$f":"IF(OR(AH3487>0.001,AH3487<-0.001),Table1[[#This Row],[Employee '#]],\" \")","v":" "},false,{"$f":"SUMIF(Table1[[#This Row],[Total Wage Diff bonus]:[Bank Bonus]],\"<> \")","v":0},{"$f":"IF(AA3487>0, Table1[[#This Row],[Column4]], IF(AB3487>0,Table1[[#This Row],[Column4]],IF(X3487>0,\"1000\")))","v":false}]
[null,null,null,null,null,null,null,null,null,null,null,null,null,null,null,null,0,null,null,null,null,null,null,null,{"$f":"IF(Table1[[#This Row],[Wage differential Bonus                            - NotePay Rate you are bonusing to]]>0, Table1[[#This Row],[Wage differential Bonus                            - NotePay Rate you are bonusing to]]-Table1[[#This Row],[Pay Rate]], \"\")","v":""},{"$f":"IF(Table1[[#This Row],[Wage differential Bonus                            - NotePay Rate you are bonusing to]]>0,Table1[[#This Row],[Bonus Rate]]*Table1[[#This Row],[Hours]],\"\")","v":""},null,null,null,null,null,{"$f":"IF(OR(AH3488>0.001,AH3488<-0.001),Table1[[#This Row],[Employee '#]],\" \")","v":" "},false,{"$f":"SUMIF(Table1[[#This Row],[Total Wage Diff bonus]:[Bank Bonus]],\"<> \")","v":0},{"$f":"IF(AA3488>0, Table1[[#This Row],[Column4]], IF(AB3488>0,Table1[[#This Row],[Column4]],IF(X3488>0,\"1000\")))","v":false}]
[null,null,null,null,null,null,null,null,null,null,null,null,null,null,null,null,0,null,null,null,null,null,null,null,{"$f":"IF(Table1[[#This Row],[Wage differential Bonus                            - NotePay Rate you are bonusing to]]>0, Table1[[#This Row],[Wage differential Bonus                            - NotePay Rate you are bonusing to]]-Table1[[#This Row],[Pay Rate]], \"\")","v":""},{"$f":"IF(Table1[[#This Row],[Wage differential Bonus                            - NotePay Rate you are bonusing to]]>0,Table1[[#This Row],[Bonus Rate]]*Table1[[#This Row],[Hours]],\"\")","v":""},null,null,null,null,null,{"$f":"IF(OR(AH3489>0.001,AH3489<-0.001),Table1[[#This Row],[Employee '#]],\" \")","v":" "},false,{"$f":"SUMIF(Table1[[#This Row],[Total Wage Diff bonus]:[Bank Bonus]],\"<> \")","v":0},{"$f":"IF(AA3489>0, Table1[[#This Row],[Column4]], IF(AB3489>0,Table1[[#This Row],[Column4]],IF(X3489>0,\"1000\")))","v":false}]
[null,null,null,null,null,null,null,null,null,null,null,null,null,null,null,null,0,null,null,null,null,null,null,null,{"$f":"IF(Table1[[#This Row],[Wage differential Bonus                            - NotePay Rate you are bonusing to]]>0, Table1[[#This Row],[Wage differential Bonus                            - NotePay Rate you are bonusing to]]-Table1[[#This Row],[Pay Rate]], \"\")","v":""},{"$f":"IF(Table1[[#This Row],[Wage differential Bonus                            - NotePay Rate you are bonusing to]]>0,Table1[[#This Row],[Bonus Rate]]*Table1[[#This Row],[Hours]],\"\")","v":""},null,null,null,null,null,{"$f":"IF(OR(AH3490>0.001,AH3490<-0.001),Table1[[#This Row],[Employee '#]],\" \")","v":" "},false,{"$f":"SUMIF(Table1[[#This Row],[Total Wage Diff bonus]:[Bank Bonus]],\"<> \")","v":0},{"$f":"IF(AA3490>0, Table1[[#This Row],[Column4]], IF(AB3490>0,Table1[[#This Row],[Column4]],IF(X3490>0,\"1000\")))","v":false}]
[null,null,null,null,null,null,null,null,null,null,null,null,null,null,null,null,0,null,null,null,null,null,null,null,{"$f":"IF(Table1[[#This Row],[Wage differential Bonus                            - NotePay Rate you are bonusing to]]>0, Table1[[#This Row],[Wage differential Bonus                            - NotePay Rate you are bonusing to]]-Table1[[#This Row],[Pay Rate]], \"\")","v":""},{"$f":"IF(Table1[[#This Row],[Wage differential Bonus                            - NotePay Rate you are bonusing to]]>0,Table1[[#This Row],[Bonus Rate]]*Table1[[#This Row],[Hours]],\"\")","v":""},null,null,null,null,null,{"$f":"IF(OR(AH3491>0.001,AH3491<-0.001),Table1[[#This Row],[Employee '#]],\" \")","v":" "},false,{"$f":"SUMIF(Table1[[#This Row],[Total Wage Diff bonus]:[Bank Bonus]],\"<> \")","v":0},{"$f":"IF(AA3491>0, Table1[[#This Row],[Column4]], IF(AB3491>0,Table1[[#This Row],[Column4]],IF(X3491>0,\"1000\")))","v":false}]
[null,null,null,null,null,null,null,null,null,null,null,null,null,null,null,null,0,null,null,null,null,null,null,null,{"$f":"IF(Table1[[#This Row],[Wage differential Bonus                            - NotePay Rate you are bonusing to]]>0, Table1[[#This Row],[Wage differential Bonus                            - NotePay Rate you are bonusing to]]-Table1[[#This Row],[Pay Rate]], \"\")","v":""},{"$f":"IF(Table1[[#This Row],[Wage differential Bonus                            - NotePay Rate you are bonusing to]]>0,Table1[[#This Row],[Bonus Rate]]*Table1[[#This Row],[Hours]],\"\")","v":""},null,null,null,null,null,{"$f":"IF(OR(AH3492>0.001,AH3492<-0.001),Table1[[#This Row],[Employee '#]],\" \")","v":" "},false,{"$f":"SUMIF(Table1[[#This Row],[Total Wage Diff bonus]:[Bank Bonus]],\"<> \")","v":0},{"$f":"IF(AA3492>0, Table1[[#This Row],[Column4]], IF(AB3492>0,Table1[[#This Row],[Column4]],IF(X3492>0,\"1000\")))","v":false}]
[null,null,null,null,null,null,null,null,null,null,null,null,null,null,null,null,0,null,null,null,null,null,null,null,{"$f":"IF(Table1[[#This Row],[Wage differential Bonus                            - NotePay Rate you are bonusing to]]>0, Table1[[#This Row],[Wage differential Bonus                            - NotePay Rate you are bonusing to]]-Table1[[#This Row],[Pay Rate]], \"\")","v":""},{"$f":"IF(Table1[[#This Row],[Wage differential Bonus                            - NotePay Rate you are bonusing to]]>0,Table1[[#This Row],[Bonus Rate]]*Table1[[#This Row],[Hours]],\"\")","v":""},null,null,null,null,null,{"$f":"IF(OR(AH3493>0.001,AH3493<-0.001),Table1[[#This Row],[Employee '#]],\" \")","v":" "},false,{"$f":"SUMIF(Table1[[#This Row],[Total Wage Diff bonus]:[Bank Bonus]],\"<> \")","v":0},{"$f":"IF(AA3493>0, Table1[[#This Row],[Column4]], IF(AB3493>0,Table1[[#This Row],[Column4]],IF(X3493>0,\"1000\")))","v":false}]
[null,null,null,null,null,null,null,null,null,null,null,null,null,null,null,null,0,null,null,null,null,null,null,null,{"$f":"IF(Table1[[#This Row],[Wage differential Bonus                            - NotePay Rate you are bonusing to]]>0, Table1[[#This Row],[Wage differential Bonus                            - NotePay Rate you are bonusing to]]-Table1[[#This Row],[Pay Rate]], \"\")","v":""},{"$f":"IF(Table1[[#This Row],[Wage differential Bonus                            - NotePay Rate you are bonusing to]]>0,Table1[[#This Row],[Bonus Rate]]*Table1[[#This Row],[Hours]],\"\")","v":""},null,null,null,null,null,{"$f":"IF(OR(AH3494>0.001,AH3494<-0.001),Table1[[#This Row],[Employee '#]],\" \")","v":" "},false,{"$f":"SUMIF(Table1[[#This Row],[Total Wage Diff bonus]:[Bank Bonus]],\"<> \")","v":0},{"$f":"IF(AA3494>0, Table1[[#This Row],[Column4]], IF(AB3494>0,Table1[[#This Row],[Column4]],IF(X3494>0,\"1000\")))","v":false}]
[null,null,null,null,null,null,null,null,null,null,null,null,null,null,null,null,0,null,null,null,null,null,null,null,{"$f":"IF(Table1[[#This Row],[Wage differential Bonus                            - NotePay Rate you are bonusing to]]>0, Table1[[#This Row],[Wage differential Bonus                            - NotePay Rate you are bonusing to]]-Table1[[#This Row],[Pay Rate]], \"\")","v":""},{"$f":"IF(Table1[[#This Row],[Wage differential Bonus                            - NotePay Rate you are bonusing to]]>0,Table1[[#This Row],[Bonus Rate]]*Table1[[#This Row],[Hours]],\"\")","v":""},null,null,null,null,null,{"$f":"IF(OR(AH3495>0.001,AH3495<-0.001),Table1[[#This Row],[Employee '#]],\" \")","v":" "},false,{"$f":"SUMIF(Table1[[#This Row],[Total Wage Diff bonus]:[Bank Bonus]],\"<> \")","v":0},{"$f":"IF(AA3495>0, Table1[[#This Row],[Column4]], IF(AB3495>0,Table1[[#This Row],[Column4]],IF(X3495>0,\"1000\")))","v":false}]
[null,null,null,null,null,null,null,null,null,null,null,null,null,null,null,null,0,null,null,null,null,null,null,null,{"$f":"IF(Table1[[#This Row],[Wage differential Bonus                            - NotePay Rate you are bonusing to]]>0, Table1[[#This Row],[Wage differential Bonus                            - NotePay Rate you are bonusing to]]-Table1[[#This Row],[Pay Rate]], \"\")","v":""},{"$f":"IF(Table1[[#This Row],[Wage differential Bonus                            - NotePay Rate you are bonusing to]]>0,Table1[[#This Row],[Bonus Rate]]*Table1[[#This Row],[Hours]],\"\")","v":""},null,null,null,null,null,{"$f":"IF(OR(AH3496>0.001,AH3496<-0.001),Table1[[#This Row],[Employee '#]],\" \")","v":" "},false,{"$f":"SUMIF(Table1[[#This Row],[Total Wage Diff bonus]:[Bank Bonus]],\"<> \")","v":0},{"$f":"IF(AA3496>0, Table1[[#This Row],[Column4]], IF(AB3496>0,Table1[[#This Row],[Column4]],IF(X3496>0,\"1000\")))","v":false}]
[null,null,null,null,null,null,null,null,null,null,null,null,null,null,null,null,0,null,null,null,null,null,null,null,{"$f":"IF(Table1[[#This Row],[Wage differential Bonus                            - NotePay Rate you are bonusing to]]>0, Table1[[#This Row],[Wage differential Bonus                            - NotePay Rate you are bonusing to]]-Table1[[#This Row],[Pay Rate]], \"\")","v":""},{"$f":"IF(Table1[[#This Row],[Wage differential Bonus                            - NotePay Rate you are bonusing to]]>0,Table1[[#This Row],[Bonus Rate]]*Table1[[#This Row],[Hours]],\"\")","v":""},null,null,null,null,null,{"$f":"IF(OR(AH3497>0.001,AH3497<-0.001),Table1[[#This Row],[Employee '#]],\" \")","v":" "},false,{"$f":"SUMIF(Table1[[#This Row],[Total Wage Diff bonus]:[Bank Bonus]],\"<> \")","v":0},{"$f":"IF(AA3497>0, Table1[[#This Row],[Column4]], IF(AB3497>0,Table1[[#This Row],[Column4]],IF(X3497>0,\"1000\")))","v":false}]
[null,null,null,null,null,null,null,null,null,null,null,null,null,null,null,null,0,null,null,null,null,null,null,null,{"$f":"IF(Table1[[#This Row],[Wage differential Bonus                            - NotePay Rate you are bonusing to]]>0, Table1[[#This Row],[Wage differential Bonus                            - NotePay Rate you are bonusing to]]-Table1[[#This Row],[Pay Rate]], \"\")","v":""},{"$f":"IF(Table1[[#This Row],[Wage differential Bonus                            - NotePay Rate you are bonusing to]]>0,Table1[[#This Row],[Bonus Rate]]*Table1[[#This Row],[Hours]],\"\")","v":""},null,null,null,null,null,{"$f":"IF(OR(AH3498>0.001,AH3498<-0.001),Table1[[#This Row],[Employee '#]],\" \")","v":" "},false,{"$f":"SUMIF(Table1[[#This Row],[Total Wage Diff bonus]:[Bank Bonus]],\"<> \")","v":0},{"$f":"IF(AA3498>0, Table1[[#This Row],[Column4]], IF(AB3498>0,Table1[[#This Row],[Column4]],IF(X3498>0,\"1000\")))","v":false}]
[null,null,null,null,null,null,null,null,null,null,null,null,null,null,null,null,0,null,null,null,null,null,null,null,{"$f":"IF(Table1[[#This Row],[Wage differential Bonus                            - NotePay Rate you are bonusing to]]>0, Table1[[#This Row],[Wage differential Bonus                            - NotePay Rate you are bonusing to]]-Table1[[#This Row],[Pay Rate]], \"\")","v":""},{"$f":"IF(Table1[[#This Row],[Wage differential Bonus                            - NotePay Rate you are bonusing to]]>0,Table1[[#This Row],[Bonus Rate]]*Table1[[#This Row],[Hours]],\"\")","v":""},null,null,null,null,null,{"$f":"IF(OR(AH3499>0.001,AH3499<-0.001),Table1[[#This Row],[Employee '#]],\" \")","v":" "},false,{"$f":"SUMIF(Table1[[#This Row],[Total Wage Diff bonus]:[Bank Bonus]],\"<> \")","v":0},{"$f":"IF(AA3499>0, Table1[[#This Row],[Column4]], IF(AB3499>0,Table1[[#This Row],[Column4]],IF(X3499>0,\"1000\")))","v":false}]
[null,null,null,null,null,null,null,null,null,null,null,null,null,null,null,null,0,null,null,null,null,null,null,null,{"$f":"IF(Table1[[#This Row],[Wage differential Bonus                            - NotePay Rate you are bonusing to]]>0, Table1[[#This Row],[Wage differential Bonus                            - NotePay Rate you are bonusing to]]-Table1[[#This Row],[Pay Rate]], \"\")","v":""},{"$f":"IF(Table1[[#This Row],[Wage differential Bonus                            - NotePay Rate you are bonusing to]]>0,Table1[[#This Row],[Bonus Rate]]*Table1[[#This Row],[Hours]],\"\")","v":""},null,null,null,null,null,{"$f":"IF(OR(AH3500>0.001,AH3500<-0.001),Table1[[#This Row],[Employee '#]],\" \")","v":" "},false,{"$f":"SUMIF(Table1[[#This Row],[Total Wage Diff bonus]:[Bank Bonus]],\"<> \")","v":0},{"$f":"IF(AA3500>0, Table1[[#This Row],[Column4]], IF(AB3500>0,Table1[[#This Row],[Column4]],IF(X3500>0,\"1000\")))","v":false}]
[null,null,null,null,null,null,null,null,null,null,null,null,null,null,null,null,0,null,null,null,null,null,null,null,{"$f":"IF(Table1[[#This Row],[Wage differential Bonus                            - NotePay Rate you are bonusing to]]>0, Table1[[#This Row],[Wage differential Bonus                            - NotePay Rate you are bonusing to]]-Table1[[#This Row],[Pay Rate]], \"\")","v":""},{"$f":"IF(Table1[[#This Row],[Wage differential Bonus                            - NotePay Rate you are bonusing to]]>0,Table1[[#This Row],[Bonus Rate]]*Table1[[#This Row],[Hours]],\"\")","v":""},null,null,null,null,null,{"$f":"IF(OR(AH3501>0.001,AH3501<-0.001),Table1[[#This Row],[Employee '#]],\" \")","v":" "},false,{"$f":"SUMIF(Table1[[#This Row],[Total Wage Diff bonus]:[Bank Bonus]],\"<> \")","v":0},{"$f":"IF(AA3501>0, Table1[[#This Row],[Column4]], IF(AB3501>0,Table1[[#This Row],[Column4]],IF(X3501>0,\"1000\")))","v":false}]
[null,null,null,null,null,null,null,null,null,null,null,null,null,null,null,null,0,null,null,null,null,null,null,null,{"$f":"IF(Table1[[#This Row],[Wage differential Bonus                            - NotePay Rate you are bonusing to]]>0, Table1[[#This Row],[Wage differential Bonus                            - NotePay Rate you are bonusing to]]-Table1[[#This Row],[Pay Rate]], \"\")","v":""},{"$f":"IF(Table1[[#This Row],[Wage differential Bonus                            - NotePay Rate you are bonusing to]]>0,Table1[[#This Row],[Bonus Rate]]*Table1[[#This Row],[Hours]],\"\")","v":""},null,null,null,null,null,{"$f":"IF(OR(AH3502>0.001,AH3502<-0.001),Table1[[#This Row],[Employee '#]],\" \")","v":" "},false,{"$f":"SUMIF(Table1[[#This Row],[Total Wage Diff bonus]:[Bank Bonus]],\"<> \")","v":0},{"$f":"IF(AA3502>0, Table1[[#This Row],[Column4]], IF(AB3502>0,Table1[[#This Row],[Column4]],IF(X3502>0,\"1000\")))","v":false}]
[null,null,null,null,null,null,null,null,null,null,null,null,null,null,null,null,0,null,null,null,null,null,null,null,{"$f":"IF(Table1[[#This Row],[Wage differential Bonus                            - NotePay Rate you are bonusing to]]>0, Table1[[#This Row],[Wage differential Bonus                            - NotePay Rate you are bonusing to]]-Table1[[#This Row],[Pay Rate]], \"\")","v":""},{"$f":"IF(Table1[[#This Row],[Wage differential Bonus                            - NotePay Rate you are bonusing to]]>0,Table1[[#This Row],[Bonus Rate]]*Table1[[#This Row],[Hours]],\"\")","v":""},null,null,null,null,null,{"$f":"IF(OR(AH3503>0.001,AH3503<-0.001),Table1[[#This Row],[Employee '#]],\" \")","v":" "},false,{"$f":"SUMIF(Table1[[#This Row],[Total Wage Diff bonus]:[Bank Bonus]],\"<> \")","v":0},{"$f":"IF(AA3503>0, Table1[[#This Row],[Column4]], IF(AB3503>0,Table1[[#This Row],[Column4]],IF(X3503>0,\"1000\")))","v":false}]
[null,null,null,null,null,null,null,null,null,null,null,null,null,null,null,null,0,null,null,null,null,null,null,null,{"$f":"IF(Table1[[#This Row],[Wage differential Bonus                            - NotePay Rate you are bonusing to]]>0, Table1[[#This Row],[Wage differential Bonus                            - NotePay Rate you are bonusing to]]-Table1[[#This Row],[Pay Rate]], \"\")","v":""},{"$f":"IF(Table1[[#This Row],[Wage differential Bonus                            - NotePay Rate you are bonusing to]]>0,Table1[[#This Row],[Bonus Rate]]*Table1[[#This Row],[Hours]],\"\")","v":""},null,null,null,null,null,{"$f":"IF(OR(AH3504>0.001,AH3504<-0.001),Table1[[#This Row],[Employee '#]],\" \")","v":" "},false,{"$f":"SUMIF(Table1[[#This Row],[Total Wage Diff bonus]:[Bank Bonus]],\"<> \")","v":0},{"$f":"IF(AA3504>0, Table1[[#This Row],[Column4]], IF(AB3504>0,Table1[[#This Row],[Column4]],IF(X3504>0,\"1000\")))","v":false}]
[null,null,null,null,null,null,null,null,null,null,null,null,null,null,null,null,0,null,null,null,null,null,null,null,{"$f":"IF(Table1[[#This Row],[Wage differential Bonus                            - NotePay Rate you are bonusing to]]>0, Table1[[#This Row],[Wage differential Bonus                            - NotePay Rate you are bonusing to]]-Table1[[#This Row],[Pay Rate]], \"\")","v":""},{"$f":"IF(Table1[[#This Row],[Wage differential Bonus                            - NotePay Rate you are bonusing to]]>0,Table1[[#This Row],[Bonus Rate]]*Table1[[#This Row],[Hours]],\"\")","v":""},null,null,null,null,null,{"$f":"IF(OR(AH3505>0.001,AH3505<-0.001),Table1[[#This Row],[Employee '#]],\" \")","v":" "},false,{"$f":"SUMIF(Table1[[#This Row],[Total Wage Diff bonus]:[Bank Bonus]],\"<> \")","v":0},{"$f":"IF(AA3505>0, Table1[[#This Row],[Column4]], IF(AB3505>0,Table1[[#This Row],[Column4]],IF(X3505>0,\"1000\")))","v":false}]
[null,null,null,null,null,null,null,null,null,null,null,null,null,null,null,null,0,null,null,null,null,null,null,null,{"$f":"IF(Table1[[#This Row],[Wage differential Bonus                            - NotePay Rate you are bonusing to]]>0, Table1[[#This Row],[Wage differential Bonus                            - NotePay Rate you are bonusing to]]-Table1[[#This Row],[Pay Rate]], \"\")","v":""},{"$f":"IF(Table1[[#This Row],[Wage differential Bonus                            - NotePay Rate you are bonusing to]]>0,Table1[[#This Row],[Bonus Rate]]*Table1[[#This Row],[Hours]],\"\")","v":""},null,null,null,null,null,{"$f":"IF(OR(AH3506>0.001,AH3506<-0.001),Table1[[#This Row],[Employee '#]],\" \")","v":" "},false,{"$f":"SUMIF(Table1[[#This Row],[Total Wage Diff bonus]:[Bank Bonus]],\"<> \")","v":0},{"$f":"IF(AA3506>0, Table1[[#This Row],[Column4]], IF(AB3506>0,Table1[[#This Row],[Column4]],IF(X3506>0,\"1000\")))","v":false}]
[null,null,null,null,null,null,null,null,null,null,null,null,null,null,null,null,0,null,null,null,null,null,null,null,{"$f":"IF(Table1[[#This Row],[Wage differential Bonus                            - NotePay Rate you are bonusing to]]>0, Table1[[#This Row],[Wage differential Bonus                            - NotePay Rate you are bonusing to]]-Table1[[#This Row],[Pay Rate]], \"\")","v":""},{"$f":"IF(Table1[[#This Row],[Wage differential Bonus                            - NotePay Rate you are bonusing to]]>0,Table1[[#This Row],[Bonus Rate]]*Table1[[#This Row],[Hours]],\"\")","v":""},null,null,null,null,null,{"$f":"IF(OR(AH3507>0.001,AH3507<-0.001),Table1[[#This Row],[Employee '#]],\" \")","v":" "},false,{"$f":"SUMIF(Table1[[#This Row],[Total Wage Diff bonus]:[Bank Bonus]],\"<> \")","v":0},{"$f":"IF(AA3507>0, Table1[[#This Row],[Column4]], IF(AB3507>0,Table1[[#This Row],[Column4]],IF(X3507>0,\"1000\")))","v":false}]
[null,null,null,null,null,null,null,null,null,null,null,null,null,null,null,null,{"$f":"L3508+P3508","v":0},null,null,null,null,null,null,null,{"$f":"IF(Table1[[#This Row],[Wage differential Bonus                            - NotePay Rate you are bonusing to]]>0, Table1[[#This Row],[Wage differential Bonus                            - NotePay Rate you are bonusing to]]-Table1[[#This Row],[Pay Rate]], \"\")","v":""},{"$f":"IF(Table1[[#This Row],[Wage differential Bonus                            - NotePay Rate you are bonusing to]]>0,Table1[[#This Row],[Bonus Rate]]*Table1[[#This Row],[Hours]],\"\")","v":""},null,null,null,null,null,{"$f":"IF(OR(AH3508>0.001,AH3508<-0.001),Table1[[#This Row],[Employee '#]],\" \")","v":" "},false,{"$f":"SUMIF(Table1[[#This Row],[Total Wage Diff bonus]:[Bank Bonus]],\"<> \")","v":0},{"$f":"IF(AA3508>0, Table1[[#This Row],[Column4]], IF(AB3508>0,Table1[[#This Row],[Column4]],IF(X3508>0,\"1000\")))","v":false}]
[null,null,null,null,null,null,null,null,null,null,null,null,null,null,null,null,0,null,null,null,null,null,null,null,{"$f":"IF(Table1[[#This Row],[Wage differential Bonus                            - NotePay Rate you are bonusing to]]>0, Table1[[#This Row],[Wage differential Bonus                            - NotePay Rate you are bonusing to]]-Table1[[#This Row],[Pay Rate]], \"\")","v":""},{"$f":"IF(Table1[[#This Row],[Wage differential Bonus                            - NotePay Rate you are bonusing to]]>0,Table1[[#This Row],[Bonus Rate]]*Table1[[#This Row],[Hours]],\"\")","v":""},null,null,null,null,null,{"$f":"IF(OR(AH3509>0.001,AH3509<-0.001),Table1[[#This Row],[Employee '#]],\" \")","v":" "},false,{"$f":"SUMIF(Table1[[#This Row],[Total Wage Diff bonus]:[Bank Bonus]],\"<> \")","v":0},{"$f":"IF(AA3509>0, Table1[[#This Row],[Column4]], IF(AB3509>0,Table1[[#This Row],[Column4]],IF(X3509>0,\"1000\")))","v":false}]
[null,null,null,null,null,null,null,null,null,null,null,null,null,null,null,null,0,null,null,null,null,null,null,null,{"$f":"IF(Table1[[#This Row],[Wage differential Bonus                            - NotePay Rate you are bonusing to]]>0, Table1[[#This Row],[Wage differential Bonus                            - NotePay Rate you are bonusing to]]-Table1[[#This Row],[Pay Rate]], \"\")","v":""},{"$f":"IF(Table1[[#This Row],[Wage differential Bonus                            - NotePay Rate you are bonusing to]]>0,Table1[[#This Row],[Bonus Rate]]*Table1[[#This Row],[Hours]],\"\")","v":""},null,null,null,null,null,{"$f":"IF(OR(AH3510>0.001,AH3510<-0.001),Table1[[#This Row],[Employee '#]],\" \")","v":" "},false,{"$f":"SUMIF(Table1[[#This Row],[Total Wage Diff bonus]:[Bank Bonus]],\"<> \")","v":0},{"$f":"IF(AA3510>0, Table1[[#This Row],[Column4]], IF(AB3510>0,Table1[[#This Row],[Column4]],IF(X3510>0,\"1000\")))","v":false}]
[null,null,null,null,null,null,null,null,null,null,null,null,null,null,null,null,0,null,null,null,null,null,null,null,{"$f":"IF(Table1[[#This Row],[Wage differential Bonus                            - NotePay Rate you are bonusing to]]>0, Table1[[#This Row],[Wage differential Bonus                            - NotePay Rate you are bonusing to]]-Table1[[#This Row],[Pay Rate]], \"\")","v":""},{"$f":"IF(Table1[[#This Row],[Wage differential Bonus                            - NotePay Rate you are bonusing to]]>0,Table1[[#This Row],[Bonus Rate]]*Table1[[#This Row],[Hours]],\"\")","v":""},null,null,null,null,null,{"$f":"IF(OR(AH3511>0.001,AH3511<-0.001),Table1[[#This Row],[Employee '#]],\" \")","v":" "},false,{"$f":"SUMIF(Table1[[#This Row],[Total Wage Diff bonus]:[Bank Bonus]],\"<> \")","v":0},{"$f":"IF(AA3511>0, Table1[[#This Row],[Column4]], IF(AB3511>0,Table1[[#This Row],[Column4]],IF(X3511>0,\"1000\")))","v":false}]
[null,null,null,null,null,null,null,null,null,null,null,null,null,null,null,null,0,null,null,null,null,null,null,null,{"$f":"IF(Table1[[#This Row],[Wage differential Bonus                            - NotePay Rate you are bonusing to]]>0, Table1[[#This Row],[Wage differential Bonus                            - NotePay Rate you are bonusing to]]-Table1[[#This Row],[Pay Rate]], \"\")","v":""},{"$f":"IF(Table1[[#This Row],[Wage differential Bonus                            - NotePay Rate you are bonusing to]]>0,Table1[[#This Row],[Bonus Rate]]*Table1[[#This Row],[Hours]],\"\")","v":""},null,null,null,null,null,{"$f":"IF(OR(AH3512>0.001,AH3512<-0.001),Table1[[#This Row],[Employee '#]],\" \")","v":" "},false,{"$f":"SUMIF(Table1[[#This Row],[Total Wage Diff bonus]:[Bank Bonus]],\"<> \")","v":0},{"$f":"IF(AA3512>0, Table1[[#This Row],[Column4]], IF(AB3512>0,Table1[[#This Row],[Column4]],IF(X3512>0,\"1000\")))","v":false}]
[null,null,null,null,null,null,null,null,null,null,null,null,null,null,null,null,0,null,null,null,null,null,null,null,{"$f":"IF(Table1[[#This Row],[Wage differential Bonus                            - NotePay Rate you are bonusing to]]>0, Table1[[#This Row],[Wage differential Bonus                            - NotePay Rate you are bonusing to]]-Table1[[#This Row],[Pay Rate]], \"\")","v":""},{"$f":"IF(Table1[[#This Row],[Wage differential Bonus                            - NotePay Rate you are bonusing to]]>0,Table1[[#This Row],[Bonus Rate]]*Table1[[#This Row],[Hours]],\"\")","v":""},null,null,null,null,null,{"$f":"IF(OR(AH3513>0.001,AH3513<-0.001),Table1[[#This Row],[Employee '#]],\" \")","v":" "},false,{"$f":"SUMIF(Table1[[#This Row],[Total Wage Diff bonus]:[Bank Bonus]],\"<> \")","v":0},{"$f":"IF(AA3513>0, Table1[[#This Row],[Column4]], IF(AB3513>0,Table1[[#This Row],[Column4]],IF(X3513>0,\"1000\")))","v":false}]
[null,null,null,null,null,null,null,null,null,null,null,null,null,null,null,null,0,null,null,null,null,null,null,null,{"$f":"IF(Table1[[#This Row],[Wage differential Bonus                            - NotePay Rate you are bonusing to]]>0, Table1[[#This Row],[Wage differential Bonus                            - NotePay Rate you are bonusing to]]-Table1[[#This Row],[Pay Rate]], \"\")","v":""},{"$f":"IF(Table1[[#This Row],[Wage differential Bonus                            - NotePay Rate you are bonusing to]]>0,Table1[[#This Row],[Bonus Rate]]*Table1[[#This Row],[Hours]],\"\")","v":""},null,null,null,null,null,{"$f":"IF(OR(AH3514>0.001,AH3514<-0.001),Table1[[#This Row],[Employee '#]],\" \")","v":" "},false,{"$f":"SUMIF(Table1[[#This Row],[Total Wage Diff bonus]:[Bank Bonus]],\"<> \")","v":0},{"$f":"IF(AA3514>0, Table1[[#This Row],[Column4]], IF(AB3514>0,Table1[[#This Row],[Column4]],IF(X3514>0,\"1000\")))","v":false}]
["Total",null,null,null,null,null,null,null,null,null,null,null,null,null,null,{"$f":"SUM(Table1[ADD HOURS])","v":0},null,null,null,null,null,{"$f":"SUM(Table1[PTO])","v":0},{"$f":"SUM(Table1[HOLIDAY PAY HOURS])","v":0},null,null,{"$f":"SUM(Table1[Total Wage Diff bonus])","v":5.73},{"$f":"SUM(Table1[Flat Rate Bonus])","v":0},{"$f":"SUM(Table1[Bank Bonus])","v":0},null,null,null,{"$f":"IF(OR(AH3515>0.001,AH3515<-0.001),Table1[[#This Row],[Employee '#]],\" \")","v":" "}]
[null,null,null,null,null,null,null,null,null,null,null,null,null,null,null,null,null,null,null,null,null,null,null,null,null,null,null,null,null,null,null,{"$f":"IF(OR(AH3516>0.001,AH3516<-0.001),Table1[[#This Row],[Employee '#]],\" \")","v":" "}]

{"sheet":"Previous Week Bonus Slip","index":1,"n_rows":652,"n_cols":22,"rows_kept":652,"cut":false,"hidden":false,"merged":[[1,21,2,21],[1,12,2,12],[2,14,2,15],[1,0,2,0],[1,1,2,1],[1,5,2,5],[1,9,2,9],[1,10,2,10],[1,11,2,11],[1,8,2,8],[0,14,0,15],[1,16,2,16],[1,17,2,17],[1,19,2,19],[1,20,2,20]]}
[null,null,null,null,null,null,null,null,null,null,null,null,null,null,"All OT has been accounted for when noting employee's pay rate-\nPlease confirm by entering date and intials to the right:",null,"Date:","Initials:"]
["Week Ending Date","Employee Pin",null,null,null,"Employee Name",null,null,"Charge to Job #","Date Bonus is for","Starting time of  When Bonus is for","Ending time of  When Bonus is for","Hours",null,"Employee's Pay Rate","Rate being bonused to","Bonus Rate","Total Bonus",null,null,"Comments/Notes - Reason for bonus","Director Approval/ Notes"]
[null,null,null,null,null,null,null,null,null,null,null,null,null,null,"Important!  If any of the hours include OT, you will need to create a second line for those hours. The employee pay rate and bonus to rate will be 1.5X their normal rate for the hours in OT",null,null,null,"Flat Rate Bonus Amount"]
[null,null,null,null,null,null,null,null,null,null,null,null,null,null,null,null,{"$f":"('Previous Week Bonus Slip'!$P4-'Previous Week Bonus Slip'!$O4)","v":0},{"$f":"ROUND('Previous Week Bonus Slip'!$Q4*'Previous Week Bonus Slip'!$M4,2)","v":0}]
[null,null,null,null,null,null,null,null,null,null,null,null,null,null,null,null,{"$f":"('Previous Week Bonus Slip'!$P5-'Previous Week Bonus Slip'!$O5)","v":0},{"$f":"ROUND('Previous Week Bonus Slip'!$Q5*'Previous Week Bonus Slip'!$M5,2)","v":0}]
[null,null,null,null,null,null,null,null,null,null,null,null,null,null,null,null,{"$f":"('Previous Week Bonus Slip'!$P6-'Previous Week Bonus Slip'!$O6)","v":0},{"$f":"ROUND('Previous Week Bonus Slip'!$Q6*'Previous Week Bonus Slip'!$M6,2)","v":0}]
[null,null,null,null,null,null,null,null,null,null,null,null,null,null,null,null,{"$f":"('Previous Week Bonus Slip'!$P7-'Previous Week Bonus Slip'!$O7)","v":0},{"$f":"ROUND('Previous Week Bonus Slip'!$Q7*'Previous Week Bonus Slip'!$M7,2)","v":0}]
[null,null,null,null,null,null,null,null,null,null,null,null,null,null,null,null,{"$f":"('Previous Week Bonus Slip'!$P8-'Previous Week Bonus Slip'!$O8)","v":0},{"$f":"ROUND('Previous Week Bonus Slip'!$Q8*'Previous Week Bonus Slip'!$M8,2)","v":0}]
[null,null,null,null,null,null,null,null,null,null,null,null,null,null,null,null,{"$f":"('Previous Week Bonus Slip'!$P9-'Previous Week Bonus Slip'!$O9)","v":0},{"$f":"ROUND('Previous Week Bonus Slip'!$Q9*'Previous Week Bonus Slip'!$M9,2)","v":0}]
[null,null,null,null,null,null,null,null,null,null,null,null,null,null,null,null,{"$f":"('Previous Week Bonus Slip'!$P10-'Previous Week Bonus Slip'!$O10)","v":0},{"$f":"ROUND('Previous Week Bonus Slip'!$Q10*'Previous Week Bonus Slip'!$M10,2)","v":0}]
[null,null,null,null,null,null,null,null,null,null,null,null,null,null,null,null,{"$f":"('Previous Week Bonus Slip'!$P11-'Previous Week Bonus Slip'!$O11)","v":0},{"$f":"ROUND('Previous Week Bonus Slip'!$Q11*'Previous Week Bonus Slip'!$M11,2)","v":0}]
[null,null,null,null,null,null,null,null,null,null,null,null,null,null,null,null,{"$f":"('Previous Week Bonus Slip'!$P12-'Previous Week Bonus Slip'!$O12)","v":0},{"$f":"ROUND('Previous Week Bonus Slip'!$Q12*'Previous Week Bonus Slip'!$M12,2)","v":0}]
[null,null,null,null,null,null,null,null,null,null,null,null,null,null,null,null,{"$f":"('Previous Week Bonus Slip'!$P13-'Previous Week Bonus Slip'!$O13)","v":0},{"$f":"ROUND('Previous Week Bonus Slip'!$Q13*'Previous Week Bonus Slip'!$M13,2)","v":0}]
[null,null,null,null,null,null,null,null,null,null,null,null,null,null,null,null,{"$f":"('Previous Week Bonus Slip'!$P14-'Previous Week Bonus Slip'!$O14)","v":0},{"$f":"ROUND('Previous Week Bonus Slip'!$Q14*'Previous Week Bonus Slip'!$M14,2)","v":0}]
[null,null,null,null,null,null,null,null,null,null,null,null,null,null,null,null,{"$f":"('Previous Week Bonus Slip'!$P15-'Previous Week Bonus Slip'!$O15)","v":0},{"$f":"ROUND('Previous Week Bonus Slip'!$Q15*'Previous Week Bonus Slip'!$M15,2)","v":0}]
[null,null,null,null,null,null,null,null,null,null,null,null,null,null,null,null,{"$f":"('Previous Week Bonus Slip'!$P16-'Previous Week Bonus Slip'!$O16)","v":0},{"$f":"ROUND('Previous Week Bonus Slip'!$Q16*'Previous Week Bonus Slip'!$M16,2)","v":0}]
[null,null,null,null,null,null,null,null,null,null,null,null,null,null,null,null,{"$f":"('Previous Week Bonus Slip'!$P17-'Previous Week Bonus Slip'!$O17)","v":0},{"$f":"ROUND('Previous Week Bonus Slip'!$Q17*'Previous Week Bonus Slip'!$M17,2)","v":0}]
[null,null,null,null,null,null,null,null,null,null,null,null,null,null,null,null,{"$f":"('Previous Week Bonus Slip'!$P18-'Previous Week Bonus Slip'!$O18)","v":0},{"$f":"ROUND('Previous Week Bonus Slip'!$Q18*'Previous Week Bonus Slip'!$M18,2)","v":0}]
[null,null,null,null,null,null,null,null,null,null,null,null,null,null,null,null,{"$f":"('Previous Week Bonus Slip'!$P19-'Previous Week Bonus Slip'!$O19)","v":0},{"$f":"ROUND('Previous Week Bonus Slip'!$Q19*'Previous Week Bonus Slip'!$M19,2)","v":0}]
[null,null,null,null,null,null,null,null,null,null,null,null,null,null,null,null,{"$f":"('Previous Week Bonus Slip'!$P20-'Previous Week Bonus Slip'!$O20)","v":0},{"$f":"ROUND('Previous Week Bonus Slip'!$Q20*'Previous Week Bonus Slip'!$M20,2)","v":0}]
[null,null,null,null,null,null,null,null,null,null,null,null,null,null,null,null,{"$f":"('Previous Week Bonus Slip'!$P21-'Previous Week Bonus Slip'!$O21)","v":0},{"$f":"ROUND('Previous Week Bonus Slip'!$Q21*'Previous Week Bonus Slip'!$M21,2)","v":0}]
[null,null,null,null,null,null,null,null,null,null,null,null,null,null,null,null,{"$f":"('Previous Week Bonus Slip'!$P22-'Previous Week Bonus Slip'!$O22)","v":0},{"$f":"ROUND('Previous Week Bonus Slip'!$Q22*'Previous Week Bonus Slip'!$M22,2)","v":0}]
[null,null,null,null,null,null,null,null,null,null,null,null,null,null,null,null,{"$f":"('Previous Week Bonus Slip'!$P23-'Previous Week Bonus Slip'!$O23)","v":0},{"$f":"ROUND('Previous Week Bonus Slip'!$Q23*'Previous Week Bonus Slip'!$M23,2)","v":0}]
[null,null,null,null,null,null,null,null,null,null,null,null,null,null,null,null,{"$f":"('Previous Week Bonus Slip'!$P24-'Previous Week Bonus Slip'!$O24)","v":0},{"$f":"ROUND('Previous Week Bonus Slip'!$Q24*'Previous Week Bonus Slip'!$M24,2)","v":0}]
[null,null,null,null,null,null,null,null,null,null,null,null,null,null,null,null,{"$f":"('Previous Week Bonus Slip'!$P25-'Previous Week Bonus Slip'!$O25)","v":0},{"$f":"ROUND('Previous Week Bonus Slip'!$Q25*'Previous Week Bonus Slip'!$M25,2)","v":0}]
[null,null,null,null,null,null,null,null,null,null,null,null,null,null,null,null,{"$f":"('Previous Week Bonus Slip'!$P26-'Previous Week Bonus Slip'!$O26)","v":0},{"$f":"ROUND('Previous Week Bonus Slip'!$Q26*'Previous Week Bonus Slip'!$M26,2)","v":0}]
[null,null,null,null,null,null,null,null,null,null,null,null,null,null,null,null,{"$f":"('Previous Week Bonus Slip'!$P27-'Previous Week Bonus Slip'!$O27)","v":0},{"$f":"ROUND('Previous Week Bonus Slip'!$Q27*'Previous Week Bonus Slip'!$M27,2)","v":0}]
[null,null,null,null,null,null,null,null,null,null,null,null,null,null,null,null,{"$f":"('Previous Week Bonus Slip'!$P28-'Previous Week Bonus Slip'!$O28)","v":0},{"$f":"ROUND('Previous Week Bonus Slip'!$Q28*'Previous Week Bonus Slip'!$M28,2)","v":0}]
[null,null,null,null,null,null,null,null,null,null,null,null,null,null,null,null,{"$f":"('Previous Week Bonus Slip'!$P29-'Previous Week Bonus Slip'!$O29)","v":0},{"$f":"ROUND('Previous Week Bonus Slip'!$Q29*'Previous Week Bonus Slip'!$M29,2)","v":0}]
[null,null,null,null,null,null,null,null,null,null,null,null,null,null,null,null,{"$f":"('Previous Week Bonus Slip'!$P30-'Previous Week Bonus Slip'!$O30)","v":0},{"$f":"ROUND('Previous Week Bonus Slip'!$Q30*'Previous Week Bonus Slip'!$M30,2)","v":0}]
[null,null,null,null,null,null,null,null,null,null,null,null,null,null,null,null,{"$f":"('Previous Week Bonus Slip'!$P31-'Previous Week Bonus Slip'!$O31)","v":0},{"$f":"ROUND('Previous Week Bonus Slip'!$Q31*'Previous Week Bonus Slip'!$M31,2)","v":0}]
[null,null,null,null,null,null,null,null,null,null,null,null,null,null,null,null,{"$f":"('Previous Week Bonus Slip'!$P32-'Previous Week Bonus Slip'!$O32)","v":0},{"$f":"ROUND('Previous Week Bonus Slip'!$Q32*'Previous Week Bonus Slip'!$M32,2)","v":0}]
[null,null,null,null,null,null,null,null,null,null,null,null,null,null,null,null,{"$f":"('Previous Week Bonus Slip'!$P33-'Previous Week Bonus Slip'!$O33)","v":0},{"$f":"ROUND('Previous Week Bonus Slip'!$Q33*'Previous Week Bonus Slip'!$M33,2)","v":0}]
[null,null,null,null,null,null,null,null,null,null,null,null,null,null,null,null,{"$f":"('Previous Week Bonus Slip'!$P34-'Previous Week Bonus Slip'!$O34)","v":0},{"$f":"ROUND('Previous Week Bonus Slip'!$Q34*'Previous Week Bonus Slip'!$M34,2)","v":0}]
[null,null,null,null,null,null,null,null,null,null,null,null,null,null,null,null,{"$f":"('Previous Week Bonus Slip'!$P35-'Previous Week Bonus Slip'!$O35)","v":0},{"$f":"ROUND('Previous Week Bonus Slip'!$Q35*'Previous Week Bonus Slip'!$M35,2)","v":0}]
[null,null,null,null,null,null,null,null,null,null,null,null,null,null,null,null,{"$f":"('Previous Week Bonus Slip'!$P36-'Previous Week Bonus Slip'!$O36)","v":0},{"$f":"ROUND('Previous Week Bonus Slip'!$Q36*'Previous Week Bonus Slip'!$M36,2)","v":0}]
[null,null,null,null,null,null,null,null,null,null,null,null,null,null,null,null,{"$f":"('Previous Week Bonus Slip'!$P37-'Previous Week Bonus Slip'!$O37)","v":0},{"$f":"ROUND('Previous Week Bonus Slip'!$Q37*'Previous Week Bonus Slip'!$M37,2)","v":0}]
[null,null,null,null,null,null,null,null,null,null,null,null,null,null,null,null,{"$f":"('Previous Week Bonus Slip'!$P38-'Previous Week Bonus Slip'!$O38)","v":0},{"$f":"ROUND('Previous Week Bonus Slip'!$Q38*'Previous Week Bonus Slip'!$M38,2)","v":0}]
[null,null,null,null,null,null,null,null,null,null,null,null,null,null,null,null,{"$f":"('Previous Week Bonus Slip'!$P39-'Previous Week Bonus Slip'!$O39)","v":0},{"$f":"ROUND('Previous Week Bonus Slip'!$Q39*'Previous Week Bonus Slip'!$M39,2)","v":0}]
[null,null,null,null,null,null,null,null,null,null,null,null,null,null,null,null,{"$f":"('Previous Week Bonus Slip'!$P40-'Previous Week Bonus Slip'!$O40)","v":0},{"$f":"ROUND('Previous Week Bonus Slip'!$Q40*'Previous Week Bonus Slip'!$M40,2)","v":0}]
[null,null,null,null,null,null,null,null,null,null,null,null,null,null,null,null,{"$f":"('Previous Week Bonus Slip'!$P41-'Previous Week Bonus Slip'!$O41)","v":0},{"$f":"ROUND('Previous Week Bonus Slip'!$Q41*'Previous Week Bonus Slip'!$M41,2)","v":0}]
[null,null,null,null,null,null,null,null,null,null,null,null,null,null,null,null,{"$f":"('Previous Week Bonus Slip'!$P42-'Previous Week Bonus Slip'!$O42)","v":0},{"$f":"ROUND('Previous Week Bonus Slip'!$Q42*'Previous Week Bonus Slip'!$M42,2)","v":0}]
[null,null,null,null,null,null,null,null,null,null,null,null,null,null,null,null,{"$f":"('Previous Week Bonus Slip'!$P43-'Previous Week Bonus Slip'!$O43)","v":0},{"$f":"ROUND('Previous Week Bonus Slip'!$Q43*'Previous Week Bonus Slip'!$M43,2)","v":0}]
[null,null,null,null,null,null,null,null,null,null,null,null,null,null,null,null,{"$f":"('Previous Week Bonus Slip'!$P44-'Previous Week Bonus Slip'!$O44)","v":0},{"$f":"ROUND('Previous Week Bonus Slip'!$Q44*'Previous Week Bonus Slip'!$M44,2)","v":0}]
[null,null,null,null,null,null,null,null,null,null,null,null,null,null,null,null,{"$f":"('Previous Week Bonus Slip'!$P45-'Previous Week Bonus Slip'!$O45)","v":0},{"$f":"ROUND('Previous Week Bonus Slip'!$Q45*'Previous Week Bonus Slip'!$M45,2)","v":0}]
[null,null,null,null,null,null,null,null,null,null,null,null,null,null,null,null,{"$f":"('Previous Week Bonus Slip'!$P46-'Previous Week Bonus Slip'!$O46)","v":0},{"$f":"ROUND('Previous Week Bonus Slip'!$Q46*'Previous Week Bonus Slip'!$M46,2)","v":0}]
[null,null,null,null,null,null,null,null,null,null,null,null,null,null,null,null,{"$f":"('Previous Week Bonus Slip'!$P47-'Previous Week Bonus Slip'!$O47)","v":0},{"$f":"ROUND('Previous Week Bonus Slip'!$Q47*'Previous Week Bonus Slip'!$M47,2)","v":0}]
[null,null,null,null,null,null,null,null,null,null,null,null,null,null,null,null,{"$f":"('Previous Week Bonus Slip'!$P48-'Previous Week Bonus Slip'!$O48)","v":0},{"$f":"ROUND('Previous Week Bonus Slip'!$Q48*'Previous Week Bonus Slip'!$M48,2)","v":0}]
[null,null,null,null,null,null,null,null,null,null,null,null,null,null,null,null,{"$f":"('Previous Week Bonus Slip'!$P49-'Previous Week Bonus Slip'!$O49)","v":0},{"$f":"ROUND('Previous Week Bonus Slip'!$Q49*'Previous Week Bonus Slip'!$M49,2)","v":0}]
[null,null,null,null,null,null,null,null,null,null,null,null,null,null,null,null,{"$f":"('Previous Week Bonus Slip'!$P50-'Previous Week Bonus Slip'!$O50)","v":0},{"$f":"ROUND('Previous Week Bonus Slip'!$Q50*'Previous Week Bonus Slip'!$M50,2)","v":0}]
[null,null,null,null,null,null,null,null,null,null,null,null,null,null,null,null,{"$f":"('Previous Week Bonus Slip'!$P51-'Previous Week Bonus Slip'!$O51)","v":0},{"$f":"ROUND('Previous Week Bonus Slip'!$Q51*'Previous Week Bonus Slip'!$M51,2)","v":0}]
[null,null,null,null,null,null,null,null,null,null,null,null,null,null,null,null,{"$f":"('Previous Week Bonus Slip'!$P52-'Previous Week Bonus Slip'!$O52)","v":0},{"$f":"ROUND('Previous Week Bonus Slip'!$Q52*'Previous Week Bonus Slip'!$M52,2)","v":0}]
[null,null,null,null,null,null,null,null,null,null,null,null,null,null,null,null,{"$f":"('Previous Week Bonus Slip'!$P53-'Previous Week Bonus Slip'!$O53)","v":0},{"$f":"ROUND('Previous Week Bonus Slip'!$Q53*'Previous Week Bonus Slip'!$M53,2)","v":0}]
[null,null,null,null,null,null,null,null,null,null,null,null,null,null,null,null,{"$f":"('Previous Week Bonus Slip'!$P54-'Previous Week Bonus Slip'!$O54)","v":0},{"$f":"ROUND('Previous Week Bonus Slip'!$Q54*'Previous Week Bonus Slip'!$M54,2)","v":0}]
[null,null,null,null,null,null,null,null,null,null,null,null,null,null,null,null,{"$f":"('Previous Week Bonus Slip'!$P55-'Previous Week Bonus Slip'!$O55)","v":0},{"$f":"ROUND('Previous Week Bonus Slip'!$Q55*'Previous Week Bonus Slip'!$M55,2)","v":0}]
[null,null,null,null,null,null,null,null,null,null,null,null,null,null,null,null,{"$f":"('Previous Week Bonus Slip'!$P56-'Previous Week Bonus Slip'!$O56)","v":0},{"$f":"ROUND('Previous Week Bonus Slip'!$Q56*'Previous Week Bonus Slip'!$M56,2)","v":0}]
[null,null,null,null,null,null,null,null,null,null,null,null,null,null,null,null,{"$f":"('Previous Week Bonus Slip'!$P57-'Previous Week Bonus Slip'!$O57)","v":0},{"$f":"ROUND('Previous Week Bonus Slip'!$Q57*'Previous Week Bonus Slip'!$M57,2)","v":0}]
[null,null,null,null,null,null,null,null,null,null,null,null,null,null,null,null,{"$f":"('Previous Week Bonus Slip'!$P58-'Previous Week Bonus Slip'!$O58)","v":0},{"$f":"ROUND('Previous Week Bonus Slip'!$Q58*'Previous Week Bonus Slip'!$M58,2)","v":0}]
[null,null,null,null,null,null,null,null,null,null,null,null,null,null,null,null,{"$f":"('Previous Week Bonus Slip'!$P59-'Previous Week Bonus Slip'!$O59)","v":0},{"$f":"ROUND('Previous Week Bonus Slip'!$Q59*'Previous Week Bonus Slip'!$M59,2)","v":0}]
[null,null,null,null,null,null,null,null,null,null,null,null,null,null,null,null,{"$f":"('Previous Week Bonus Slip'!$P60-'Previous Week Bonus Slip'!$O60)","v":0},{"$f":"ROUND('Previous Week Bonus Slip'!$Q60*'Previous Week Bonus Slip'!$M60,2)","v":0}]
[null,null,null,null,null,null,null,null,null,null,null,null,null,null,null,null,{"$f":"('Previous Week Bonus Slip'!$P61-'Previous Week Bonus Slip'!$O61)","v":0},{"$f":"ROUND('Previous Week Bonus Slip'!$Q61*'Previous Week Bonus Slip'!$M61,2)","v":0}]
[null,null,null,null,null,null,null,null,null,null,null,null,null,null,null,null,{"$f":"('Previous Week Bonus Slip'!$P62-'Previous Week Bonus Slip'!$O62)","v":0},{"$f":"ROUND('Previous Week Bonus Slip'!$Q62*'Previous Week Bonus Slip'!$M62,2)","v":0}]
[null,null,null,null,null,null,null,null,null,null,null,null,null,null,null,null,{"$f":"('Previous Week Bonus Slip'!$P63-'Previous Week Bonus Slip'!$O63)","v":0},{"$f":"ROUND('Previous Week Bonus Slip'!$Q63*'Previous Week Bonus Slip'!$M63,2)","v":0}]
[null,null,null,null,null,null,null,null,null,null,null,null,null,null,null,null,{"$f":"('Previous Week Bonus Slip'!$P64-'Previous Week Bonus Slip'!$O64)","v":0},{"$f":"ROUND('Previous Week Bonus Slip'!$Q64*'Previous Week Bonus Slip'!$M64,2)","v":0}]
[null,null,null,null,null,null,null,null,null,null,null,null,null,null,null,null,{"$f":"('Previous Week Bonus Slip'!$P65-'Previous Week Bonus Slip'!$O65)","v":0},{"$f":"ROUND('Previous Week Bonus Slip'!$Q65*'Previous Week Bonus Slip'!$M65,2)","v":0}]
[null,null,null,null,null,null,null,null,null,null,null,null,null,null,null,null,{"$f":"('Previous Week Bonus Slip'!$P66-'Previous Week Bonus Slip'!$O66)","v":0},{"$f":"ROUND('Previous Week Bonus Slip'!$Q66*'Previous Week Bonus Slip'!$M66,2)","v":0}]
[null,null,null,null,null,null,null,null,null,null,null,null,null,null,null,null,{"$f":"('Previous Week Bonus Slip'!$P67-'Previous Week Bonus Slip'!$O67)","v":0},{"$f":"ROUND('Previous Week Bonus Slip'!$Q67*'Previous Week Bonus Slip'!$M67,2)","v":0}]
[null,null,null,null,null,null,null,null,null,null,null,null,null,null,null,null,{"$f":"('Previous Week Bonus Slip'!$P68-'Previous Week Bonus Slip'!$O68)","v":0},{"$f":"ROUND('Previous Week Bonus Slip'!$Q68*'Previous Week Bonus Slip'!$M68,2)","v":0}]
[null,null,null,null,null,null,null,null,null,null,null,null,null,null,null,null,{"$f":"('Previous Week Bonus Slip'!$P69-'Previous Week Bonus Slip'!$O69)","v":0},{"$f":"ROUND('Previous Week Bonus Slip'!$Q69*'Previous Week Bonus Slip'!$M69,2)","v":0}]
[null,null,null,null,null,null,null,null,null,null,null,null,null,null,null,null,{"$f":"('Previous Week Bonus Slip'!$P70-'Previous Week Bonus Slip'!$O70)","v":0},{"$f":"ROUND('Previous Week Bonus Slip'!$Q70*'Previous Week Bonus Slip'!$M70,2)","v":0}]
[null,null,null,null,null,null,null,null,null,null,null,null,null,null,null,null,{"$f":"('Previous Week Bonus Slip'!$P71-'Previous Week Bonus Slip'!$O71)","v":0},{"$f":"ROUND('Previous Week Bonus Slip'!$Q71*'Previous Week Bonus Slip'!$M71,2)","v":0}]
[null,null,null,null,null,null,null,null,null,null,null,null,null,null,null,null,{"$f":"('Previous Week Bonus Slip'!$P72-'Previous Week Bonus Slip'!$O72)","v":0},{"$f":"ROUND('Previous Week Bonus Slip'!$Q72*'Previous Week Bonus Slip'!$M72,2)","v":0}]
[null,null,null,null,null,null,null,null,null,null,null,null,null,null,null,null,{"$f":"('Previous Week Bonus Slip'!$P73-'Previous Week Bonus Slip'!$O73)","v":0},{"$f":"ROUND('Previous Week Bonus Slip'!$Q73*'Previous Week Bonus Slip'!$M73,2)","v":0}]
[null,null,null,null,null,null,null,null,null,null,null,null,null,null,null,null,{"$f":"('Previous Week Bonus Slip'!$P74-'Previous Week Bonus Slip'!$O74)","v":0},{"$f":"ROUND('Previous Week Bonus Slip'!$Q74*'Previous Week Bonus Slip'!$M74,2)","v":0}]
[null,null,null,null,null,null,null,null,null,null,null,null,null,null,null,null,{"$f":"('Previous Week Bonus Slip'!$P75-'Previous Week Bonus Slip'!$O75)","v":0},{"$f":"ROUND('Previous Week Bonus Slip'!$Q75*'Previous Week Bonus Slip'!$M75,2)","v":0}]
[null,null,null,null,null,null,null,null,null,null,null,null,null,null,null,null,{"$f":"('Previous Week Bonus Slip'!$P76-'Previous Week Bonus Slip'!$O76)","v":0},{"$f":"ROUND('Previous Week Bonus Slip'!$Q76*'Previous Week Bonus Slip'!$M76,2)","v":0}]
[null,null,null,null,null,null,null,null,null,null,null,null,null,null,null,null,{"$f":"('Previous Week Bonus Slip'!$P77-'Previous Week Bonus Slip'!$O77)","v":0},{"$f":"ROUND('Previous Week Bonus Slip'!$Q77*'Previous Week Bonus Slip'!$M77,2)","v":0}]
[null,null,null,null,null,null,null,null,null,null,null,null,null,null,null,null,{"$f":"('Previous Week Bonus Slip'!$P78-'Previous Week Bonus Slip'!$O78)","v":0},{"$f":"ROUND('Previous Week Bonus Slip'!$Q78*'Previous Week Bonus Slip'!$M78,2)","v":0}]
[null,null,null,null,null,null,null,null,null,null,null,null,null,null,null,null,{"$f":"('Previous Week Bonus Slip'!$P79-'Previous Week Bonus Slip'!$O79)","v":0},{"$f":"ROUND('Previous Week Bonus Slip'!$Q79*'Previous Week Bonus Slip'!$M79,2)","v":0}]
[null,null,null,null,null,null,null,null,null,null,null,null,null,null,null,null,{"$f":"('Previous Week Bonus Slip'!$P80-'Previous Week Bonus Slip'!$O80)","v":0},{"$f":"ROUND('Previous Week Bonus Slip'!$Q80*'Previous Week Bonus Slip'!$M80,2)","v":0}]
[null,null,null,null,null,null,null,null,null,null,null,null,null,null,null,null,{"$f":"('Previous Week Bonus Slip'!$P81-'Previous Week Bonus Slip'!$O81)","v":0},{"$f":"ROUND('Previous Week Bonus Slip'!$Q81*'Previous Week Bonus Slip'!$M81,2)","v":0}]
[null,null,null,null,null,null,null,null,null,null,null,null,null,null,null,null,{"$f":"('Previous Week Bonus Slip'!$P82-'Previous Week Bonus Slip'!$O82)","v":0},{"$f":"ROUND('Previous Week Bonus Slip'!$Q82*'Previous Week Bonus Slip'!$M82,2)","v":0}]
[null,null,null,null,null,null,null,null,null,null,null,null,null,null,null,null,{"$f":"('Previous Week Bonus Slip'!$P83-'Previous Week Bonus Slip'!$O83)","v":0},{"$f":"ROUND('Previous Week Bonus Slip'!$Q83*'Previous Week Bonus Slip'!$M83,2)","v":0}]
[null,null,null,null,null,null,null,null,null,null,null,null,null,null,null,null,{"$f":"('Previous Week Bonus Slip'!$P84-'Previous Week Bonus Slip'!$O84)","v":0},{"$f":"ROUND('Previous Week Bonus Slip'!$Q84*'Previous Week Bonus Slip'!$M84,2)","v":0}]
[null,null,null,null,null,null,null,null,null,null,null,null,null,null,null,null,{"$f":"('Previous Week Bonus Slip'!$P85-'Previous Week Bonus Slip'!$O85)","v":0},{"$f":"ROUND('Previous Week Bonus Slip'!$Q85*'Previous Week Bonus Slip'!$M85,2)","v":0}]
[null,null,null,null,null,null,null,null,null,null,null,null,null,null,null,null,{"$f":"('Previous Week Bonus Slip'!$P86-'Previous Week Bonus Slip'!$O86)","v":0},{"$f":"ROUND('Previous Week Bonus Slip'!$Q86*'Previous Week Bonus Slip'!$M86,2)","v":0}]
[null,null,null,null,null,null,null,null,null,null,null,null,null,null,null,null,{"$f":"('Previous Week Bonus Slip'!$P87-'Previous Week Bonus Slip'!$O87)","v":0},{"$f":"ROUND('Previous Week Bonus Slip'!$Q87*'Previous Week Bonus Slip'!$M87,2)","v":0}]
[null,null,null,null,null,null,null,null,null,null,null,null,null,null,null,null,{"$f":"('Previous Week Bonus Slip'!$P88-'Previous Week Bonus Slip'!$O88)","v":0},{"$f":"ROUND('Previous Week Bonus Slip'!$Q88*'Previous Week Bonus Slip'!$M88,2)","v":0}]
[null,null,null,null,null,null,null,null,null,null,null,null,null,null,null,null,{"$f":"('Previous Week Bonus Slip'!$P89-'Previous Week Bonus Slip'!$O89)","v":0},{"$f":"ROUND('Previous Week Bonus Slip'!$Q89*'Previous Week Bonus Slip'!$M89,2)","v":0}]
[null,null,null,null,null,null,null,null,null,null,null,null,null,null,null,null,{"$f":"('Previous Week Bonus Slip'!$P90-'Previous Week Bonus Slip'!$O90)","v":0},{"$f":"ROUND('Previous Week Bonus Slip'!$Q90*'Previous Week Bonus Slip'!$M90,2)","v":0}]
[null,null,null,null,null,null,null,null,null,null,null,null,null,null,null,null,{"$f":"('Previous Week Bonus Slip'!$P91-'Previous Week Bonus Slip'!$O91)","v":0},{"$f":"ROUND('Previous Week Bonus Slip'!$Q91*'Previous Week Bonus Slip'!$M91,2)","v":0}]
[null,null,null,null,null,null,null,null,null,null,null,null,null,null,null,null,{"$f":"('Previous Week Bonus Slip'!$P92-'Previous Week Bonus Slip'!$O92)","v":0},{"$f":"ROUND('Previous Week Bonus Slip'!$Q92*'Previous Week Bonus Slip'!$M92,2)","v":0}]
[null,null,null,null,null,null,null,null,null,null,null,null,null,null,null,null,{"$f":"('Previous Week Bonus Slip'!$P93-'Previous Week Bonus Slip'!$O93)","v":0},{"$f":"ROUND('Previous Week Bonus Slip'!$Q93*'Previous Week Bonus Slip'!$M93,2)","v":0}]
[null,null,null,null,null,null,null,null,null,null,null,null,null,null,null,null,{"$f":"('Previous Week Bonus Slip'!$P94-'Previous Week Bonus Slip'!$O94)","v":0},{"$f":"ROUND('Previous Week Bonus Slip'!$Q94*'Previous Week Bonus Slip'!$M94,2)","v":0}]
[null,null,null,null,null,null,null,null,null,null,null,null,null,null,null,null,{"$f":"('Previous Week Bonus Slip'!$P95-'Previous Week Bonus Slip'!$O95)","v":0},{"$f":"ROUND('Previous Week Bonus Slip'!$Q95*'Previous Week Bonus Slip'!$M95,2)","v":0}]
[null,null,null,null,null,null,null,null,null,null,null,null,null,null,null,null,{"$f":"('Previous Week Bonus Slip'!$P96-'Previous Week Bonus Slip'!$O96)","v":0},{"$f":"ROUND('Previous Week Bonus Slip'!$Q96*'Previous Week Bonus Slip'!$M96,2)","v":0}]
[null,null,null,null,null,null,null,null,null,null,null,null,null,null,null,null,{"$f":"('Previous Week Bonus Slip'!$P97-'Previous Week Bonus Slip'!$O97)","v":0},{"$f":"ROUND('Previous Week Bonus Slip'!$Q97*'Previous Week Bonus Slip'!$M97,2)","v":0}]
[null,null,null,null,null,null,null,null,null,null,null,null,null,null,null,null,{"$f":"('Previous Week Bonus Slip'!$P98-'Previous Week Bonus Slip'!$O98)","v":0},{"$f":"ROUND('Previous Week Bonus Slip'!$Q98*'Previous Week Bonus Slip'!$M98,2)","v":0}]
[null,null,null,null,null,null,null,null,null,null,null,null,null,null,null,null,{"$f":"('Previous Week Bonus Slip'!$P99-'Previous Week Bonus Slip'!$O99)","v":0},{"$f":"ROUND('Previous Week Bonus Slip'!$Q99*'Previous Week Bonus Slip'!$M99,2)","v":0}]
[null,null,null,null,null,null,null,null,null,null,null,null,null,null,null,null,{"$f":"('Previous Week Bonus Slip'!$P100-'Previous Week Bonus Slip'!$O100)","v":0},{"$f":"ROUND('Previous Week Bonus Slip'!$Q100*'Previous Week Bonus Slip'!$M100,2)","v":0}]
[null,null,null,null,null,null,null,null,null,null,null,null,null,null,null,null,{"$f":"('Previous Week Bonus Slip'!$P101-'Previous Week Bonus Slip'!$O101)","v":0},{"$f":"ROUND('Previous Week Bonus Slip'!$Q101*'Previous Week Bonus Slip'!$M101,2)","v":0}]
[null,null,null,null,null,null,null,null,null,null,null,null,null,null,null,null,{"$f":"('Previous Week Bonus Slip'!$P102-'Previous Week Bonus Slip'!$O102)","v":0},{"$f":"ROUND('Previous Week Bonus Slip'!$Q102*'Previous Week Bonus Slip'!$M102,2)","v":0}]
[null,null,null,null,null,null,null,null,null,null,null,null,null,null,null,null,{"$f":"('Previous Week Bonus Slip'!$P103-'Previous Week Bonus Slip'!$O103)","v":0},{"$f":"ROUND('Previous Week Bonus Slip'!$Q103*'Previous Week Bonus Slip'!$M103,2)","v":0}]
[null,null,null,null,null,null,null,null,null,null,null,null,null,null,null,null,{"$f":"('Previous Week Bonus Slip'!$P104-'Previous Week Bonus Slip'!$O104)","v":0},{"$f":"ROUND('Previous Week Bonus Slip'!$Q104*'Previous Week Bonus Slip'!$M104,2)","v":0}]
[null,null,null,null,null,null,null,null,null,null,null,null,null,null,null,null,{"$f":"('Previous Week Bonus Slip'!$P105-'Previous Week Bonus Slip'!$O105)","v":0},{"$f":"ROUND('Previous Week Bonus Slip'!$Q105*'Previous Week Bonus Slip'!$M105,2)","v":0}]
[null,null,null,null,null,null,null,null,null,null,null,null,null,null,null,null,{"$f":"('Previous Week Bonus Slip'!$P106-'Previous Week Bonus Slip'!$O106)","v":0},{"$f":"ROUND('Previous Week Bonus Slip'!$Q106*'Previous Week Bonus Slip'!$M106,2)","v":0}]
[null,null,null,null,null,null,null,null,null,null,null,null,null,null,null,null,{"$f":"('Previous Week Bonus Slip'!$P107-'Previous Week Bonus Slip'!$O107)","v":0},{"$f":"ROUND('Previous Week Bonus Slip'!$Q107*'Previous Week Bonus Slip'!$M107,2)","v":0}]
[null,null,null,null,null,null,null,null,null,null,null,null,null,null,null,null,{"$f":"('Previous Week Bonus Slip'!$P108-'Previous Week Bonus Slip'!$O108)","v":0},{"$f":"ROUND('Previous Week Bonus Slip'!$Q108*'Previous Week Bonus Slip'!$M108,2)","v":0}]
[null,null,null,null,null,null,null,null,null,null,null,null,null,null,null,null,{"$f":"('Previous Week Bonus Slip'!$P109-'Previous Week Bonus Slip'!$O109)","v":0},{"$f":"ROUND('Previous Week Bonus Slip'!$Q109*'Previous Week Bonus Slip'!$M109,2)","v":0}]
[null,null,null,null,null,null,null,null,null,null,null,null,null,null,null,null,{"$f":"('Previous Week Bonus Slip'!$P110-'Previous Week Bonus Slip'!$O110)","v":0},{"$f":"ROUND('Previous Week Bonus Slip'!$Q110*'Previous Week Bonus Slip'!$M110,2)","v":0}]
[null,null,null,null,null,null,null,null,null,null,null,null,null,null,null,null,{"$f":"('Previous Week Bonus Slip'!$P111-'Previous Week Bonus Slip'!$O111)","v":0},{"$f":"ROUND('Previous Week Bonus Slip'!$Q111*'Previous Week Bonus Slip'!$M111,2)","v":0}]
[null,null,null,null,null,null,null,null,null,null,null,null,null,null,null,null,{"$f":"('Previous Week Bonus Slip'!$P112-'Previous Week Bonus Slip'!$O112)","v":0},{"$f":"ROUND('Previous Week Bonus Slip'!$Q112*'Previous Week Bonus Slip'!$M112,2)","v":0}]
[null,null,null,null,null,null,null,null,null,null,null,null,null,null,null,null,{"$f":"('Previous Week Bonus Slip'!$P113-'Previous Week Bonus Slip'!$O113)","v":0},{"$f":"ROUND('Previous Week Bonus Slip'!$Q113*'Previous Week Bonus Slip'!$M113,2)","v":0}]
[null,null,null,null,null,null,null,null,null,null,null,null,null,null,null,null,{"$f":"('Previous Week Bonus Slip'!$P114-'Previous Week Bonus Slip'!$O114)","v":0},{"$f":"ROUND('Previous Week Bonus Slip'!$Q114*'Previous Week Bonus Slip'!$M114,2)","v":0}]
[null,null,null,null,null,null,null,null,null,null,null,null,null,null,null,null,{"$f":"('Previous Week Bonus Slip'!$P115-'Previous Week Bonus Slip'!$O115)","v":0},{"$f":"ROUND('Previous Week Bonus Slip'!$Q115*'Previous Week Bonus Slip'!$M115,2)","v":0}]
[null,null,null,null,null,null,null,null,null,null,null,null,null,null,null,null,{"$f":"('Previous Week Bonus Slip'!$P116-'Previous Week Bonus Slip'!$O116)","v":0},{"$f":"ROUND('Previous Week Bonus Slip'!$Q116*'Previous Week Bonus Slip'!$M116,2)","v":0}]
[null,null,null,null,null,null,null,null,null,null,null,null,null,null,null,null,{"$f":"('Previous Week Bonus Slip'!$P117-'Previous Week Bonus Slip'!$O117)","v":0},{"$f":"ROUND('Previous Week Bonus Slip'!$Q117*'Previous Week Bonus Slip'!$M117,2)","v":0}]
[null,null,null,null,null,null,null,null,null,null,null,null,null,null,null,null,{"$f":"('Previous Week Bonus Slip'!$P118-'Previous Week Bonus Slip'!$O118)","v":0},{"$f":"ROUND('Previous Week Bonus Slip'!$Q118*'Previous Week Bonus Slip'!$M118,2)","v":0}]
[null,null,null,null,null,null,null,null,null,null,null,null,null,null,null,null,{"$f":"('Previous Week Bonus Slip'!$P119-'Previous Week Bonus Slip'!$O119)","v":0},{"$f":"ROUND('Previous Week Bonus Slip'!$Q119*'Previous Week Bonus Slip'!$M119,2)","v":0}]
[null,null,null,null,null,null,null,null,null,null,null,null,null,null,null,null,{"$f":"('Previous Week Bonus Slip'!$P120-'Previous Week Bonus Slip'!$O120)","v":0},{"$f":"ROUND('Previous Week Bonus Slip'!$Q120*'Previous Week Bonus Slip'!$M120,2)","v":0}]
[null,null,null,null,null,null,null,null,null,null,null,null,null,null,null,null,{"$f":"('Previous Week Bonus Slip'!$P121-'Previous Week Bonus Slip'!$O121)","v":0},{"$f":"ROUND('Previous Week Bonus Slip'!$Q121*'Previous Week Bonus Slip'!$M121,2)","v":0}]
[null,null,null,null,null,null,null,null,null,null,null,null,null,null,null,null,{"$f":"('Previous Week Bonus Slip'!$P122-'Previous Week Bonus Slip'!$O122)","v":0},{"$f":"ROUND('Previous Week Bonus Slip'!$Q122*'Previous Week Bonus Slip'!$M122,2)","v":0}]
[null,null,null,null,null,null,null,null,null,null,null,null,null,null,null,null,{"$f":"('Previous Week Bonus Slip'!$P123-'Previous Week Bonus Slip'!$O123)","v":0},{"$f":"ROUND('Previous Week Bonus Slip'!$Q123*'Previous Week Bonus Slip'!$M123,2)","v":0}]
[null,null,null,null,null,null,null,null,null,null,null,null,null,null,null,null,{"$f":"('Previous Week Bonus Slip'!$P124-'Previous Week Bonus Slip'!$O124)","v":0},{"$f":"ROUND('Previous Week Bonus Slip'!$Q124*'Previous Week Bonus Slip'!$M124,2)","v":0}]
[null,null,null,null,null,null,null,null,null,null,null,null,null,null,null,null,{"$f":"('Previous Week Bonus Slip'!$P125-'Previous Week Bonus Slip'!$O125)","v":0},{"$f":"ROUND('Previous Week Bonus Slip'!$Q125*'Previous Week Bonus Slip'!$M125,2)","v":0}]
[null,null,null,null,null,null,null,null,null,null,null,null,null,null,null,null,{"$f":"('Previous Week Bonus Slip'!$P126-'Previous Week Bonus Slip'!$O126)","v":0},{"$f":"ROUND('Previous Week Bonus Slip'!$Q126*'Previous Week Bonus Slip'!$M126,2)","v":0}]
[null,null,null,null,null,null,null,null,null,null,null,null,null,null,null,null,{"$f":"('Previous Week Bonus Slip'!$P127-'Previous Week Bonus Slip'!$O127)","v":0},{"$f":"ROUND('Previous Week Bonus Slip'!$Q127*'Previous Week Bonus Slip'!$M127,2)","v":0}]
[null,null,null,null,null,null,null,null,null,null,null,null,null,null,null,null,{"$f":"('Previous Week Bonus Slip'!$P128-'Previous Week Bonus Slip'!$O128)","v":0},{"$f":"ROUND('Previous Week Bonus Slip'!$Q128*'Previous Week Bonus Slip'!$M128,2)","v":0}]
[null,null,null,null,null,null,null,null,null,null,null,null,null,null,null,null,{"$f":"('Previous Week Bonus Slip'!$P129-'Previous Week Bonus Slip'!$O129)","v":0},{"$f":"ROUND('Previous Week Bonus Slip'!$Q129*'Previous Week Bonus Slip'!$M129,2)","v":0}]
[null,null,null,null,null,null,null,null,null,null,null,null,null,null,null,null,{"$f":"('Previous Week Bonus Slip'!$P130-'Previous Week Bonus Slip'!$O130)","v":0},{"$f":"ROUND('Previous Week Bonus Slip'!$Q130*'Previous Week Bonus Slip'!$M130,2)","v":0}]
[null,null,null,null,null,null,null,null,null,null,null,null,null,null,null,null,{"$f":"('Previous Week Bonus Slip'!$P131-'Previous Week Bonus Slip'!$O131)","v":0},{"$f":"ROUND('Previous Week Bonus Slip'!$Q131*'Previous Week Bonus Slip'!$M131,2)","v":0}]
[null,null,null,null,null,null,null,null,null,null,null,null,null,null,null,null,{"$f":"('Previous Week Bonus Slip'!$P132-'Previous Week Bonus Slip'!$O132)","v":0},{"$f":"ROUND('Previous Week Bonus Slip'!$Q132*'Previous Week Bonus Slip'!$M132,2)","v":0}]
[null,null,null,null,null,null,null,null,null,null,null,null,null,null,null,null,{"$f":"('Previous Week Bonus Slip'!$P133-'Previous Week Bonus Slip'!$O133)","v":0},{"$f":"ROUND('Previous Week Bonus Slip'!$Q133*'Previous Week Bonus Slip'!$M133,2)","v":0}]
[null,null,null,null,null,null,null,null,null,null,null,null,null,null,null,null,{"$f":"('Previous Week Bonus Slip'!$P134-'Previous Week Bonus Slip'!$O134)","v":0},{"$f":"ROUND('Previous Week Bonus Slip'!$Q134*'Previous Week Bonus Slip'!$M134,2)","v":0}]
[null,null,null,null,null,null,null,null,null,null,null,null,null,null,null,null,{"$f":"('Previous Week Bonus Slip'!$P135-'Previous Week Bonus Slip'!$O135)","v":0},{"$f":"ROUND('Previous Week Bonus Slip'!$Q135*'Previous Week Bonus Slip'!$M135,2)","v":0}]
[null,null,null,null,null,null,null,null,null,null,null,null,null,null,null,null,{"$f":"('Previous Week Bonus Slip'!$P136-'Previous Week Bonus Slip'!$O136)","v":0},{"$f":"ROUND('Previous Week Bonus Slip'!$Q136*'Previous Week Bonus Slip'!$M136,2)","v":0}]
[null,null,null,null,null,null,null,null,null,null,null,null,null,null,null,null,{"$f":"('Previous Week Bonus Slip'!$P137-'Previous Week Bonus Slip'!$O137)","v":0},{"$f":"ROUND('Previous Week Bonus Slip'!$Q137*'Previous Week Bonus Slip'!$M137,2)","v":0}]
[null,null,null,null,null,null,null,null,null,null,null,null,null,null,null,null,{"$f":"('Previous Week Bonus Slip'!$P138-'Previous Week Bonus Slip'!$O138)","v":0},{"$f":"ROUND('Previous Week Bonus Slip'!$Q138*'Previous Week Bonus Slip'!$M138,2)","v":0}]
[null,null,null,null,null,null,null,null,null,null,null,null,null,null,null,null,{"$f":"('Previous Week Bonus Slip'!$P139-'Previous Week Bonus Slip'!$O139)","v":0},{"$f":"ROUND('Previous Week Bonus Slip'!$Q139*'Previous Week Bonus Slip'!$M139,2)","v":0}]
[null,null,null,null,null,null,null,null,null,null,null,null,null,null,null,null,{"$f":"('Previous Week Bonus Slip'!$P140-'Previous Week Bonus Slip'!$O140)","v":0},{"$f":"ROUND('Previous Week Bonus Slip'!$Q140*'Previous Week Bonus Slip'!$M140,2)","v":0}]
[null,null,null,null,null,null,null,null,null,null,null,null,null,null,null,null,{"$f":"('Previous Week Bonus Slip'!$P141-'Previous Week Bonus Slip'!$O141)","v":0},{"$f":"ROUND('Previous Week Bonus Slip'!$Q141*'Previous Week Bonus Slip'!$M141,2)","v":0}]
[null,null,null,null,null,null,null,null,null,null,null,null,null,null,null,null,{"$f":"('Previous Week Bonus Slip'!$P142-'Previous Week Bonus Slip'!$O142)","v":0},{"$f":"ROUND('Previous Week Bonus Slip'!$Q142*'Previous Week Bonus Slip'!$M142,2)","v":0}]
[null,null,null,null,null,null,null,null,null,null,null,null,null,null,null,null,{"$f":"('Previous Week Bonus Slip'!$P143-'Previous Week Bonus Slip'!$O143)","v":0},{"$f":"ROUND('Previous Week Bonus Slip'!$Q143*'Previous Week Bonus Slip'!$M143,2)","v":0}]
[null,null,null,null,null,null,null,null,null,null,null,null,null,null,null,null,{"$f":"('Previous Week Bonus Slip'!$P144-'Previous Week Bonus Slip'!$O144)","v":0},{"$f":"ROUND('Previous Week Bonus Slip'!$Q144*'Previous Week Bonus Slip'!$M144,2)","v":0}]
[null,null,null,null,null,null,null,null,null,null,null,null,null,null,null,null,{"$f":"('Previous Week Bonus Slip'!$P145-'Previous Week Bonus Slip'!$O145)","v":0},{"$f":"ROUND('Previous Week Bonus Slip'!$Q145*'Previous Week Bonus Slip'!$M145,2)","v":0}]
[null,null,null,null,null,null,null,null,null,null,null,null,null,null,null,null,{"$f":"('Previous Week Bonus Slip'!$P146-'Previous Week Bonus Slip'!$O146)","v":0},{"$f":"ROUND('Previous Week Bonus Slip'!$Q146*'Previous Week Bonus Slip'!$M146,2)","v":0}]
[null,null,null,null,null,null,null,null,null,null,null,null,null,null,null,null,{"$f":"('Previous Week Bonus Slip'!$P147-'Previous Week Bonus Slip'!$O147)","v":0},{"$f":"ROUND('Previous Week Bonus Slip'!$Q147*'Previous Week Bonus Slip'!$M147,2)","v":0}]
[null,null,null,null,null,null,null,null,null,null,null,null,null,null,null,null,{"$f":"('Previous Week Bonus Slip'!$P148-'Previous Week Bonus Slip'!$O148)","v":0},{"$f":"ROUND('Previous Week Bonus Slip'!$Q148*'Previous Week Bonus Slip'!$M148,2)","v":0}]
[null,null,null,null,null,null,null,null,null,null,null,null,null,null,null,null,{"$f":"('Previous Week Bonus Slip'!$P149-'Previous Week Bonus Slip'!$O149)","v":0},{"$f":"ROUND('Previous Week Bonus Slip'!$Q149*'Previous Week Bonus Slip'!$M149,2)","v":0}]
[null,null,null,null,null,null,null,null,null,null,null,null,null,null,null,null,{"$f":"('Previous Week Bonus Slip'!$P150-'Previous Week Bonus Slip'!$O150)","v":0},{"$f":"ROUND('Previous Week Bonus Slip'!$Q150*'Previous Week Bonus Slip'!$M150,2)","v":0}]
[null,null,null,null,null,null,null,null,null,null,null,null,null,null,null,null,{"$f":"('Previous Week Bonus Slip'!$P151-'Previous Week Bonus Slip'!$O151)","v":0},{"$f":"ROUND('Previous Week Bonus Slip'!$Q151*'Previous Week Bonus Slip'!$M151,2)","v":0}]
[null,null,null,null,null,null,null,null,null,null,null,null,null,null,null,null,{"$f":"('Previous Week Bonus Slip'!$P152-'Previous Week Bonus Slip'!$O152)","v":0},{"$f":"ROUND('Previous Week Bonus Slip'!$Q152*'Previous Week Bonus Slip'!$M152,2)","v":0}]
[null,null,null,null,null,null,null,null,null,null,null,null,null,null,null,null,{"$f":"('Previous Week Bonus Slip'!$P153-'Previous Week Bonus Slip'!$O153)","v":0},{"$f":"ROUND('Previous Week Bonus Slip'!$Q153*'Previous Week Bonus Slip'!$M153,2)","v":0}]
[null,null,null,null,null,null,null,null,null,null,null,null,null,null,null,null,{"$f":"('Previous Week Bonus Slip'!$P154-'Previous Week Bonus Slip'!$O154)","v":0},{"$f":"ROUND('Previous Week Bonus Slip'!$Q154*'Previous Week Bonus Slip'!$M154,2)","v":0}]
[null,null,null,null,null,null,null,null,null,null,null,null,null,null,null,null,{"$f":"('Previous Week Bonus Slip'!$P155-'Previous Week Bonus Slip'!$O155)","v":0},{"$f":"ROUND('Previous Week Bonus Slip'!$Q155*'Previous Week Bonus Slip'!$M155,2)","v":0}]
[null,null,null,null,null,null,null,null,null,null,null,null,null,null,null,null,{"$f":"('Previous Week Bonus Slip'!$P156-'Previous Week Bonus Slip'!$O156)","v":0},{"$f":"ROUND('Previous Week Bonus Slip'!$Q156*'Previous Week Bonus Slip'!$M156,2)","v":0}]
[null,null,null,null,null,null,null,null,null,null,null,null,null,null,null,null,{"$f":"('Previous Week Bonus Slip'!$P157-'Previous Week Bonus Slip'!$O157)","v":0},{"$f":"ROUND('Previous Week Bonus Slip'!$Q157*'Previous Week Bonus Slip'!$M157,2)","v":0}]
[null,null,null,null,null,null,null,null,null,null,null,null,null,null,null,null,{"$f":"('Previous Week Bonus Slip'!$P158-'Previous Week Bonus Slip'!$O158)","v":0},{"$f":"ROUND('Previous Week Bonus Slip'!$Q158*'Previous Week Bonus Slip'!$M158,2)","v":0}]
[null,null,null,null,null,null,null,null,null,null,null,null,null,null,null,null,{"$f":"('Previous Week Bonus Slip'!$P159-'Previous Week Bonus Slip'!$O159)","v":0},{"$f":"ROUND('Previous Week Bonus Slip'!$Q159*'Previous Week Bonus Slip'!$M159,2)","v":0}]
[null,null,null,null,null,null,null,null,null,null,null,null,null,null,null,null,{"$f":"('Previous Week Bonus Slip'!$P160-'Previous Week Bonus Slip'!$O160)","v":0},{"$f":"ROUND('Previous Week Bonus Slip'!$Q160*'Previous Week Bonus Slip'!$M160,2)","v":0}]
[null,null,null,null,null,null,null,null,null,null,null,null,null,null,null,null,{"$f":"('Previous Week Bonus Slip'!$P161-'Previous Week Bonus Slip'!$O161)","v":0},{"$f":"ROUND('Previous Week Bonus Slip'!$Q161*'Previous Week Bonus Slip'!$M161,2)","v":0}]
[null,null,null,null,null,null,null,null,null,null,null,null,null,null,null,null,{"$f":"('Previous Week Bonus Slip'!$P162-'Previous Week Bonus Slip'!$O162)","v":0},{"$f":"ROUND('Previous Week Bonus Slip'!$Q162*'Previous Week Bonus Slip'!$M162,2)","v":0}]
[null,null,null,null,null,null,null,null,null,null,null,null,null,null,null,null,{"$f":"('Previous Week Bonus Slip'!$P163-'Previous Week Bonus Slip'!$O163)","v":0},{"$f":"ROUND('Previous Week Bonus Slip'!$Q163*'Previous Week Bonus Slip'!$M163,2)","v":0}]
[null,null,null,null,null,null,null,null,null,null,null,null,null,null,null,null,{"$f":"('Previous Week Bonus Slip'!$P164-'Previous Week Bonus Slip'!$O164)","v":0},{"$f":"ROUND('Previous Week Bonus Slip'!$Q164*'Previous Week Bonus Slip'!$M164,2)","v":0}]
[null,null,null,null,null,null,null,null,null,null,null,null,null,null,null,null,{"$f":"('Previous Week Bonus Slip'!$P165-'Previous Week Bonus Slip'!$O165)","v":0},{"$f":"ROUND('Previous Week Bonus Slip'!$Q165*'Previous Week Bonus Slip'!$M165,2)","v":0}]
[null,null,null,null,null,null,null,null,null,null,null,null,null,null,null,null,{"$f":"('Previous Week Bonus Slip'!$P166-'Previous Week Bonus Slip'!$O166)","v":0},{"$f":"ROUND('Previous Week Bonus Slip'!$Q166*'Previous Week Bonus Slip'!$M166,2)","v":0}]
[null,null,null,null,null,null,null,null,null,null,null,null,null,null,null,null,{"$f":"('Previous Week Bonus Slip'!$P167-'Previous Week Bonus Slip'!$O167)","v":0},{"$f":"ROUND('Previous Week Bonus Slip'!$Q167*'Previous Week Bonus Slip'!$M167,2)","v":0}]
[null,null,null,null,null,null,null,null,null,null,null,null,null,null,null,null,{"$f":"('Previous Week Bonus Slip'!$P168-'Previous Week Bonus Slip'!$O168)","v":0},{"$f":"ROUND('Previous Week Bonus Slip'!$Q168*'Previous Week Bonus Slip'!$M168,2)","v":0}]
[null,null,null,null,null,null,null,null,null,null,null,null,null,null,null,null,{"$f":"('Previous Week Bonus Slip'!$P169-'Previous Week Bonus Slip'!$O169)","v":0},{"$f":"ROUND('Previous Week Bonus Slip'!$Q169*'Previous Week Bonus Slip'!$M169,2)","v":0}]
[null,null,null,null,null,null,null,null,null,null,null,null,null,null,null,null,{"$f":"('Previous Week Bonus Slip'!$P170-'Previous Week Bonus Slip'!$O170)","v":0},{"$f":"ROUND('Previous Week Bonus Slip'!$Q170*'Previous Week Bonus Slip'!$M170,2)","v":0}]
[null,null,null,null,null,null,null,null,null,null,null,null,null,null,null,null,{"$f":"('Previous Week Bonus Slip'!$P171-'Previous Week Bonus Slip'!$O171)","v":0},{"$f":"ROUND('Previous Week Bonus Slip'!$Q171*'Previous Week Bonus Slip'!$M171,2)","v":0}]
[null,null,null,null,null,null,null,null,null,null,null,null,null,null,null,null,{"$f":"('Previous Week Bonus Slip'!$P172-'Previous Week Bonus Slip'!$O172)","v":0},{"$f":"ROUND('Previous Week Bonus Slip'!$Q172*'Previous Week Bonus Slip'!$M172,2)","v":0}]
[null,null,null,null,null,null,null,null,null,null,null,null,null,null,null,null,{"$f":"('Previous Week Bonus Slip'!$P173-'Previous Week Bonus Slip'!$O173)","v":0},{"$f":"ROUND('Previous Week Bonus Slip'!$Q173*'Previous Week Bonus Slip'!$M173,2)","v":0}]
[null,null,null,null,null,null,null,null,null,null,null,null,null,null,null,null,{"$f":"('Previous Week Bonus Slip'!$P174-'Previous Week Bonus Slip'!$O174)","v":0},{"$f":"ROUND('Previous Week Bonus Slip'!$Q174*'Previous Week Bonus Slip'!$M174,2)","v":0}]
[null,null,null,null,null,null,null,null,null,null,null,null,null,null,null,null,{"$f":"('Previous Week Bonus Slip'!$P175-'Previous Week Bonus Slip'!$O175)","v":0},{"$f":"ROUND('Previous Week Bonus Slip'!$Q175*'Previous Week Bonus Slip'!$M175,2)","v":0}]
[null,null,null,null,null,null,null,null,null,null,null,null,null,null,null,null,{"$f":"('Previous Week Bonus Slip'!$P176-'Previous Week Bonus Slip'!$O176)","v":0},{"$f":"ROUND('Previous Week Bonus Slip'!$Q176*'Previous Week Bonus Slip'!$M176,2)","v":0}]
[null,null,null,null,null,null,null,null,null,null,null,null,null,null,null,null,{"$f":"('Previous Week Bonus Slip'!$P177-'Previous Week Bonus Slip'!$O177)","v":0},{"$f":"ROUND('Previous Week Bonus Slip'!$Q177*'Previous Week Bonus Slip'!$M177,2)","v":0}]
[null,null,null,null,null,null,null,null,null,null,null,null,null,null,null,null,{"$f":"('Previous Week Bonus Slip'!$P178-'Previous Week Bonus Slip'!$O178)","v":0},{"$f":"ROUND('Previous Week Bonus Slip'!$Q178*'Previous Week Bonus Slip'!$M178,2)","v":0}]
[null,null,null,null,null,null,null,null,null,null,null,null,null,null,null,null,{"$f":"('Previous Week Bonus Slip'!$P179-'Previous Week Bonus Slip'!$O179)","v":0},{"$f":"ROUND('Previous Week Bonus Slip'!$Q179*'Previous Week Bonus Slip'!$M179,2)","v":0}]
[null,null,null,null,null,null,null,null,null,null,null,null,null,null,null,null,{"$f":"('Previous Week Bonus Slip'!$P180-'Previous Week Bonus Slip'!$O180)","v":0},{"$f":"ROUND('Previous Week Bonus Slip'!$Q180*'Previous Week Bonus Slip'!$M180,2)","v":0}]
[null,null,null,null,null,null,null,null,null,null,null,null,null,null,null,null,{"$f":"('Previous Week Bonus Slip'!$P181-'Previous Week Bonus Slip'!$O181)","v":0},{"$f":"ROUND('Previous Week Bonus Slip'!$Q181*'Previous Week Bonus Slip'!$M181,2)","v":0}]
[null,null,null,null,null,null,null,null,null,null,null,null,null,null,null,null,{"$f":"('Previous Week Bonus Slip'!$P182-'Previous Week Bonus Slip'!$O182)","v":0},{"$f":"ROUND('Previous Week Bonus Slip'!$Q182*'Previous Week Bonus Slip'!$M182,2)","v":0}]
[null,null,null,null,null,null,null,null,null,null,null,null,null,null,null,null,{"$f":"('Previous Week Bonus Slip'!$P183-'Previous Week Bonus Slip'!$O183)","v":0},{"$f":"ROUND('Previous Week Bonus Slip'!$Q183*'Previous Week Bonus Slip'!$M183,2)","v":0}]
[null,null,null,null,null,null,null,null,null,null,null,null,null,null,null,null,{"$f":"('Previous Week Bonus Slip'!$P184-'Previous Week Bonus Slip'!$O184)","v":0},{"$f":"ROUND('Previous Week Bonus Slip'!$Q184*'Previous Week Bonus Slip'!$M184,2)","v":0}]
[null,null,null,null,null,null,null,null,null,null,null,null,null,null,null,null,{"$f":"('Previous Week Bonus Slip'!$P185-'Previous Week Bonus Slip'!$O185)","v":0},{"$f":"ROUND('Previous Week Bonus Slip'!$Q185*'Previous Week Bonus Slip'!$M185,2)","v":0}]
[null,null,null,null,null,null,null,null,null,null,null,null,null,null,null,null,{"$f":"('Previous Week Bonus Slip'!$P186-'Previous Week Bonus Slip'!$O186)","v":0},{"$f":"ROUND('Previous Week Bonus Slip'!$Q186*'Previous Week Bonus Slip'!$M186,2)","v":0}]
[null,null,null,null,null,null,null,null,null,null,null,null,null,null,null,null,{"$f":"('Previous Week Bonus Slip'!$P187-'Previous Week Bonus Slip'!$O187)","v":0},{"$f":"ROUND('Previous Week Bonus Slip'!$Q187*'Previous Week Bonus Slip'!$M187,2)","v":0}]
[null,null,null,null,null,null,null,null,null,null,null,null,null,null,null,null,{"$f":"('Previous Week Bonus Slip'!$P188-'Previous Week Bonus Slip'!$O188)","v":0},{"$f":"ROUND('Previous Week Bonus Slip'!$Q188*'Previous Week Bonus Slip'!$M188,2)","v":0}]
[null,null,null,null,null,null,null,null,null,null,null,null,null,null,null,null,{"$f":"('Previous Week Bonus Slip'!$P189-'Previous Week Bonus Slip'!$O189)","v":0},{"$f":"ROUND('Previous Week Bonus Slip'!$Q189*'Previous Week Bonus Slip'!$M189,2)","v":0}]
[null,null,null,null,null,null,null,null,null,null,null,null,null,null,null,null,{"$f":"('Previous Week Bonus Slip'!$P190-'Previous Week Bonus Slip'!$O190)","v":0},{"$f":"ROUND('Previous Week Bonus Slip'!$Q190*'Previous Week Bonus Slip'!$M190,2)","v":0}]
[null,null,null,null,null,null,null,null,null,null,null,null,null,null,null,null,{"$f":"('Previous Week Bonus Slip'!$P191-'Previous Week Bonus Slip'!$O191)","v":0},{"$f":"ROUND('Previous Week Bonus Slip'!$Q191*'Previous Week Bonus Slip'!$M191,2)","v":0}]
[null,null,null,null,null,null,null,null,null,null,null,null,null,null,null,null,{"$f":"('Previous Week Bonus Slip'!$P192-'Previous Week Bonus Slip'!$O192)","v":0},{"$f":"ROUND('Previous Week Bonus Slip'!$Q192*'Previous Week Bonus Slip'!$M192,2)","v":0}]
[null,null,null,null,null,null,null,null,null,null,null,null,null,null,null,null,{"$f":"('Previous Week Bonus Slip'!$P193-'Previous Week Bonus Slip'!$O193)","v":0},{"$f":"ROUND('Previous Week Bonus Slip'!$Q193*'Previous Week Bonus Slip'!$M193,2)","v":0}]
[null,null,null,null,null,null,null,null,null,null,null,null,null,null,null,null,{"$f":"('Previous Week Bonus Slip'!$P194-'Previous Week Bonus Slip'!$O194)","v":0},{"$f":"ROUND('Previous Week Bonus Slip'!$Q194*'Previous Week Bonus Slip'!$M194,2)","v":0}]
[null,null,null,null,null,null,null,null,null,null,null,null,null,null,null,null,{"$f":"('Previous Week Bonus Slip'!$P195-'Previous Week Bonus Slip'!$O195)","v":0},{"$f":"ROUND('Previous Week Bonus Slip'!$Q195*'Previous Week Bonus Slip'!$M195,2)","v":0}]
[null,null,null,null,null,null,null,null,null,null,null,null,null,null,null,null,{"$f":"('Previous Week Bonus Slip'!$P196-'Previous Week Bonus Slip'!$O196)","v":0},{"$f":"ROUND('Previous Week Bonus Slip'!$Q196*'Previous Week Bonus Slip'!$M196,2)","v":0}]
[null,null,null,null,null,null,null,null,null,null,null,null,null,null,null,null,{"$f":"('Previous Week Bonus Slip'!$P197-'Previous Week Bonus Slip'!$O197)","v":0},{"$f":"ROUND('Previous Week Bonus Slip'!$Q197*'Previous Week Bonus Slip'!$M197,2)","v":0}]
[null,null,null,null,null,null,null,null,null,null,null,null,null,null,null,null,{"$f":"('Previous Week Bonus Slip'!$P198-'Previous Week Bonus Slip'!$O198)","v":0},{"$f":"ROUND('Previous Week Bonus Slip'!$Q198*'Previous Week Bonus Slip'!$M198,2)","v":0}]
[null,null,null,null,null,null,null,null,null,null,null,null,null,null,null,null,{"$f":"('Previous Week Bonus Slip'!$P199-'Previous Week Bonus Slip'!$O199)","v":0},{"$f":"ROUND('Previous Week Bonus Slip'!$Q199*'Previous Week Bonus Slip'!$M199,2)","v":0}]
[null,null,null,null,null,null,null,null,null,null,null,null,null,null,null,null,{"$f":"('Previous Week Bonus Slip'!$P200-'Previous Week Bonus Slip'!$O200)","v":0},{"$f":"ROUND('Previous Week Bonus Slip'!$Q200*'Previous Week Bonus Slip'!$M200,2)","v":0}]
[null,null,null,null,null,null,null,null,null,null,null,null,null,null,null,null,{"$f":"('Previous Week Bonus Slip'!$P201-'Previous Week Bonus Slip'!$O201)","v":0},{"$f":"ROUND('Previous Week Bonus Slip'!$Q201*'Previous Week Bonus Slip'!$M201,2)","v":0}]
[null,null,null,null,null,null,null,null,null,null,null,null,null,null,null,null,{"$f":"('Previous Week Bonus Slip'!$P202-'Previous Week Bonus Slip'!$O202)","v":0},{"$f":"ROUND('Previous Week Bonus Slip'!$Q202*'Previous Week Bonus Slip'!$M202,2)","v":0}]
[null,null,null,null,null,null,null,null,null,null,null,null,null,null,null,null,{"$f":"('Previous Week Bonus Slip'!$P203-'Previous Week Bonus Slip'!$O203)","v":0},{"$f":"ROUND('Previous Week Bonus Slip'!$Q203*'Previous Week Bonus Slip'!$M203,2)","v":0}]
[null,null,null,null,null,null,null,null,null,null,null,null,null,null,null,null,{"$f":"('Previous Week Bonus Slip'!$P204-'Previous Week Bonus Slip'!$O204)","v":0},{"$f":"ROUND('Previous Week Bonus Slip'!$Q204*'Previous Week Bonus Slip'!$M204,2)","v":0}]
[null,null,null,null,null,null,null,null,null,null,null,null,null,null,null,null,{"$f":"('Previous Week Bonus Slip'!$P205-'Previous Week Bonus Slip'!$O205)","v":0},{"$f":"ROUND('Previous Week Bonus Slip'!$Q205*'Previous Week Bonus Slip'!$M205,2)","v":0}]
[null,null,null,null,null,null,null,null,null,null,null,null,null,null,null,null,{"$f":"('Previous Week Bonus Slip'!$P206-'Previous Week Bonus Slip'!$O206)","v":0},{"$f":"ROUND('Previous Week Bonus Slip'!$Q206*'Previous Week Bonus Slip'!$M206,2)","v":0}]
[null,null,null,null,null,null,null,null,null,null,null,null,null,null,null,null,{"$f":"('Previous Week Bonus Slip'!$P207-'Previous Week Bonus Slip'!$O207)","v":0},{"$f":"ROUND('Previous Week Bonus Slip'!$Q207*'Previous Week Bonus Slip'!$M207,2)","v":0}]
[null,null,null,null,null,null,null,null,null,null,null,null,null,null,null,null,{"$f":"('Previous Week Bonus Slip'!$P208-'Previous Week Bonus Slip'!$O208)","v":0},{"$f":"ROUND('Previous Week Bonus Slip'!$Q208*'Previous Week Bonus Slip'!$M208,2)","v":0}]
[null,null,null,null,null,null,null,null,null,null,null,null,null,null,null,null,{"$f":"('Previous Week Bonus Slip'!$P209-'Previous Week Bonus Slip'!$O209)","v":0},{"$f":"ROUND('Previous Week Bonus Slip'!$Q209*'Previous Week Bonus Slip'!$M209,2)","v":0}]
[null,null,null,null,null,null,null,null,null,null,null,null,null,null,null,null,{"$f":"('Previous Week Bonus Slip'!$P210-'Previous Week Bonus Slip'!$O210)","v":0},{"$f":"ROUND('Previous Week Bonus Slip'!$Q210*'Previous Week Bonus Slip'!$M210,2)","v":0}]
[null,null,null,null,null,null,null,null,null,null,null,null,null,null,null,null,{"$f":"('Previous Week Bonus Slip'!$P211-'Previous Week Bonus Slip'!$O211)","v":0},{"$f":"ROUND('Previous Week Bonus Slip'!$Q211*'Previous Week Bonus Slip'!$M211,2)","v":0}]
[null,null,null,null,null,null,null,null,null,null,null,null,null,null,null,null,{"$f":"('Previous Week Bonus Slip'!$P212-'Previous Week Bonus Slip'!$O212)","v":0},{"$f":"ROUND('Previous Week Bonus Slip'!$Q212*'Previous Week Bonus Slip'!$M212,2)","v":0}]
[null,null,null,null,null,null,null,null,null,null,null,null,null,null,null,null,{"$f":"('Previous Week Bonus Slip'!$P213-'Previous Week Bonus Slip'!$O213)","v":0},{"$f":"ROUND('Previous Week Bonus Slip'!$Q213*'Previous Week Bonus Slip'!$M213,2)","v":0}]
[null,null,null,null,null,null,null,null,null,null,null,null,null,null,null,null,{"$f":"('Previous Week Bonus Slip'!$P214-'Previous Week Bonus Slip'!$O214)","v":0},{"$f":"ROUND('Previous Week Bonus Slip'!$Q214*'Previous Week Bonus Slip'!$M214,2)","v":0}]
[null,null,null,null,null,null,null,null,null,null,null,null,null,null,null,null,{"$f":"('Previous Week Bonus Slip'!$P215-'Previous Week Bonus Slip'!$O215)","v":0},{"$f":"ROUND('Previous Week Bonus Slip'!$Q215*'Previous Week Bonus Slip'!$M215,2)","v":0}]
[null,null,null,null,null,null,null,null,null,null,null,null,null,null,null,null,{"$f":"('Previous Week Bonus Slip'!$P216-'Previous Week Bonus Slip'!$O216)","v":0},{"$f":"ROUND('Previous Week Bonus Slip'!$Q216*'Previous Week Bonus Slip'!$M216,2)","v":0}]
[null,null,null,null,null,null,null,null,null,null,null,null,null,null,null,null,{"$f":"('Previous Week Bonus Slip'!$P217-'Previous Week Bonus Slip'!$O217)","v":0},{"$f":"ROUND('Previous Week Bonus Slip'!$Q217*'Previous Week Bonus Slip'!$M217,2)","v":0}]
[null,null,null,null,null,null,null,null,null,null,null,null,null,null,null,null,{"$f":"('Previous Week Bonus Slip'!$P218-'Previous Week Bonus Slip'!$O218)","v":0},{"$f":"ROUND('Previous Week Bonus Slip'!$Q218*'Previous Week Bonus Slip'!$M218,2)","v":0}]
[null,null,null,null,null,null,null,null,null,null,null,null,null,null,null,null,{"$f":"('Previous Week Bonus Slip'!$P219-'Previous Week Bonus Slip'!$O219)","v":0},{"$f":"ROUND('Previous Week Bonus Slip'!$Q219*'Previous Week Bonus Slip'!$M219,2)","v":0}]
[null,null,null,null,null,null,null,null,null,null,null,null,null,null,null,null,{"$f":"('Previous Week Bonus Slip'!$P220-'Previous Week Bonus Slip'!$O220)","v":0},{"$f":"ROUND('Previous Week Bonus Slip'!$Q220*'Previous Week Bonus Slip'!$M220,2)","v":0}]
[null,null,null,null,null,null,null,null,null,null,null,null,null,null,null,null,{"$f":"('Previous Week Bonus Slip'!$P221-'Previous Week Bonus Slip'!$O221)","v":0},{"$f":"ROUND('Previous Week Bonus Slip'!$Q221*'Previous Week Bonus Slip'!$M221,2)","v":0}]
[null,null,null,null,null,null,null,null,null,null,null,null,null,null,null,null,{"$f":"('Previous Week Bonus Slip'!$P222-'Previous Week Bonus Slip'!$O222)","v":0},{"$f":"ROUND('Previous Week Bonus Slip'!$Q222*'Previous Week Bonus Slip'!$M222,2)","v":0}]
[null,null,null,null,null,null,null,null,null,null,null,null,null,null,null,null,{"$f":"('Previous Week Bonus Slip'!$P223-'Previous Week Bonus Slip'!$O223)","v":0},{"$f":"ROUND('Previous Week Bonus Slip'!$Q223*'Previous Week Bonus Slip'!$M223,2)","v":0}]
[null,null,null,null,null,null,null,null,null,null,null,null,null,null,null,null,{"$f":"('Previous Week Bonus Slip'!$P224-'Previous Week Bonus Slip'!$O224)","v":0},{"$f":"ROUND('Previous Week Bonus Slip'!$Q224*'Previous Week Bonus Slip'!$M224,2)","v":0}]
[null,null,null,null,null,null,null,null,null,null,null,null,null,null,null,null,{"$f":"('Previous Week Bonus Slip'!$P225-'Previous Week Bonus Slip'!$O225)","v":0},{"$f":"ROUND('Previous Week Bonus Slip'!$Q225*'Previous Week Bonus Slip'!$M225,2)","v":0}]
[null,null,null,null,null,null,null,null,null,null,null,null,null,null,null,null,{"$f":"('Previous Week Bonus Slip'!$P226-'Previous Week Bonus Slip'!$O226)","v":0},{"$f":"ROUND('Previous Week Bonus Slip'!$Q226*'Previous Week Bonus Slip'!$M226,2)","v":0}]
[null,null,null,null,null,null,null,null,null,null,null,null,null,null,null,null,{"$f":"('Previous Week Bonus Slip'!$P227-'Previous Week Bonus Slip'!$O227)","v":0},{"$f":"ROUND('Previous Week Bonus Slip'!$Q227*'Previous Week Bonus Slip'!$M227,2)","v":0}]
[null,null,null,null,null,null,null,null,null,null,null,null,null,null,null,null,{"$f":"('Previous Week Bonus Slip'!$P228-'Previous Week Bonus Slip'!$O228)","v":0},{"$f":"ROUND('Previous Week Bonus Slip'!$Q228*'Previous Week Bonus Slip'!$M228,2)","v":0}]
[null,null,null,null,null,null,null,null,null,null,null,null,null,null,null,null,{"$f":"('Previous Week Bonus Slip'!$P229-'Previous Week Bonus Slip'!$O229)","v":0},{"$f":"ROUND('Previous Week Bonus Slip'!$Q229*'Previous Week Bonus Slip'!$M229,2)","v":0}]
[null,null,null,null,null,null,null,null,null,null,null,null,null,null,null,null,{"$f":"('Previous Week Bonus Slip'!$P230-'Previous Week Bonus Slip'!$O230)","v":0},{"$f":"ROUND('Previous Week Bonus Slip'!$Q230*'Previous Week Bonus Slip'!$M230,2)","v":0}]
[null,null,null,null,null,null,null,null,null,null,null,null,null,null,null,null,{"$f":"('Previous Week Bonus Slip'!$P231-'Previous Week Bonus Slip'!$O231)","v":0},{"$f":"ROUND('Previous Week Bonus Slip'!$Q231*'Previous Week Bonus Slip'!$M231,2)","v":0}]
[null,null,null,null,null,null,null,null,null,null,null,null,null,null,null,null,{"$f":"('Previous Week Bonus Slip'!$P232-'Previous Week Bonus Slip'!$O232)","v":0},{"$f":"ROUND('Previous Week Bonus Slip'!$Q232*'Previous Week Bonus Slip'!$M232,2)","v":0}]
[null,null,null,null,null,null,null,null,null,null,null,null,null,null,null,null,{"$f":"('Previous Week Bonus Slip'!$P233-'Previous Week Bonus Slip'!$O233)","v":0},{"$f":"ROUND('Previous Week Bonus Slip'!$Q233*'Previous Week Bonus Slip'!$M233,2)","v":0}]
[null,null,null,null,null,null,null,null,null,null,null,null,null,null,null,null,{"$f":"('Previous Week Bonus Slip'!$P234-'Previous Week Bonus Slip'!$O234)","v":0},{"$f":"ROUND('Previous Week Bonus Slip'!$Q234*'Previous Week Bonus Slip'!$M234,2)","v":0}]
[null,null,null,null,null,null,null,null,null,null,null,null,null,null,null,null,{"$f":"('Previous Week Bonus Slip'!$P235-'Previous Week Bonus Slip'!$O235)","v":0},{"$f":"ROUND('Previous Week Bonus Slip'!$Q235*'Previous Week Bonus Slip'!$M235,2)","v":0}]
[null,null,null,null,null,null,null,null,null,null,null,null,null,null,null,null,{"$f":"('Previous Week Bonus Slip'!$P236-'Previous Week Bonus Slip'!$O236)","v":0},{"$f":"ROUND('Previous Week Bonus Slip'!$Q236*'Previous Week Bonus Slip'!$M236,2)","v":0}]
[null,null,null,null,null,null,null,null,null,null,null,null,null,null,null,null,{"$f":"('Previous Week Bonus Slip'!$P237-'Previous Week Bonus Slip'!$O237)","v":0},{"$f":"ROUND('Previous Week Bonus Slip'!$Q237*'Previous Week Bonus Slip'!$M237,2)","v":0}]
[null,null,null,null,null,null,null,null,null,null,null,null,null,null,null,null,{"$f":"('Previous Week Bonus Slip'!$P238-'Previous Week Bonus Slip'!$O238)","v":0},{"$f":"ROUND('Previous Week Bonus Slip'!$Q238*'Previous Week Bonus Slip'!$M238,2)","v":0}]
[null,null,null,null,null,null,null,null,null,null,null,null,null,null,null,null,{"$f":"('Previous Week Bonus Slip'!$P239-'Previous Week Bonus Slip'!$O239)","v":0},{"$f":"ROUND('Previous Week Bonus Slip'!$Q239*'Previous Week Bonus Slip'!$M239,2)","v":0}]
[null,null,null,null,null,null,null,null,null,null,null,null,null,null,null,null,{"$f":"('Previous Week Bonus Slip'!$P240-'Previous Week Bonus Slip'!$O240)","v":0},{"$f":"ROUND('Previous Week Bonus Slip'!$Q240*'Previous Week Bonus Slip'!$M240,2)","v":0}]
[null,null,null,null,null,null,null,null,null,null,null,null,null,null,null,null,{"$f":"('Previous Week Bonus Slip'!$P241-'Previous Week Bonus Slip'!$O241)","v":0},{"$f":"ROUND('Previous Week Bonus Slip'!$Q241*'Previous Week Bonus Slip'!$M241,2)","v":0}]
[null,null,null,null,null,null,null,null,null,null,null,null,null,null,null,null,{"$f":"('Previous Week Bonus Slip'!$P242-'Previous Week Bonus Slip'!$O242)","v":0},{"$f":"ROUND('Previous Week Bonus Slip'!$Q242*'Previous Week Bonus Slip'!$M242,2)","v":0}]
[null,null,null,null,null,null,null,null,null,null,null,null,null,null,null,null,{"$f":"('Previous Week Bonus Slip'!$P243-'Previous Week Bonus Slip'!$O243)","v":0},{"$f":"ROUND('Previous Week Bonus Slip'!$Q243*'Previous Week Bonus Slip'!$M243,2)","v":0}]
[null,null,null,null,null,null,null,null,null,null,null,null,null,null,null,null,{"$f":"('Previous Week Bonus Slip'!$P244-'Previous Week Bonus Slip'!$O244)","v":0},{"$f":"ROUND('Previous Week Bonus Slip'!$Q244*'Previous Week Bonus Slip'!$M244,2)","v":0}]
[null,null,null,null,null,null,null,null,null,null,null,null,null,null,null,null,{"$f":"('Previous Week Bonus Slip'!$P245-'Previous Week Bonus Slip'!$O245)","v":0},{"$f":"ROUND('Previous Week Bonus Slip'!$Q245*'Previous Week Bonus Slip'!$M245,2)","v":0}]
[null,null,null,null,null,null,null,null,null,null,null,null,null,null,null,null,{"$f":"('Previous Week Bonus Slip'!$P246-'Previous Week Bonus Slip'!$O246)","v":0},{"$f":"ROUND('Previous Week Bonus Slip'!$Q246*'Previous Week Bonus Slip'!$M246,2)","v":0}]
[null,null,null,null,null,null,null,null,null,null,null,null,null,null,null,null,{"$f":"('Previous Week Bonus Slip'!$P247-'Previous Week Bonus Slip'!$O247)","v":0},{"$f":"ROUND('Previous Week Bonus Slip'!$Q247*'Previous Week Bonus Slip'!$M247,2)","v":0}]
[null,null,null,null,null,null,null,null,null,null,null,null,null,null,null,null,{"$f":"('Previous Week Bonus Slip'!$P248-'Previous Week Bonus Slip'!$O248)","v":0},{"$f":"ROUND('Previous Week Bonus Slip'!$Q248*'Previous Week Bonus Slip'!$M248,2)","v":0}]
[null,null,null,null,null,null,null,null,null,null,null,null,null,null,null,null,{"$f":"('Previous Week Bonus Slip'!$P249-'Previous Week Bonus Slip'!$O249)","v":0},{"$f":"ROUND('Previous Week Bonus Slip'!$Q249*'Previous Week Bonus Slip'!$M249,2)","v":0}]
[null,null,null,null,null,null,null,null,null,null,null,null,null,null,null,null,{"$f":"('Previous Week Bonus Slip'!$P250-'Previous Week Bonus Slip'!$O250)","v":0},{"$f":"ROUND('Previous Week Bonus Slip'!$Q250*'Previous Week Bonus Slip'!$M250,2)","v":0}]
[null,null,null,null,null,null,null,null,null,null,null,null,null,null,null,null,{"$f":"('Previous Week Bonus Slip'!$P251-'Previous Week Bonus Slip'!$O251)","v":0},{"$f":"ROUND('Previous Week Bonus Slip'!$Q251*'Previous Week Bonus Slip'!$M251,2)","v":0}]
[null,null,null,null,null,null,null,null,null,null,null,null,null,null,null,null,{"$f":"('Previous Week Bonus Slip'!$P252-'Previous Week Bonus Slip'!$O252)","v":0},{"$f":"ROUND('Previous Week Bonus Slip'!$Q252*'Previous Week Bonus Slip'!$M252,2)","v":0}]
[null,null,null,null,null,null,null,null,null,null,null,null,null,null,null,null,{"$f":"('Previous Week Bonus Slip'!$P253-'Previous Week Bonus Slip'!$O253)","v":0},{"$f":"ROUND('Previous Week Bonus Slip'!$Q253*'Previous Week Bonus Slip'!$M253,2)","v":0}]
[null,null,null,null,null,null,null,null,null,null,null,null,null,null,null,null,{"$f":"('Previous Week Bonus Slip'!$P254-'Previous Week Bonus Slip'!$O254)","v":0},{"$f":"ROUND('Previous Week Bonus Slip'!$Q254*'Previous Week Bonus Slip'!$M254,2)","v":0}]
[null,null,null,null,null,null,null,null,null,null,null,null,null,null,null,null,{"$f":"('Previous Week Bonus Slip'!$P255-'Previous Week Bonus Slip'!$O255)","v":0},{"$f":"ROUND('Previous Week Bonus Slip'!$Q255*'Previous Week Bonus Slip'!$M255,2)","v":0}]
[null,null,null,null,null,null,null,null,null,null,null,null,null,null,null,null,{"$f":"('Previous Week Bonus Slip'!$P256-'Previous Week Bonus Slip'!$O256)","v":0},{"$f":"ROUND('Previous Week Bonus Slip'!$Q256*'Previous Week Bonus Slip'!$M256,2)","v":0}]
[null,null,null,null,null,null,null,null,null,null,null,null,null,null,null,null,{"$f":"('Previous Week Bonus Slip'!$P257-'Previous Week Bonus Slip'!$O257)","v":0},{"$f":"ROUND('Previous Week Bonus Slip'!$Q257*'Previous Week Bonus Slip'!$M257,2)","v":0}]
[null,null,null,null,null,null,null,null,null,null,null,null,null,null,null,null,{"$f":"('Previous Week Bonus Slip'!$P258-'Previous Week Bonus Slip'!$O258)","v":0},{"$f":"ROUND('Previous Week Bonus Slip'!$Q258*'Previous Week Bonus Slip'!$M258,2)","v":0}]
[null,null,null,null,null,null,null,null,null,null,null,null,null,null,null,null,{"$f":"('Previous Week Bonus Slip'!$P259-'Previous Week Bonus Slip'!$O259)","v":0},{"$f":"ROUND('Previous Week Bonus Slip'!$Q259*'Previous Week Bonus Slip'!$M259,2)","v":0}]
[null,null,null,null,null,null,null,null,null,null,null,null,null,null,null,null,{"$f":"('Previous Week Bonus Slip'!$P260-'Previous Week Bonus Slip'!$O260)","v":0},{"$f":"ROUND('Previous Week Bonus Slip'!$Q260*'Previous Week Bonus Slip'!$M260,2)","v":0}]
[null,null,null,null,null,null,null,null,null,null,null,null,null,null,null,null,{"$f":"('Previous Week Bonus Slip'!$P261-'Previous Week Bonus Slip'!$O261)","v":0},{"$f":"ROUND('Previous Week Bonus Slip'!$Q261*'Previous Week Bonus Slip'!$M261,2)","v":0}]
[null,null,null,null,null,null,null,null,null,null,null,null,null,null,null,null,{"$f":"('Previous Week Bonus Slip'!$P262-'Previous Week Bonus Slip'!$O262)","v":0},{"$f":"ROUND('Previous Week Bonus Slip'!$Q262*'Previous Week Bonus Slip'!$M262,2)","v":0}]
[null,null,null,null,null,null,null,null,null,null,null,null,null,null,null,null,{"$f":"('Previous Week Bonus Slip'!$P263-'Previous Week Bonus Slip'!$O263)","v":0},{"$f":"ROUND('Previous Week Bonus Slip'!$Q263*'Previous Week Bonus Slip'!$M263,2)","v":0}]
[null,null,null,null,null,null,null,null,null,null,null,null,null,null,null,null,{"$f":"('Previous Week Bonus Slip'!$P264-'Previous Week Bonus Slip'!$O264)","v":0},{"$f":"ROUND('Previous Week Bonus Slip'!$Q264*'Previous Week Bonus Slip'!$M264,2)","v":0}]
[null,null,null,null,null,null,null,null,null,null,null,null,null,null,null,null,{"$f":"('Previous Week Bonus Slip'!$P265-'Previous Week Bonus Slip'!$O265)","v":0},{"$f":"ROUND('Previous Week Bonus Slip'!$Q265*'Previous Week Bonus Slip'!$M265,2)","v":0}]
[null,null,null,null,null,null,null,null,null,null,null,null,null,null,null,null,{"$f":"('Previous Week Bonus Slip'!$P266-'Previous Week Bonus Slip'!$O266)","v":0},{"$f":"ROUND('Previous Week Bonus Slip'!$Q266*'Previous Week Bonus Slip'!$M266,2)","v":0}]
[null,null,null,null,null,null,null,null,null,null,null,null,null,null,null,null,{"$f":"('Previous Week Bonus Slip'!$P267-'Previous Week Bonus Slip'!$O267)","v":0},{"$f":"ROUND('Previous Week Bonus Slip'!$Q267*'Previous Week Bonus Slip'!$M267,2)","v":0}]
[null,null,null,null,null,null,null,null,null,null,null,null,null,null,null,null,{"$f":"('Previous Week Bonus Slip'!$P268-'Previous Week Bonus Slip'!$O268)","v":0},{"$f":"ROUND('Previous Week Bonus Slip'!$Q268*'Previous Week Bonus Slip'!$M268,2)","v":0}]
[null,null,null,null,null,null,null,null,null,null,null,null,null,null,null,null,{"$f":"('Previous Week Bonus Slip'!$P269-'Previous Week Bonus Slip'!$O269)","v":0},{"$f":"ROUND('Previous Week Bonus Slip'!$Q269*'Previous Week Bonus Slip'!$M269,2)","v":0}]
[null,null,null,null,null,null,null,null,null,null,null,null,null,null,null,null,{"$f":"('Previous Week Bonus Slip'!$P270-'Previous Week Bonus Slip'!$O270)","v":0},{"$f":"ROUND('Previous Week Bonus Slip'!$Q270*'Previous Week Bonus Slip'!$M270,2)","v":0}]
[null,null,null,null,null,null,null,null,null,null,null,null,null,null,null,null,{"$f":"('Previous Week Bonus Slip'!$P271-'Previous Week Bonus Slip'!$O271)","v":0},{"$f":"ROUND('Previous Week Bonus Slip'!$Q271*'Previous Week Bonus Slip'!$M271,2)","v":0}]
[null,null,null,null,null,null,null,null,null,null,null,null,null,null,null,null,{"$f":"('Previous Week Bonus Slip'!$P272-'Previous Week Bonus Slip'!$O272)","v":0},{"$f":"ROUND('Previous Week Bonus Slip'!$Q272*'Previous Week Bonus Slip'!$M272,2)","v":0}]
[null,null,null,null,null,null,null,null,null,null,null,null,null,null,null,null,{"$f":"('Previous Week Bonus Slip'!$P273-'Previous Week Bonus Slip'!$O273)","v":0},{"$f":"ROUND('Previous Week Bonus Slip'!$Q273*'Previous Week Bonus Slip'!$M273,2)","v":0}]
[null,null,null,null,null,null,null,null,null,null,null,null,null,null,null,null,{"$f":"('Previous Week Bonus Slip'!$P274-'Previous Week Bonus Slip'!$O274)","v":0},{"$f":"ROUND('Previous Week Bonus Slip'!$Q274*'Previous Week Bonus Slip'!$M274,2)","v":0}]
[null,null,null,null,null,null,null,null,null,null,null,null,null,null,null,null,{"$f":"('Previous Week Bonus Slip'!$P275-'Previous Week Bonus Slip'!$O275)","v":0},{"$f":"ROUND('Previous Week Bonus Slip'!$Q275*'Previous Week Bonus Slip'!$M275,2)","v":0}]
[null,null,null,null,null,null,null,null,null,null,null,null,null,null,null,null,{"$f":"('Previous Week Bonus Slip'!$P276-'Previous Week Bonus Slip'!$O276)","v":0},{"$f":"ROUND('Previous Week Bonus Slip'!$Q276*'Previous Week Bonus Slip'!$M276,2)","v":0}]
[null,null,null,null,null,null,null,null,null,null,null,null,null,null,null,null,{"$f":"('Previous Week Bonus Slip'!$P277-'Previous Week Bonus Slip'!$O277)","v":0},{"$f":"ROUND('Previous Week Bonus Slip'!$Q277*'Previous Week Bonus Slip'!$M277,2)","v":0}]
[null,null,null,null,null,null,null,null,null,null,null,null,null,null,null,null,{"$f":"('Previous Week Bonus Slip'!$P278-'Previous Week Bonus Slip'!$O278)","v":0},{"$f":"ROUND('Previous Week Bonus Slip'!$Q278*'Previous Week Bonus Slip'!$M278,2)","v":0}]
[null,null,null,null,null,null,null,null,null,null,null,null,null,null,null,null,{"$f":"('Previous Week Bonus Slip'!$P279-'Previous Week Bonus Slip'!$O279)","v":0},{"$f":"ROUND('Previous Week Bonus Slip'!$Q279*'Previous Week Bonus Slip'!$M279,2)","v":0}]
[null,null,null,null,null,null,null,null,null,null,null,null,null,null,null,null,{"$f":"('Previous Week Bonus Slip'!$P280-'Previous Week Bonus Slip'!$O280)","v":0},{"$f":"ROUND('Previous Week Bonus Slip'!$Q280*'Previous Week Bonus Slip'!$M280,2)","v":0}]
[null,null,null,null,null,null,null,null,null,null,null,null,null,null,null,null,{"$f":"('Previous Week Bonus Slip'!$P281-'Previous Week Bonus Slip'!$O281)","v":0},{"$f":"ROUND('Previous Week Bonus Slip'!$Q281*'Previous Week Bonus Slip'!$M281,2)","v":0}]
[null,null,null,null,null,null,null,null,null,null,null,null,null,null,null,null,{"$f":"('Previous Week Bonus Slip'!$P282-'Previous Week Bonus Slip'!$O282)","v":0},{"$f":"ROUND('Previous Week Bonus Slip'!$Q282*'Previous Week Bonus Slip'!$M282,2)","v":0}]
[null,null,null,null,null,null,null,null,null,null,null,null,null,null,null,null,{"$f":"('Previous Week Bonus Slip'!$P283-'Previous Week Bonus Slip'!$O283)","v":0},{"$f":"ROUND('Previous Week Bonus Slip'!$Q283*'Previous Week Bonus Slip'!$M283,2)","v":0}]
[null,null,null,null,null,null,null,null,null,null,null,null,null,null,null,null,{"$f":"('Previous Week Bonus Slip'!$P284-'Previous Week Bonus Slip'!$O284)","v":0},{"$f":"ROUND('Previous Week Bonus Slip'!$Q284*'Previous Week Bonus Slip'!$M284,2)","v":0}]
[null,null,null,null,null,null,null,null,null,null,null,null,null,null,null,null,{"$f":"('Previous Week Bonus Slip'!$P285-'Previous Week Bonus Slip'!$O285)","v":0},{"$f":"ROUND('Previous Week Bonus Slip'!$Q285*'Previous Week Bonus Slip'!$M285,2)","v":0}]
[null,null,null,null,null,null,null,null,null,null,null,null,null,null,null,null,{"$f":"('Previous Week Bonus Slip'!$P286-'Previous Week Bonus Slip'!$O286)","v":0},{"$f":"ROUND('Previous Week Bonus Slip'!$Q286*'Previous Week Bonus Slip'!$M286,2)","v":0}]
[null,null,null,null,null,null,null,null,null,null,null,null,null,null,null,null,{"$f":"('Previous Week Bonus Slip'!$P287-'Previous Week Bonus Slip'!$O287)","v":0},{"$f":"ROUND('Previous Week Bonus Slip'!$Q287*'Previous Week Bonus Slip'!$M287,2)","v":0}]
[null,null,null,null,null,null,null,null,null,null,null,null,null,null,null,null,{"$f":"('Previous Week Bonus Slip'!$P288-'Previous Week Bonus Slip'!$O288)","v":0},{"$f":"ROUND('Previous Week Bonus Slip'!$Q288*'Previous Week Bonus Slip'!$M288,2)","v":0}]
[null,null,null,null,null,null,null,null,null,null,null,null,null,null,null,null,{"$f":"('Previous Week Bonus Slip'!$P289-'Previous Week Bonus Slip'!$O289)","v":0},{"$f":"ROUND('Previous Week Bonus Slip'!$Q289*'Previous Week Bonus Slip'!$M289,2)","v":0}]
[null,null,null,null,null,null,null,null,null,null,null,null,null,null,null,null,{"$f":"('Previous Week Bonus Slip'!$P290-'Previous Week Bonus Slip'!$O290)","v":0},{"$f":"ROUND('Previous Week Bonus Slip'!$Q290*'Previous Week Bonus Slip'!$M290,2)","v":0}]
[null,null,null,null,null,null,null,null,null,null,null,null,null,null,null,null,{"$f":"('Previous Week Bonus Slip'!$P291-'Previous Week Bonus Slip'!$O291)","v":0},{"$f":"ROUND('Previous Week Bonus Slip'!$Q291*'Previous Week Bonus Slip'!$M291,2)","v":0}]
[null,null,null,null,null,null,null,null,null,null,null,null,null,null,null,null,{"$f":"('Previous Week Bonus Slip'!$P292-'Previous Week Bonus Slip'!$O292)","v":0},{"$f":"ROUND('Previous Week Bonus Slip'!$Q292*'Previous Week Bonus Slip'!$M292,2)","v":0}]
[null,null,null,null,null,null,null,null,null,null,null,null,null,null,null,null,{"$f":"('Previous Week Bonus Slip'!$P293-'Previous Week Bonus Slip'!$O293)","v":0},{"$f":"ROUND('Previous Week Bonus Slip'!$Q293*'Previous Week Bonus Slip'!$M293,2)","v":0}]
[null,null,null,null,null,null,null,null,null,null,null,null,null,null,null,null,{"$f":"('Previous Week Bonus Slip'!$P294-'Previous Week Bonus Slip'!$O294)","v":0},{"$f":"ROUND('Previous Week Bonus Slip'!$Q294*'Previous Week Bonus Slip'!$M294,2)","v":0}]
[null,null,null,null,null,null,null,null,null,null,null,null,null,null,null,null,{"$f":"('Previous Week Bonus Slip'!$P295-'Previous Week Bonus Slip'!$O295)","v":0},{"$f":"ROUND('Previous Week Bonus Slip'!$Q295*'Previous Week Bonus Slip'!$M295,2)","v":0}]
[null,null,null,null,null,null,null,null,null,null,null,null,null,null,null,null,{"$f":"('Previous Week Bonus Slip'!$P296-'Previous Week Bonus Slip'!$O296)","v":0},{"$f":"ROUND('Previous Week Bonus Slip'!$Q296*'Previous Week Bonus Slip'!$M296,2)","v":0}]
[null,null,null,null,null,null,null,null,null,null,null,null,null,null,null,null,{"$f":"('Previous Week Bonus Slip'!$P297-'Previous Week Bonus Slip'!$O297)","v":0},{"$f":"ROUND('Previous Week Bonus Slip'!$Q297*'Previous Week Bonus Slip'!$M297,2)","v":0}]
[null,null,null,null,null,null,null,null,null,null,null,null,null,null,null,null,{"$f":"('Previous Week Bonus Slip'!$P298-'Previous Week Bonus Slip'!$O298)","v":0},{"$f":"ROUND('Previous Week Bonus Slip'!$Q298*'Previous Week Bonus Slip'!$M298,2)","v":0}]
[null,null,null,null,null,null,null,null,null,null,null,null,null,null,null,null,{"$f":"('Previous Week Bonus Slip'!$P299-'Previous Week Bonus Slip'!$O299)","v":0},{"$f":"ROUND('Previous Week Bonus Slip'!$Q299*'Previous Week Bonus Slip'!$M299,2)","v":0}]
[null,null,null,null,null,null,null,null,null,null,null,null,null,null,null,null,{"$f":"('Previous Week Bonus Slip'!$P300-'Previous Week Bonus Slip'!$O300)","v":0},{"$f":"ROUND('Previous Week Bonus Slip'!$Q300*'Previous Week Bonus Slip'!$M300,2)","v":0}]
[null,null,null,null,null,null,null,null,null,null,null,null,null,null,null,null,{"$f":"('Previous Week Bonus Slip'!$P301-'Previous Week Bonus Slip'!$O301)","v":0},{"$f":"ROUND('Previous Week Bonus Slip'!$Q301*'Previous Week Bonus Slip'!$M301,2)","v":0}]
[null,null,null,null,null,null,null,null,null,null,null,null,null,null,null,null,{"$f":"('Previous Week Bonus Slip'!$P302-'Previous Week Bonus Slip'!$O302)","v":0},{"$f":"ROUND('Previous Week Bonus Slip'!$Q302*'Previous Week Bonus Slip'!$M302,2)","v":0}]
[null,null,null,null,null,null,null,null,null,null,null,null,null,null,null,null,{"$f":"('Previous Week Bonus Slip'!$P303-'Previous Week Bonus Slip'!$O303)","v":0},{"$f":"ROUND('Previous Week Bonus Slip'!$Q303*'Previous Week Bonus Slip'!$M303,2)","v":0}]
[null,null,null,null,null,null,null,null,null,null,null,null,null,null,null,null,{"$f":"('Previous Week Bonus Slip'!$P304-'Previous Week Bonus Slip'!$O304)","v":0},{"$f":"ROUND('Previous Week Bonus Slip'!$Q304*'Previous Week Bonus Slip'!$M304,2)","v":0}]
[null,null,null,null,null,null,null,null,null,null,null,null,null,null,null,null,{"$f":"('Previous Week Bonus Slip'!$P305-'Previous Week Bonus Slip'!$O305)","v":0},{"$f":"ROUND('Previous Week Bonus Slip'!$Q305*'Previous Week Bonus Slip'!$M305,2)","v":0}]
[null,null,null,null,null,null,null,null,null,null,null,null,null,null,null,null,{"$f":"('Previous Week Bonus Slip'!$P306-'Previous Week Bonus Slip'!$O306)","v":0},{"$f":"ROUND('Previous Week Bonus Slip'!$Q306*'Previous Week Bonus Slip'!$M306,2)","v":0}]
[null,null,null,null,null,null,null,null,null,null,null,null,null,null,null,null,{"$f":"('Previous Week Bonus Slip'!$P307-'Previous Week Bonus Slip'!$O307)","v":0},{"$f":"ROUND('Previous Week Bonus Slip'!$Q307*'Previous Week Bonus Slip'!$M307,2)","v":0}]
[null,null,null,null,null,null,null,null,null,null,null,null,null,null,null,null,{"$f":"('Previous Week Bonus Slip'!$P308-'Previous Week Bonus Slip'!$O308)","v":0},{"$f":"ROUND('Previous Week Bonus Slip'!$Q308*'Previous Week Bonus Slip'!$M308,2)","v":0}]
[null,null,null,null,null,null,null,null,null,null,null,null,null,null,null,null,{"$f":"('Previous Week Bonus Slip'!$P309-'Previous Week Bonus Slip'!$O309)","v":0},{"$f":"ROUND('Previous Week Bonus Slip'!$Q309*'Previous Week Bonus Slip'!$M309,2)","v":0}]
[null,null,null,null,null,null,null,null,null,null,null,null,null,null,null,null,{"$f":"('Previous Week Bonus Slip'!$P310-'Previous Week Bonus Slip'!$O310)","v":0},{"$f":"ROUND('Previous Week Bonus Slip'!$Q310*'Previous Week Bonus Slip'!$M310,2)","v":0}]
[null,null,null,null,null,null,null,null,null,null,null,null,null,null,null,null,{"$f":"('Previous Week Bonus Slip'!$P311-'Previous Week Bonus Slip'!$O311)","v":0},{"$f":"ROUND('Previous Week Bonus Slip'!$Q311*'Previous Week Bonus Slip'!$M311,2)","v":0}]
[null,null,null,null,null,null,null,null,null,null,null,null,null,null,null,null,{"$f":"('Previous Week Bonus Slip'!$P312-'Previous Week Bonus Slip'!$O312)","v":0},{"$f":"ROUND('Previous Week Bonus Slip'!$Q312*'Previous Week Bonus Slip'!$M312,2)","v":0}]
[null,null,null,null,null,null,null,null,null,null,null,null,null,null,null,null,{"$f":"('Previous Week Bonus Slip'!$P313-'Previous Week Bonus Slip'!$O313)","v":0},{"$f":"ROUND('Previous Week Bonus Slip'!$Q313*'Previous Week Bonus Slip'!$M313,2)","v":0}]
[null,null,null,null,null,null,null,null,null,null,null,null,null,null,null,null,{"$f":"('Previous Week Bonus Slip'!$P314-'Previous Week Bonus Slip'!$O314)","v":0},{"$f":"ROUND('Previous Week Bonus Slip'!$Q314*'Previous Week Bonus Slip'!$M314,2)","v":0}]
[null,null,null,null,null,null,null,null,null,null,null,null,null,null,null,null,{"$f":"('Previous Week Bonus Slip'!$P315-'Previous Week Bonus Slip'!$O315)","v":0},{"$f":"ROUND('Previous Week Bonus Slip'!$Q315*'Previous Week Bonus Slip'!$M315,2)","v":0}]
[null,null,null,null,null,null,null,null,null,null,null,null,null,null,null,null,{"$f":"('Previous Week Bonus Slip'!$P316-'Previous Week Bonus Slip'!$O316)","v":0},{"$f":"ROUND('Previous Week Bonus Slip'!$Q316*'Previous Week Bonus Slip'!$M316,2)","v":0}]
[null,null,null,null,null,null,null,null,null,null,null,null,null,null,null,null,{"$f":"('Previous Week Bonus Slip'!$P317-'Previous Week Bonus Slip'!$O317)","v":0},{"$f":"ROUND('Previous Week Bonus Slip'!$Q317*'Previous Week Bonus Slip'!$M317,2)","v":0}]
[null,null,null,null,null,null,null,null,null,null,null,null,null,null,null,null,{"$f":"('Previous Week Bonus Slip'!$P318-'Previous Week Bonus Slip'!$O318)","v":0},{"$f":"ROUND('Previous Week Bonus Slip'!$Q318*'Previous Week Bonus Slip'!$M318,2)","v":0}]
[null,null,null,null,null,null,null,null,null,null,null,null,null,null,null,null,{"$f":"('Previous Week Bonus Slip'!$P319-'Previous Week Bonus Slip'!$O319)","v":0},{"$f":"ROUND('Previous Week Bonus Slip'!$Q319*'Previous Week Bonus Slip'!$M319,2)","v":0}]
[null,null,null,null,null,null,null,null,null,null,null,null,null,null,null,null,{"$f":"('Previous Week Bonus Slip'!$P320-'Previous Week Bonus Slip'!$O320)","v":0},{"$f":"ROUND('Previous Week Bonus Slip'!$Q320*'Previous Week Bonus Slip'!$M320,2)","v":0}]
[null,null,null,null,null,null,null,null,null,null,null,null,null,null,null,null,{"$f":"('Previous Week Bonus Slip'!$P321-'Previous Week Bonus Slip'!$O321)","v":0},{"$f":"ROUND('Previous Week Bonus Slip'!$Q321*'Previous Week Bonus Slip'!$M321,2)","v":0}]
[null,null,null,null,null,null,null,null,null,null,null,null,null,null,null,null,{"$f":"('Previous Week Bonus Slip'!$P322-'Previous Week Bonus Slip'!$O322)","v":0},{"$f":"ROUND('Previous Week Bonus Slip'!$Q322*'Previous Week Bonus Slip'!$M322,2)","v":0}]
[null,null,null,null,null,null,null,null,null,null,null,null,null,null,null,null,{"$f":"('Previous Week Bonus Slip'!$P323-'Previous Week Bonus Slip'!$O323)","v":0},{"$f":"ROUND('Previous Week Bonus Slip'!$Q323*'Previous Week Bonus Slip'!$M323,2)","v":0}]
[null,null,null,null,null,null,null,null,null,null,null,null,null,null,null,null,{"$f":"('Previous Week Bonus Slip'!$P324-'Previous Week Bonus Slip'!$O324)","v":0},{"$f":"ROUND('Previous Week Bonus Slip'!$Q324*'Previous Week Bonus Slip'!$M324,2)","v":0}]
[null,null,null,null,null,null,null,null,null,null,null,null,null,null,null,null,{"$f":"('Previous Week Bonus Slip'!$P325-'Previous Week Bonus Slip'!$O325)","v":0},{"$f":"ROUND('Previous Week Bonus Slip'!$Q325*'Previous Week Bonus Slip'!$M325,2)","v":0}]
[null,null,null,null,null,null,null,null,null,null,null,null,null,null,null,null,{"$f":"('Previous Week Bonus Slip'!$P326-'Previous Week Bonus Slip'!$O326)","v":0},{"$f":"ROUND('Previous Week Bonus Slip'!$Q326*'Previous Week Bonus Slip'!$M326,2)","v":0}]
[null,null,null,null,null,null,null,null,null,null,null,null,null,null,null,null,{"$f":"('Previous Week Bonus Slip'!$P327-'Previous Week Bonus Slip'!$O327)","v":0},{"$f":"ROUND('Previous Week Bonus Slip'!$Q327*'Previous Week Bonus Slip'!$M327,2)","v":0}]
[null,null,null,null,null,null,null,null,null,null,null,null,null,null,null,null,{"$f":"('Previous Week Bonus Slip'!$P328-'Previous Week Bonus Slip'!$O328)","v":0},{"$f":"ROUND('Previous Week Bonus Slip'!$Q328*'Previous Week Bonus Slip'!$M328,2)","v":0}]
[null,null,null,null,null,null,null,null,null,null,null,null,null,null,null,null,{"$f":"('Previous Week Bonus Slip'!$P329-'Previous Week Bonus Slip'!$O329)","v":0},{"$f":"ROUND('Previous Week Bonus Slip'!$Q329*'Previous Week Bonus Slip'!$M329,2)","v":0}]
[null,null,null,null,null,null,null,null,null,null,null,null,null,null,null,null,{"$f":"('Previous Week Bonus Slip'!$P330-'Previous Week Bonus Slip'!$O330)","v":0},{"$f":"ROUND('Previous Week Bonus Slip'!$Q330*'Previous Week Bonus Slip'!$M330,2)","v":0}]
[null,null,null,null,null,null,null,null,null,null,null,null,null,null,null,null,{"$f":"('Previous Week Bonus Slip'!$P331-'Previous Week Bonus Slip'!$O331)","v":0},{"$f":"ROUND('Previous Week Bonus Slip'!$Q331*'Previous Week Bonus Slip'!$M331,2)","v":0}]
[null,null,null,null,null,null,null,null,null,null,null,null,null,null,null,null,{"$f":"('Previous Week Bonus Slip'!$P332-'Previous Week Bonus Slip'!$O332)","v":0},{"$f":"ROUND('Previous Week Bonus Slip'!$Q332*'Previous Week Bonus Slip'!$M332,2)","v":0}]
[null,null,null,null,null,null,null,null,null,null,null,null,null,null,null,null,{"$f":"('Previous Week Bonus Slip'!$P333-'Previous Week Bonus Slip'!$O333)","v":0},{"$f":"ROUND('Previous Week Bonus Slip'!$Q333*'Previous Week Bonus Slip'!$M333,2)","v":0}]
[null,null,null,null,null,null,null,null,null,null,null,null,null,null,null,null,{"$f":"('Previous Week Bonus Slip'!$P334-'Previous Week Bonus Slip'!$O334)","v":0},{"$f":"ROUND('Previous Week Bonus Slip'!$Q334*'Previous Week Bonus Slip'!$M334,2)","v":0}]
[null,null,null,null,null,null,null,null,null,null,null,null,null,null,null,null,{"$f":"('Previous Week Bonus Slip'!$P335-'Previous Week Bonus Slip'!$O335)","v":0},{"$f":"ROUND('Previous Week Bonus Slip'!$Q335*'Previous Week Bonus Slip'!$M335,2)","v":0}]
[null,null,null,null,null,null,null,null,null,null,null,null,null,null,null,null,{"$f":"('Previous Week Bonus Slip'!$P336-'Previous Week Bonus Slip'!$O336)","v":0},{"$f":"ROUND('Previous Week Bonus Slip'!$Q336*'Previous Week Bonus Slip'!$M336,2)","v":0}]
[null,null,null,null,null,null,null,null,null,null,null,null,null,null,null,null,{"$f":"('Previous Week Bonus Slip'!$P337-'Previous Week Bonus Slip'!$O337)","v":0},{"$f":"ROUND('Previous Week Bonus Slip'!$Q337*'Previous Week Bonus Slip'!$M337,2)","v":0}]
[null,null,null,null,null,null,null,null,null,null,null,null,null,null,null,null,{"$f":"('Previous Week Bonus Slip'!$P338-'Previous Week Bonus Slip'!$O338)","v":0},{"$f":"ROUND('Previous Week Bonus Slip'!$Q338*'Previous Week Bonus Slip'!$M338,2)","v":0}]
[null,null,null,null,null,null,null,null,null,null,null,null,null,null,null,null,{"$f":"('Previous Week Bonus Slip'!$P339-'Previous Week Bonus Slip'!$O339)","v":0},{"$f":"ROUND('Previous Week Bonus Slip'!$Q339*'Previous Week Bonus Slip'!$M339,2)","v":0}]
[null,null,null,null,null,null,null,null,null,null,null,null,null,null,null,null,{"$f":"('Previous Week Bonus Slip'!$P340-'Previous Week Bonus Slip'!$O340)","v":0},{"$f":"ROUND('Previous Week Bonus Slip'!$Q340*'Previous Week Bonus Slip'!$M340,2)","v":0}]
[null,null,null,null,null,null,null,null,null,null,null,null,null,null,null,null,{"$f":"('Previous Week Bonus Slip'!$P341-'Previous Week Bonus Slip'!$O341)","v":0},{"$f":"ROUND('Previous Week Bonus Slip'!$Q341*'Previous Week Bonus Slip'!$M341,2)","v":0}]
[null,null,null,null,null,null,null,null,null,null,null,null,null,null,null,null,{"$f":"('Previous Week Bonus Slip'!$P342-'Previous Week Bonus Slip'!$O342)","v":0},{"$f":"ROUND('Previous Week Bonus Slip'!$Q342*'Previous Week Bonus Slip'!$M342,2)","v":0}]
[null,null,null,null,null,null,null,null,null,null,null,null,null,null,null,null,{"$f":"('Previous Week Bonus Slip'!$P343-'Previous Week Bonus Slip'!$O343)","v":0},{"$f":"ROUND('Previous Week Bonus Slip'!$Q343*'Previous Week Bonus Slip'!$M343,2)","v":0}]
[null,null,null,null,null,null,null,null,null,null,null,null,null,null,null,null,{"$f":"('Previous Week Bonus Slip'!$P344-'Previous Week Bonus Slip'!$O344)","v":0},{"$f":"ROUND('Previous Week Bonus Slip'!$Q344*'Previous Week Bonus Slip'!$M344,2)","v":0}]
[null,null,null,null,null,null,null,null,null,null,null,null,null,null,null,null,{"$f":"('Previous Week Bonus Slip'!$P345-'Previous Week Bonus Slip'!$O345)","v":0},{"$f":"ROUND('Previous Week Bonus Slip'!$Q345*'Previous Week Bonus Slip'!$M345,2)","v":0}]
[null,null,null,null,null,null,null,null,null,null,null,null,null,null,null,null,{"$f":"('Previous Week Bonus Slip'!$P346-'Previous Week Bonus Slip'!$O346)","v":0},{"$f":"ROUND('Previous Week Bonus Slip'!$Q346*'Previous Week Bonus Slip'!$M346,2)","v":0}]
[null,null,null,null,null,null,null,null,null,null,null,null,null,null,null,null,{"$f":"('Previous Week Bonus Slip'!$P347-'Previous Week Bonus Slip'!$O347)","v":0},{"$f":"ROUND('Previous Week Bonus Slip'!$Q347*'Previous Week Bonus Slip'!$M347,2)","v":0}]
[null,null,null,null,null,null,null,null,null,null,null,null,null,null,null,null,{"$f":"('Previous Week Bonus Slip'!$P348-'Previous Week Bonus Slip'!$O348)","v":0},{"$f":"ROUND('Previous Week Bonus Slip'!$Q348*'Previous Week Bonus Slip'!$M348,2)","v":0}]
[null,null,null,null,null,null,null,null,null,null,null,null,null,null,null,null,{"$f":"('Previous Week Bonus Slip'!$P349-'Previous Week Bonus Slip'!$O349)","v":0},{"$f":"ROUND('Previous Week Bonus Slip'!$Q349*'Previous Week Bonus Slip'!$M349,2)","v":0}]
[null,null,null,null,null,null,null,null,null,null,null,null,null,null,null,null,{"$f":"('Previous Week Bonus Slip'!$P350-'Previous Week Bonus Slip'!$O350)","v":0},{"$f":"ROUND('Previous Week Bonus Slip'!$Q350*'Previous Week Bonus Slip'!$M350,2)","v":0}]
[null,null,null,null,null,null,null,null,null,null,null,null,null,null,null,null,{"$f":"('Previous Week Bonus Slip'!$P351-'Previous Week Bonus Slip'!$O351)","v":0},{"$f":"ROUND('Previous Week Bonus Slip'!$Q351*'Previous Week Bonus Slip'!$M351,2)","v":0}]
[null,null,null,null,null,null,null,null,null,null,null,null,null,null,null,null,{"$f":"('Previous Week Bonus Slip'!$P352-'Previous Week Bonus Slip'!$O352)","v":0},{"$f":"ROUND('Previous Week Bonus Slip'!$Q352*'Previous Week Bonus Slip'!$M352,2)","v":0}]
[null,null,null,null,null,null,null,null,null,null,null,null,null,null,null,null,{"$f":"('Previous Week Bonus Slip'!$P353-'Previous Week Bonus Slip'!$O353)","v":0},{"$f":"ROUND('Previous Week Bonus Slip'!$Q353*'Previous Week Bonus Slip'!$M353,2)","v":0}]
[null,null,null,null,null,null,null,null,null,null,null,null,null,null,null,null,{"$f":"('Previous Week Bonus Slip'!$P354-'Previous Week Bonus Slip'!$O354)","v":0},{"$f":"ROUND('Previous Week Bonus Slip'!$Q354*'Previous Week Bonus Slip'!$M354,2)","v":0}]
[null,null,null,null,null,null,null,null,null,null,null,null,null,null,null,null,{"$f":"('Previous Week Bonus Slip'!$P355-'Previous Week Bonus Slip'!$O355)","v":0},{"$f":"ROUND('Previous Week Bonus Slip'!$Q355*'Previous Week Bonus Slip'!$M355,2)","v":0}]
[null,null,null,null,null,null,null,null,null,null,null,null,null,null,null,null,{"$f":"('Previous Week Bonus Slip'!$P356-'Previous Week Bonus Slip'!$O356)","v":0},{"$f":"ROUND('Previous Week Bonus Slip'!$Q356*'Previous Week Bonus Slip'!$M356,2)","v":0}]
[null,null,null,null,null,null,null,null,null,null,null,null,null,null,null,null,{"$f":"('Previous Week Bonus Slip'!$P357-'Previous Week Bonus Slip'!$O357)","v":0},{"$f":"ROUND('Previous Week Bonus Slip'!$Q357*'Previous Week Bonus Slip'!$M357,2)","v":0}]
[null,null,null,null,null,null,null,null,null,null,null,null,null,null,null,null,{"$f":"('Previous Week Bonus Slip'!$P358-'Previous Week Bonus Slip'!$O358)","v":0},{"$f":"ROUND('Previous Week Bonus Slip'!$Q358*'Previous Week Bonus Slip'!$M358,2)","v":0}]
[null,null,null,null,null,null,null,null,null,null,null,null,null,null,null,null,{"$f":"('Previous Week Bonus Slip'!$P359-'Previous Week Bonus Slip'!$O359)","v":0},{"$f":"ROUND('Previous Week Bonus Slip'!$Q359*'Previous Week Bonus Slip'!$M359,2)","v":0}]
[null,null,null,null,null,null,null,null,null,null,null,null,null,null,null,null,{"$f":"('Previous Week Bonus Slip'!$P360-'Previous Week Bonus Slip'!$O360)","v":0},{"$f":"ROUND('Previous Week Bonus Slip'!$Q360*'Previous Week Bonus Slip'!$M360,2)","v":0}]
[null,null,null,null,null,null,null,null,null,null,null,null,null,null,null,null,{"$f":"('Previous Week Bonus Slip'!$P361-'Previous Week Bonus Slip'!$O361)","v":0},{"$f":"ROUND('Previous Week Bonus Slip'!$Q361*'Previous Week Bonus Slip'!$M361,2)","v":0}]
[null,null,null,null,null,null,null,null,null,null,null,null,null,null,null,null,{"$f":"('Previous Week Bonus Slip'!$P362-'Previous Week Bonus Slip'!$O362)","v":0},{"$f":"ROUND('Previous Week Bonus Slip'!$Q362*'Previous Week Bonus Slip'!$M362,2)","v":0}]
[null,null,null,null,null,null,null,null,null,null,null,null,null,null,null,null,{"$f":"('Previous Week Bonus Slip'!$P363-'Previous Week Bonus Slip'!$O363)","v":0},{"$f":"ROUND('Previous Week Bonus Slip'!$Q363*'Previous Week Bonus Slip'!$M363,2)","v":0}]
[null,null,null,null,null,null,null,null,null,null,null,null,null,null,null,null,{"$f":"('Previous Week Bonus Slip'!$P364-'Previous Week Bonus Slip'!$O364)","v":0},{"$f":"ROUND('Previous Week Bonus Slip'!$Q364*'Previous Week Bonus Slip'!$M364,2)","v":0}]
[null,null,null,null,null,null,null,null,null,null,null,null,null,null,null,null,{"$f":"('Previous Week Bonus Slip'!$P365-'Previous Week Bonus Slip'!$O365)","v":0},{"$f":"ROUND('Previous Week Bonus Slip'!$Q365*'Previous Week Bonus Slip'!$M365,2)","v":0}]
[null,null,null,null,null,null,null,null,null,null,null,null,null,null,null,null,{"$f":"('Previous Week Bonus Slip'!$P366-'Previous Week Bonus Slip'!$O366)","v":0},{"$f":"ROUND('Previous Week Bonus Slip'!$Q366*'Previous Week Bonus Slip'!$M366,2)","v":0}]
[null,null,null,null,null,null,null,null,null,null,null,null,null,null,null,null,{"$f":"('Previous Week Bonus Slip'!$P367-'Previous Week Bonus Slip'!$O367)","v":0},{"$f":"ROUND('Previous Week Bonus Slip'!$Q367*'Previous Week Bonus Slip'!$M367,2)","v":0}]
[null,null,null,null,null,null,null,null,null,null,null,null,null,null,null,null,{"$f":"('Previous Week Bonus Slip'!$P368-'Previous Week Bonus Slip'!$O368)","v":0},{"$f":"ROUND('Previous Week Bonus Slip'!$Q368*'Previous Week Bonus Slip'!$M368,2)","v":0}]
[null,null,null,null,null,null,null,null,null,null,null,null,null,null,null,null,{"$f":"('Previous Week Bonus Slip'!$P369-'Previous Week Bonus Slip'!$O369)","v":0},{"$f":"ROUND('Previous Week Bonus Slip'!$Q369*'Previous Week Bonus Slip'!$M369,2)","v":0}]
[null,null,null,null,null,null,null,null,null,null,null,null,null,null,null,null,{"$f":"('Previous Week Bonus Slip'!$P370-'Previous Week Bonus Slip'!$O370)","v":0},{"$f":"ROUND('Previous Week Bonus Slip'!$Q370*'Previous Week Bonus Slip'!$M370,2)","v":0}]
[null,null,null,null,null,null,null,null,null,null,null,null,null,null,null,null,{"$f":"('Previous Week Bonus Slip'!$P371-'Previous Week Bonus Slip'!$O371)","v":0},{"$f":"ROUND('Previous Week Bonus Slip'!$Q371*'Previous Week Bonus Slip'!$M371,2)","v":0}]
[null,null,null,null,null,null,null,null,null,null,null,null,null,null,null,null,{"$f":"('Previous Week Bonus Slip'!$P372-'Previous Week Bonus Slip'!$O372)","v":0},{"$f":"ROUND('Previous Week Bonus Slip'!$Q372*'Previous Week Bonus Slip'!$M372,2)","v":0}]
[null,null,null,null,null,null,null,null,null,null,null,null,null,null,null,null,{"$f":"('Previous Week Bonus Slip'!$P373-'Previous Week Bonus Slip'!$O373)","v":0},{"$f":"ROUND('Previous Week Bonus Slip'!$Q373*'Previous Week Bonus Slip'!$M373,2)","v":0}]
[null,null,null,null,null,null,null,null,null,null,null,null,null,null,null,null,{"$f":"('Previous Week Bonus Slip'!$P374-'Previous Week Bonus Slip'!$O374)","v":0},{"$f":"ROUND('Previous Week Bonus Slip'!$Q374*'Previous Week Bonus Slip'!$M374,2)","v":0}]
[null,null,null,null,null,null,null,null,null,null,null,null,null,null,null,null,{"$f":"('Previous Week Bonus Slip'!$P375-'Previous Week Bonus Slip'!$O375)","v":0},{"$f":"ROUND('Previous Week Bonus Slip'!$Q375*'Previous Week Bonus Slip'!$M375,2)","v":0}]
[null,null,null,null,null,null,null,null,null,null,null,null,null,null,null,null,{"$f":"('Previous Week Bonus Slip'!$P376-'Previous Week Bonus Slip'!$O376)","v":0},{"$f":"ROUND('Previous Week Bonus Slip'!$Q376*'Previous Week Bonus Slip'!$M376,2)","v":0}]
[null,null,null,null,null,null,null,null,null,null,null,null,null,null,null,null,{"$f":"('Previous Week Bonus Slip'!$P377-'Previous Week Bonus Slip'!$O377)","v":0},{"$f":"ROUND('Previous Week Bonus Slip'!$Q377*'Previous Week Bonus Slip'!$M377,2)","v":0}]
[null,null,null,null,null,null,null,null,null,null,null,null,null,null,null,null,{"$f":"('Previous Week Bonus Slip'!$P378-'Previous Week Bonus Slip'!$O378)","v":0},{"$f":"ROUND('Previous Week Bonus Slip'!$Q378*'Previous Week Bonus Slip'!$M378,2)","v":0}]
[null,null,null,null,null,null,null,null,null,null,null,null,null,null,null,null,{"$f":"('Previous Week Bonus Slip'!$P379-'Previous Week Bonus Slip'!$O379)","v":0},{"$f":"ROUND('Previous Week Bonus Slip'!$Q379*'Previous Week Bonus Slip'!$M379,2)","v":0}]
[null,null,null,null,null,null,null,null,null,null,null,null,null,null,null,null,{"$f":"('Previous Week Bonus Slip'!$P380-'Previous Week Bonus Slip'!$O380)","v":0},{"$f":"ROUND('Previous Week Bonus Slip'!$Q380*'Previous Week Bonus Slip'!$M380,2)","v":0}]
[null,null,null,null,null,null,null,null,null,null,null,null,null,null,null,null,{"$f":"('Previous Week Bonus Slip'!$P381-'Previous Week Bonus Slip'!$O381)","v":0},{"$f":"ROUND('Previous Week Bonus Slip'!$Q381*'Previous Week Bonus Slip'!$M381,2)","v":0}]
[null,null,null,null,null,null,null,null,null,null,null,null,null,null,null,null,{"$f":"('Previous Week Bonus Slip'!$P382-'Previous Week Bonus Slip'!$O382)","v":0},{"$f":"ROUND('Previous Week Bonus Slip'!$Q382*'Previous Week Bonus Slip'!$M382,2)","v":0}]
[null,null,null,null,null,null,null,null,null,null,null,null,null,null,null,null,{"$f":"('Previous Week Bonus Slip'!$P383-'Previous Week Bonus Slip'!$O383)","v":0},{"$f":"ROUND('Previous Week Bonus Slip'!$Q383*'Previous Week Bonus Slip'!$M383,2)","v":0}]
[null,null,null,null,null,null,null,null,null,null,null,null,null,null,null,null,{"$f":"('Previous Week Bonus Slip'!$P384-'Previous Week Bonus Slip'!$O384)","v":0},{"$f":"ROUND('Previous Week Bonus Slip'!$Q384*'Previous Week Bonus Slip'!$M384,2)","v":0}]
[null,null,null,null,null,null,null,null,null,null,null,null,null,null,null,null,{"$f":"('Previous Week Bonus Slip'!$P385-'Previous Week Bonus Slip'!$O385)","v":0},{"$f":"ROUND('Previous Week Bonus Slip'!$Q385*'Previous Week Bonus Slip'!$M385,2)","v":0}]
[null,null,null,null,null,null,null,null,null,null,null,null,null,null,null,null,{"$f":"('Previous Week Bonus Slip'!$P386-'Previous Week Bonus Slip'!$O386)","v":0},{"$f":"ROUND('Previous Week Bonus Slip'!$Q386*'Previous Week Bonus Slip'!$M386,2)","v":0}]
[null,null,null,null,null,null,null,null,null,null,null,null,null,null,null,null,{"$f":"('Previous Week Bonus Slip'!$P387-'Previous Week Bonus Slip'!$O387)","v":0},{"$f":"ROUND('Previous Week Bonus Slip'!$Q387*'Previous Week Bonus Slip'!$M387,2)","v":0}]
[null,null,null,null,null,null,null,null,null,null,null,null,null,null,null,null,{"$f":"('Previous Week Bonus Slip'!$P388-'Previous Week Bonus Slip'!$O388)","v":0},{"$f":"ROUND('Previous Week Bonus Slip'!$Q388*'Previous Week Bonus Slip'!$M388,2)","v":0}]
[null,null,null,null,null,null,null,null,null,null,null,null,null,null,null,null,{"$f":"('Previous Week Bonus Slip'!$P389-'Previous Week Bonus Slip'!$O389)","v":0},{"$f":"ROUND('Previous Week Bonus Slip'!$Q389*'Previous Week Bonus Slip'!$M389,2)","v":0}]
[null,null,null,null,null,null,null,null,null,null,null,null,null,null,null,null,{"$f":"('Previous Week Bonus Slip'!$P390-'Previous Week Bonus Slip'!$O390)","v":0},{"$f":"ROUND('Previous Week Bonus Slip'!$Q390*'Previous Week Bonus Slip'!$M390,2)","v":0}]
[null,null,null,null,null,null,null,null,null,null,null,null,null,null,null,null,{"$f":"('Previous Week Bonus Slip'!$P391-'Previous Week Bonus Slip'!$O391)","v":0},{"$f":"ROUND('Previous Week Bonus Slip'!$Q391*'Previous Week Bonus Slip'!$M391,2)","v":0}]
[null,null,null,null,null,null,null,null,null,null,null,null,null,null,null,null,{"$f":"('Previous Week Bonus Slip'!$P392-'Previous Week Bonus Slip'!$O392)","v":0},{"$f":"ROUND('Previous Week Bonus Slip'!$Q392*'Previous Week Bonus Slip'!$M392,2)","v":0}]
[null,null,null,null,null,null,null,null,null,null,null,null,null,null,null,null,{"$f":"('Previous Week Bonus Slip'!$P393-'Previous Week Bonus Slip'!$O393)","v":0},{"$f":"ROUND('Previous Week Bonus Slip'!$Q393*'Previous Week Bonus Slip'!$M393,2)","v":0}]
[null,null,null,null,null,null,null,null,null,null,null,null,null,null,null,null,{"$f":"('Previous Week Bonus Slip'!$P394-'Previous Week Bonus Slip'!$O394)","v":0},{"$f":"ROUND('Previous Week Bonus Slip'!$Q394*'Previous Week Bonus Slip'!$M394,2)","v":0}]
[null,null,null,null,null,null,null,null,null,null,null,null,null,null,null,null,{"$f":"('Previous Week Bonus Slip'!$P395-'Previous Week Bonus Slip'!$O395)","v":0},{"$f":"ROUND('Previous Week Bonus Slip'!$Q395*'Previous Week Bonus Slip'!$M395,2)","v":0}]
[null,null,null,null,null,null,null,null,null,null,null,null,null,null,null,null,{"$f":"('Previous Week Bonus Slip'!$P396-'Previous Week Bonus Slip'!$O396)","v":0},{"$f":"ROUND('Previous Week Bonus Slip'!$Q396*'Previous Week Bonus Slip'!$M396,2)","v":0}]
[null,null,null,null,null,null,null,null,null,null,null,null,null,null,null,null,{"$f":"('Previous Week Bonus Slip'!$P397-'Previous Week Bonus Slip'!$O397)","v":0},{"$f":"ROUND('Previous Week Bonus Slip'!$Q397*'Previous Week Bonus Slip'!$M397,2)","v":0}]
[null,null,null,null,null,null,null,null,null,null,null,null,null,null,null,null,{"$f":"('Previous Week Bonus Slip'!$P398-'Previous Week Bonus Slip'!$O398)","v":0},{"$f":"ROUND('Previous Week Bonus Slip'!$Q398*'Previous Week Bonus Slip'!$M398,2)","v":0}]
[null,null,null,null,null,null,null,null,null,null,null,null,null,null,null,null,{"$f":"('Previous Week Bonus Slip'!$P399-'Previous Week Bonus Slip'!$O399)","v":0},{"$f":"ROUND('Previous Week Bonus Slip'!$Q399*'Previous Week Bonus Slip'!$M399,2)","v":0}]
[null,null,null,null,null,null,null,null,null,null,null,null,null,null,null,null,{"$f":"('Previous Week Bonus Slip'!$P400-'Previous Week Bonus Slip'!$O400)","v":0},{"$f":"ROUND('Previous Week Bonus Slip'!$Q400*'Previous Week Bonus Slip'!$M400,2)","v":0}]
[null,null,null,null,null,null,null,null,null,null,null,null,null,null,null,null,{"$f":"('Previous Week Bonus Slip'!$P401-'Previous Week Bonus Slip'!$O401)","v":0},{"$f":"ROUND('Previous Week Bonus Slip'!$Q401*'Previous Week Bonus Slip'!$M401,2)","v":0}]
[null,null,null,null,null,null,null,null,null,null,null,null,null,null,null,null,{"$f":"('Previous Week Bonus Slip'!$P402-'Previous Week Bonus Slip'!$O402)","v":0},{"$f":"ROUND('Previous Week Bonus Slip'!$Q402*'Previous Week Bonus Slip'!$M402,2)","v":0}]
[null,null,null,null,null,null,null,null,null,null,null,null,null,null,null,null,{"$f":"('Previous Week Bonus Slip'!$P403-'Previous Week Bonus Slip'!$O403)","v":0},{"$f":"ROUND('Previous Week Bonus Slip'!$Q403*'Previous Week Bonus Slip'!$M403,2)","v":0}]
[null,null,null,null,null,null,null,null,null,null,null,null,null,null,null,null,{"$f":"('Previous Week Bonus Slip'!$P404-'Previous Week Bonus Slip'!$O404)","v":0},{"$f":"ROUND('Previous Week Bonus Slip'!$Q404*'Previous Week Bonus Slip'!$M404,2)","v":0}]
[null,null,null,null,null,null,null,null,null,null,null,null,null,null,null,null,{"$f":"('Previous Week Bonus Slip'!$P405-'Previous Week Bonus Slip'!$O405)","v":0},{"$f":"ROUND('Previous Week Bonus Slip'!$Q405*'Previous Week Bonus Slip'!$M405,2)","v":0}]
[null,null,null,null,null,null,null,null,null,null,null,null,null,null,null,null,{"$f":"('Previous Week Bonus Slip'!$P406-'Previous Week Bonus Slip'!$O406)","v":0},{"$f":"ROUND('Previous Week Bonus Slip'!$Q406*'Previous Week Bonus Slip'!$M406,2)","v":0}]
[null,null,null,null,null,null,null,null,null,null,null,null,null,null,null,null,{"$f":"('Previous Week Bonus Slip'!$P407-'Previous Week Bonus Slip'!$O407)","v":0},{"$f":"ROUND('Previous Week Bonus Slip'!$Q407*'Previous Week Bonus Slip'!$M407,2)","v":0}]
[null,null,null,null,null,null,null,null,null,null,null,null,null,null,null,null,{"$f":"('Previous Week Bonus Slip'!$P408-'Previous Week Bonus Slip'!$O408)","v":0},{"$f":"ROUND('Previous Week Bonus Slip'!$Q408*'Previous Week Bonus Slip'!$M408,2)","v":0}]
[null,null,null,null,null,null,null,null,null,null,null,null,null,null,null,null,{"$f":"('Previous Week Bonus Slip'!$P409-'Previous Week Bonus Slip'!$O409)","v":0},{"$f":"ROUND('Previous Week Bonus Slip'!$Q409*'Previous Week Bonus Slip'!$M409,2)","v":0}]
[null,null,null,null,null,null,null,null,null,null,null,null,null,null,null,null,{"$f":"('Previous Week Bonus Slip'!$P410-'Previous Week Bonus Slip'!$O410)","v":0},{"$f":"ROUND('Previous Week Bonus Slip'!$Q410*'Previous Week Bonus Slip'!$M410,2)","v":0}]
[null,null,null,null,null,null,null,null,null,null,null,null,null,null,null,null,{"$f":"('Previous Week Bonus Slip'!$P411-'Previous Week Bonus Slip'!$O411)","v":0},{"$f":"ROUND('Previous Week Bonus Slip'!$Q411*'Previous Week Bonus Slip'!$M411,2)","v":0}]
[null,null,null,null,null,null,null,null,null,null,null,null,null,null,null,null,{"$f":"('Previous Week Bonus Slip'!$P412-'Previous Week Bonus Slip'!$O412)","v":0},{"$f":"ROUND('Previous Week Bonus Slip'!$Q412*'Previous Week Bonus Slip'!$M412,2)","v":0}]
[null,null,null,null,null,null,null,null,null,null,null,null,null,null,null,null,{"$f":"('Previous Week Bonus Slip'!$P413-'Previous Week Bonus Slip'!$O413)","v":0},{"$f":"ROUND('Previous Week Bonus Slip'!$Q413*'Previous Week Bonus Slip'!$M413,2)","v":0}]
[null,null,null,null,null,null,null,null,null,null,null,null,null,null,null,null,{"$f":"('Previous Week Bonus Slip'!$P414-'Previous Week Bonus Slip'!$O414)","v":0},{"$f":"ROUND('Previous Week Bonus Slip'!$Q414*'Previous Week Bonus Slip'!$M414,2)","v":0}]
[null,null,null,null,null,null,null,null,null,null,null,null,null,null,null,null,{"$f":"('Previous Week Bonus Slip'!$P415-'Previous Week Bonus Slip'!$O415)","v":0},{"$f":"ROUND('Previous Week Bonus Slip'!$Q415*'Previous Week Bonus Slip'!$M415,2)","v":0}]
[null,null,null,null,null,null,null,null,null,null,null,null,null,null,null,null,{"$f":"('Previous Week Bonus Slip'!$P416-'Previous Week Bonus Slip'!$O416)","v":0},{"$f":"ROUND('Previous Week Bonus Slip'!$Q416*'Previous Week Bonus Slip'!$M416,2)","v":0}]
[null,null,null,null,null,null,null,null,null,null,null,null,null,null,null,null,{"$f":"('Previous Week Bonus Slip'!$P417-'Previous Week Bonus Slip'!$O417)","v":0},{"$f":"ROUND('Previous Week Bonus Slip'!$Q417*'Previous Week Bonus Slip'!$M417,2)","v":0}]
[null,null,null,null,null,null,null,null,null,null,null,null,null,null,null,null,{"$f":"('Previous Week Bonus Slip'!$P418-'Previous Week Bonus Slip'!$O418)","v":0},{"$f":"ROUND('Previous Week Bonus Slip'!$Q418*'Previous Week Bonus Slip'!$M418,2)","v":0}]
[null,null,null,null,null,null,null,null,null,null,null,null,null,null,null,null,{"$f":"('Previous Week Bonus Slip'!$P419-'Previous Week Bonus Slip'!$O419)","v":0},{"$f":"ROUND('Previous Week Bonus Slip'!$Q419*'Previous Week Bonus Slip'!$M419,2)","v":0}]
[null,null,null,null,null,null,null,null,null,null,null,null,null,null,null,null,{"$f":"('Previous Week Bonus Slip'!$P420-'Previous Week Bonus Slip'!$O420)","v":0},{"$f":"ROUND('Previous Week Bonus Slip'!$Q420*'Previous Week Bonus Slip'!$M420,2)","v":0}]
[null,null,null,null,null,null,null,null,null,null,null,null,null,null,null,null,{"$f":"('Previous Week Bonus Slip'!$P421-'Previous Week Bonus Slip'!$O421)","v":0},{"$f":"ROUND('Previous Week Bonus Slip'!$Q421*'Previous Week Bonus Slip'!$M421,2)","v":0}]
[null,null,null,null,null,null,null,null,null,null,null,null,null,null,null,null,{"$f":"('Previous Week Bonus Slip'!$P422-'Previous Week Bonus Slip'!$O422)","v":0},{"$f":"ROUND('Previous Week Bonus Slip'!$Q422*'Previous Week Bonus Slip'!$M422,2)","v":0}]
[null,null,null,null,null,null,null,null,null,null,null,null,null,null,null,null,{"$f":"('Previous Week Bonus Slip'!$P423-'Previous Week Bonus Slip'!$O423)","v":0},{"$f":"ROUND('Previous Week Bonus Slip'!$Q423*'Previous Week Bonus Slip'!$M423,2)","v":0}]
[null,null,null,null,null,null,null,null,null,null,null,null,null,null,null,null,{"$f":"('Previous Week Bonus Slip'!$P424-'Previous Week Bonus Slip'!$O424)","v":0},{"$f":"ROUND('Previous Week Bonus Slip'!$Q424*'Previous Week Bonus Slip'!$M424,2)","v":0}]
[null,null,null,null,null,null,null,null,null,null,null,null,null,null,null,null,{"$f":"('Previous Week Bonus Slip'!$P425-'Previous Week Bonus Slip'!$O425)","v":0},{"$f":"ROUND('Previous Week Bonus Slip'!$Q425*'Previous Week Bonus Slip'!$M425,2)","v":0}]
[null,null,null,null,null,null,null,null,null,null,null,null,null,null,null,null,{"$f":"('Previous Week Bonus Slip'!$P426-'Previous Week Bonus Slip'!$O426)","v":0},{"$f":"ROUND('Previous Week Bonus Slip'!$Q426*'Previous Week Bonus Slip'!$M426,2)","v":0}]
[null,null,null,null,null,null,null,null,null,null,null,null,null,null,null,null,{"$f":"('Previous Week Bonus Slip'!$P427-'Previous Week Bonus Slip'!$O427)","v":0},{"$f":"ROUND('Previous Week Bonus Slip'!$Q427*'Previous Week Bonus Slip'!$M427,2)","v":0}]
[null,null,null,null,null,null,null,null,null,null,null,null,null,null,null,null,{"$f":"('Previous Week Bonus Slip'!$P428-'Previous Week Bonus Slip'!$O428)","v":0},{"$f":"ROUND('Previous Week Bonus Slip'!$Q428*'Previous Week Bonus Slip'!$M428,2)","v":0}]
[null,null,null,null,null,null,null,null,null,null,null,null,null,null,null,null,{"$f":"('Previous Week Bonus Slip'!$P429-'Previous Week Bonus Slip'!$O429)","v":0},{"$f":"ROUND('Previous Week Bonus Slip'!$Q429*'Previous Week Bonus Slip'!$M429,2)","v":0}]
[null,null,null,null,null,null,null,null,null,null,null,null,null,null,null,null,{"$f":"('Previous Week Bonus Slip'!$P430-'Previous Week Bonus Slip'!$O430)","v":0},{"$f":"ROUND('Previous Week Bonus Slip'!$Q430*'Previous Week Bonus Slip'!$M430,2)","v":0}]
[null,null,null,null,null,null,null,null,null,null,null,null,null,null,null,null,{"$f":"('Previous Week Bonus Slip'!$P431-'Previous Week Bonus Slip'!$O431)","v":0},{"$f":"ROUND('Previous Week Bonus Slip'!$Q431*'Previous Week Bonus Slip'!$M431,2)","v":0}]
[null,null,null,null,null,null,null,null,null,null,null,null,null,null,null,null,{"$f":"('Previous Week Bonus Slip'!$P432-'Previous Week Bonus Slip'!$O432)","v":0},{"$f":"ROUND('Previous Week Bonus Slip'!$Q432*'Previous Week Bonus Slip'!$M432,2)","v":0}]
[null,null,null,null,null,null,null,null,null,null,null,null,null,null,null,null,{"$f":"('Previous Week Bonus Slip'!$P433-'Previous Week Bonus Slip'!$O433)","v":0},{"$f":"ROUND('Previous Week Bonus Slip'!$Q433*'Previous Week Bonus Slip'!$M433,2)","v":0}]
[null,null,null,null,null,null,null,null,null,null,null,null,null,null,null,null,{"$f":"('Previous Week Bonus Slip'!$P434-'Previous Week Bonus Slip'!$O434)","v":0},{"$f":"ROUND('Previous Week Bonus Slip'!$Q434*'Previous Week Bonus Slip'!$M434,2)","v":0}]
[null,null,null,null,null,null,null,null,null,null,null,null,null,null,null,null,{"$f":"('Previous Week Bonus Slip'!$P435-'Previous Week Bonus Slip'!$O435)","v":0},{"$f":"ROUND('Previous Week Bonus Slip'!$Q435*'Previous Week Bonus Slip'!$M435,2)","v":0}]
[null,null,null,null,null,null,null,null,null,null,null,null,null,null,null,null,{"$f":"('Previous Week Bonus Slip'!$P436-'Previous Week Bonus Slip'!$O436)","v":0},{"$f":"ROUND('Previous Week Bonus Slip'!$Q436*'Previous Week Bonus Slip'!$M436,2)","v":0}]
[null,null,null,null,null,null,null,null,null,null,null,null,null,null,null,null,{"$f":"('Previous Week Bonus Slip'!$P437-'Previous Week Bonus Slip'!$O437)","v":0},{"$f":"ROUND('Previous Week Bonus Slip'!$Q437*'Previous Week Bonus Slip'!$M437,2)","v":0}]
[null,null,null,null,null,null,null,null,null,null,null,null,null,null,null,null,{"$f":"('Previous Week Bonus Slip'!$P438-'Previous Week Bonus Slip'!$O438)","v":0},{"$f":"ROUND('Previous Week Bonus Slip'!$Q438*'Previous Week Bonus Slip'!$M438,2)","v":0}]
[null,null,null,null,null,null,null,null,null,null,null,null,null,null,null,null,{"$f":"('Previous Week Bonus Slip'!$P439-'Previous Week Bonus Slip'!$O439)","v":0},{"$f":"ROUND('Previous Week Bonus Slip'!$Q439*'Previous Week Bonus Slip'!$M439,2)","v":0}]
[null,null,null,null,null,null,null,null,null,null,null,null,null,null,null,null,{"$f":"('Previous Week Bonus Slip'!$P440-'Previous Week Bonus Slip'!$O440)","v":0},{"$f":"ROUND('Previous Week Bonus Slip'!$Q440*'Previous Week Bonus Slip'!$M440,2)","v":0}]
[null,null,null,null,null,null,null,null,null,null,null,null,null,null,null,null,{"$f":"('Previous Week Bonus Slip'!$P441-'Previous Week Bonus Slip'!$O441)","v":0},{"$f":"ROUND('Previous Week Bonus Slip'!$Q441*'Previous Week Bonus Slip'!$M441,2)","v":0}]
[null,null,null,null,null,null,null,null,null,null,null,null,null,null,null,null,{"$f":"('Previous Week Bonus Slip'!$P442-'Previous Week Bonus Slip'!$O442)","v":0},{"$f":"ROUND('Previous Week Bonus Slip'!$Q442*'Previous Week Bonus Slip'!$M442,2)","v":0}]
[null,null,null,null,null,null,null,null,null,null,null,null,null,null,null,null,{"$f":"('Previous Week Bonus Slip'!$P443-'Previous Week Bonus Slip'!$O443)","v":0},{"$f":"ROUND('Previous Week Bonus Slip'!$Q443*'Previous Week Bonus Slip'!$M443,2)","v":0}]
[null,null,null,null,null,null,null,null,null,null,null,null,null,null,null,null,{"$f":"('Previous Week Bonus Slip'!$P444-'Previous Week Bonus Slip'!$O444)","v":0},{"$f":"ROUND('Previous Week Bonus Slip'!$Q444*'Previous Week Bonus Slip'!$M444,2)","v":0}]
[null,null,null,null,null,null,null,null,null,null,null,null,null,null,null,null,{"$f":"('Previous Week Bonus Slip'!$P445-'Previous Week Bonus Slip'!$O445)","v":0},{"$f":"ROUND('Previous Week Bonus Slip'!$Q445*'Previous Week Bonus Slip'!$M445,2)","v":0}]
[null,null,null,null,null,null,null,null,null,null,null,null,null,null,null,null,{"$f":"('Previous Week Bonus Slip'!$P446-'Previous Week Bonus Slip'!$O446)","v":0},{"$f":"ROUND('Previous Week Bonus Slip'!$Q446*'Previous Week Bonus Slip'!$M446,2)","v":0}]
[null,null,null,null,null,null,null,null,null,null,null,null,null,null,null,null,{"$f":"('Previous Week Bonus Slip'!$P447-'Previous Week Bonus Slip'!$O447)","v":0},{"$f":"ROUND('Previous Week Bonus Slip'!$Q447*'Previous Week Bonus Slip'!$M447,2)","v":0}]
[null,null,null,null,null,null,null,null,null,null,null,null,null,null,null,null,{"$f":"('Previous Week Bonus Slip'!$P448-'Previous Week Bonus Slip'!$O448)","v":0},{"$f":"ROUND('Previous Week Bonus Slip'!$Q448*'Previous Week Bonus Slip'!$M448,2)","v":0}]
[null,null,null,null,null,null,null,null,null,null,null,null,null,null,null,null,{"$f":"('Previous Week Bonus Slip'!$P449-'Previous Week Bonus Slip'!$O449)","v":0},{"$f":"ROUND('Previous Week Bonus Slip'!$Q449*'Previous Week Bonus Slip'!$M449,2)","v":0}]
[null,null,null,null,null,null,null,null,null,null,null,null,null,null,null,null,{"$f":"('Previous Week Bonus Slip'!$P450-'Previous Week Bonus Slip'!$O450)","v":0},{"$f":"ROUND('Previous Week Bonus Slip'!$Q450*'Previous Week Bonus Slip'!$M450,2)","v":0}]
[null,null,null,null,null,null,null,null,null,null,null,null,null,null,null,null,{"$f":"('Previous Week Bonus Slip'!$P451-'Previous Week Bonus Slip'!$O451)","v":0},{"$f":"ROUND('Previous Week Bonus Slip'!$Q451*'Previous Week Bonus Slip'!$M451,2)","v":0}]
[null,null,null,null,null,null,null,null,null,null,null,null,null,null,null,null,{"$f":"('Previous Week Bonus Slip'!$P452-'Previous Week Bonus Slip'!$O452)","v":0},{"$f":"ROUND('Previous Week Bonus Slip'!$Q452*'Previous Week Bonus Slip'!$M452,2)","v":0}]
[null,null,null,null,null,null,null,null,null,null,null,null,null,null,null,null,{"$f":"('Previous Week Bonus Slip'!$P453-'Previous Week Bonus Slip'!$O453)","v":0},{"$f":"ROUND('Previous Week Bonus Slip'!$Q453*'Previous Week Bonus Slip'!$M453,2)","v":0}]
[null,null,null,null,null,null,null,null,null,null,null,null,null,null,null,null,{"$f":"('Previous Week Bonus Slip'!$P454-'Previous Week Bonus Slip'!$O454)","v":0},{"$f":"ROUND('Previous Week Bonus Slip'!$Q454*'Previous Week Bonus Slip'!$M454,2)","v":0}]
[null,null,null,null,null,null,null,null,null,null,null,null,null,null,null,null,{"$f":"('Previous Week Bonus Slip'!$P455-'Previous Week Bonus Slip'!$O455)","v":0},{"$f":"ROUND('Previous Week Bonus Slip'!$Q455*'Previous Week Bonus Slip'!$M455,2)","v":0}]
[null,null,null,null,null,null,null,null,null,null,null,null,null,null,null,null,{"$f":"('Previous Week Bonus Slip'!$P456-'Previous Week Bonus Slip'!$O456)","v":0},{"$f":"ROUND('Previous Week Bonus Slip'!$Q456*'Previous Week Bonus Slip'!$M456,2)","v":0}]
[null,null,null,null,null,null,null,null,null,null,null,null,null,null,null,null,{"$f":"('Previous Week Bonus Slip'!$P457-'Previous Week Bonus Slip'!$O457)","v":0},{"$f":"ROUND('Previous Week Bonus Slip'!$Q457*'Previous Week Bonus Slip'!$M457,2)","v":0}]
[null,null,null,null,null,null,null,null,null,null,null,null,null,null,null,null,{"$f":"('Previous Week Bonus Slip'!$P458-'Previous Week Bonus Slip'!$O458)","v":0},{"$f":"ROUND('Previous Week Bonus Slip'!$Q458*'Previous Week Bonus Slip'!$M458,2)","v":0}]
[null,null,null,null,null,null,null,null,null,null,null,null,null,null,null,null,{"$f":"('Previous Week Bonus Slip'!$P459-'Previous Week Bonus Slip'!$O459)","v":0},{"$f":"ROUND('Previous Week Bonus Slip'!$Q459*'Previous Week Bonus Slip'!$M459,2)","v":0}]
[null,null,null,null,null,null,null,null,null,null,null,null,null,null,null,null,{"$f":"('Previous Week Bonus Slip'!$P460-'Previous Week Bonus Slip'!$O460)","v":0},{"$f":"ROUND('Previous Week Bonus Slip'!$Q460*'Previous Week Bonus Slip'!$M460,2)","v":0}]
[null,null,null,null,null,null,null,null,null,null,null,null,null,null,null,null,{"$f":"('Previous Week Bonus Slip'!$P461-'Previous Week Bonus Slip'!$O461)","v":0},{"$f":"ROUND('Previous Week Bonus Slip'!$Q461*'Previous Week Bonus Slip'!$M461,2)","v":0}]
[null,null,null,null,null,null,null,null,null,null,null,null,null,null,null,null,{"$f":"('Previous Week Bonus Slip'!$P462-'Previous Week Bonus Slip'!$O462)","v":0},{"$f":"ROUND('Previous Week Bonus Slip'!$Q462*'Previous Week Bonus Slip'!$M462,2)","v":0}]
[null,null,null,null,null,null,null,null,null,null,null,null,null,null,null,null,{"$f":"('Previous Week Bonus Slip'!$P463-'Previous Week Bonus Slip'!$O463)","v":0},{"$f":"ROUND('Previous Week Bonus Slip'!$Q463*'Previous Week Bonus Slip'!$M463,2)","v":0}]
[null,null,null,null,null,null,null,null,null,null,null,null,null,null,null,null,{"$f":"('Previous Week Bonus Slip'!$P464-'Previous Week Bonus Slip'!$O464)","v":0},{"$f":"ROUND('Previous Week Bonus Slip'!$Q464*'Previous Week Bonus Slip'!$M464,2)","v":0}]
[null,null,null,null,null,null,null,null,null,null,null,null,null,null,null,null,{"$f":"('Previous Week Bonus Slip'!$P465-'Previous Week Bonus Slip'!$O465)","v":0},{"$f":"ROUND('Previous Week Bonus Slip'!$Q465*'Previous Week Bonus Slip'!$M465,2)","v":0}]
[null,null,null,null,null,null,null,null,null,null,null,null,null,null,null,null,{"$f":"('Previous Week Bonus Slip'!$P466-'Previous Week Bonus Slip'!$O466)","v":0},{"$f":"ROUND('Previous Week Bonus Slip'!$Q466*'Previous Week Bonus Slip'!$M466,2)","v":0}]
[null,null,null,null,null,null,null,null,null,null,null,null,null,null,null,null,{"$f":"('Previous Week Bonus Slip'!$P467-'Previous Week Bonus Slip'!$O467)","v":0},{"$f":"ROUND('Previous Week Bonus Slip'!$Q467*'Previous Week Bonus Slip'!$M467,2)","v":0}]
[null,null,null,null,null,null,null,null,null,null,null,null,null,null,null,null,{"$f":"('Previous Week Bonus Slip'!$P468-'Previous Week Bonus Slip'!$O468)","v":0},{"$f":"ROUND('Previous Week Bonus Slip'!$Q468*'Previous Week Bonus Slip'!$M468,2)","v":0}]
[null,null,null,null,null,null,null,null,null,null,null,null,null,null,null,null,{"$f":"('Previous Week Bonus Slip'!$P469-'Previous Week Bonus Slip'!$O469)","v":0},{"$f":"ROUND('Previous Week Bonus Slip'!$Q469*'Previous Week Bonus Slip'!$M469,2)","v":0}]
[null,null,null,null,null,null,null,null,null,null,null,null,null,null,null,null,{"$f":"('Previous Week Bonus Slip'!$P470-'Previous Week Bonus Slip'!$O470)","v":0},{"$f":"ROUND('Previous Week Bonus Slip'!$Q470*'Previous Week Bonus Slip'!$M470,2)","v":0}]
[null,null,null,null,null,null,null,null,null,null,null,null,null,null,null,null,{"$f":"('Previous Week Bonus Slip'!$P471-'Previous Week Bonus Slip'!$O471)","v":0},{"$f":"ROUND('Previous Week Bonus Slip'!$Q471*'Previous Week Bonus Slip'!$M471,2)","v":0}]
[null,null,null,null,null,null,null,null,null,null,null,null,null,null,null,null,{"$f":"('Previous Week Bonus Slip'!$P472-'Previous Week Bonus Slip'!$O472)","v":0},{"$f":"ROUND('Previous Week Bonus Slip'!$Q472*'Previous Week Bonus Slip'!$M472,2)","v":0}]
[null,null,null,null,null,null,null,null,null,null,null,null,null,null,null,null,{"$f":"('Previous Week Bonus Slip'!$P473-'Previous Week Bonus Slip'!$O473)","v":0},{"$f":"ROUND('Previous Week Bonus Slip'!$Q473*'Previous Week Bonus Slip'!$M473,2)","v":0}]
[null,null,null,null,null,null,null,null,null,null,null,null,null,null,null,null,{"$f":"('Previous Week Bonus Slip'!$P474-'Previous Week Bonus Slip'!$O474)","v":0},{"$f":"ROUND('Previous Week Bonus Slip'!$Q474*'Previous Week Bonus Slip'!$M474,2)","v":0}]
[null,null,null,null,null,null,null,null,null,null,null,null,null,null,null,null,{"$f":"('Previous Week Bonus Slip'!$P475-'Previous Week Bonus Slip'!$O475)","v":0},{"$f":"ROUND('Previous Week Bonus Slip'!$Q475*'Previous Week Bonus Slip'!$M475,2)","v":0}]
[null,null,null,null,null,null,null,null,null,null,null,null,null,null,null,null,{"$f":"('Previous Week Bonus Slip'!$P476-'Previous Week Bonus Slip'!$O476)","v":0},{"$f":"ROUND('Previous Week Bonus Slip'!$Q476*'Previous Week Bonus Slip'!$M476,2)","v":0}]
[null,null,null,null,null,null,null,null,null,null,null,null,null,null,null,null,{"$f":"('Previous Week Bonus Slip'!$P477-'Previous Week Bonus Slip'!$O477)","v":0},{"$f":"ROUND('Previous Week Bonus Slip'!$Q477*'Previous Week Bonus Slip'!$M477,2)","v":0}]
[null,null,null,null,null,null,null,null,null,null,null,null,null,null,null,null,{"$f":"('Previous Week Bonus Slip'!$P478-'Previous Week Bonus Slip'!$O478)","v":0},{"$f":"ROUND('Previous Week Bonus Slip'!$Q478*'Previous Week Bonus Slip'!$M478,2)","v":0}]
[null,null,null,null,null,null,null,null,null,null,null,null,null,null,null,null,{"$f":"('Previous Week Bonus Slip'!$P479-'Previous Week Bonus Slip'!$O479)","v":0},{"$f":"ROUND('Previous Week Bonus Slip'!$Q479*'Previous Week Bonus Slip'!$M479,2)","v":0}]
[null,null,null,null,null,null,null,null,null,null,null,null,null,null,null,null,{"$f":"('Previous Week Bonus Slip'!$P480-'Previous Week Bonus Slip'!$O480)","v":0},{"$f":"ROUND('Previous Week Bonus Slip'!$Q480*'Previous Week Bonus Slip'!$M480,2)","v":0}]
[null,null,null,null,null,null,null,null,null,null,null,null,null,null,null,null,{"$f":"('Previous Week Bonus Slip'!$P481-'Previous Week Bonus Slip'!$O481)","v":0},{"$f":"ROUND('Previous Week Bonus Slip'!$Q481*'Previous Week Bonus Slip'!$M481,2)","v":0}]
[null,null,null,null,null,null,null,null,null,null,null,null,null,null,null,null,{"$f":"('Previous Week Bonus Slip'!$P482-'Previous Week Bonus Slip'!$O482)","v":0},{"$f":"ROUND('Previous Week Bonus Slip'!$Q482*'Previous Week Bonus Slip'!$M482,2)","v":0}]
[null,null,null,null,null,null,null,null,null,null,null,null,null,null,null,null,{"$f":"('Previous Week Bonus Slip'!$P483-'Previous Week Bonus Slip'!$O483)","v":0},{"$f":"ROUND('Previous Week Bonus Slip'!$Q483*'Previous Week Bonus Slip'!$M483,2)","v":0}]
[null,null,null,null,null,null,null,null,null,null,null,null,null,null,null,null,{"$f":"('Previous Week Bonus Slip'!$P484-'Previous Week Bonus Slip'!$O484)","v":0},{"$f":"ROUND('Previous Week Bonus Slip'!$Q484*'Previous Week Bonus Slip'!$M484,2)","v":0}]
[null,null,null,null,null,null,null,null,null,null,null,null,null,null,null,null,{"$f":"('Previous Week Bonus Slip'!$P485-'Previous Week Bonus Slip'!$O485)","v":0},{"$f":"ROUND('Previous Week Bonus Slip'!$Q485*'Previous Week Bonus Slip'!$M485,2)","v":0}]
[null,null,null,null,null,null,null,null,null,null,null,null,null,null,null,null,{"$f":"('Previous Week Bonus Slip'!$P486-'Previous Week Bonus Slip'!$O486)","v":0},{"$f":"ROUND('Previous Week Bonus Slip'!$Q486*'Previous Week Bonus Slip'!$M486,2)","v":0}]
[null,null,null,null,null,null,null,null,null,null,null,null,null,null,null,null,{"$f":"('Previous Week Bonus Slip'!$P487-'Previous Week Bonus Slip'!$O487)","v":0},{"$f":"ROUND('Previous Week Bonus Slip'!$Q487*'Previous Week Bonus Slip'!$M487,2)","v":0}]
[null,null,null,null,null,null,null,null,null,null,null,null,null,null,null,null,{"$f":"('Previous Week Bonus Slip'!$P488-'Previous Week Bonus Slip'!$O488)","v":0},{"$f":"ROUND('Previous Week Bonus Slip'!$Q488*'Previous Week Bonus Slip'!$M488,2)","v":0}]
[null,null,null,null,null,null,null,null,null,null,null,null,null,null,null,null,{"$f":"('Previous Week Bonus Slip'!$P489-'Previous Week Bonus Slip'!$O489)","v":0},{"$f":"ROUND('Previous Week Bonus Slip'!$Q489*'Previous Week Bonus Slip'!$M489,2)","v":0}]
[null,null,null,null,null,null,null,null,null,null,null,null,null,null,null,null,{"$f":"('Previous Week Bonus Slip'!$P490-'Previous Week Bonus Slip'!$O490)","v":0},{"$f":"ROUND('Previous Week Bonus Slip'!$Q490*'Previous Week Bonus Slip'!$M490,2)","v":0}]
[null,null,null,null,null,null,null,null,null,null,null,null,null,null,null,null,{"$f":"('Previous Week Bonus Slip'!$P491-'Previous Week Bonus Slip'!$O491)","v":0},{"$f":"ROUND('Previous Week Bonus Slip'!$Q491*'Previous Week Bonus Slip'!$M491,2)","v":0}]
[null,null,null,null,null,null,null,null,null,null,null,null,null,null,null,null,{"$f":"('Previous Week Bonus Slip'!$P492-'Previous Week Bonus Slip'!$O492)","v":0},{"$f":"ROUND('Previous Week Bonus Slip'!$Q492*'Previous Week Bonus Slip'!$M492,2)","v":0}]
[null,null,null,null,null,null,null,null,null,null,null,null,null,null,null,null,{"$f":"('Previous Week Bonus Slip'!$P493-'Previous Week Bonus Slip'!$O493)","v":0},{"$f":"ROUND('Previous Week Bonus Slip'!$Q493*'Previous Week Bonus Slip'!$M493,2)","v":0}]
[null,null,null,null,null,null,null,null,null,null,null,null,null,null,null,null,{"$f":"('Previous Week Bonus Slip'!$P494-'Previous Week Bonus Slip'!$O494)","v":0},{"$f":"ROUND('Previous Week Bonus Slip'!$Q494*'Previous Week Bonus Slip'!$M494,2)","v":0}]
[null,null,null,null,null,null,null,null,null,null,null,null,null,null,null,null,{"$f":"('Previous Week Bonus Slip'!$P495-'Previous Week Bonus Slip'!$O495)","v":0},{"$f":"ROUND('Previous Week Bonus Slip'!$Q495*'Previous Week Bonus Slip'!$M495,2)","v":0}]
[null,null,null,null,null,null,null,null,null,null,null,null,null,null,null,null,{"$f":"('Previous Week Bonus Slip'!$P496-'Previous Week Bonus Slip'!$O496)","v":0},{"$f":"ROUND('Previous Week Bonus Slip'!$Q496*'Previous Week Bonus Slip'!$M496,2)","v":0}]
[null,null,null,null,null,null,null,null,null,null,null,null,null,null,null,null,{"$f":"('Previous Week Bonus Slip'!$P497-'Previous Week Bonus Slip'!$O497)","v":0},{"$f":"ROUND('Previous Week Bonus Slip'!$Q497*'Previous Week Bonus Slip'!$M497,2)","v":0}]
[null,null,null,null,null,null,null,null,null,null,null,null,null,null,null,null,{"$f":"('Previous Week Bonus Slip'!$P498-'Previous Week Bonus Slip'!$O498)","v":0},{"$f":"ROUND('Previous Week Bonus Slip'!$Q498*'Previous Week Bonus Slip'!$M498,2)","v":0}]
[null,null,null,null,null,null,null,null,null,null,null,null,null,null,null,null,{"$f":"('Previous Week Bonus Slip'!$P499-'Previous Week Bonus Slip'!$O499)","v":0},{"$f":"ROUND('Previous Week Bonus Slip'!$Q499*'Previous Week Bonus Slip'!$M499,2)","v":0}]
[null,null,null,null,null,null,null,null,null,null,null,null,null,null,null,null,{"$f":"('Previous Week Bonus Slip'!$P500-'Previous Week Bonus Slip'!$O500)","v":0},{"$f":"ROUND('Previous Week Bonus Slip'!$Q500*'Previous Week Bonus Slip'!$M500,2)","v":0}]
[null,null,null,null,null,null,null,null,null,null,null,null,null,null,null,null,{"$f":"('Previous Week Bonus Slip'!$P501-'Previous Week Bonus Slip'!$O501)","v":0},{"$f":"ROUND('Previous Week Bonus Slip'!$Q501*'Previous Week Bonus Slip'!$M501,2)","v":0}]
[null,null,null,null,null,null,null,null,null,null,null,null,null,null,null,null,{"$f":"('Previous Week Bonus Slip'!$P502-'Previous Week Bonus Slip'!$O502)","v":0},{"$f":"ROUND('Previous Week Bonus Slip'!$Q502*'Previous Week Bonus Slip'!$M502,2)","v":0}]
[null,null,null,null,null,null,null,null,null,null,null,null,null,null,null,null,{"$f":"('Previous Week Bonus Slip'!$P503-'Previous Week Bonus Slip'!$O503)","v":0},{"$f":"ROUND('Previous Week Bonus Slip'!$Q503*'Previous Week Bonus Slip'!$M503,2)","v":0}]
[null,null,null,null,null,null,null,null,null,null,null,null,null,null,null,null,{"$f":"('Previous Week Bonus Slip'!$P504-'Previous Week Bonus Slip'!$O504)","v":0},{"$f":"ROUND('Previous Week Bonus Slip'!$Q504*'Previous Week Bonus Slip'!$M504,2)","v":0}]
[null,null,null,null,null,null,null,null,null,null,null,null,null,null,null,null,{"$f":"('Previous Week Bonus Slip'!$P505-'Previous Week Bonus Slip'!$O505)","v":0},{"$f":"ROUND('Previous Week Bonus Slip'!$Q505*'Previous Week Bonus Slip'!$M505,2)","v":0}]
[null,null,null,null,null,null,null,null,null,null,null,null,null,null,null,null,{"$f":"('Previous Week Bonus Slip'!$P506-'Previous Week Bonus Slip'!$O506)","v":0},{"$f":"ROUND('Previous Week Bonus Slip'!$Q506*'Previous Week Bonus Slip'!$M506,2)","v":0}]
[null,null,null,null,null,null,null,null,null,null,null,null,null,null,null,null,{"$f":"('Previous Week Bonus Slip'!$P507-'Previous Week Bonus Slip'!$O507)","v":0},{"$f":"ROUND('Previous Week Bonus Slip'!$Q507*'Previous Week Bonus Slip'!$M507,2)","v":0}]
[null,null,null,null,null,null,null,null,null,null,null,null,null,null,null,null,{"$f":"('Previous Week Bonus Slip'!$P508-'Previous Week Bonus Slip'!$O508)","v":0},{"$f":"ROUND('Previous Week Bonus Slip'!$Q508*'Previous Week Bonus Slip'!$M508,2)","v":0}]
[null,null,null,null,null,null,null,null,null,null,null,null,null,null,null,null,{"$f":"('Previous Week Bonus Slip'!$P509-'Previous Week Bonus Slip'!$O509)","v":0},{"$f":"ROUND('Previous Week Bonus Slip'!$Q509*'Previous Week Bonus Slip'!$M509,2)","v":0}]
[null,null,null,null,null,null,null,null,null,null,null,null,null,null,null,null,{"$f":"('Previous Week Bonus Slip'!$P510-'Previous Week Bonus Slip'!$O510)","v":0},{"$f":"ROUND('Previous Week Bonus Slip'!$Q510*'Previous Week Bonus Slip'!$M510,2)","v":0}]
[null,null,null,null,null,null,null,null,null,null,null,null,null,null,null,null,{"$f":"('Previous Week Bonus Slip'!$P511-'Previous Week Bonus Slip'!$O511)","v":0},{"$f":"ROUND('Previous Week Bonus Slip'!$Q511*'Previous Week Bonus Slip'!$M511,2)","v":0}]
[null,null,null,null,null,null,null,null,null,null,null,null,null,null,null,null,{"$f":"('Previous Week Bonus Slip'!$P512-'Previous Week Bonus Slip'!$O512)","v":0},{"$f":"ROUND('Previous Week Bonus Slip'!$Q512*'Previous Week Bonus Slip'!$M512,2)","v":0}]
[null,null,null,null,null,null,null,null,null,null,null,null,null,null,null,null,{"$f":"('Previous Week Bonus Slip'!$P513-'Previous Week Bonus Slip'!$O513)","v":0},{"$f":"ROUND('Previous Week Bonus Slip'!$Q513*'Previous Week Bonus Slip'!$M513,2)","v":0}]
[null,null,null,null,null,null,null,null,null,null,null,null,null,null,null,null,{"$f":"('Previous Week Bonus Slip'!$P514-'Previous Week Bonus Slip'!$O514)","v":0},{"$f":"ROUND('Previous Week Bonus Slip'!$Q514*'Previous Week Bonus Slip'!$M514,2)","v":0}]
[null,null,null,null,null,null,null,null,null,null,null,null,null,null,null,null,{"$f":"('Previous Week Bonus Slip'!$P515-'Previous Week Bonus Slip'!$O515)","v":0},{"$f":"ROUND('Previous Week Bonus Slip'!$Q515*'Previous Week Bonus Slip'!$M515,2)","v":0}]
[null,null,null,null,null,null,null,null,null,null,null,null,null,null,null,null,{"$f":"('Previous Week Bonus Slip'!$P516-'Previous Week Bonus Slip'!$O516)","v":0},{"$f":"ROUND('Previous Week Bonus Slip'!$Q516*'Previous Week Bonus Slip'!$M516,2)","v":0}]
[null,null,null,null,null,null,null,null,null,null,null,null,null,null,null,null,{"$f":"('Previous Week Bonus Slip'!$P517-'Previous Week Bonus Slip'!$O517)","v":0},{"$f":"ROUND('Previous Week Bonus Slip'!$Q517*'Previous Week Bonus Slip'!$M517,2)","v":0}]
[null,null,null,null,null,null,null,null,null,null,null,null,null,null,null,null,{"$f":"('Previous Week Bonus Slip'!$P518-'Previous Week Bonus Slip'!$O518)","v":0},{"$f":"ROUND('Previous Week Bonus Slip'!$Q518*'Previous Week Bonus Slip'!$M518,2)","v":0}]
[null,null,null,null,null,null,null,null,null,null,null,null,null,null,null,null,{"$f":"('Previous Week Bonus Slip'!$P519-'Previous Week Bonus Slip'!$O519)","v":0},{"$f":"ROUND('Previous Week Bonus Slip'!$Q519*'Previous Week Bonus Slip'!$M519,2)","v":0}]
[null,null,null,null,null,null,null,null,null,null,null,null,null,null,null,null,{"$f":"('Previous Week Bonus Slip'!$P520-'Previous Week Bonus Slip'!$O520)","v":0},{"$f":"ROUND('Previous Week Bonus Slip'!$Q520*'Previous Week Bonus Slip'!$M520,2)","v":0}]
[null,null,null,null,null,null,null,null,null,null,null,null,null,null,null,null,{"$f":"('Previous Week Bonus Slip'!$P521-'Previous Week Bonus Slip'!$O521)","v":0},{"$f":"ROUND('Previous Week Bonus Slip'!$Q521*'Previous Week Bonus Slip'!$M521,2)","v":0}]
[null,null,null,null,null,null,null,null,null,null,null,null,null,null,null,null,{"$f":"('Previous Week Bonus Slip'!$P522-'Previous Week Bonus Slip'!$O522)","v":0},{"$f":"ROUND('Previous Week Bonus Slip'!$Q522*'Previous Week Bonus Slip'!$M522,2)","v":0}]
[null,null,null,null,null,null,null,null,null,null,null,null,null,null,null,null,{"$f":"('Previous Week Bonus Slip'!$P523-'Previous Week Bonus Slip'!$O523)","v":0},{"$f":"ROUND('Previous Week Bonus Slip'!$Q523*'Previous Week Bonus Slip'!$M523,2)","v":0}]
[null,null,null,null,null,null,null,null,null,null,null,null,null,null,null,null,{"$f":"('Previous Week Bonus Slip'!$P524-'Previous Week Bonus Slip'!$O524)","v":0},{"$f":"ROUND('Previous Week Bonus Slip'!$Q524*'Previous Week Bonus Slip'!$M524,2)","v":0}]
[null,null,null,null,null,null,null,null,null,null,null,null,null,null,null,null,{"$f":"('Previous Week Bonus Slip'!$P525-'Previous Week Bonus Slip'!$O525)","v":0},{"$f":"ROUND('Previous Week Bonus Slip'!$Q525*'Previous Week Bonus Slip'!$M525,2)","v":0}]
[null,null,null,null,null,null,null,null,null,null,null,null,null,null,null,null,{"$f":"('Previous Week Bonus Slip'!$P526-'Previous Week Bonus Slip'!$O526)","v":0},{"$f":"ROUND('Previous Week Bonus Slip'!$Q526*'Previous Week Bonus Slip'!$M526,2)","v":0}]
[null,null,null,null,null,null,null,null,null,null,null,null,null,null,null,null,{"$f":"('Previous Week Bonus Slip'!$P527-'Previous Week Bonus Slip'!$O527)","v":0},{"$f":"ROUND('Previous Week Bonus Slip'!$Q527*'Previous Week Bonus Slip'!$M527,2)","v":0}]
[null,null,null,null,null,null,null,null,null,null,null,null,null,null,null,null,{"$f":"('Previous Week Bonus Slip'!$P528-'Previous Week Bonus Slip'!$O528)","v":0},{"$f":"ROUND('Previous Week Bonus Slip'!$Q528*'Previous Week Bonus Slip'!$M528,2)","v":0}]
[null,null,null,null,null,null,null,null,null,null,null,null,null,null,null,null,{"$f":"('Previous Week Bonus Slip'!$P529-'Previous Week Bonus Slip'!$O529)","v":0},{"$f":"ROUND('Previous Week Bonus Slip'!$Q529*'Previous Week Bonus Slip'!$M529,2)","v":0}]
[null,null,null,null,null,null,null,null,null,null,null,null,null,null,null,null,{"$f":"('Previous Week Bonus Slip'!$P530-'Previous Week Bonus Slip'!$O530)","v":0},{"$f":"ROUND('Previous Week Bonus Slip'!$Q530*'Previous Week Bonus Slip'!$M530,2)","v":0}]
[null,null,null,null,null,null,null,null,null,null,null,null,null,null,null,null,{"$f":"('Previous Week Bonus Slip'!$P531-'Previous Week Bonus Slip'!$O531)","v":0},{"$f":"ROUND('Previous Week Bonus Slip'!$Q531*'Previous Week Bonus Slip'!$M531,2)","v":0}]
[null,null,null,null,null,null,null,null,null,null,null,null,null,null,null,null,{"$f":"('Previous Week Bonus Slip'!$P532-'Previous Week Bonus Slip'!$O532)","v":0},{"$f":"ROUND('Previous Week Bonus Slip'!$Q532*'Previous Week Bonus Slip'!$M532,2)","v":0}]
[null,null,null,null,null,null,null,null,null,null,null,null,null,null,null,null,{"$f":"('Previous Week Bonus Slip'!$P533-'Previous Week Bonus Slip'!$O533)","v":0},{"$f":"ROUND('Previous Week Bonus Slip'!$Q533*'Previous Week Bonus Slip'!$M533,2)","v":0}]
[null,null,null,null,null,null,null,null,null,null,null,null,null,null,null,null,{"$f":"('Previous Week Bonus Slip'!$P534-'Previous Week Bonus Slip'!$O534)","v":0},{"$f":"ROUND('Previous Week Bonus Slip'!$Q534*'Previous Week Bonus Slip'!$M534,2)","v":0}]
[null,null,null,null,null,null,null,null,null,null,null,null,null,null,null,null,{"$f":"('Previous Week Bonus Slip'!$P535-'Previous Week Bonus Slip'!$O535)","v":0},{"$f":"ROUND('Previous Week Bonus Slip'!$Q535*'Previous Week Bonus Slip'!$M535,2)","v":0}]
[null,null,null,null,null,null,null,null,null,null,null,null,null,null,null,null,{"$f":"('Previous Week Bonus Slip'!$P536-'Previous Week Bonus Slip'!$O536)","v":0},{"$f":"ROUND('Previous Week Bonus Slip'!$Q536*'Previous Week Bonus Slip'!$M536,2)","v":0}]
[null,null,null,null,null,null,null,null,null,null,null,null,null,null,null,null,{"$f":"('Previous Week Bonus Slip'!$P537-'Previous Week Bonus Slip'!$O537)","v":0},{"$f":"ROUND('Previous Week Bonus Slip'!$Q537*'Previous Week Bonus Slip'!$M537,2)","v":0}]
[null,null,null,null,null,null,null,null,null,null,null,null,null,null,null,null,{"$f":"('Previous Week Bonus Slip'!$P538-'Previous Week Bonus Slip'!$O538)","v":0},{"$f":"ROUND('Previous Week Bonus Slip'!$Q538*'Previous Week Bonus Slip'!$M538,2)","v":0}]
[null,null,null,null,null,null,null,null,null,null,null,null,null,null,null,null,{"$f":"('Previous Week Bonus Slip'!$P539-'Previous Week Bonus Slip'!$O539)","v":0},{"$f":"ROUND('Previous Week Bonus Slip'!$Q539*'Previous Week Bonus Slip'!$M539,2)","v":0}]
[null,null,null,null,null,null,null,null,null,null,null,null,null,null,null,null,{"$f":"('Previous Week Bonus Slip'!$P540-'Previous Week Bonus Slip'!$O540)","v":0},{"$f":"ROUND('Previous Week Bonus Slip'!$Q540*'Previous Week Bonus Slip'!$M540,2)","v":0}]
[null,null,null,null,null,null,null,null,null,null,null,null,null,null,null,null,{"$f":"('Previous Week Bonus Slip'!$P541-'Previous Week Bonus Slip'!$O541)","v":0},{"$f":"ROUND('Previous Week Bonus Slip'!$Q541*'Previous Week Bonus Slip'!$M541,2)","v":0}]
[null,null,null,null,null,null,null,null,null,null,null,null,null,null,null,null,{"$f":"('Previous Week Bonus Slip'!$P542-'Previous Week Bonus Slip'!$O542)","v":0},{"$f":"ROUND('Previous Week Bonus Slip'!$Q542*'Previous Week Bonus Slip'!$M542,2)","v":0}]
[null,null,null,null,null,null,null,null,null,null,null,null,null,null,null,null,{"$f":"('Previous Week Bonus Slip'!$P543-'Previous Week Bonus Slip'!$O543)","v":0},{"$f":"ROUND('Previous Week Bonus Slip'!$Q543*'Previous Week Bonus Slip'!$M543,2)","v":0}]
[null,null,null,null,null,null,null,null,null,null,null,null,null,null,null,null,{"$f":"('Previous Week Bonus Slip'!$P544-'Previous Week Bonus Slip'!$O544)","v":0},{"$f":"ROUND('Previous Week Bonus Slip'!$Q544*'Previous Week Bonus Slip'!$M544,2)","v":0}]
[null,null,null,null,null,null,null,null,null,null,null,null,null,null,null,null,{"$f":"('Previous Week Bonus Slip'!$P545-'Previous Week Bonus Slip'!$O545)","v":0},{"$f":"ROUND('Previous Week Bonus Slip'!$Q545*'Previous Week Bonus Slip'!$M545,2)","v":0}]
[null,null,null,null,null,null,null,null,null,null,null,null,null,null,null,null,{"$f":"('Previous Week Bonus Slip'!$P546-'Previous Week Bonus Slip'!$O546)","v":0},{"$f":"ROUND('Previous Week Bonus Slip'!$Q546*'Previous Week Bonus Slip'!$M546,2)","v":0}]
[null,null,null,null,null,null,null,null,null,null,null,null,null,null,null,null,{"$f":"('Previous Week Bonus Slip'!$P547-'Previous Week Bonus Slip'!$O547)","v":0},{"$f":"ROUND('Previous Week Bonus Slip'!$Q547*'Previous Week Bonus Slip'!$M547,2)","v":0}]
[null,null,null,null,null,null,null,null,null,null,null,null,null,null,null,null,{"$f":"('Previous Week Bonus Slip'!$P548-'Previous Week Bonus Slip'!$O548)","v":0},{"$f":"ROUND('Previous Week Bonus Slip'!$Q548*'Previous Week Bonus Slip'!$M548,2)","v":0}]
[null,null,null,null,null,null,null,null,null,null,null,null,null,null,null,null,{"$f":"('Previous Week Bonus Slip'!$P549-'Previous Week Bonus Slip'!$O549)","v":0},{"$f":"ROUND('Previous Week Bonus Slip'!$Q549*'Previous Week Bonus Slip'!$M549,2)","v":0}]
[null,null,null,null,null,null,null,null,null,null,null,null,null,null,null,null,{"$f":"('Previous Week Bonus Slip'!$P550-'Previous Week Bonus Slip'!$O550)","v":0},{"$f":"ROUND('Previous Week Bonus Slip'!$Q550*'Previous Week Bonus Slip'!$M550,2)","v":0}]
[null,null,null,null,null,null,null,null,null,null,null,null,null,null,null,null,{"$f":"('Previous Week Bonus Slip'!$P551-'Previous Week Bonus Slip'!$O551)","v":0},{"$f":"ROUND('Previous Week Bonus Slip'!$Q551*'Previous Week Bonus Slip'!$M551,2)","v":0}]
[null,null,null,null,null,null,null,null,null,null,null,null,null,null,null,null,{"$f":"('Previous Week Bonus Slip'!$P552-'Previous Week Bonus Slip'!$O552)","v":0},{"$f":"ROUND('Previous Week Bonus Slip'!$Q552*'Previous Week Bonus Slip'!$M552,2)","v":0}]
[null,null,null,null,null,null,null,null,null,null,null,null,null,null,null,null,{"$f":"('Previous Week Bonus Slip'!$P553-'Previous Week Bonus Slip'!$O553)","v":0},{"$f":"ROUND('Previous Week Bonus Slip'!$Q553*'Previous Week Bonus Slip'!$M553,2)","v":0}]
[null,null,null,null,null,null,null,null,null,null,null,null,null,null,null,null,{"$f":"('Previous Week Bonus Slip'!$P554-'Previous Week Bonus Slip'!$O554)","v":0},{"$f":"ROUND('Previous Week Bonus Slip'!$Q554*'Previous Week Bonus Slip'!$M554,2)","v":0}]
[null,null,null,null,null,null,null,null,null,null,null,null,null,null,null,null,{"$f":"('Previous Week Bonus Slip'!$P555-'Previous Week Bonus Slip'!$O555)","v":0},{"$f":"ROUND('Previous Week Bonus Slip'!$Q555*'Previous Week Bonus Slip'!$M555,2)","v":0}]
[null,null,null,null,null,null,null,null,null,null,null,null,null,null,null,null,{"$f":"('Previous Week Bonus Slip'!$P556-'Previous Week Bonus Slip'!$O556)","v":0},{"$f":"ROUND('Previous Week Bonus Slip'!$Q556*'Previous Week Bonus Slip'!$M556,2)","v":0}]
[null,null,null,null,null,null,null,null,null,null,null,null,null,null,null,null,{"$f":"('Previous Week Bonus Slip'!$P557-'Previous Week Bonus Slip'!$O557)","v":0},{"$f":"ROUND('Previous Week Bonus Slip'!$Q557*'Previous Week Bonus Slip'!$M557,2)","v":0}]
[null,null,null,null,null,null,null,null,null,null,null,null,null,null,null,null,{"$f":"('Previous Week Bonus Slip'!$P558-'Previous Week Bonus Slip'!$O558)","v":0},{"$f":"ROUND('Previous Week Bonus Slip'!$Q558*'Previous Week Bonus Slip'!$M558,2)","v":0}]
[null,null,null,null,null,null,null,null,null,null,null,null,null,null,null,null,{"$f":"('Previous Week Bonus Slip'!$P559-'Previous Week Bonus Slip'!$O559)","v":0},{"$f":"ROUND('Previous Week Bonus Slip'!$Q559*'Previous Week Bonus Slip'!$M559,2)","v":0}]
[null,null,null,null,null,null,null,null,null,null,null,null,null,null,null,null,{"$f":"('Previous Week Bonus Slip'!$P560-'Previous Week Bonus Slip'!$O560)","v":0},{"$f":"ROUND('Previous Week Bonus Slip'!$Q560*'Previous Week Bonus Slip'!$M560,2)","v":0}]
[null,null,null,null,null,null,null,null,null,null,null,null,null,null,null,null,{"$f":"('Previous Week Bonus Slip'!$P561-'Previous Week Bonus Slip'!$O561)","v":0},{"$f":"ROUND('Previous Week Bonus Slip'!$Q561*'Previous Week Bonus Slip'!$M561,2)","v":0}]
[null,null,null,null,null,null,null,null,null,null,null,null,null,null,null,null,{"$f":"('Previous Week Bonus Slip'!$P562-'Previous Week Bonus Slip'!$O562)","v":0},{"$f":"ROUND('Previous Week Bonus Slip'!$Q562*'Previous Week Bonus Slip'!$M562,2)","v":0}]
[null,null,null,null,null,null,null,null,null,null,null,null,null,null,null,null,{"$f":"('Previous Week Bonus Slip'!$P563-'Previous Week Bonus Slip'!$O563)","v":0},{"$f":"ROUND('Previous Week Bonus Slip'!$Q563*'Previous Week Bonus Slip'!$M563,2)","v":0}]
[null,null,null,null,null,null,null,null,null,null,null,null,null,null,null,null,{"$f":"('Previous Week Bonus Slip'!$P564-'Previous Week Bonus Slip'!$O564)","v":0},{"$f":"ROUND('Previous Week Bonus Slip'!$Q564*'Previous Week Bonus Slip'!$M564,2)","v":0}]
[null,null,null,null,null,null,null,null,null,null,null,null,null,null,null,null,{"$f":"('Previous Week Bonus Slip'!$P565-'Previous Week Bonus Slip'!$O565)","v":0},{"$f":"ROUND('Previous Week Bonus Slip'!$Q565*'Previous Week Bonus Slip'!$M565,2)","v":0}]
[null,null,null,null,null,null,null,null,null,null,null,null,null,null,null,null,{"$f":"('Previous Week Bonus Slip'!$P566-'Previous Week Bonus Slip'!$O566)","v":0},{"$f":"ROUND('Previous Week Bonus Slip'!$Q566*'Previous Week Bonus Slip'!$M566,2)","v":0}]
[null,null,null,null,null,null,null,null,null,null,null,null,null,null,null,null,{"$f":"('Previous Week Bonus Slip'!$P567-'Previous Week Bonus Slip'!$O567)","v":0},{"$f":"ROUND('Previous Week Bonus Slip'!$Q567*'Previous Week Bonus Slip'!$M567,2)","v":0}]
[null,null,null,null,null,null,null,null,null,null,null,null,null,null,null,null,{"$f":"('Previous Week Bonus Slip'!$P568-'Previous Week Bonus Slip'!$O568)","v":0},{"$f":"ROUND('Previous Week Bonus Slip'!$Q568*'Previous Week Bonus Slip'!$M568,2)","v":0}]
[null,null,null,null,null,null,null,null,null,null,null,null,null,null,null,null,{"$f":"('Previous Week Bonus Slip'!$P569-'Previous Week Bonus Slip'!$O569)","v":0},{"$f":"ROUND('Previous Week Bonus Slip'!$Q569*'Previous Week Bonus Slip'!$M569,2)","v":0}]
[null,null,null,null,null,null,null,null,null,null,null,null,null,null,null,null,{"$f":"('Previous Week Bonus Slip'!$P570-'Previous Week Bonus Slip'!$O570)","v":0},{"$f":"ROUND('Previous Week Bonus Slip'!$Q570*'Previous Week Bonus Slip'!$M570,2)","v":0}]
[null,null,null,null,null,null,null,null,null,null,null,null,null,null,null,null,{"$f":"('Previous Week Bonus Slip'!$P571-'Previous Week Bonus Slip'!$O571)","v":0},{"$f":"ROUND('Previous Week Bonus Slip'!$Q571*'Previous Week Bonus Slip'!$M571,2)","v":0}]
[null,null,null,null,null,null,null,null,null,null,null,null,null,null,null,null,{"$f":"('Previous Week Bonus Slip'!$P572-'Previous Week Bonus Slip'!$O572)","v":0},{"$f":"ROUND('Previous Week Bonus Slip'!$Q572*'Previous Week Bonus Slip'!$M572,2)","v":0}]
[null,null,null,null,null,null,null,null,null,null,null,null,null,null,null,null,{"$f":"('Previous Week Bonus Slip'!$P573-'Previous Week Bonus Slip'!$O573)","v":0},{"$f":"ROUND('Previous Week Bonus Slip'!$Q573*'Previous Week Bonus Slip'!$M573,2)","v":0}]
[null,null,null,null,null,null,null,null,null,null,null,null,null,null,null,null,{"$f":"('Previous Week Bonus Slip'!$P574-'Previous Week Bonus Slip'!$O574)","v":0},{"$f":"ROUND('Previous Week Bonus Slip'!$Q574*'Previous Week Bonus Slip'!$M574,2)","v":0}]
[null,null,null,null,null,null,null,null,null,null,null,null,null,null,null,null,{"$f":"('Previous Week Bonus Slip'!$P575-'Previous Week Bonus Slip'!$O575)","v":0},{"$f":"ROUND('Previous Week Bonus Slip'!$Q575*'Previous Week Bonus Slip'!$M575,2)","v":0}]
[null,null,null,null,null,null,null,null,null,null,null,null,null,null,null,null,{"$f":"('Previous Week Bonus Slip'!$P576-'Previous Week Bonus Slip'!$O576)","v":0},{"$f":"ROUND('Previous Week Bonus Slip'!$Q576*'Previous Week Bonus Slip'!$M576,2)","v":0}]
[null,null,null,null,null,null,null,null,null,null,null,null,null,null,null,null,{"$f":"('Previous Week Bonus Slip'!$P577-'Previous Week Bonus Slip'!$O577)","v":0},{"$f":"ROUND('Previous Week Bonus Slip'!$Q577*'Previous Week Bonus Slip'!$M577,2)","v":0}]
[null,null,null,null,null,null,null,null,null,null,null,null,null,null,null,null,{"$f":"('Previous Week Bonus Slip'!$P578-'Previous Week Bonus Slip'!$O578)","v":0},{"$f":"ROUND('Previous Week Bonus Slip'!$Q578*'Previous Week Bonus Slip'!$M578,2)","v":0}]
[null,null,null,null,null,null,null,null,null,null,null,null,null,null,null,null,{"$f":"('Previous Week Bonus Slip'!$P579-'Previous Week Bonus Slip'!$O579)","v":0},{"$f":"ROUND('Previous Week Bonus Slip'!$Q579*'Previous Week Bonus Slip'!$M579,2)","v":0}]
[null,null,null,null,null,null,null,null,null,null,null,null,null,null,null,null,{"$f":"('Previous Week Bonus Slip'!$P580-'Previous Week Bonus Slip'!$O580)","v":0},{"$f":"ROUND('Previous Week Bonus Slip'!$Q580*'Previous Week Bonus Slip'!$M580,2)","v":0}]
[null,null,null,null,null,null,null,null,null,null,null,null,null,null,null,null,{"$f":"('Previous Week Bonus Slip'!$P581-'Previous Week Bonus Slip'!$O581)","v":0},{"$f":"ROUND('Previous Week Bonus Slip'!$Q581*'Previous Week Bonus Slip'!$M581,2)","v":0}]
[null,null,null,null,null,null,null,null,null,null,null,null,null,null,null,null,{"$f":"('Previous Week Bonus Slip'!$P582-'Previous Week Bonus Slip'!$O582)","v":0},{"$f":"ROUND('Previous Week Bonus Slip'!$Q582*'Previous Week Bonus Slip'!$M582,2)","v":0}]
[null,null,null,null,null,null,null,null,null,null,null,null,null,null,null,null,{"$f":"('Previous Week Bonus Slip'!$P583-'Previous Week Bonus Slip'!$O583)","v":0},{"$f":"ROUND('Previous Week Bonus Slip'!$Q583*'Previous Week Bonus Slip'!$M583,2)","v":0}]
[null,null,null,null,null,null,null,null,null,null,null,null,null,null,null,null,{"$f":"('Previous Week Bonus Slip'!$P584-'Previous Week Bonus Slip'!$O584)","v":0},{"$f":"ROUND('Previous Week Bonus Slip'!$Q584*'Previous Week Bonus Slip'!$M584,2)","v":0}]
[null,null,null,null,null,null,null,null,null,null,null,null,null,null,null,null,{"$f":"('Previous Week Bonus Slip'!$P585-'Previous Week Bonus Slip'!$O585)","v":0},{"$f":"ROUND('Previous Week Bonus Slip'!$Q585*'Previous Week Bonus Slip'!$M585,2)","v":0}]
[null,null,null,null,null,null,null,null,null,null,null,null,null,null,null,null,{"$f":"('Previous Week Bonus Slip'!$P586-'Previous Week Bonus Slip'!$O586)","v":0},{"$f":"ROUND('Previous Week Bonus Slip'!$Q586*'Previous Week Bonus Slip'!$M586,2)","v":0}]
[null,null,null,null,null,null,null,null,null,null,null,null,null,null,null,null,{"$f":"('Previous Week Bonus Slip'!$P587-'Previous Week Bonus Slip'!$O587)","v":0},{"$f":"ROUND('Previous Week Bonus Slip'!$Q587*'Previous Week Bonus Slip'!$M587,2)","v":0}]
[null,null,null,null,null,null,null,null,null,null,null,null,null,null,null,null,{"$f":"('Previous Week Bonus Slip'!$P588-'Previous Week Bonus Slip'!$O588)","v":0},{"$f":"ROUND('Previous Week Bonus Slip'!$Q588*'Previous Week Bonus Slip'!$M588,2)","v":0}]
[null,null,null,null,null,null,null,null,null,null,null,null,null,null,null,null,{"$f":"('Previous Week Bonus Slip'!$P589-'Previous Week Bonus Slip'!$O589)","v":0},{"$f":"ROUND('Previous Week Bonus Slip'!$Q589*'Previous Week Bonus Slip'!$M589,2)","v":0}]
[null,null,null,null,null,null,null,null,null,null,null,null,null,null,null,null,{"$f":"('Previous Week Bonus Slip'!$P590-'Previous Week Bonus Slip'!$O590)","v":0},{"$f":"ROUND('Previous Week Bonus Slip'!$Q590*'Previous Week Bonus Slip'!$M590,2)","v":0}]
[null,null,null,null,null,null,null,null,null,null,null,null,null,null,null,null,{"$f":"('Previous Week Bonus Slip'!$P591-'Previous Week Bonus Slip'!$O591)","v":0},{"$f":"ROUND('Previous Week Bonus Slip'!$Q591*'Previous Week Bonus Slip'!$M591,2)","v":0}]
[null,null,null,null,null,null,null,null,null,null,null,null,null,null,null,null,{"$f":"('Previous Week Bonus Slip'!$P592-'Previous Week Bonus Slip'!$O592)","v":0},{"$f":"ROUND('Previous Week Bonus Slip'!$Q592*'Previous Week Bonus Slip'!$M592,2)","v":0}]
[null,null,null,null,null,null,null,null,null,null,null,null,null,null,null,null,{"$f":"('Previous Week Bonus Slip'!$P593-'Previous Week Bonus Slip'!$O593)","v":0},{"$f":"ROUND('Previous Week Bonus Slip'!$Q593*'Previous Week Bonus Slip'!$M593,2)","v":0}]
[null,null,null,null,null,null,null,null,null,null,null,null,null,null,null,null,{"$f":"('Previous Week Bonus Slip'!$P594-'Previous Week Bonus Slip'!$O594)","v":0},{"$f":"ROUND('Previous Week Bonus Slip'!$Q594*'Previous Week Bonus Slip'!$M594,2)","v":0}]
[null,null,null,null,null,null,null,null,null,null,null,null,null,null,null,null,{"$f":"('Previous Week Bonus Slip'!$P595-'Previous Week Bonus Slip'!$O595)","v":0},{"$f":"ROUND('Previous Week Bonus Slip'!$Q595*'Previous Week Bonus Slip'!$M595,2)","v":0}]
[null,null,null,null,null,null,null,null,null,null,null,null,null,null,null,null,{"$f":"('Previous Week Bonus Slip'!$P596-'Previous Week Bonus Slip'!$O596)","v":0},{"$f":"ROUND('Previous Week Bonus Slip'!$Q596*'Previous Week Bonus Slip'!$M596,2)","v":0}]
[null,null,null,null,null,null,null,null,null,null,null,null,null,null,null,null,{"$f":"('Previous Week Bonus Slip'!$P597-'Previous Week Bonus Slip'!$O597)","v":0},{"$f":"ROUND('Previous Week Bonus Slip'!$Q597*'Previous Week Bonus Slip'!$M597,2)","v":0}]
[null,null,null,null,null,null,null,null,null,null,null,null,null,null,null,null,{"$f":"('Previous Week Bonus Slip'!$P598-'Previous Week Bonus Slip'!$O598)","v":0},{"$f":"ROUND('Previous Week Bonus Slip'!$Q598*'Previous Week Bonus Slip'!$M598,2)","v":0}]
[null,null,null,null,null,null,null,null,null,null,null,null,null,null,null,null,{"$f":"('Previous Week Bonus Slip'!$P599-'Previous Week Bonus Slip'!$O599)","v":0},{"$f":"ROUND('Previous Week Bonus Slip'!$Q599*'Previous Week Bonus Slip'!$M599,2)","v":0}]
[null,null,null,null,null,null,null,null,null,null,null,null,null,null,null,null,{"$f":"('Previous Week Bonus Slip'!$P600-'Previous Week Bonus Slip'!$O600)","v":0},{"$f":"ROUND('Previous Week Bonus Slip'!$Q600*'Previous Week Bonus Slip'!$M600,2)","v":0}]
[null,null,null,null,null,null,null,null,null,null,null,null,null,null,null,null,{"$f":"('Previous Week Bonus Slip'!$P601-'Previous Week Bonus Slip'!$O601)","v":0},{"$f":"ROUND('Previous Week Bonus Slip'!$Q601*'Previous Week Bonus Slip'!$M601,2)","v":0}]
[null,null,null,null,null,null,null,null,null,null,null,null,null,null,null,null,{"$f":"('Previous Week Bonus Slip'!$P602-'Previous Week Bonus Slip'!$O602)","v":0},{"$f":"ROUND('Previous Week Bonus Slip'!$Q602*'Previous Week Bonus Slip'!$M602,2)","v":0}]
[null,null,null,null,null,null,null,null,null,null,null,null,null,null,null,null,{"$f":"('Previous Week Bonus Slip'!$P603-'Previous Week Bonus Slip'!$O603)","v":0},{"$f":"ROUND('Previous Week Bonus Slip'!$Q603*'Previous Week Bonus Slip'!$M603,2)","v":0}]
[null,null,null,null,null,null,null,null,null,null,null,null,null,null,null,null,{"$f":"('Previous Week Bonus Slip'!$P604-'Previous Week Bonus Slip'!$O604)","v":0},{"$f":"ROUND('Previous Week Bonus Slip'!$Q604*'Previous Week Bonus Slip'!$M604,2)","v":0}]
[null,null,null,null,null,null,null,null,null,null,null,null,null,null,null,null,{"$f":"('Previous Week Bonus Slip'!$P605-'Previous Week Bonus Slip'!$O605)","v":0},{"$f":"ROUND('Previous Week Bonus Slip'!$Q605*'Previous Week Bonus Slip'!$M605,2)","v":0}]
[null,null,null,null,null,null,null,null,null,null,null,null,null,null,null,null,{"$f":"('Previous Week Bonus Slip'!$P606-'Previous Week Bonus Slip'!$O606)","v":0},{"$f":"ROUND('Previous Week Bonus Slip'!$Q606*'Previous Week Bonus Slip'!$M606,2)","v":0}]
[null,null,null,null,null,null,null,null,null,null,null,null,null,null,null,null,{"$f":"('Previous Week Bonus Slip'!$P607-'Previous Week Bonus Slip'!$O607)","v":0},{"$f":"ROUND('Previous Week Bonus Slip'!$Q607*'Previous Week Bonus Slip'!$M607,2)","v":0}]
[null,null,null,null,null,null,null,null,null,null,null,null,null,null,null,null,{"$f":"('Previous Week Bonus Slip'!$P608-'Previous Week Bonus Slip'!$O608)","v":0},{"$f":"ROUND('Previous Week Bonus Slip'!$Q608*'Previous Week Bonus Slip'!$M608,2)","v":0}]
[null,null,null,null,null,null,null,null,null,null,null,null,null,null,null,null,{"$f":"('Previous Week Bonus Slip'!$P609-'Previous Week Bonus Slip'!$O609)","v":0},{"$f":"ROUND('Previous Week Bonus Slip'!$Q609*'Previous Week Bonus Slip'!$M609,2)","v":0}]
[null,null,null,null,null,null,null,null,null,null,null,null,null,null,null,null,{"$f":"('Previous Week Bonus Slip'!$P610-'Previous Week Bonus Slip'!$O610)","v":0},{"$f":"ROUND('Previous Week Bonus Slip'!$Q610*'Previous Week Bonus Slip'!$M610,2)","v":0}]
[null,null,null,null,null,null,null,null,null,null,null,null,null,null,null,null,{"$f":"('Previous Week Bonus Slip'!$P611-'Previous Week Bonus Slip'!$O611)","v":0},{"$f":"ROUND('Previous Week Bonus Slip'!$Q611*'Previous Week Bonus Slip'!$M611,2)","v":0}]
[null,null,null,null,null,null,null,null,null,null,null,null,null,null,null,null,{"$f":"('Previous Week Bonus Slip'!$P612-'Previous Week Bonus Slip'!$O612)","v":0},{"$f":"ROUND('Previous Week Bonus Slip'!$Q612*'Previous Week Bonus Slip'!$M612,2)","v":0}]
[null,null,null,null,null,null,null,null,null,null,null,null,null,null,null,null,{"$f":"('Previous Week Bonus Slip'!$P613-'Previous Week Bonus Slip'!$O613)","v":0},{"$f":"ROUND('Previous Week Bonus Slip'!$Q613*'Previous Week Bonus Slip'!$M613,2)","v":0}]
[null,null,null,null,null,null,null,null,null,null,null,null,null,null,null,null,{"$f":"('Previous Week Bonus Slip'!$P614-'Previous Week Bonus Slip'!$O614)","v":0},{"$f":"ROUND('Previous Week Bonus Slip'!$Q614*'Previous Week Bonus Slip'!$M614,2)","v":0}]
[null,null,null,null,null,null,null,null,null,null,null,null,null,null,null,null,{"$f":"('Previous Week Bonus Slip'!$P615-'Previous Week Bonus Slip'!$O615)","v":0},{"$f":"ROUND('Previous Week Bonus Slip'!$Q615*'Previous Week Bonus Slip'!$M615,2)","v":0}]
[null,null,null,null,null,null,null,null,null,null,null,null,null,null,null,null,{"$f":"('Previous Week Bonus Slip'!$P616-'Previous Week Bonus Slip'!$O616)","v":0},{"$f":"ROUND('Previous Week Bonus Slip'!$Q616*'Previous Week Bonus Slip'!$M616,2)","v":0}]
[null,null,null,null,null,null,null,null,null,null,null,null,null,null,null,null,{"$f":"('Previous Week Bonus Slip'!$P617-'Previous Week Bonus Slip'!$O617)","v":0},{"$f":"ROUND('Previous Week Bonus Slip'!$Q617*'Previous Week Bonus Slip'!$M617,2)","v":0}]
[null,null,null,null,null,null,null,null,null,null,null,null,null,null,null,null,{"$f":"('Previous Week Bonus Slip'!$P618-'Previous Week Bonus Slip'!$O618)","v":0},{"$f":"ROUND('Previous Week Bonus Slip'!$Q618*'Previous Week Bonus Slip'!$M618,2)","v":0}]
[null,null,null,null,null,null,null,null,null,null,null,null,null,null,null,null,{"$f":"('Previous Week Bonus Slip'!$P619-'Previous Week Bonus Slip'!$O619)","v":0},{"$f":"ROUND('Previous Week Bonus Slip'!$Q619*'Previous Week Bonus Slip'!$M619,2)","v":0}]
[null,null,null,null,null,null,null,null,null,null,null,null,null,null,null,null,{"$f":"('Previous Week Bonus Slip'!$P620-'Previous Week Bonus Slip'!$O620)","v":0},{"$f":"ROUND('Previous Week Bonus Slip'!$Q620*'Previous Week Bonus Slip'!$M620,2)","v":0}]
[null,null,null,null,null,null,null,null,null,null,null,null,null,null,null,null,{"$f":"('Previous Week Bonus Slip'!$P621-'Previous Week Bonus Slip'!$O621)","v":0},{"$f":"ROUND('Previous Week Bonus Slip'!$Q621*'Previous Week Bonus Slip'!$M621,2)","v":0}]
[null,null,null,null,null,null,null,null,null,null,null,null,null,null,null,null,{"$f":"('Previous Week Bonus Slip'!$P622-'Previous Week Bonus Slip'!$O622)","v":0},{"$f":"ROUND('Previous Week Bonus Slip'!$Q622*'Previous Week Bonus Slip'!$M622,2)","v":0}]
[null,null,null,null,null,null,null,null,null,null,null,null,null,null,null,null,{"$f":"('Previous Week Bonus Slip'!$P623-'Previous Week Bonus Slip'!$O623)","v":0},{"$f":"ROUND('Previous Week Bonus Slip'!$Q623*'Previous Week Bonus Slip'!$M623,2)","v":0}]
[null,null,null,null,null,null,null,null,null,null,null,null,null,null,null,null,{"$f":"('Previous Week Bonus Slip'!$P624-'Previous Week Bonus Slip'!$O624)","v":0},{"$f":"ROUND('Previous Week Bonus Slip'!$Q624*'Previous Week Bonus Slip'!$M624,2)","v":0}]
[null,null,null,null,null,null,null,null,null,null,null,null,null,null,null,null,{"$f":"('Previous Week Bonus Slip'!$P625-'Previous Week Bonus Slip'!$O625)","v":0},{"$f":"ROUND('Previous Week Bonus Slip'!$Q625*'Previous Week Bonus Slip'!$M625,2)","v":0}]
[null,null,null,null,null,null,null,null,null,null,null,null,null,null,null,null,{"$f":"('Previous Week Bonus Slip'!$P626-'Previous Week Bonus Slip'!$O626)","v":0},{"$f":"ROUND('Previous Week Bonus Slip'!$Q626*'Previous Week Bonus Slip'!$M626,2)","v":0}]
[null,null,null,null,null,null,null,null,null,null,null,null,null,null,null,null,{"$f":"('Previous Week Bonus Slip'!$P627-'Previous Week Bonus Slip'!$O627)","v":0},{"$f":"ROUND('Previous Week Bonus Slip'!$Q627*'Previous Week Bonus Slip'!$M627,2)","v":0}]
[null,null,null,null,null,null,null,null,null,null,null,null,null,null,null,null,{"$f":"('Previous Week Bonus Slip'!$P628-'Previous Week Bonus Slip'!$O628)","v":0},{"$f":"ROUND('Previous Week Bonus Slip'!$Q628*'Previous Week Bonus Slip'!$M628,2)","v":0}]
[null,null,null,null,null,null,null,null,null,null,null,null,null,null,null,null,{"$f":"('Previous Week Bonus Slip'!$P629-'Previous Week Bonus Slip'!$O629)","v":0},{"$f":"ROUND('Previous Week Bonus Slip'!$Q629*'Previous Week Bonus Slip'!$M629,2)","v":0}]
[null,null,null,null,null,null,null,null,null,null,null,null,null,null,null,null,{"$f":"('Previous Week Bonus Slip'!$P630-'Previous Week Bonus Slip'!$O630)","v":0},{"$f":"ROUND('Previous Week Bonus Slip'!$Q630*'Previous Week Bonus Slip'!$M630,2)","v":0}]
[null,null,null,null,null,null,null,null,null,null,null,null,null,null,null,null,{"$f":"('Previous Week Bonus Slip'!$P631-'Previous Week Bonus Slip'!$O631)","v":0},{"$f":"ROUND('Previous Week Bonus Slip'!$Q631*'Previous Week Bonus Slip'!$M631,2)","v":0}]
[null,null,null,null,null,null,null,null,null,null,null,null,null,null,null,null,{"$f":"('Previous Week Bonus Slip'!$P632-'Previous Week Bonus Slip'!$O632)","v":0},{"$f":"ROUND('Previous Week Bonus Slip'!$Q632*'Previous Week Bonus Slip'!$M632,2)","v":0}]
[null,null,null,null,null,null,null,null,null,null,null,null,null,null,null,null,{"$f":"('Previous Week Bonus Slip'!$P633-'Previous Week Bonus Slip'!$O633)","v":0},{"$f":"ROUND('Previous Week Bonus Slip'!$Q633*'Previous Week Bonus Slip'!$M633,2)","v":0}]
[null,null,null,null,null,null,null,null,null,null,null,null,null,null,null,null,{"$f":"('Previous Week Bonus Slip'!$P634-'Previous Week Bonus Slip'!$O634)","v":0},{"$f":"ROUND('Previous Week Bonus Slip'!$Q634*'Previous Week Bonus Slip'!$M634,2)","v":0}]
[null,null,null,null,null,null,null,null,null,null,null,null,null,null,null,null,{"$f":"('Previous Week Bonus Slip'!$P635-'Previous Week Bonus Slip'!$O635)","v":0},{"$f":"ROUND('Previous Week Bonus Slip'!$Q635*'Previous Week Bonus Slip'!$M635,2)","v":0}]
[null,null,null,null,null,null,null,null,null,null,null,null,null,null,null,null,{"$f":"('Previous Week Bonus Slip'!$P636-'Previous Week Bonus Slip'!$O636)","v":0},{"$f":"ROUND('Previous Week Bonus Slip'!$Q636*'Previous Week Bonus Slip'!$M636,2)","v":0}]
[null,null,null,null,null,null,null,null,null,null,null,null,null,null,null,null,{"$f":"('Previous Week Bonus Slip'!$P637-'Previous Week Bonus Slip'!$O637)","v":0},{"$f":"ROUND('Previous Week Bonus Slip'!$Q637*'Previous Week Bonus Slip'!$M637,2)","v":0}]
[null,null,null,null,null,null,null,null,null,null,null,null,null,null,null,null,{"$f":"('Previous Week Bonus Slip'!$P638-'Previous Week Bonus Slip'!$O638)","v":0},{"$f":"ROUND('Previous Week Bonus Slip'!$Q638*'Previous Week Bonus Slip'!$M638,2)","v":0}]
[null,null,null,null,null,null,null,null,null,null,null,null,null,null,null,null,{"$f":"('Previous Week Bonus Slip'!$P639-'Previous Week Bonus Slip'!$O639)","v":0},{"$f":"ROUND('Previous Week Bonus Slip'!$Q639*'Previous Week Bonus Slip'!$M639,2)","v":0}]
[null,null,null,null,null,null,null,null,null,null,null,null,null,null,null,null,{"$f":"('Previous Week Bonus Slip'!$P640-'Previous Week Bonus Slip'!$O640)","v":0},{"$f":"ROUND('Previous Week Bonus Slip'!$Q640*'Previous Week Bonus Slip'!$M640,2)","v":0}]
[null,null,null,null,null,null,null,null,null,null,null,null,null,null,null,null,{"$f":"('Previous Week Bonus Slip'!$P641-'Previous Week Bonus Slip'!$O641)","v":0},{"$f":"ROUND('Previous Week Bonus Slip'!$Q641*'Previous Week Bonus Slip'!$M641,2)","v":0}]
[null,null,null,null,null,null,null,null,null,null,null,null,null,null,null,null,{"$f":"('Previous Week Bonus Slip'!$P642-'Previous Week Bonus Slip'!$O642)","v":0},{"$f":"ROUND('Previous Week Bonus Slip'!$Q642*'Previous Week Bonus Slip'!$M642,2)","v":0}]
[null,null,null,null,null,null,null,null,null,null,null,null,null,null,null,null,{"$f":"('Previous Week Bonus Slip'!$P643-'Previous Week Bonus Slip'!$O643)","v":0},{"$f":"ROUND('Previous Week Bonus Slip'!$Q643*'Previous Week Bonus Slip'!$M643,2)","v":0}]
[null,null,null,null,null,null,null,null,null,null,null,null,null,null,null,null,{"$f":"('Previous Week Bonus Slip'!$P644-'Previous Week Bonus Slip'!$O644)","v":0},{"$f":"ROUND('Previous Week Bonus Slip'!$Q644*'Previous Week Bonus Slip'!$M644,2)","v":0}]
[null,null,null,null,null,null,null,null,null,null,null,null,null,null,null,null,{"$f":"('Previous Week Bonus Slip'!$P645-'Previous Week Bonus Slip'!$O645)","v":0},{"$f":"ROUND('Previous Week Bonus Slip'!$Q645*'Previous Week Bonus Slip'!$M645,2)","v":0}]
[null,null,null,null,null,null,null,null,null,null,null,null,null,null,null,null,{"$f":"('Previous Week Bonus Slip'!$P646-'Previous Week Bonus Slip'!$O646)","v":0},{"$f":"ROUND('Previous Week Bonus Slip'!$Q646*'Previous Week Bonus Slip'!$M646,2)","v":0}]
[null,null,null,null,null,null,null,null,null,null,null,null,null,null,null,null,{"$f":"('Previous Week Bonus Slip'!$P647-'Previous Week Bonus Slip'!$O647)","v":0},{"$f":"ROUND('Previous Week Bonus Slip'!$Q647*'Previous Week Bonus Slip'!$M647,2)","v":0}]
[null,null,null,null,null,null,null,null,null,null,null,null,null,null,null,null,{"$f":"('Previous Week Bonus Slip'!$P648-'Previous Week Bonus Slip'!$O648)","v":0},{"$f":"ROUND('Previous Week Bonus Slip'!$Q648*'Previous Week Bonus Slip'!$M648,2)","v":0}]
[null,null,null,null,null,null,null,null,null,null,null,null,null,null,null,null,{"$f":"('Previous Week Bonus Slip'!$P649-'Previous Week Bonus Slip'!$O649)","v":0},{"$f":"ROUND('Previous Week Bonus Slip'!$Q649*'Previous Week Bonus Slip'!$M649,2)","v":0}]
[null,null,null,null,null,null,null,null,null,null,null,null,null,null,null,null,{"$f":"('Previous Week Bonus Slip'!$P650-'Previous Week Bonus Slip'!$O650)","v":0},{"$f":"ROUND('Previous Week Bonus Slip'!$Q650*'Previous Week Bonus Slip'!$M650,2)","v":0}]
[null,null,null,null,null,null,null,null,null,null,null,null,null,null,null,null,{"$f":"('Previous Week Bonus Slip'!$P651-'Previous Week Bonus Slip'!$O651)","v":0},{"$f":"ROUND('Previous Week Bonus Slip'!$Q651*'Previous Week Bonus Slip'!$M651,2)","v":0}]
[null,null,null,null,null,null,null,null,null,null,null,null,null,null,null,null,{"$f":"('Previous Week Bonus Slip'!$P652-'Previous Week Bonus Slip'!$O652)","v":0},{"$f":"ROUND('Previous Week Bonus Slip'!$Q652*'Previous Week Bonus Slip'!$M652,2)","v":0}]

{"sheet":"Previous Week Flat Rate Bonus","index":2,"n_rows":378,"n_cols":14,"rows_kept":378,"cut":false,"hidden":false,"merged":[]}
["Weekending Date","Employee Number","Column3","Column2","Column1","Employee Name","Job Number to Charge the Bonus To","Flat Rate Bonus Amount","Date (s) the bonus is for","How many hours did you tell them they had to cover to get the bonus?","How many hours did they actually cover?","Bonus Rate per Hour","Comments Notes","Director Approval/ Notes"]
[null,null,null,null,null,null,null,null,null,null,null,{"$f":"Table24[[#This Row],[Flat Rate Bonus Amount]]/Table24[[#This Row],[How many hours did they actually cover?]]","v":{"$error":"#DIV/0!"}}]
[null,null,null,null,null,null,null,null,null,null,null,{"$f":"Table24[[#This Row],[Flat Rate Bonus Amount]]/Table24[[#This Row],[How many hours did they actually cover?]]","v":{"$error":"#DIV/0!"}}]
[null,null,null,null,null,null,null,null,null,null,null,{"$f":"Table24[[#This Row],[Flat Rate Bonus Amount]]/Table24[[#This Row],[How many hours did they actually cover?]]","v":{"$error":"#DIV/0!"}}]
[null,null,null,null,null,null,null,null,null,null,null,{"$f":"Table24[[#This Row],[Flat Rate Bonus Amount]]/Table24[[#This Row],[How many hours did they actually cover?]]","v":{"$error":"#DIV/0!"}}]
[null,null,null,null,null,null,null,null,null,null,null,{"$f":"Table24[[#This Row],[Flat Rate Bonus Amount]]/Table24[[#This Row],[How many hours did they actually cover?]]","v":{"$error":"#DIV/0!"}}]
[null,null,null,null,null,null,null,null,null,null,null,{"$f":"Table24[[#This Row],[Flat Rate Bonus Amount]]/Table24[[#This Row],[How many hours did they actually cover?]]","v":{"$error":"#DIV/0!"}}]
[null,null,null,null,null,null,null,null,null,null,null,{"$f":"Table24[[#This Row],[Flat Rate Bonus Amount]]/Table24[[#This Row],[How many hours did they actually cover?]]","v":{"$error":"#DIV/0!"}}]
[null,null,null,null,null,null,null,null,null,null,null,{"$f":"Table24[[#This Row],[Flat Rate Bonus Amount]]/Table24[[#This Row],[How many hours did they actually cover?]]","v":{"$error":"#DIV/0!"}}]
[null,null,null,null,null,null,null,null,null,null,null,{"$f":"Table24[[#This Row],[Flat Rate Bonus Amount]]/Table24[[#This Row],[How many hours did they actually cover?]]","v":{"$error":"#DIV/0!"}}]
[null,null,null,null,null,null,null,null,null,null,null,{"$f":"Table24[[#This Row],[Flat Rate Bonus Amount]]/Table24[[#This Row],[How many hours did they actually cover?]]","v":{"$error":"#DIV/0!"}}]
[null,null,null,null,null,null,null,null,null,null,null,{"$f":"Table24[[#This Row],[Flat Rate Bonus Amount]]/Table24[[#This Row],[How many hours did they actually cover?]]","v":{"$error":"#DIV/0!"}}]
[null,null,null,null,null,null,null,null,null,null,null,{"$f":"Table24[[#This Row],[Flat Rate Bonus Amount]]/Table24[[#This Row],[How many hours did they actually cover?]]","v":{"$error":"#DIV/0!"}}]
[null,null,null,null,null,null,null,null,null,null,null,{"$f":"Table24[[#This Row],[Flat Rate Bonus Amount]]/Table24[[#This Row],[How many hours did they actually cover?]]","v":{"$error":"#DIV/0!"}}]
[null,null,null,null,null,null,null,null,null,null,null,{"$f":"Table24[[#This Row],[Flat Rate Bonus Amount]]/Table24[[#This Row],[How many hours did they actually cover?]]","v":{"$error":"#DIV/0!"}}]
[null,null,null,null,null,null,null,null,null,null,null,{"$f":"Table24[[#This Row],[Flat Rate Bonus Amount]]/Table24[[#This Row],[How many hours did they actually cover?]]","v":{"$error":"#DIV/0!"}}]
[null,null,null,null,null,null,null,null,null,null,null,{"$f":"Table24[[#This Row],[Flat Rate Bonus Amount]]/Table24[[#This Row],[How many hours did they actually cover?]]","v":{"$error":"#DIV/0!"}}]
[null,null,null,null,null,null,null,null,null,null,null,{"$f":"Table24[[#This Row],[Flat Rate Bonus Amount]]/Table24[[#This Row],[How many hours did they actually cover?]]","v":{"$error":"#DIV/0!"}}]
[null,null,null,null,null,null,null,null,null,null,null,{"$f":"Table24[[#This Row],[Flat Rate Bonus Amount]]/Table24[[#This Row],[How many hours did they actually cover?]]","v":{"$error":"#DIV/0!"}}]
[null,null,null,null,null,null,null,null,null,null,null,{"$f":"Table24[[#This Row],[Flat Rate Bonus Amount]]/Table24[[#This Row],[How many hours did they actually cover?]]","v":{"$error":"#DIV/0!"}}]
[null,null,null,null,null,null,null,null,null,null,null,{"$f":"Table24[[#This Row],[Flat Rate Bonus Amount]]/Table24[[#This Row],[How many hours did they actually cover?]]","v":{"$error":"#DIV/0!"}}]
[null,null,null,null,null,null,null,null,null,null,null,{"$f":"Table24[[#This Row],[Flat Rate Bonus Amount]]/Table24[[#This Row],[How many hours did they actually cover?]]","v":{"$error":"#DIV/0!"}}]
[null,null,null,null,null,null,null,null,null,null,null,{"$f":"Table24[[#This Row],[Flat Rate Bonus Amount]]/Table24[[#This Row],[How many hours did they actually cover?]]","v":{"$error":"#DIV/0!"}}]
[null,null,null,null,null,null,null,null,null,null,null,{"$f":"Table24[[#This Row],[Flat Rate Bonus Amount]]/Table24[[#This Row],[How many hours did they actually cover?]]","v":{"$error":"#DIV/0!"}}]
[null,null,null,null,null,null,null,null,null,null,null,{"$f":"Table24[[#This Row],[Flat Rate Bonus Amount]]/Table24[[#This Row],[How many hours did they actually cover?]]","v":{"$error":"#DIV/0!"}}]
[null,null,null,null,null,null,null,null,null,null,null,{"$f":"Table24[[#This Row],[Flat Rate Bonus Amount]]/Table24[[#This Row],[How many hours did they actually cover?]]","v":{"$error":"#DIV/0!"}}]
[null,null,null,null,null,null,null,null,null,null,null,{"$f":"Table24[[#This Row],[Flat Rate Bonus Amount]]/Table24[[#This Row],[How many hours did they actually cover?]]","v":{"$error":"#DIV/0!"}}]
[null,null,null,null,null,null,null,null,null,null,null,{"$f":"Table24[[#This Row],[Flat Rate Bonus Amount]]/Table24[[#This Row],[How many hours did they actually cover?]]","v":{"$error":"#DIV/0!"}}]
[null,null,null,null,null,null,null,null,null,null,null,{"$f":"Table24[[#This Row],[Flat Rate Bonus Amount]]/Table24[[#This Row],[How many hours did they actually cover?]]","v":{"$error":"#DIV/0!"}}]
[null,null,null,null,null,null,null,null,null,null,null,{"$f":"Table24[[#This Row],[Flat Rate Bonus Amount]]/Table24[[#This Row],[How many hours did they actually cover?]]","v":{"$error":"#DIV/0!"}}]
[null,null,null,null,null,null,null,null,null,null,null,{"$f":"Table24[[#This Row],[Flat Rate Bonus Amount]]/Table24[[#This Row],[How many hours did they actually cover?]]","v":{"$error":"#DIV/0!"}}]
[null,null,null,null,null,null,null,null,null,null,null,{"$f":"Table24[[#This Row],[Flat Rate Bonus Amount]]/Table24[[#This Row],[How many hours did they actually cover?]]","v":{"$error":"#DIV/0!"}}]
[null,null,null,null,null,null,null,null,null,null,null,{"$f":"Table24[[#This Row],[Flat Rate Bonus Amount]]/Table24[[#This Row],[How many hours did they actually cover?]]","v":{"$error":"#DIV/0!"}}]
[null,null,null,null,null,null,null,null,null,null,null,{"$f":"Table24[[#This Row],[Flat Rate Bonus Amount]]/Table24[[#This Row],[How many hours did they actually cover?]]","v":{"$error":"#DIV/0!"}}]
[null,null,null,null,null,null,null,null,null,null,null,{"$f":"Table24[[#This Row],[Flat Rate Bonus Amount]]/Table24[[#This Row],[How many hours did they actually cover?]]","v":{"$error":"#DIV/0!"}}]
[null,null,null,null,null,null,null,null,null,null,null,{"$f":"Table24[[#This Row],[Flat Rate Bonus Amount]]/Table24[[#This Row],[How many hours did they actually cover?]]","v":{"$error":"#DIV/0!"}}]
[null,null,null,null,null,null,null,null,null,null,null,{"$f":"Table24[[#This Row],[Flat Rate Bonus Amount]]/Table24[[#This Row],[How many hours did they actually cover?]]","v":{"$error":"#DIV/0!"}}]
[null,null,null,null,null,null,null,null,null,null,null,{"$f":"Table24[[#This Row],[Flat Rate Bonus Amount]]/Table24[[#This Row],[How many hours did they actually cover?]]","v":{"$error":"#DIV/0!"}}]
[null,null,null,null,null,null,null,null,null,null,null,{"$f":"Table24[[#This Row],[Flat Rate Bonus Amount]]/Table24[[#This Row],[How many hours did they actually cover?]]","v":{"$error":"#DIV/0!"}}]
[null,null,null,null,null,null,null,null,null,null,null,{"$f":"Table24[[#This Row],[Flat Rate Bonus Amount]]/Table24[[#This Row],[How many hours did they actually cover?]]","v":{"$error":"#DIV/0!"}}]
[null,null,null,null,null,null,null,null,null,null,null,{"$f":"Table24[[#This Row],[Flat Rate Bonus Amount]]/Table24[[#This Row],[How many hours did they actually cover?]]","v":{"$error":"#DIV/0!"}}]
[null,null,null,null,null,null,null,null,null,null,null,{"$f":"Table24[[#This Row],[Flat Rate Bonus Amount]]/Table24[[#This Row],[How many hours did they actually cover?]]","v":{"$error":"#DIV/0!"}}]
[null,null,null,null,null,null,null,null,null,null,null,{"$f":"Table24[[#This Row],[Flat Rate Bonus Amount]]/Table24[[#This Row],[How many hours did they actually cover?]]","v":{"$error":"#DIV/0!"}}]
[null,null,null,null,null,null,null,null,null,null,null,{"$f":"Table24[[#This Row],[Flat Rate Bonus Amount]]/Table24[[#This Row],[How many hours did they actually cover?]]","v":{"$error":"#DIV/0!"}}]
[null,null,null,null,null,null,null,null,null,null,null,{"$f":"Table24[[#This Row],[Flat Rate Bonus Amount]]/Table24[[#This Row],[How many hours did they actually cover?]]","v":{"$error":"#DIV/0!"}}]
[null,null,null,null,null,null,null,null,null,null,null,{"$f":"Table24[[#This Row],[Flat Rate Bonus Amount]]/Table24[[#This Row],[How many hours did they actually cover?]]","v":{"$error":"#DIV/0!"}}]
[null,null,null,null,null,null,null,null,null,null,null,{"$f":"Table24[[#This Row],[Flat Rate Bonus Amount]]/Table24[[#This Row],[How many hours did they actually cover?]]","v":{"$error":"#DIV/0!"}}]
[null,null,null,null,null,null,null,null,null,null,null,{"$f":"Table24[[#This Row],[Flat Rate Bonus Amount]]/Table24[[#This Row],[How many hours did they actually cover?]]","v":{"$error":"#DIV/0!"}}]
[null,null,null,null,null,null,null,null,null,null,null,{"$f":"Table24[[#This Row],[Flat Rate Bonus Amount]]/Table24[[#This Row],[How many hours did they actually cover?]]","v":{"$error":"#DIV/0!"}}]
[null,null,null,null,null,null,null,null,null,null,null,{"$f":"Table24[[#This Row],[Flat Rate Bonus Amount]]/Table24[[#This Row],[How many hours did they actually cover?]]","v":{"$error":"#DIV/0!"}}]
[null,null,null,null,null,null,null,null,null,null,null,{"$f":"Table24[[#This Row],[Flat Rate Bonus Amount]]/Table24[[#This Row],[How many hours did they actually cover?]]","v":{"$error":"#DIV/0!"}}]
[null,null,null,null,null,null,null,null,null,null,null,{"$f":"Table24[[#This Row],[Flat Rate Bonus Amount]]/Table24[[#This Row],[How many hours did they actually cover?]]","v":{"$error":"#DIV/0!"}}]
[null,null,null,null,null,null,null,null,null,null,null,{"$f":"Table24[[#This Row],[Flat Rate Bonus Amount]]/Table24[[#This Row],[How many hours did they actually cover?]]","v":{"$error":"#DIV/0!"}}]
[null,null,null,null,null,null,null,null,null,null,null,{"$f":"Table24[[#This Row],[Flat Rate Bonus Amount]]/Table24[[#This Row],[How many hours did they actually cover?]]","v":{"$error":"#DIV/0!"}}]
[null,null,null,null,null,null,null,null,null,null,null,{"$f":"Table24[[#This Row],[Flat Rate Bonus Amount]]/Table24[[#This Row],[How many hours did they actually cover?]]","v":{"$error":"#DIV/0!"}}]
[null,null,null,null,null,null,null,null,null,null,null,{"$f":"Table24[[#This Row],[Flat Rate Bonus Amount]]/Table24[[#This Row],[How many hours did they actually cover?]]","v":{"$error":"#DIV/0!"}}]
[null,null,null,null,null,null,null,null,null,null,null,{"$f":"Table24[[#This Row],[Flat Rate Bonus Amount]]/Table24[[#This Row],[How many hours did they actually cover?]]","v":{"$error":"#DIV/0!"}}]
[null,null,null,null,null,null,null,null,null,null,null,{"$f":"Table24[[#This Row],[Flat Rate Bonus Amount]]/Table24[[#This Row],[How many hours did they actually cover?]]","v":{"$error":"#DIV/0!"}}]
[null,null,null,null,null,null,null,null,null,null,null,{"$f":"Table24[[#This Row],[Flat Rate Bonus Amount]]/Table24[[#This Row],[How many hours did they actually cover?]]","v":{"$error":"#DIV/0!"}}]
[null,null,null,null,null,null,null,null,null,null,null,{"$f":"Table24[[#This Row],[Flat Rate Bonus Amount]]/Table24[[#This Row],[How many hours did they actually cover?]]","v":{"$error":"#DIV/0!"}}]
[null,null,null,null,null,null,null,null,null,null,null,{"$f":"Table24[[#This Row],[Flat Rate Bonus Amount]]/Table24[[#This Row],[How many hours did they actually cover?]]","v":{"$error":"#DIV/0!"}}]
[null,null,null,null,null,null,null,null,null,null,null,{"$f":"Table24[[#This Row],[Flat Rate Bonus Amount]]/Table24[[#This Row],[How many hours did they actually cover?]]","v":{"$error":"#DIV/0!"}}]
[null,null,null,null,null,null,null,null,null,null,null,{"$f":"Table24[[#This Row],[Flat Rate Bonus Amount]]/Table24[[#This Row],[How many hours did they actually cover?]]","v":{"$error":"#DIV/0!"}}]
[null,null,null,null,null,null,null,null,null,null,null,{"$f":"Table24[[#This Row],[Flat Rate Bonus Amount]]/Table24[[#This Row],[How many hours did they actually cover?]]","v":{"$error":"#DIV/0!"}}]
[null,null,null,null,null,null,null,null,null,null,null,{"$f":"Table24[[#This Row],[Flat Rate Bonus Amount]]/Table24[[#This Row],[How many hours did they actually cover?]]","v":{"$error":"#DIV/0!"}}]
[null,null,null,null,null,null,null,null,null,null,null,{"$f":"Table24[[#This Row],[Flat Rate Bonus Amount]]/Table24[[#This Row],[How many hours did they actually cover?]]","v":{"$error":"#DIV/0!"}}]
[null,null,null,null,null,null,null,null,null,null,null,{"$f":"Table24[[#This Row],[Flat Rate Bonus Amount]]/Table24[[#This Row],[How many hours did they actually cover?]]","v":{"$error":"#DIV/0!"}}]
[null,null,null,null,null,null,null,null,null,null,null,{"$f":"Table24[[#This Row],[Flat Rate Bonus Amount]]/Table24[[#This Row],[How many hours did they actually cover?]]","v":{"$error":"#DIV/0!"}}]
[null,null,null,null,null,null,null,null,null,null,null,{"$f":"Table24[[#This Row],[Flat Rate Bonus Amount]]/Table24[[#This Row],[How many hours did they actually cover?]]","v":{"$error":"#DIV/0!"}}]
[null,null,null,null,null,null,null,null,null,null,null,{"$f":"Table24[[#This Row],[Flat Rate Bonus Amount]]/Table24[[#This Row],[How many hours did they actually cover?]]","v":{"$error":"#DIV/0!"}}]
[null,null,null,null,null,null,null,null,null,null,null,{"$f":"Table24[[#This Row],[Flat Rate Bonus Amount]]/Table24[[#This Row],[How many hours did they actually cover?]]","v":{"$error":"#DIV/0!"}}]
[null,null,null,null,null,null,null,null,null,null,null,{"$f":"Table24[[#This Row],[Flat Rate Bonus Amount]]/Table24[[#This Row],[How many hours did they actually cover?]]","v":{"$error":"#DIV/0!"}}]
[null,null,null,null,null,null,null,null,null,null,null,{"$f":"Table24[[#This Row],[Flat Rate Bonus Amount]]/Table24[[#This Row],[How many hours did they actually cover?]]","v":{"$error":"#DIV/0!"}}]
[null,null,null,null,null,null,null,null,null,null,null,{"$f":"Table24[[#This Row],[Flat Rate Bonus Amount]]/Table24[[#This Row],[How many hours did they actually cover?]]","v":{"$error":"#DIV/0!"}}]
[null,null,null,null,null,null,null,null,null,null,null,{"$f":"Table24[[#This Row],[Flat Rate Bonus Amount]]/Table24[[#This Row],[How many hours did they actually cover?]]","v":{"$error":"#DIV/0!"}}]
[null,null,null,null,null,null,null,null,null,null,null,{"$f":"Table24[[#This Row],[Flat Rate Bonus Amount]]/Table24[[#This Row],[How many hours did they actually cover?]]","v":{"$error":"#DIV/0!"}}]
[null,null,null,null,null,null,null,null,null,null,null,{"$f":"Table24[[#This Row],[Flat Rate Bonus Amount]]/Table24[[#This Row],[How many hours did they actually cover?]]","v":{"$error":"#DIV/0!"}}]
[null,null,null,null,null,null,null,null,null,null,null,{"$f":"Table24[[#This Row],[Flat Rate Bonus Amount]]/Table24[[#This Row],[How many hours did they actually cover?]]","v":{"$error":"#DIV/0!"}}]
[null,null,null,null,null,null,null,null,null,null,null,{"$f":"Table24[[#This Row],[Flat Rate Bonus Amount]]/Table24[[#This Row],[How many hours did they actually cover?]]","v":{"$error":"#DIV/0!"}}]
[null,null,null,null,null,null,null,null,null,null,null,{"$f":"Table24[[#This Row],[Flat Rate Bonus Amount]]/Table24[[#This Row],[How many hours did they actually cover?]]","v":{"$error":"#DIV/0!"}}]
[null,null,null,null,null,null,null,null,null,null,null,{"$f":"Table24[[#This Row],[Flat Rate Bonus Amount]]/Table24[[#This Row],[How many hours did they actually cover?]]","v":{"$error":"#DIV/0!"}}]
[null,null,null,null,null,null,null,null,null,null,null,{"$f":"Table24[[#This Row],[Flat Rate Bonus Amount]]/Table24[[#This Row],[How many hours did they actually cover?]]","v":{"$error":"#DIV/0!"}}]
[null,null,null,null,null,null,null,null,null,null,null,{"$f":"Table24[[#This Row],[Flat Rate Bonus Amount]]/Table24[[#This Row],[How many hours did they actually cover?]]","v":{"$error":"#DIV/0!"}}]
[null,null,null,null,null,null,null,null,null,null,null,{"$f":"Table24[[#This Row],[Flat Rate Bonus Amount]]/Table24[[#This Row],[How many hours did they actually cover?]]","v":{"$error":"#DIV/0!"}}]
[null,null,null,null,null,null,null,null,null,null,null,{"$f":"Table24[[#This Row],[Flat Rate Bonus Amount]]/Table24[[#This Row],[How many hours did they actually cover?]]","v":{"$error":"#DIV/0!"}}]
[null,null,null,null,null,null,null,null,null,null,null,{"$f":"Table24[[#This Row],[Flat Rate Bonus Amount]]/Table24[[#This Row],[How many hours did they actually cover?]]","v":{"$error":"#DIV/0!"}}]
[null,null,null,null,null,null,null,null,null,null,null,{"$f":"Table24[[#This Row],[Flat Rate Bonus Amount]]/Table24[[#This Row],[How many hours did they actually cover?]]","v":{"$error":"#DIV/0!"}}]
[null,null,null,null,null,null,null,null,null,null,null,{"$f":"Table24[[#This Row],[Flat Rate Bonus Amount]]/Table24[[#This Row],[How many hours did they actually cover?]]","v":{"$error":"#DIV/0!"}}]
[null,null,null,null,null,null,null,null,null,null,null,{"$f":"Table24[[#This Row],[Flat Rate Bonus Amount]]/Table24[[#This Row],[How many hours did they actually cover?]]","v":{"$error":"#DIV/0!"}}]
[null,null,null,null,null,null,null,null,null,null,null,{"$f":"Table24[[#This Row],[Flat Rate Bonus Amount]]/Table24[[#This Row],[How many hours did they actually cover?]]","v":{"$error":"#DIV/0!"}}]
[null,null,null,null,null,null,null,null,null,null,null,{"$f":"Table24[[#This Row],[Flat Rate Bonus Amount]]/Table24[[#This Row],[How many hours did they actually cover?]]","v":{"$error":"#DIV/0!"}}]
[null,null,null,null,null,null,null,null,null,null,null,{"$f":"Table24[[#This Row],[Flat Rate Bonus Amount]]/Table24[[#This Row],[How many hours did they actually cover?]]","v":{"$error":"#DIV/0!"}}]
[null,null,null,null,null,null,null,null,null,null,null,{"$f":"Table24[[#This Row],[Flat Rate Bonus Amount]]/Table24[[#This Row],[How many hours did they actually cover?]]","v":{"$error":"#DIV/0!"}}]
[null,null,null,null,null,null,null,null,null,null,null,{"$f":"Table24[[#This Row],[Flat Rate Bonus Amount]]/Table24[[#This Row],[How many hours did they actually cover?]]","v":{"$error":"#DIV/0!"}}]
[null,null,null,null,null,null,null,null,null,null,null,{"$f":"Table24[[#This Row],[Flat Rate Bonus Amount]]/Table24[[#This Row],[How many hours did they actually cover?]]","v":{"$error":"#DIV/0!"}}]
[null,null,null,null,null,null,null,null,null,null,null,{"$f":"Table24[[#This Row],[Flat Rate Bonus Amount]]/Table24[[#This Row],[How many hours did they actually cover?]]","v":{"$error":"#DIV/0!"}}]
[null,null,null,null,null,null,null,null,null,null,null,{"$f":"Table24[[#This Row],[Flat Rate Bonus Amount]]/Table24[[#This Row],[How many hours did they actually cover?]]","v":{"$error":"#DIV/0!"}}]
[null,null,null,null,null,null,null,null,null,null,null,{"$f":"Table24[[#This Row],[Flat Rate Bonus Amount]]/Table24[[#This Row],[How many hours did they actually cover?]]","v":{"$error":"#DIV/0!"}}]
[null,null,null,null,null,null,null,null,null,null,null,{"$f":"Table24[[#This Row],[Flat Rate Bonus Amount]]/Table24[[#This Row],[How many hours did they actually cover?]]","v":{"$error":"#DIV/0!"}}]
[null,null,null,null,null,null,null,null,null,null,null,{"$f":"Table24[[#This Row],[Flat Rate Bonus Amount]]/Table24[[#This Row],[How many hours did they actually cover?]]","v":{"$error":"#DIV/0!"}}]
[null,null,null,null,null,null,null,null,null,null,null,{"$f":"Table24[[#This Row],[Flat Rate Bonus Amount]]/Table24[[#This Row],[How many hours did they actually cover?]]","v":{"$error":"#DIV/0!"}}]
[null,null,null,null,null,null,null,null,null,null,null,{"$f":"Table24[[#This Row],[Flat Rate Bonus Amount]]/Table24[[#This Row],[How many hours did they actually cover?]]","v":{"$error":"#DIV/0!"}}]
[null,null,null,null,null,null,null,null,null,null,null,{"$f":"Table24[[#This Row],[Flat Rate Bonus Amount]]/Table24[[#This Row],[How many hours did they actually cover?]]","v":{"$error":"#DIV/0!"}}]
[null,null,null,null,null,null,null,null,null,null,null,{"$f":"Table24[[#This Row],[Flat Rate Bonus Amount]]/Table24[[#This Row],[How many hours did they actually cover?]]","v":{"$error":"#DIV/0!"}}]
[null,null,null,null,null,null,null,null,null,null,null,{"$f":"Table24[[#This Row],[Flat Rate Bonus Amount]]/Table24[[#This Row],[How many hours did they actually cover?]]","v":{"$error":"#DIV/0!"}}]
[null,null,null,null,null,null,null,null,null,null,null,{"$f":"Table24[[#This Row],[Flat Rate Bonus Amount]]/Table24[[#This Row],[How many hours did they actually cover?]]","v":{"$error":"#DIV/0!"}}]
[null,null,null,null,null,null,null,null,null,null,null,{"$f":"Table24[[#This Row],[Flat Rate Bonus Amount]]/Table24[[#This Row],[How many hours did they actually cover?]]","v":{"$error":"#DIV/0!"}}]
[null,null,null,null,null,null,null,null,null,null,null,{"$f":"Table24[[#This Row],[Flat Rate Bonus Amount]]/Table24[[#This Row],[How many hours did they actually cover?]]","v":{"$error":"#DIV/0!"}}]
[null,null,null,null,null,null,null,null,null,null,null,{"$f":"Table24[[#This Row],[Flat Rate Bonus Amount]]/Table24[[#This Row],[How many hours did they actually cover?]]","v":{"$error":"#DIV/0!"}}]
[null,null,null,null,null,null,null,null,null,null,null,{"$f":"Table24[[#This Row],[Flat Rate Bonus Amount]]/Table24[[#This Row],[How many hours did they actually cover?]]","v":{"$error":"#DIV/0!"}}]
[null,null,null,null,null,null,null,null,null,null,null,{"$f":"Table24[[#This Row],[Flat Rate Bonus Amount]]/Table24[[#This Row],[How many hours did they actually cover?]]","v":{"$error":"#DIV/0!"}}]
[null,null,null,null,null,null,null,null,null,null,null,{"$f":"Table24[[#This Row],[Flat Rate Bonus Amount]]/Table24[[#This Row],[How many hours did they actually cover?]]","v":{"$error":"#DIV/0!"}}]
[null,null,null,null,null,null,null,null,null,null,null,{"$f":"Table24[[#This Row],[Flat Rate Bonus Amount]]/Table24[[#This Row],[How many hours did they actually cover?]]","v":{"$error":"#DIV/0!"}}]
[null,null,null,null,null,null,null,null,null,null,null,{"$f":"Table24[[#This Row],[Flat Rate Bonus Amount]]/Table24[[#This Row],[How many hours did they actually cover?]]","v":{"$error":"#DIV/0!"}}]
[null,null,null,null,null,null,null,null,null,null,null,{"$f":"Table24[[#This Row],[Flat Rate Bonus Amount]]/Table24[[#This Row],[How many hours did they actually cover?]]","v":{"$error":"#DIV/0!"}}]
[null,null,null,null,null,null,null,null,null,null,null,{"$f":"Table24[[#This Row],[Flat Rate Bonus Amount]]/Table24[[#This Row],[How many hours did they actually cover?]]","v":{"$error":"#DIV/0!"}}]
[null,null,null,null,null,null,null,null,null,null,null,{"$f":"Table24[[#This Row],[Flat Rate Bonus Amount]]/Table24[[#This Row],[How many hours did they actually cover?]]","v":{"$error":"#DIV/0!"}}]
[null,null,null,null,null,null,null,null,null,null,null,{"$f":"Table24[[#This Row],[Flat Rate Bonus Amount]]/Table24[[#This Row],[How many hours did they actually cover?]]","v":{"$error":"#DIV/0!"}}]
[null,null,null,null,null,null,null,null,null,null,null,{"$f":"Table24[[#This Row],[Flat Rate Bonus Amount]]/Table24[[#This Row],[How many hours did they actually cover?]]","v":{"$error":"#DIV/0!"}}]
[null,null,null,null,null,null,null,null,null,null,null,{"$f":"Table24[[#This Row],[Flat Rate Bonus Amount]]/Table24[[#This Row],[How many hours did they actually cover?]]","v":{"$error":"#DIV/0!"}}]
[null,null,null,null,null,null,null,null,null,null,null,{"$f":"Table24[[#This Row],[Flat Rate Bonus Amount]]/Table24[[#This Row],[How many hours did they actually cover?]]","v":{"$error":"#DIV/0!"}}]
[null,null,null,null,null,null,null,null,null,null,null,{"$f":"Table24[[#This Row],[Flat Rate Bonus Amount]]/Table24[[#This Row],[How many hours did they actually cover?]]","v":{"$error":"#DIV/0!"}}]
[null,null,null,null,null,null,null,null,null,null,null,{"$f":"Table24[[#This Row],[Flat Rate Bonus Amount]]/Table24[[#This Row],[How many hours did they actually cover?]]","v":{"$error":"#DIV/0!"}}]
[null,null,null,null,null,null,null,null,null,null,null,{"$f":"Table24[[#This Row],[Flat Rate Bonus Amount]]/Table24[[#This Row],[How many hours did they actually cover?]]","v":{"$error":"#DIV/0!"}}]
[null,null,null,null,null,null,null,null,null,null,null,{"$f":"Table24[[#This Row],[Flat Rate Bonus Amount]]/Table24[[#This Row],[How many hours did they actually cover?]]","v":{"$error":"#DIV/0!"}}]
[null,null,null,null,null,null,null,null,null,null,null,{"$f":"Table24[[#This Row],[Flat Rate Bonus Amount]]/Table24[[#This Row],[How many hours did they actually cover?]]","v":{"$error":"#DIV/0!"}}]
[null,null,null,null,null,null,null,null,null,null,null,{"$f":"Table24[[#This Row],[Flat Rate Bonus Amount]]/Table24[[#This Row],[How many hours did they actually cover?]]","v":{"$error":"#DIV/0!"}}]
[null,null,null,null,null,null,null,null,null,null,null,{"$f":"Table24[[#This Row],[Flat Rate Bonus Amount]]/Table24[[#This Row],[How many hours did they actually cover?]]","v":{"$error":"#DIV/0!"}}]
[null,null,null,null,null,null,null,null,null,null,null,{"$f":"Table24[[#This Row],[Flat Rate Bonus Amount]]/Table24[[#This Row],[How many hours did they actually cover?]]","v":{"$error":"#DIV/0!"}}]
[null,null,null,null,null,null,null,null,null,null,null,{"$f":"Table24[[#This Row],[Flat Rate Bonus Amount]]/Table24[[#This Row],[How many hours did they actually cover?]]","v":{"$error":"#DIV/0!"}}]
[null,null,null,null,null,null,null,null,null,null,null,{"$f":"Table24[[#This Row],[Flat Rate Bonus Amount]]/Table24[[#This Row],[How many hours did they actually cover?]]","v":{"$error":"#DIV/0!"}}]
[null,null,null,null,null,null,null,null,null,null,null,{"$f":"Table24[[#This Row],[Flat Rate Bonus Amount]]/Table24[[#This Row],[How many hours did they actually cover?]]","v":{"$error":"#DIV/0!"}}]
[null,null,null,null,null,null,null,null,null,null,null,{"$f":"Table24[[#This Row],[Flat Rate Bonus Amount]]/Table24[[#This Row],[How many hours did they actually cover?]]","v":{"$error":"#DIV/0!"}}]
[null,null,null,null,null,null,null,null,null,null,null,{"$f":"Table24[[#This Row],[Flat Rate Bonus Amount]]/Table24[[#This Row],[How many hours did they actually cover?]]","v":{"$error":"#DIV/0!"}}]
[null,null,null,null,null,null,null,null,null,null,null,{"$f":"Table24[[#This Row],[Flat Rate Bonus Amount]]/Table24[[#This Row],[How many hours did they actually cover?]]","v":{"$error":"#DIV/0!"}}]
[null,null,null,null,null,null,null,null,null,null,null,{"$f":"Table24[[#This Row],[Flat Rate Bonus Amount]]/Table24[[#This Row],[How many hours did they actually cover?]]","v":{"$error":"#DIV/0!"}}]
[null,null,null,null,null,null,null,null,null,null,null,{"$f":"Table24[[#This Row],[Flat Rate Bonus Amount]]/Table24[[#This Row],[How many hours did they actually cover?]]","v":{"$error":"#DIV/0!"}}]
[null,null,null,null,null,null,null,null,null,null,null,{"$f":"Table24[[#This Row],[Flat Rate Bonus Amount]]/Table24[[#This Row],[How many hours did they actually cover?]]","v":{"$error":"#DIV/0!"}}]
[null,null,null,null,null,null,null,null,null,null,null,{"$f":"Table24[[#This Row],[Flat Rate Bonus Amount]]/Table24[[#This Row],[How many hours did they actually cover?]]","v":{"$error":"#DIV/0!"}}]
[null,null,null,null,null,null,null,null,null,null,null,{"$f":"Table24[[#This Row],[Flat Rate Bonus Amount]]/Table24[[#This Row],[How many hours did they actually cover?]]","v":{"$error":"#DIV/0!"}}]
[null,null,null,null,null,null,null,null,null,null,null,{"$f":"Table24[[#This Row],[Flat Rate Bonus Amount]]/Table24[[#This Row],[How many hours did they actually cover?]]","v":{"$error":"#DIV/0!"}}]
[null,null,null,null,null,null,null,null,null,null,null,{"$f":"Table24[[#This Row],[Flat Rate Bonus Amount]]/Table24[[#This Row],[How many hours did they actually cover?]]","v":{"$error":"#DIV/0!"}}]
[null,null,null,null,null,null,null,null,null,null,null,{"$f":"Table24[[#This Row],[Flat Rate Bonus Amount]]/Table24[[#This Row],[How many hours did they actually cover?]]","v":{"$error":"#DIV/0!"}}]
[null,null,null,null,null,null,null,null,null,null,null,{"$f":"Table24[[#This Row],[Flat Rate Bonus Amount]]/Table24[[#This Row],[How many hours did they actually cover?]]","v":{"$error":"#DIV/0!"}}]
[null,null,null,null,null,null,null,null,null,null,null,{"$f":"Table24[[#This Row],[Flat Rate Bonus Amount]]/Table24[[#This Row],[How many hours did they actually cover?]]","v":{"$error":"#DIV/0!"}}]
[null,null,null,null,null,null,null,null,null,null,null,{"$f":"Table24[[#This Row],[Flat Rate Bonus Amount]]/Table24[[#This Row],[How many hours did they actually cover?]]","v":{"$error":"#DIV/0!"}}]
[null,null,null,null,null,null,null,null,null,null,null,{"$f":"Table24[[#This Row],[Flat Rate Bonus Amount]]/Table24[[#This Row],[How many hours did they actually cover?]]","v":{"$error":"#DIV/0!"}}]
[null,null,null,null,null,null,null,null,null,null,null,{"$f":"Table24[[#This Row],[Flat Rate Bonus Amount]]/Table24[[#This Row],[How many hours did they actually cover?]]","v":{"$error":"#DIV/0!"}}]
[null,null,null,null,null,null,null,null,null,null,null,{"$f":"Table24[[#This Row],[Flat Rate Bonus Amount]]/Table24[[#This Row],[How many hours did they actually cover?]]","v":{"$error":"#DIV/0!"}}]
[null,null,null,null,null,null,null,null,null,null,null,{"$f":"Table24[[#This Row],[Flat Rate Bonus Amount]]/Table24[[#This Row],[How many hours did they actually cover?]]","v":{"$error":"#DIV/0!"}}]
[null,null,null,null,null,null,null,null,null,null,null,{"$f":"Table24[[#This Row],[Flat Rate Bonus Amount]]/Table24[[#This Row],[How many hours did they actually cover?]]","v":{"$error":"#DIV/0!"}}]
[null,null,null,null,null,null,null,null,null,null,null,{"$f":"Table24[[#This Row],[Flat Rate Bonus Amount]]/Table24[[#This Row],[How many hours did they actually cover?]]","v":{"$error":"#DIV/0!"}}]
[null,null,null,null,null,null,null,null,null,null,null,{"$f":"Table24[[#This Row],[Flat Rate Bonus Amount]]/Table24[[#This Row],[How many hours did they actually cover?]]","v":{"$error":"#DIV/0!"}}]
[null,null,null,null,null,null,null,null,null,null,null,{"$f":"Table24[[#This Row],[Flat Rate Bonus Amount]]/Table24[[#This Row],[How many hours did they actually cover?]]","v":{"$error":"#DIV/0!"}}]
[null,null,null,null,null,null,null,null,null,null,null,{"$f":"Table24[[#This Row],[Flat Rate Bonus Amount]]/Table24[[#This Row],[How many hours did they actually cover?]]","v":{"$error":"#DIV/0!"}}]
[null,null,null,null,null,null,null,null,null,null,null,{"$f":"Table24[[#This Row],[Flat Rate Bonus Amount]]/Table24[[#This Row],[How many hours did they actually cover?]]","v":{"$error":"#DIV/0!"}}]
[null,null,null,null,null,null,null,null,null,null,null,{"$f":"Table24[[#This Row],[Flat Rate Bonus Amount]]/Table24[[#This Row],[How many hours did they actually cover?]]","v":{"$error":"#DIV/0!"}}]
[null,null,null,null,null,null,null,null,null,null,null,{"$f":"Table24[[#This Row],[Flat Rate Bonus Amount]]/Table24[[#This Row],[How many hours did they actually cover?]]","v":{"$error":"#DIV/0!"}}]
[null,null,null,null,null,null,null,null,null,null,null,{"$f":"Table24[[#This Row],[Flat Rate Bonus Amount]]/Table24[[#This Row],[How many hours did they actually cover?]]","v":{"$error":"#DIV/0!"}}]
[null,null,null,null,null,null,null,null,null,null,null,{"$f":"Table24[[#This Row],[Flat Rate Bonus Amount]]/Table24[[#This Row],[How many hours did they actually cover?]]","v":{"$error":"#DIV/0!"}}]
[null,null,null,null,null,null,null,null,null,null,null,{"$f":"Table24[[#This Row],[Flat Rate Bonus Amount]]/Table24[[#This Row],[How many hours did they actually cover?]]","v":{"$error":"#DIV/0!"}}]
[null,null,null,null,null,null,null,null,null,null,null,{"$f":"Table24[[#This Row],[Flat Rate Bonus Amount]]/Table24[[#This Row],[How many hours did they actually cover?]]","v":{"$error":"#DIV/0!"}}]
[null,null,null,null,null,null,null,null,null,null,null,{"$f":"Table24[[#This Row],[Flat Rate Bonus Amount]]/Table24[[#This Row],[How many hours did they actually cover?]]","v":{"$error":"#DIV/0!"}}]
[null,null,null,null,null,null,null,null,null,null,null,{"$f":"Table24[[#This Row],[Flat Rate Bonus Amount]]/Table24[[#This Row],[How many hours did they actually cover?]]","v":{"$error":"#DIV/0!"}}]
[null,null,null,null,null,null,null,null,null,null,null,{"$f":"Table24[[#This Row],[Flat Rate Bonus Amount]]/Table24[[#This Row],[How many hours did they actually cover?]]","v":{"$error":"#DIV/0!"}}]
[null,null,null,null,null,null,null,null,null,null,null,{"$f":"Table24[[#This Row],[Flat Rate Bonus Amount]]/Table24[[#This Row],[How many hours did they actually cover?]]","v":{"$error":"#DIV/0!"}}]
[null,null,null,null,null,null,null,null,null,null,null,{"$f":"Table24[[#This Row],[Flat Rate Bonus Amount]]/Table24[[#This Row],[How many hours did they actually cover?]]","v":{"$error":"#DIV/0!"}}]
[null,null,null,null,null,null,null,null,null,null,null,{"$f":"Table24[[#This Row],[Flat Rate Bonus Amount]]/Table24[[#This Row],[How many hours did they actually cover?]]","v":{"$error":"#DIV/0!"}}]
[null,null,null,null,null,null,null,null,null,null,null,{"$f":"Table24[[#This Row],[Flat Rate Bonus Amount]]/Table24[[#This Row],[How many hours did they actually cover?]]","v":{"$error":"#DIV/0!"}}]
[null,null,null,null,null,null,null,null,null,null,null,{"$f":"Table24[[#This Row],[Flat Rate Bonus Amount]]/Table24[[#This Row],[How many hours did they actually cover?]]","v":{"$error":"#DIV/0!"}}]
[null,null,null,null,null,null,null,null,null,null,null,{"$f":"Table24[[#This Row],[Flat Rate Bonus Amount]]/Table24[[#This Row],[How many hours did they actually cover?]]","v":{"$error":"#DIV/0!"}}]
[null,null,null,null,null,null,null,null,null,null,null,{"$f":"Table24[[#This Row],[Flat Rate Bonus Amount]]/Table24[[#This Row],[How many hours did they actually cover?]]","v":{"$error":"#DIV/0!"}}]
[null,null,null,null,null,null,null,null,null,null,null,{"$f":"Table24[[#This Row],[Flat Rate Bonus Amount]]/Table24[[#This Row],[How many hours did they actually cover?]]","v":{"$error":"#DIV/0!"}}]
[null,null,null,null,null,null,null,null,null,null,null,{"$f":"Table24[[#This Row],[Flat Rate Bonus Amount]]/Table24[[#This Row],[How many hours did they actually cover?]]","v":{"$error":"#DIV/0!"}}]
[null,null,null,null,null,null,null,null,null,null,null,{"$f":"Table24[[#This Row],[Flat Rate Bonus Amount]]/Table24[[#This Row],[How many hours did they actually cover?]]","v":{"$error":"#DIV/0!"}}]
[null,null,null,null,null,null,null,null,null,null,null,{"$f":"Table24[[#This Row],[Flat Rate Bonus Amount]]/Table24[[#This Row],[How many hours did they actually cover?]]","v":{"$error":"#DIV/0!"}}]
[null,null,null,null,null,null,null,null,null,null,null,{"$f":"Table24[[#This Row],[Flat Rate Bonus Amount]]/Table24[[#This Row],[How many hours did they actually cover?]]","v":{"$error":"#DIV/0!"}}]
[null,null,null,null,null,null,null,null,null,null,null,{"$f":"Table24[[#This Row],[Flat Rate Bonus Amount]]/Table24[[#This Row],[How many hours did they actually cover?]]","v":{"$error":"#DIV/0!"}}]
[null,null,null,null,null,null,null,null,null,null,null,{"$f":"Table24[[#This Row],[Flat Rate Bonus Amount]]/Table24[[#This Row],[How many hours did they actually cover?]]","v":{"$error":"#DIV/0!"}}]
[null,null,null,null,null,null,null,null,null,null,null,{"$f":"Table24[[#This Row],[Flat Rate Bonus Amount]]/Table24[[#This Row],[How many hours did they actually cover?]]","v":{"$error":"#DIV/0!"}}]
[null,null,null,null,null,null,null,null,null,null,null,{"$f":"Table24[[#This Row],[Flat Rate Bonus Amount]]/Table24[[#This Row],[How many hours did they actually cover?]]","v":{"$error":"#DIV/0!"}}]
[null,null,null,null,null,null,null,null,null,null,null,{"$f":"Table24[[#This Row],[Flat Rate Bonus Amount]]/Table24[[#This Row],[How many hours did they actually cover?]]","v":{"$error":"#DIV/0!"}}]
[null,null,null,null,null,null,null,null,null,null,null,{"$f":"Table24[[#This Row],[Flat Rate Bonus Amount]]/Table24[[#This Row],[How many hours did they actually cover?]]","v":{"$error":"#DIV/0!"}}]
[null,null,null,null,null,null,null,null,null,null,null,{"$f":"Table24[[#This Row],[Flat Rate Bonus Amount]]/Table24[[#This Row],[How many hours did they actually cover?]]","v":{"$error":"#DIV/0!"}}]
[null,null,null,null,null,null,null,null,null,null,null,{"$f":"Table24[[#This Row],[Flat Rate Bonus Amount]]/Table24[[#This Row],[How many hours did they actually cover?]]","v":{"$error":"#DIV/0!"}}]
[null,null,null,null,null,null,null,null,null,null,null,{"$f":"Table24[[#This Row],[Flat Rate Bonus Amount]]/Table24[[#This Row],[How many hours did they actually cover?]]","v":{"$error":"#DIV/0!"}}]
[null,null,null,null,null,null,null,null,null,null,null,{"$f":"Table24[[#This Row],[Flat Rate Bonus Amount]]/Table24[[#This Row],[How many hours did they actually cover?]]","v":{"$error":"#DIV/0!"}}]
[null,null,null,null,null,null,null,null,null,null,null,{"$f":"Table24[[#This Row],[Flat Rate Bonus Amount]]/Table24[[#This Row],[How many hours did they actually cover?]]","v":{"$error":"#DIV/0!"}}]
[null,null,null,null,null,null,null,null,null,null,null,{"$f":"Table24[[#This Row],[Flat Rate Bonus Amount]]/Table24[[#This Row],[How many hours did they actually cover?]]","v":{"$error":"#DIV/0!"}}]
[null,null,null,null,null,null,null,null,null,null,null,{"$f":"Table24[[#This Row],[Flat Rate Bonus Amount]]/Table24[[#This Row],[How many hours did they actually cover?]]","v":{"$error":"#DIV/0!"}}]
[null,null,null,null,null,null,null,null,null,null,null,{"$f":"Table24[[#This Row],[Flat Rate Bonus Amount]]/Table24[[#This Row],[How many hours did they actually cover?]]","v":{"$error":"#DIV/0!"}}]
[null,null,null,null,null,null,null,null,null,null,null,{"$f":"Table24[[#This Row],[Flat Rate Bonus Amount]]/Table24[[#This Row],[How many hours did they actually cover?]]","v":{"$error":"#DIV/0!"}}]
[null,null,null,null,null,null,null,null,null,null,null,{"$f":"Table24[[#This Row],[Flat Rate Bonus Amount]]/Table24[[#This Row],[How many hours did they actually cover?]]","v":{"$error":"#DIV/0!"}}]
[null,null,null,null,null,null,null,null,null,null,null,{"$f":"Table24[[#This Row],[Flat Rate Bonus Amount]]/Table24[[#This Row],[How many hours did they actually cover?]]","v":{"$error":"#DIV/0!"}}]
[null,null,null,null,null,null,null,null,null,null,null,{"$f":"Table24[[#This Row],[Flat Rate Bonus Amount]]/Table24[[#This Row],[How many hours did they actually cover?]]","v":{"$error":"#DIV/0!"}}]
[null,null,null,null,null,null,null,null,null,null,null,{"$f":"Table24[[#This Row],[Flat Rate Bonus Amount]]/Table24[[#This Row],[How many hours did they actually cover?]]","v":{"$error":"#DIV/0!"}}]
[null,null,null,null,null,null,null,null,null,null,null,{"$f":"Table24[[#This Row],[Flat Rate Bonus Amount]]/Table24[[#This Row],[How many hours did they actually cover?]]","v":{"$error":"#DIV/0!"}}]
[null,null,null,null,null,null,null,null,null,null,null,{"$f":"Table24[[#This Row],[Flat Rate Bonus Amount]]/Table24[[#This Row],[How many hours did they actually cover?]]","v":{"$error":"#DIV/0!"}}]
[null,null,null,null,null,null,null,null,null,null,null,{"$f":"Table24[[#This Row],[Flat Rate Bonus Amount]]/Table24[[#This Row],[How many hours did they actually cover?]]","v":{"$error":"#DIV/0!"}}]
[null,null,null,null,null,null,null,null,null,null,null,{"$f":"Table24[[#This Row],[Flat Rate Bonus Amount]]/Table24[[#This Row],[How many hours did they actually cover?]]","v":{"$error":"#DIV/0!"}}]
[null,null,null,null,null,null,null,null,null,null,null,{"$f":"Table24[[#This Row],[Flat Rate Bonus Amount]]/Table24[[#This Row],[How many hours did they actually cover?]]","v":{"$error":"#DIV/0!"}}]
[null,null,null,null,null,null,null,null,null,null,null,{"$f":"Table24[[#This Row],[Flat Rate Bonus Amount]]/Table24[[#This Row],[How many hours did they actually cover?]]","v":{"$error":"#DIV/0!"}}]
[null,null,null,null,null,null,null,null,null,null,null,{"$f":"Table24[[#This Row],[Flat Rate Bonus Amount]]/Table24[[#This Row],[How many hours did they actually cover?]]","v":{"$error":"#DIV/0!"}}]
[null,null,null,null,null,null,null,null,null,null,null,{"$f":"Table24[[#This Row],[Flat Rate Bonus Amount]]/Table24[[#This Row],[How many hours did they actually cover?]]","v":{"$error":"#DIV/0!"}}]
[null,null,null,null,null,null,null,null,null,null,null,{"$f":"Table24[[#This Row],[Flat Rate Bonus Amount]]/Table24[[#This Row],[How many hours did they actually cover?]]","v":{"$error":"#DIV/0!"}}]
[null,null,null,null,null,null,null,null,null,null,null,{"$f":"Table24[[#This Row],[Flat Rate Bonus Amount]]/Table24[[#This Row],[How many hours did they actually cover?]]","v":{"$error":"#DIV/0!"}}]
[null,null,null,null,null,null,null,null,null,null,null,{"$f":"Table24[[#This Row],[Flat Rate Bonus Amount]]/Table24[[#This Row],[How many hours did they actually cover?]]","v":{"$error":"#DIV/0!"}}]
[null,null,null,null,null,null,null,null,null,null,null,{"$f":"Table24[[#This Row],[Flat Rate Bonus Amount]]/Table24[[#This Row],[How many hours did they actually cover?]]","v":{"$error":"#DIV/0!"}}]
[null,null,null,null,null,null,null,null,null,null,null,{"$f":"Table24[[#This Row],[Flat Rate Bonus Amount]]/Table24[[#This Row],[How many hours did they actually cover?]]","v":{"$error":"#DIV/0!"}}]
[null,null,null,null,null,null,null,null,null,null,null,{"$f":"Table24[[#This Row],[Flat Rate Bonus Amount]]/Table24[[#This Row],[How many hours did they actually cover?]]","v":{"$error":"#DIV/0!"}}]
[null,null,null,null,null,null,null,null,null,null,null,{"$f":"Table24[[#This Row],[Flat Rate Bonus Amount]]/Table24[[#This Row],[How many hours did they actually cover?]]","v":{"$error":"#DIV/0!"}}]
[null,null,null,null,null,null,null,null,null,null,null,{"$f":"Table24[[#This Row],[Flat Rate Bonus Amount]]/Table24[[#This Row],[How many hours did they actually cover?]]","v":{"$error":"#DIV/0!"}}]
[null,null,null,null,null,null,null,null,null,null,null,{"$f":"Table24[[#This Row],[Flat Rate Bonus Amount]]/Table24[[#This Row],[How many hours did they actually cover?]]","v":{"$error":"#DIV/0!"}}]
[null,null,null,null,null,null,null,null,null,null,null,{"$f":"Table24[[#This Row],[Flat Rate Bonus Amount]]/Table24[[#This Row],[How many hours did they actually cover?]]","v":{"$error":"#DIV/0!"}}]
[null,null,null,null,null,null,null,null,null,null,null,{"$f":"Table24[[#This Row],[Flat Rate Bonus Amount]]/Table24[[#This Row],[How many hours did they actually cover?]]","v":{"$error":"#DIV/0!"}}]
[null,null,null,null,null,null,null,null,null,null,null,{"$f":"Table24[[#This Row],[Flat Rate Bonus Amount]]/Table24[[#This Row],[How many hours did they actually cover?]]","v":{"$error":"#DIV/0!"}}]
[null,null,null,null,null,null,null,null,null,null,null,{"$f":"Table24[[#This Row],[Flat Rate Bonus Amount]]/Table24[[#This Row],[How many hours did they actually cover?]]","v":{"$error":"#DIV/0!"}}]
[null,null,null,null,null,null,null,null,null,null,null,{"$f":"Table24[[#This Row],[Flat Rate Bonus Amount]]/Table24[[#This Row],[How many hours did they actually cover?]]","v":{"$error":"#DIV/0!"}}]
[null,null,null,null,null,null,null,null,null,null,null,{"$f":"Table24[[#This Row],[Flat Rate Bonus Amount]]/Table24[[#This Row],[How many hours did they actually cover?]]","v":{"$error":"#DIV/0!"}}]
[null,null,null,null,null,null,null,null,null,null,null,{"$f":"Table24[[#This Row],[Flat Rate Bonus Amount]]/Table24[[#This Row],[How many hours did they actually cover?]]","v":{"$error":"#DIV/0!"}}]
[null,null,null,null,null,null,null,null,null,null,null,{"$f":"Table24[[#This Row],[Flat Rate Bonus Amount]]/Table24[[#This Row],[How many hours did they actually cover?]]","v":{"$error":"#DIV/0!"}}]
[null,null,null,null,null,null,null,null,null,null,null,{"$f":"Table24[[#This Row],[Flat Rate Bonus Amount]]/Table24[[#This Row],[How many hours did they actually cover?]]","v":{"$error":"#DIV/0!"}}]
[null,null,null,null,null,null,null,null,null,null,null,{"$f":"Table24[[#This Row],[Flat Rate Bonus Amount]]/Table24[[#This Row],[How many hours did they actually cover?]]","v":{"$error":"#DIV/0!"}}]
[null,null,null,null,null,null,null,null,null,null,null,{"$f":"Table24[[#This Row],[Flat Rate Bonus Amount]]/Table24[[#This Row],[How many hours did they actually cover?]]","v":{"$error":"#DIV/0!"}}]
[null,null,null,null,null,null,null,null,null,null,null,{"$f":"Table24[[#This Row],[Flat Rate Bonus Amount]]/Table24[[#This Row],[How many hours did they actually cover?]]","v":{"$error":"#DIV/0!"}}]
[null,null,null,null,null,null,null,null,null,null,null,{"$f":"Table24[[#This Row],[Flat Rate Bonus Amount]]/Table24[[#This Row],[How many hours did they actually cover?]]","v":{"$error":"#DIV/0!"}}]
[null,null,null,null,null,null,null,null,null,null,null,{"$f":"Table24[[#This Row],[Flat Rate Bonus Amount]]/Table24[[#This Row],[How many hours did they actually cover?]]","v":{"$error":"#DIV/0!"}}]
[null,null,null,null,null,null,null,null,null,null,null,{"$f":"Table24[[#This Row],[Flat Rate Bonus Amount]]/Table24[[#This Row],[How many hours did they actually cover?]]","v":{"$error":"#DIV/0!"}}]
[null,null,null,null,null,null,null,null,null,null,null,{"$f":"Table24[[#This Row],[Flat Rate Bonus Amount]]/Table24[[#This Row],[How many hours did they actually cover?]]","v":{"$error":"#DIV/0!"}}]
[null,null,null,null,null,null,null,null,null,null,null,{"$f":"Table24[[#This Row],[Flat Rate Bonus Amount]]/Table24[[#This Row],[How many hours did they actually cover?]]","v":{"$error":"#DIV/0!"}}]
[null,null,null,null,null,null,null,null,null,null,null,{"$f":"Table24[[#This Row],[Flat Rate Bonus Amount]]/Table24[[#This Row],[How many hours did they actually cover?]]","v":{"$error":"#DIV/0!"}}]
[null,null,null,null,null,null,null,null,null,null,null,{"$f":"Table24[[#This Row],[Flat Rate Bonus Amount]]/Table24[[#This Row],[How many hours did they actually cover?]]","v":{"$error":"#DIV/0!"}}]
[null,null,null,null,null,null,null,null,null,null,null,{"$f":"Table24[[#This Row],[Flat Rate Bonus Amount]]/Table24[[#This Row],[How many hours did they actually cover?]]","v":{"$error":"#DIV/0!"}}]
[null,null,null,null,null,null,null,null,null,null,null,{"$f":"Table24[[#This Row],[Flat Rate Bonus Amount]]/Table24[[#This Row],[How many hours did they actually cover?]]","v":{"$error":"#DIV/0!"}}]
[null,null,null,null,null,null,null,null,null,null,null,{"$f":"Table24[[#This Row],[Flat Rate Bonus Amount]]/Table24[[#This Row],[How many hours did they actually cover?]]","v":{"$error":"#DIV/0!"}}]
[null,null,null,null,null,null,null,null,null,null,null,{"$f":"Table24[[#This Row],[Flat Rate Bonus Amount]]/Table24[[#This Row],[How many hours did they actually cover?]]","v":{"$error":"#DIV/0!"}}]
[null,null,null,null,null,null,null,null,null,null,null,{"$f":"Table24[[#This Row],[Flat Rate Bonus Amount]]/Table24[[#This Row],[How many hours did they actually cover?]]","v":{"$error":"#DIV/0!"}}]
[null,null,null,null,null,null,null,null,null,null,null,{"$f":"Table24[[#This Row],[Flat Rate Bonus Amount]]/Table24[[#This Row],[How many hours did they actually cover?]]","v":{"$error":"#DIV/0!"}}]
[null,null,null,null,null,null,null,null,null,null,null,{"$f":"Table24[[#This Row],[Flat Rate Bonus Amount]]/Table24[[#This Row],[How many hours did they actually cover?]]","v":{"$error":"#DIV/0!"}}]
[null,null,null,null,null,null,null,null,null,null,null,{"$f":"Table24[[#This Row],[Flat Rate Bonus Amount]]/Table24[[#This Row],[How many hours did they actually cover?]]","v":{"$error":"#DIV/0!"}}]
[null,null,null,null,null,null,null,null,null,null,null,{"$f":"Table24[[#This Row],[Flat Rate Bonus Amount]]/Table24[[#This Row],[How many hours did they actually cover?]]","v":{"$error":"#DIV/0!"}}]
[null,null,null,null,null,null,null,null,null,null,null,{"$f":"Table24[[#This Row],[Flat Rate Bonus Amount]]/Table24[[#This Row],[How many hours did they actually cover?]]","v":{"$error":"#DIV/0!"}}]
[null,null,null,null,null,null,null,null,null,null,null,{"$f":"Table24[[#This Row],[Flat Rate Bonus Amount]]/Table24[[#This Row],[How many hours did they actually cover?]]","v":{"$error":"#DIV/0!"}}]
[null,null,null,null,null,null,null,null,null,null,null,{"$f":"Table24[[#This Row],[Flat Rate Bonus Amount]]/Table24[[#This Row],[How many hours did they actually cover?]]","v":{"$error":"#DIV/0!"}}]
[null,null,null,null,null,null,null,null,null,null,null,{"$f":"Table24[[#This Row],[Flat Rate Bonus Amount]]/Table24[[#This Row],[How many hours did they actually cover?]]","v":{"$error":"#DIV/0!"}}]
[null,null,null,null,null,null,null,null,null,null,null,{"$f":"Table24[[#This Row],[Flat Rate Bonus Amount]]/Table24[[#This Row],[How many hours did they actually cover?]]","v":{"$error":"#DIV/0!"}}]
[null,null,null,null,null,null,null,null,null,null,null,{"$f":"Table24[[#This Row],[Flat Rate Bonus Amount]]/Table24[[#This Row],[How many hours did they actually cover?]]","v":{"$error":"#DIV/0!"}}]
[null,null,null,null,null,null,null,null,null,null,null,{"$f":"Table24[[#This Row],[Flat Rate Bonus Amount]]/Table24[[#This Row],[How many hours did they actually cover?]]","v":{"$error":"#DIV/0!"}}]
[null,null,null,null,null,null,null,null,null,null,null,{"$f":"Table24[[#This Row],[Flat Rate Bonus Amount]]/Table24[[#This Row],[How many hours did they actually cover?]]","v":{"$error":"#DIV/0!"}}]
[null,null,null,null,null,null,null,null,null,null,null,{"$f":"Table24[[#This Row],[Flat Rate Bonus Amount]]/Table24[[#This Row],[How many hours did they actually cover?]]","v":{"$error":"#DIV/0!"}}]
[null,null,null,null,null,null,null,null,null,null,null,{"$f":"Table24[[#This Row],[Flat Rate Bonus Amount]]/Table24[[#This Row],[How many hours did they actually cover?]]","v":{"$error":"#DIV/0!"}}]
[null,null,null,null,null,null,null,null,null,null,null,{"$f":"Table24[[#This Row],[Flat Rate Bonus Amount]]/Table24[[#This Row],[How many hours did they actually cover?]]","v":{"$error":"#DIV/0!"}}]
[null,null,null,null,null,null,null,null,null,null,null,{"$f":"Table24[[#This Row],[Flat Rate Bonus Amount]]/Table24[[#This Row],[How many hours did they actually cover?]]","v":{"$error":"#DIV/0!"}}]
[null,null,null,null,null,null,null,null,null,null,null,{"$f":"Table24[[#This Row],[Flat Rate Bonus Amount]]/Table24[[#This Row],[How many hours did they actually cover?]]","v":{"$error":"#DIV/0!"}}]
[null,null,null,null,null,null,null,null,null,null,null,{"$f":"Table24[[#This Row],[Flat Rate Bonus Amount]]/Table24[[#This Row],[How many hours did they actually cover?]]","v":{"$error":"#DIV/0!"}}]
[null,null,null,null,null,null,null,null,null,null,null,{"$f":"Table24[[#This Row],[Flat Rate Bonus Amount]]/Table24[[#This Row],[How many hours did they actually cover?]]","v":{"$error":"#DIV/0!"}}]
[null,null,null,null,null,null,null,null,null,null,null,{"$f":"Table24[[#This Row],[Flat Rate Bonus Amount]]/Table24[[#This Row],[How many hours did they actually cover?]]","v":{"$error":"#DIV/0!"}}]
[null,null,null,null,null,null,null,null,null,null,null,{"$f":"Table24[[#This Row],[Flat Rate Bonus Amount]]/Table24[[#This Row],[How many hours did they actually cover?]]","v":{"$error":"#DIV/0!"}}]
[null,null,null,null,null,null,null,null,null,null,null,{"$f":"Table24[[#This Row],[Flat Rate Bonus Amount]]/Table24[[#This Row],[How many hours did they actually cover?]]","v":{"$error":"#DIV/0!"}}]
[null,null,null,null,null,null,null,null,null,null,null,{"$f":"Table24[[#This Row],[Flat Rate Bonus Amount]]/Table24[[#This Row],[How many hours did they actually cover?]]","v":{"$error":"#DIV/0!"}}]
[null,null,null,null,null,null,null,null,null,null,null,{"$f":"Table24[[#This Row],[Flat Rate Bonus Amount]]/Table24[[#This Row],[How many hours did they actually cover?]]","v":{"$error":"#DIV/0!"}}]
[null,null,null,null,null,null,null,null,null,null,null,{"$f":"Table24[[#This Row],[Flat Rate Bonus Amount]]/Table24[[#This Row],[How many hours did they actually cover?]]","v":{"$error":"#DIV/0!"}}]
[null,null,null,null,null,null,null,null,null,null,null,{"$f":"Table24[[#This Row],[Flat Rate Bonus Amount]]/Table24[[#This Row],[How many hours did they actually cover?]]","v":{"$error":"#DIV/0!"}}]
[null,null,null,null,null,null,null,null,null,null,null,{"$f":"Table24[[#This Row],[Flat Rate Bonus Amount]]/Table24[[#This Row],[How many hours did they actually cover?]]","v":{"$error":"#DIV/0!"}}]
[null,null,null,null,null,null,null,null,null,null,null,{"$f":"Table24[[#This Row],[Flat Rate Bonus Amount]]/Table24[[#This Row],[How many hours did they actually cover?]]","v":{"$error":"#DIV/0!"}}]
[null,null,null,null,null,null,null,null,null,null,null,{"$f":"Table24[[#This Row],[Flat Rate Bonus Amount]]/Table24[[#This Row],[How many hours did they actually cover?]]","v":{"$error":"#DIV/0!"}}]
[null,null,null,null,null,null,null,null,null,null,null,{"$f":"Table24[[#This Row],[Flat Rate Bonus Amount]]/Table24[[#This Row],[How many hours did they actually cover?]]","v":{"$error":"#DIV/0!"}}]
[null,null,null,null,null,null,null,null,null,null,null,{"$f":"Table24[[#This Row],[Flat Rate Bonus Amount]]/Table24[[#This Row],[How many hours did they actually cover?]]","v":{"$error":"#DIV/0!"}}]
[null,null,null,null,null,null,null,null,null,null,null,{"$f":"Table24[[#This Row],[Flat Rate Bonus Amount]]/Table24[[#This Row],[How many hours did they actually cover?]]","v":{"$error":"#DIV/0!"}}]
[null,null,null,null,null,null,null,null,null,null,null,{"$f":"Table24[[#This Row],[Flat Rate Bonus Amount]]/Table24[[#This Row],[How many hours did they actually cover?]]","v":{"$error":"#DIV/0!"}}]
[null,null,null,null,null,null,null,null,null,null,null,{"$f":"Table24[[#This Row],[Flat Rate Bonus Amount]]/Table24[[#This Row],[How many hours did they actually cover?]]","v":{"$error":"#DIV/0!"}}]
[null,null,null,null,null,null,null,null,null,null,null,{"$f":"Table24[[#This Row],[Flat Rate Bonus Amount]]/Table24[[#This Row],[How many hours did they actually cover?]]","v":{"$error":"#DIV/0!"}}]
[null,null,null,null,null,null,null,null,null,null,null,{"$f":"Table24[[#This Row],[Flat Rate Bonus Amount]]/Table24[[#This Row],[How many hours did they actually cover?]]","v":{"$error":"#DIV/0!"}}]
[null,null,null,null,null,null,null,null,null,null,null,{"$f":"Table24[[#This Row],[Flat Rate Bonus Amount]]/Table24[[#This Row],[How many hours did they actually cover?]]","v":{"$error":"#DIV/0!"}}]
[null,null,null,null,null,null,null,null,null,null,null,{"$f":"Table24[[#This Row],[Flat Rate Bonus Amount]]/Table24[[#This Row],[How many hours did they actually cover?]]","v":{"$error":"#DIV/0!"}}]
[null,null,null,null,null,null,null,null,null,null,null,{"$f":"Table24[[#This Row],[Flat Rate Bonus Amount]]/Table24[[#This Row],[How many hours did they actually cover?]]","v":{"$error":"#DIV/0!"}}]
[null,null,null,null,null,null,null,null,null,null,null,{"$f":"Table24[[#This Row],[Flat Rate Bonus Amount]]/Table24[[#This Row],[How many hours did they actually cover?]]","v":{"$error":"#DIV/0!"}}]
[null,null,null,null,null,null,null,null,null,null,null,{"$f":"Table24[[#This Row],[Flat Rate Bonus Amount]]/Table24[[#This Row],[How many hours did they actually cover?]]","v":{"$error":"#DIV/0!"}}]
[null,null,null,null,null,null,null,null,null,null,null,{"$f":"Table24[[#This Row],[Flat Rate Bonus Amount]]/Table24[[#This Row],[How many hours did they actually cover?]]","v":{"$error":"#DIV/0!"}}]
[null,null,null,null,null,null,null,null,null,null,null,{"$f":"Table24[[#This Row],[Flat Rate Bonus Amount]]/Table24[[#This Row],[How many hours did they actually cover?]]","v":{"$error":"#DIV/0!"}}]
[null,null,null,null,null,null,null,null,null,null,null,{"$f":"Table24[[#This Row],[Flat Rate Bonus Amount]]/Table24[[#This Row],[How many hours did they actually cover?]]","v":{"$error":"#DIV/0!"}}]
[null,null,null,null,null,null,null,null,null,null,null,{"$f":"Table24[[#This Row],[Flat Rate Bonus Amount]]/Table24[[#This Row],[How many hours did they actually cover?]]","v":{"$error":"#DIV/0!"}}]
[null,null,null,null,null,null,null,null,null,null,null,{"$f":"Table24[[#This Row],[Flat Rate Bonus Amount]]/Table24[[#This Row],[How many hours did they actually cover?]]","v":{"$error":"#DIV/0!"}}]
[null,null,null,null,null,null,null,null,null,null,null,{"$f":"Table24[[#This Row],[Flat Rate Bonus Amount]]/Table24[[#This Row],[How many hours did they actually cover?]]","v":{"$error":"#DIV/0!"}}]
[null,null,null,null,null,null,null,null,null,null,null,{"$f":"Table24[[#This Row],[Flat Rate Bonus Amount]]/Table24[[#This Row],[How many hours did they actually cover?]]","v":{"$error":"#DIV/0!"}}]
[null,null,null,null,null,null,null,null,null,null,null,{"$f":"Table24[[#This Row],[Flat Rate Bonus Amount]]/Table24[[#This Row],[How many hours did they actually cover?]]","v":{"$error":"#DIV/0!"}}]
[null,null,null,null,null,null,null,null,null,null,null,{"$f":"Table24[[#This Row],[Flat Rate Bonus Amount]]/Table24[[#This Row],[How many hours did they actually cover?]]","v":{"$error":"#DIV/0!"}}]
[null,null,null,null,null,null,null,null,null,null,null,{"$f":"Table24[[#This Row],[Flat Rate Bonus Amount]]/Table24[[#This Row],[How many hours did they actually cover?]]","v":{"$error":"#DIV/0!"}}]
[null,null,null,null,null,null,null,null,null,null,null,{"$f":"Table24[[#This Row],[Flat Rate Bonus Amount]]/Table24[[#This Row],[How many hours did they actually cover?]]","v":{"$error":"#DIV/0!"}}]
[null,null,null,null,null,null,null,null,null,null,null,{"$f":"Table24[[#This Row],[Flat Rate Bonus Amount]]/Table24[[#This Row],[How many hours did they actually cover?]]","v":{"$error":"#DIV/0!"}}]
[null,null,null,null,null,null,null,null,null,null,null,{"$f":"Table24[[#This Row],[Flat Rate Bonus Amount]]/Table24[[#This Row],[How many hours did they actually cover?]]","v":{"$error":"#DIV/0!"}}]
[null,null,null,null,null,null,null,null,null,null,null,{"$f":"Table24[[#This Row],[Flat Rate Bonus Amount]]/Table24[[#This Row],[How many hours did they actually cover?]]","v":{"$error":"#DIV/0!"}}]
[null,null,null,null,null,null,null,null,null,null,null,{"$f":"Table24[[#This Row],[Flat Rate Bonus Amount]]/Table24[[#This Row],[How many hours did they actually cover?]]","v":{"$error":"#DIV/0!"}}]
[null,null,null,null,null,null,null,null,null,null,null,{"$f":"Table24[[#This Row],[Flat Rate Bonus Amount]]/Table24[[#This Row],[How many hours did they actually cover?]]","v":{"$error":"#DIV/0!"}}]
[null,null,null,null,null,null,null,null,null,null,null,{"$f":"Table24[[#This Row],[Flat Rate Bonus Amount]]/Table24[[#This Row],[How many hours did they actually cover?]]","v":{"$error":"#DIV/0!"}}]
[null,null,null,null,null,null,null,null,null,null,null,{"$f":"Table24[[#This Row],[Flat Rate Bonus Amount]]/Table24[[#This Row],[How many hours did they actually cover?]]","v":{"$error":"#DIV/0!"}}]
[null,null,null,null,null,null,null,null,null,null,null,{"$f":"Table24[[#This Row],[Flat Rate Bonus Amount]]/Table24[[#This Row],[How many hours did they actually cover?]]","v":{"$error":"#DIV/0!"}}]
[null,null,null,null,null,null,null,null,null,null,null,{"$f":"Table24[[#This Row],[Flat Rate Bonus Amount]]/Table24[[#This Row],[How many hours did they actually cover?]]","v":{"$error":"#DIV/0!"}}]
[null,null,null,null,null,null,null,null,null,null,null,{"$f":"Table24[[#This Row],[Flat Rate Bonus Amount]]/Table24[[#This Row],[How many hours did they actually cover?]]","v":{"$error":"#DIV/0!"}}]
[null,null,null,null,null,null,null,null,null,null,null,{"$f":"Table24[[#This Row],[Flat Rate Bonus Amount]]/Table24[[#This Row],[How many hours did they actually cover?]]","v":{"$error":"#DIV/0!"}}]
[null,null,null,null,null,null,null,null,null,null,null,{"$f":"Table24[[#This Row],[Flat Rate Bonus Amount]]/Table24[[#This Row],[How many hours did they actually cover?]]","v":{"$error":"#DIV/0!"}}]
[null,null,null,null,null,null,null,null,null,null,null,{"$f":"Table24[[#This Row],[Flat Rate Bonus Amount]]/Table24[[#This Row],[How many hours did they actually cover?]]","v":{"$error":"#DIV/0!"}}]
[null,null,null,null,null,null,null,null,null,null,null,{"$f":"Table24[[#This Row],[Flat Rate Bonus Amount]]/Table24[[#This Row],[How many hours did they actually cover?]]","v":{"$error":"#DIV/0!"}}]
[null,null,null,null,null,null,null,null,null,null,null,{"$f":"Table24[[#This Row],[Flat Rate Bonus Amount]]/Table24[[#This Row],[How many hours did they actually cover?]]","v":{"$error":"#DIV/0!"}}]
[null,null,null,null,null,null,null,null,null,null,null,{"$f":"Table24[[#This Row],[Flat Rate Bonus Amount]]/Table24[[#This Row],[How many hours did they actually cover?]]","v":{"$error":"#DIV/0!"}}]
[null,null,null,null,null,null,null,null,null,null,null,{"$f":"Table24[[#This Row],[Flat Rate Bonus Amount]]/Table24[[#This Row],[How many hours did they actually cover?]]","v":{"$error":"#DIV/0!"}}]
[null,null,null,null,null,null,null,null,null,null,null,{"$f":"Table24[[#This Row],[Flat Rate Bonus Amount]]/Table24[[#This Row],[How many hours did they actually cover?]]","v":{"$error":"#DIV/0!"}}]
[null,null,null,null,null,null,null,null,null,null,null,{"$f":"Table24[[#This Row],[Flat Rate Bonus Amount]]/Table24[[#This Row],[How many hours did they actually cover?]]","v":{"$error":"#DIV/0!"}}]
[null,null,null,null,null,null,null,null,null,null,null,{"$f":"Table24[[#This Row],[Flat Rate Bonus Amount]]/Table24[[#This Row],[How many hours did they actually cover?]]","v":{"$error":"#DIV/0!"}}]
[null,null,null,null,null,null,null,null,null,null,null,{"$f":"Table24[[#This Row],[Flat Rate Bonus Amount]]/Table24[[#This Row],[How many hours did they actually cover?]]","v":{"$error":"#DIV/0!"}}]
[null,null,null,null,null,null,null,null,null,null,null,{"$f":"Table24[[#This Row],[Flat Rate Bonus Amount]]/Table24[[#This Row],[How many hours did they actually cover?]]","v":{"$error":"#DIV/0!"}}]
[null,null,null,null,null,null,null,null,null,null,null,{"$f":"Table24[[#This Row],[Flat Rate Bonus Amount]]/Table24[[#This Row],[How many hours did they actually cover?]]","v":{"$error":"#DIV/0!"}}]
[null,null,null,null,null,null,null,null,null,null,null,{"$f":"Table24[[#This Row],[Flat Rate Bonus Amount]]/Table24[[#This Row],[How many hours did they actually cover?]]","v":{"$error":"#DIV/0!"}}]
[null,null,null,null,null,null,null,null,null,null,null,{"$f":"Table24[[#This Row],[Flat Rate Bonus Amount]]/Table24[[#This Row],[How many hours did they actually cover?]]","v":{"$error":"#DIV/0!"}}]
[null,null,null,null,null,null,null,null,null,null,null,{"$f":"Table24[[#This Row],[Flat Rate Bonus Amount]]/Table24[[#This Row],[How many hours did they actually cover?]]","v":{"$error":"#DIV/0!"}}]
[null,null,null,null,null,null,null,null,null,null,null,{"$f":"Table24[[#This Row],[Flat Rate Bonus Amount]]/Table24[[#This Row],[How many hours did they actually cover?]]","v":{"$error":"#DIV/0!"}}]
[null,null,null,null,null,null,null,null,null,null,null,{"$f":"Table24[[#This Row],[Flat Rate Bonus Amount]]/Table24[[#This Row],[How many hours did they actually cover?]]","v":{"$error":"#DIV/0!"}}]
[null,null,null,null,null,null,null,null,null,null,null,{"$f":"Table24[[#This Row],[Flat Rate Bonus Amount]]/Table24[[#This Row],[How many hours did they actually cover?]]","v":{"$error":"#DIV/0!"}}]
[null,null,null,null,null,null,null,null,null,null,null,{"$f":"Table24[[#This Row],[Flat Rate Bonus Amount]]/Table24[[#This Row],[How many hours did they actually cover?]]","v":{"$error":"#DIV/0!"}}]
[null,null,null,null,null,null,null,null,null,null,null,{"$f":"Table24[[#This Row],[Flat Rate Bonus Amount]]/Table24[[#This Row],[How many hours did they actually cover?]]","v":{"$error":"#DIV/0!"}}]
[null,null,null,null,null,null,null,null,null,null,null,{"$f":"Table24[[#This Row],[Flat Rate Bonus Amount]]/Table24[[#This Row],[How many hours did they actually cover?]]","v":{"$error":"#DIV/0!"}}]
[null,null,null,null,null,null,null,null,null,null,null,{"$f":"Table24[[#This Row],[Flat Rate Bonus Amount]]/Table24[[#This Row],[How many hours did they actually cover?]]","v":{"$error":"#DIV/0!"}}]
[null,null,null,null,null,null,null,null,null,null,null,{"$f":"Table24[[#This Row],[Flat Rate Bonus Amount]]/Table24[[#This Row],[How many hours did they actually cover?]]","v":{"$error":"#DIV/0!"}}]
[null,null,null,null,null,null,null,null,null,null,null,{"$f":"Table24[[#This Row],[Flat Rate Bonus Amount]]/Table24[[#This Row],[How many hours did they actually cover?]]","v":{"$error":"#DIV/0!"}}]
[null,null,null,null,null,null,null,null,null,null,null,{"$f":"Table24[[#This Row],[Flat Rate Bonus Amount]]/Table24[[#This Row],[How many hours did they actually cover?]]","v":{"$error":"#DIV/0!"}}]
[null,null,null,null,null,null,null,null,null,null,null,{"$f":"Table24[[#This Row],[Flat Rate Bonus Amount]]/Table24[[#This Row],[How many hours did they actually cover?]]","v":{"$error":"#DIV/0!"}}]
[null,null,null,null,null,null,null,null,null,null,null,{"$f":"Table24[[#This Row],[Flat Rate Bonus Amount]]/Table24[[#This Row],[How many hours did they actually cover?]]","v":{"$error":"#DIV/0!"}}]
[null,null,null,null,null,null,null,null,null,null,null,{"$f":"Table24[[#This Row],[Flat Rate Bonus Amount]]/Table24[[#This Row],[How many hours did they actually cover?]]","v":{"$error":"#DIV/0!"}}]
[null,null,null,null,null,null,null,null,null,null,null,{"$f":"Table24[[#This Row],[Flat Rate Bonus Amount]]/Table24[[#This Row],[How many hours did they actually cover?]]","v":{"$error":"#DIV/0!"}}]
[null,null,null,null,null,null,null,null,null,null,null,{"$f":"Table24[[#This Row],[Flat Rate Bonus Amount]]/Table24[[#This Row],[How many hours did they actually cover?]]","v":{"$error":"#DIV/0!"}}]
[null,null,null,null,null,null,null,null,null,null,null,{"$f":"Table24[[#This Row],[Flat Rate Bonus Amount]]/Table24[[#This Row],[How many hours did they actually cover?]]","v":{"$error":"#DIV/0!"}}]
[null,null,null,null,null,null,null,null,null,null,null,{"$f":"Table24[[#This Row],[Flat Rate Bonus Amount]]/Table24[[#This Row],[How many hours did they actually cover?]]","v":{"$error":"#DIV/0!"}}]
[null,null,null,null,null,null,null,null,null,null,null,{"$f":"Table24[[#This Row],[Flat Rate Bonus Amount]]/Table24[[#This Row],[How many hours did they actually cover?]]","v":{"$error":"#DIV/0!"}}]
[null,null,null,null,null,null,null,null,null,null,null,{"$f":"Table24[[#This Row],[Flat Rate Bonus Amount]]/Table24[[#This Row],[How many hours did they actually cover?]]","v":{"$error":"#DIV/0!"}}]
[null,null,null,null,null,null,null,null,null,null,null,{"$f":"Table24[[#This Row],[Flat Rate Bonus Amount]]/Table24[[#This Row],[How many hours did they actually cover?]]","v":{"$error":"#DIV/0!"}}]
[null,null,null,null,null,null,null,null,null,null,null,{"$f":"Table24[[#This Row],[Flat Rate Bonus Amount]]/Table24[[#This Row],[How many hours did they actually cover?]]","v":{"$error":"#DIV/0!"}}]
[null,null,null,null,null,null,null,null,null,null,null,{"$f":"Table24[[#This Row],[Flat Rate Bonus Amount]]/Table24[[#This Row],[How many hours did they actually cover?]]","v":{"$error":"#DIV/0!"}}]
[null,null,null,null,null,null,null,null,null,null,null,{"$f":"Table24[[#This Row],[Flat Rate Bonus Amount]]/Table24[[#This Row],[How many hours did they actually cover?]]","v":{"$error":"#DIV/0!"}}]
[null,null,null,null,null,null,null,null,null,null,null,{"$f":"Table24[[#This Row],[Flat Rate Bonus Amount]]/Table24[[#This Row],[How many hours did they actually cover?]]","v":{"$error":"#DIV/0!"}}]
[null,null,null,null,null,null,null,null,null,null,null,{"$f":"Table24[[#This Row],[Flat Rate Bonus Amount]]/Table24[[#This Row],[How many hours did they actually cover?]]","v":{"$error":"#DIV/0!"}}]
[null,null,null,null,null,null,null,null,null,null,null,{"$f":"Table24[[#This Row],[Flat Rate Bonus Amount]]/Table24[[#This Row],[How many hours did they actually cover?]]","v":{"$error":"#DIV/0!"}}]
[null,null,null,null,null,null,null,null,null,null,null,{"$f":"Table24[[#This Row],[Flat Rate Bonus Amount]]/Table24[[#This Row],[How many hours did they actually cover?]]","v":{"$error":"#DIV/0!"}}]
[null,null,null,null,null,null,null,null,null,null,null,{"$f":"Table24[[#This Row],[Flat Rate Bonus Amount]]/Table24[[#This Row],[How many hours did they actually cover?]]","v":{"$error":"#DIV/0!"}}]
[null,null,null,null,null,null,null,null,null,null,null,{"$f":"Table24[[#This Row],[Flat Rate Bonus Amount]]/Table24[[#This Row],[How many hours did they actually cover?]]","v":{"$error":"#DIV/0!"}}]
[null,null,null,null,null,null,null,null,null,null,null,{"$f":"Table24[[#This Row],[Flat Rate Bonus Amount]]/Table24[[#This Row],[How many hours did they actually cover?]]","v":{"$error":"#DIV/0!"}}]
[null,null,null,null,null,null,null,null,null,null,null,{"$f":"Table24[[#This Row],[Flat Rate Bonus Amount]]/Table24[[#This Row],[How many hours did they actually cover?]]","v":{"$error":"#DIV/0!"}}]
[null,null,null,null,null,null,null,null,null,null,null,{"$f":"Table24[[#This Row],[Flat Rate Bonus Amount]]/Table24[[#This Row],[How many hours did they actually cover?]]","v":{"$error":"#DIV/0!"}}]
[null,null,null,null,null,null,null,null,null,null,null,{"$f":"Table24[[#This Row],[Flat Rate Bonus Amount]]/Table24[[#This Row],[How many hours did they actually cover?]]","v":{"$error":"#DIV/0!"}}]
[null,null,null,null,null,null,null,null,null,null,null,{"$f":"Table24[[#This Row],[Flat Rate Bonus Amount]]/Table24[[#This Row],[How many hours did they actually cover?]]","v":{"$error":"#DIV/0!"}}]
[null,null,null,null,null,null,null,null,null,null,null,{"$f":"Table24[[#This Row],[Flat Rate Bonus Amount]]/Table24[[#This Row],[How many hours did they actually cover?]]","v":{"$error":"#DIV/0!"}}]
[null,null,null,null,null,null,null,null,null,null,null,{"$f":"Table24[[#This Row],[Flat Rate Bonus Amount]]/Table24[[#This Row],[How many hours did they actually cover?]]","v":{"$error":"#DIV/0!"}}]
[null,null,null,null,null,null,null,null,null,null,null,{"$f":"Table24[[#This Row],[Flat Rate Bonus Amount]]/Table24[[#This Row],[How many hours did they actually cover?]]","v":{"$error":"#DIV/0!"}}]
[null,null,null,null,null,null,null,null,null,null,null,{"$f":"Table24[[#This Row],[Flat Rate Bonus Amount]]/Table24[[#This Row],[How many hours did they actually cover?]]","v":{"$error":"#DIV/0!"}}]
[null,null,null,null,null,null,null,null,null,null,null,{"$f":"Table24[[#This Row],[Flat Rate Bonus Amount]]/Table24[[#This Row],[How many hours did they actually cover?]]","v":{"$error":"#DIV/0!"}}]
[null,null,null,null,null,null,null,null,null,null,null,{"$f":"Table24[[#This Row],[Flat Rate Bonus Amount]]/Table24[[#This Row],[How many hours did they actually cover?]]","v":{"$error":"#DIV/0!"}}]
[null,null,null,null,null,null,null,null,null,null,null,{"$f":"Table24[[#This Row],[Flat Rate Bonus Amount]]/Table24[[#This Row],[How many hours did they actually cover?]]","v":{"$error":"#DIV/0!"}}]
[null,null,null,null,null,null,null,null,null,null,null,{"$f":"Table24[[#This Row],[Flat Rate Bonus Amount]]/Table24[[#This Row],[How many hours did they actually cover?]]","v":{"$error":"#DIV/0!"}}]
[null,null,null,null,null,null,null,null,null,null,null,{"$f":"Table24[[#This Row],[Flat Rate Bonus Amount]]/Table24[[#This Row],[How many hours did they actually cover?]]","v":{"$error":"#DIV/0!"}}]
[null,null,null,null,null,null,null,null,null,null,null,{"$f":"Table24[[#This Row],[Flat Rate Bonus Amount]]/Table24[[#This Row],[How many hours did they actually cover?]]","v":{"$error":"#DIV/0!"}}]
[null,null,null,null,null,null,null,null,null,null,null,{"$f":"Table24[[#This Row],[Flat Rate Bonus Amount]]/Table24[[#This Row],[How many hours did they actually cover?]]","v":{"$error":"#DIV/0!"}}]
[null,null,null,null,null,null,null,null,null,null,null,{"$f":"Table24[[#This Row],[Flat Rate Bonus Amount]]/Table24[[#This Row],[How many hours did they actually cover?]]","v":{"$error":"#DIV/0!"}}]
[null,null,null,null,null,null,null,null,null,null,null,{"$f":"Table24[[#This Row],[Flat Rate Bonus Amount]]/Table24[[#This Row],[How many hours did they actually cover?]]","v":{"$error":"#DIV/0!"}}]
[null,null,null,null,null,null,null,null,null,null,null,{"$f":"Table24[[#This Row],[Flat Rate Bonus Amount]]/Table24[[#This Row],[How many hours did they actually cover?]]","v":{"$error":"#DIV/0!"}}]
[null,null,null,null,null,null,null,null,null,null,null,{"$f":"Table24[[#This Row],[Flat Rate Bonus Amount]]/Table24[[#This Row],[How many hours did they actually cover?]]","v":{"$error":"#DIV/0!"}}]
[null,null,null,null,null,null,null,null,null,null,null,{"$f":"Table24[[#This Row],[Flat Rate Bonus Amount]]/Table24[[#This Row],[How many hours did they actually cover?]]","v":{"$error":"#DIV/0!"}}]
[null,null,null,null,null,null,null,null,null,null,null,{"$f":"Table24[[#This Row],[Flat Rate Bonus Amount]]/Table24[[#This Row],[How many hours did they actually cover?]]","v":{"$error":"#DIV/0!"}}]
[null,null,null,null,null,null,null,null,null,null,null,{"$f":"Table24[[#This Row],[Flat Rate Bonus Amount]]/Table24[[#This Row],[How many hours did they actually cover?]]","v":{"$error":"#DIV/0!"}}]
[null,null,null,null,null,null,null,null,null,null,null,{"$f":"Table24[[#This Row],[Flat Rate Bonus Amount]]/Table24[[#This Row],[How many hours did they actually cover?]]","v":{"$error":"#DIV/0!"}}]
[null,null,null,null,null,null,null,null,null,null,null,{"$f":"Table24[[#This Row],[Flat Rate Bonus Amount]]/Table24[[#This Row],[How many hours did they actually cover?]]","v":{"$error":"#DIV/0!"}}]
[null,null,null,null,null,null,null,null,null,null,null,{"$f":"Table24[[#This Row],[Flat Rate Bonus Amount]]/Table24[[#This Row],[How many hours did they actually cover?]]","v":{"$error":"#DIV/0!"}}]
[null,null,null,null,null,null,null,null,null,null,null,{"$f":"Table24[[#This Row],[Flat Rate Bonus Amount]]/Table24[[#This Row],[How many hours did they actually cover?]]","v":{"$error":"#DIV/0!"}}]
[null,null,null,null,null,null,null,null,null,null,null,{"$f":"Table24[[#This Row],[Flat Rate Bonus Amount]]/Table24[[#This Row],[How many hours did they actually cover?]]","v":{"$error":"#DIV/0!"}}]
[null,null,null,null,null,null,null,null,null,null,null,{"$f":"Table24[[#This Row],[Flat Rate Bonus Amount]]/Table24[[#This Row],[How many hours did they actually cover?]]","v":{"$error":"#DIV/0!"}}]
[null,null,null,null,null,null,null,null,null,null,null,{"$f":"Table24[[#This Row],[Flat Rate Bonus Amount]]/Table24[[#This Row],[How many hours did they actually cover?]]","v":{"$error":"#DIV/0!"}}]
[null,null,null,null,null,null,null,null,null,null,null,{"$f":"Table24[[#This Row],[Flat Rate Bonus Amount]]/Table24[[#This Row],[How many hours did they actually cover?]]","v":{"$error":"#DIV/0!"}}]
[null,null,null,null,null,null,null,null,null,null,null,{"$f":"Table24[[#This Row],[Flat Rate Bonus Amount]]/Table24[[#This Row],[How many hours did they actually cover?]]","v":{"$error":"#DIV/0!"}}]
[null,null,null,null,null,null,null,null,null,null,null,{"$f":"Table24[[#This Row],[Flat Rate Bonus Amount]]/Table24[[#This Row],[How many hours did they actually cover?]]","v":{"$error":"#DIV/0!"}}]
[null,null,null,null,null,null,null,null,null,null,null,{"$f":"Table24[[#This Row],[Flat Rate Bonus Amount]]/Table24[[#This Row],[How many hours did they actually cover?]]","v":{"$error":"#DIV/0!"}}]

{"sheet":"Previous Week Time","index":3,"n_rows":26,"n_cols":12,"rows_kept":26,"cut":false,"hidden":false,"merged":[[0,8,1,8],[0,9,1,9],[0,10,1,10],[0,11,1,11],[0,3,0,5],[0,0,1,0],[0,1,1,1],[0,2,1,2],[0,6,1,6],[0,7,1,7]]}
["Employee Name & #","Job Pin","Work Date (actual date)","Regular Hours",null,null,"Special Billing #","Vacation Hours","MIPTO","Holiday Pay Hours","Training Hours","Comments (note if OT)"]
[null,null,null,"Start time","End time","# of hours"]
[]
[]
[]
[]
[]
[]
[]
[]
[]
[]
[]
[]
[]
[]
[]
[]
[]
[]
[]
[]
[]
[]
[]
[null,null,null,{"$f":"SUBTOTAL(109,'Previous Week Time'!$D$2:$D$25)","v":0},null,null,{"$f":"SUBTOTAL(103,'Previous Week Time'!$G$2:$G$25)","v":0},{"$f":"SUBTOTAL(109,'Previous Week Time'!$H$2:$H$25)","v":0},{"$f":"SUBTOTAL(109,'Previous Week Time'!$I$2:$I$25)","v":0},{"$f":"SUBTOTAL(109,'Previous Week Time'!$J$2:$J$25)","v":0},{"$f":"SUBTOTAL(103,'Previous Week Time'!$K$2:$K$25)","v":0}]

{"sheet":"Employees Over 40 Hours","index":4,"n_rows":6,"n_cols":6,"rows_kept":6,"cut":false,"hidden":false,"merged":[]}
[]
[]
[]
[]
["Row Labels","Sum of Total Hours (Formula \"=N2+S2\")",null,"Cause of OT","To Do","RDO Approval"]
["Grand Total"]

{"sheet":"Hours by JOB","index":5,"n_rows":8,"n_cols":2,"rows_kept":8,"cut":false,"hidden":false,"merged":[]}
[]
[]
[]
[]
[]
["Row Labels","Sum of Total Hours (Formula \"=N2+S2\")"]
["(blank)",0]
["Grand Total",0]